{"text_format":"1","workbook":"xlsx","n_sheets":27,"sheets":["1. Input fra oljedrift og MRA","Op.Lys","2. Effektivitet","Ark2","3. Barriere 1 og 2","4. Barriere 3 og 4","5. Barriere 5","Ark1","6. Oppsummering","Par.","Sys.Kapasitet","Sys.Ytelse","Sys.Effektivitet","Op.Lys.STOTTE","Eff.Red.STOTTE","Op.Eff.STOTTE.NOFO","Op.Eff.STOTTE.NOFO.V2","Op.Eff.STOTTE.KYSTVAKT.V2","Op.Eff.STOTTE.KYSTVAKT","Op.Eff.STOTTE.KYST","Op.Eff.STOTTE.FJORD","Versjonshistorikk","Stasjonskoordinater","Oletyper","Oljedatabase","SensEPalett","FARGER"],"not_rendered":{"charts":1,"images":10,"macros":1,"external_links":0,"defined_names":10,"comments":4,"pivot_tables":0},"unopened":[],"bounds":{"document_bytes":16777216,"sheet_cells":100000,"rows_first":2000,"rows_last":500,"rows_between":2000,"halvings":0,"cell_chars":16384,"cell_head_chars":4096},"cells_cut":0,"cells_raw":0,"read":"whole","date_system":"1900"}

{"sheet":"1. Input fra oljedrift og MRA","index":0,"n_rows":43,"n_cols":3,"rows_kept":43,"cut":false,"hidden":false,"merged":[]}
[" "]
[null,"Dimensjonering av beredskap mot akutt forurensning: fra åpent hav til strandsone"]
[]
[null,"yyyyyyyyyy"]
[]
[null,"Aktivitetsinformasjon"]
[null,"Navn","Test"]
[null,"Brønnbane"]
[null,"Type aktivitet"]
[null,"Dimensjonerende utblåsningsrate (Sm3/d)",1000]
[null,"Topside/Subsea"]
[null,"Lokasjon (koordinater)"]
[null,"Dato"]
[null,"Utført av"]
[]
[null,"Input fra miljørisikoanalyse"]
[null,"MRA utført av"]
[null,"Rapport/ref. nr."]
[null,"Kontaktperson hos leverandør"]
[null,"Minste drivtid til land (døgn) (95-persentil)"]
[null,"Vinter (Desember-februar)"]
[null,"Vår (Mars-mai)"]
[null,"Sommer (Juni-august)"]
[null,"Høst (September-november)"]
[null,"Maksimalt berørt kystlinje (m) (95-persentil)"]
[null,"Vinter (Desember-februar)"]
[null,"Vår (Mars-mai)"]
[null,"Sommer (Juni-august)"]
[null,"Høst (September-november)"]
[null,"Maksimal strandet mengde emulsjon uten effekt av beredskap (tonn) (95-persentil)"]
[null,"Vinter (Desember-februar)",100]
[null,"Vår (Mars-mai)",100]
[null,"Sommer (Juni-august)",100]
[null,"Høst (September-november)",100]
[null,"Oljetype","Avaldsnes (Johan Sverdrup) 2012"]
[null,"Forvitringsstudie"]
[null,"Lengste varighet på utblåsning (døgn)"]
[]
[null,"Dimensjonerende antall eksempelområder"]
[null,"Vinter (Desember-februar)",1]
[null,"Vår (Mars-mai)",2]
[null,"Sommer (Juni-august)",3]
[null,"Høst (September-november)",4]

{"sheet":"Op.Lys","index":1,"n_rows":37,"n_cols":37,"rows_kept":37,"cut":false,"hidden":true,"merged":[[34,3,34,8],[33,3,33,8],[1,1,1,10]]}
[]
[null,"Velg region som er representativ for lokasjonen til denne aktivitet"]
[]
[]
[]
[null,null,null,null,null,null,null,null,null,null,null,null,null,null,null,null,null,null,null,null,null,null,null,null,null,null,null,null,null,null,null,"Velg region",0,0,0,0,0]
[null,null,null,null,null,null,null,null,null,null,null,null,null,null,null,null,null,null,null,null,null,null,null,null,null,null,null,null,null,null,null,"Region 1",{"$f":"'Op.Lys.STOTTE'!D12","v":0.38},{"$f":"'Op.Lys.STOTTE'!E12","v":0.65999999999999992},{"$f":"'Op.Lys.STOTTE'!F12","v":0.80799999999999994},{"$f":"'Op.Lys.STOTTE'!G12","v":0.4946666666666667},{"$f":"'Op.Lys.STOTTE'!H12","v":0.58566666666666656}]
[null,null,null,null,null,null,null,null,null,null,null,null,null,null,null,null,null,null,null,null,null,null,null,null,null,null,null,null,null,null,null,"Region 2",{"$f":"'Op.Lys.STOTTE'!D13","v":0.3813333333333333},{"$f":"'Op.Lys.STOTTE'!E13","v":0.65799999999999992},{"$f":"'Op.Lys.STOTTE'!F13","v":0.80333333333333334},{"$f":"'Op.Lys.STOTTE'!G13","v":0.4946666666666667},{"$f":"'Op.Lys.STOTTE'!H13","v":0.58433333333333337}]
[null,null,null,null,null,null,null,null,null,null,null,null,null,null,null,null,null,null,null,null,null,null,null,null,null,null,null,null,null,null,null,"Region 3",{"$f":"'Op.Lys.STOTTE'!D14","v":0.36},{"$f":"'Op.Lys.STOTTE'!E14","v":0.68533333333333335},{"$f":"'Op.Lys.STOTTE'!F14","v":0.89533333333333331},{"$f":"'Op.Lys.STOTTE'!G14","v":0.49133333333333329},{"$f":"'Op.Lys.STOTTE'!H14","v":0.6080000000000001}]
[null,null,null,null,null,null,null,null,null,null,null,null,null,null,null,null,null,null,null,null,null,null,null,null,null,null,null,null,null,null,null,"Region 4",{"$f":"'Op.Lys.STOTTE'!D15","v":0.31733333333333336},{"$f":"'Op.Lys.STOTTE'!E15","v":0.7593333333333333},{"$f":"'Op.Lys.STOTTE'!F15","v":0.94533333333333336},{"$f":"'Op.Lys.STOTTE'!G15","v":0.48466666666666669},{"$f":"'Op.Lys.STOTTE'!H15","v":0.62666666666666671}]
[null,null,null,null,null,null,null,null,null,null,null,null,null,null,null,null,null,null,null,null,null,null,null,null,null,null,null,null,null,null,null,"Region 5",{"$f":"'Op.Lys.STOTTE'!D16","v":0.23333333333333328},{"$f":"'Op.Lys.STOTTE'!E16","v":0.79333333333333333},{"$f":"'Op.Lys.STOTTE'!F16","v":1},{"$f":"'Op.Lys.STOTTE'!G16","v":0.47466666666666668},{"$f":"'Op.Lys.STOTTE'!H16","v":0.6253333333333333}]
[]
[]
[]
[]
[]
[]
[]
[]
[]
[]
[]
[]
[]
[]
[]
[]
[]
[]
[]
[]
[]
[]
[null,null,null,"Andel operasjonslys i denne region"]
[null,null,null,"Velg region"]
[null,null,null,"Vinter","Vår","Sommer","Høst","År"]
[null,null,null,{"$f":"VLOOKUP($D$35,$AF$6:$AK$11,2,FALSE)","v":0},{"$f":"VLOOKUP($D$35,$AF$6:$AK$11,3,FALSE)","v":0},{"$f":"VLOOKUP($D$35,$AF$6:$AK$11,4,FALSE)","v":0},{"$f":"VLOOKUP($D$35,$AF$6:$AK$11,5,FALSE)","v":0},{"$f":"VLOOKUP($D$35,$AF$6:$AK$11,6,FALSE)","v":0}]

{"sheet":"2. Effektivitet","index":2,"n_rows":124,"n_cols":60,"rows_kept":124,"cut":false,"hidden":false,"merged":[[1,1,1,9],[1,11,1,18],[28,12,28,16],[34,12,34,16],[47,2,48,8],[34,2,34,6],[28,2,28,6],[39,12,39,16]]}
[]
[null,"Effektivitet for havgående systemer på utvalgte lokasjoner. Se fanen \"Stasjonskoordinater\" for detaljer.",null,null,null,null,null,null,null,null,null,"Effektivitet for systemer i barriere 3 og 4 for lokasjoner representative for kystnære forhold.",null,null,null,null,null,null,null,null,null,null,null,null,null,null,null,"NOFO_EFF",null,null,null,null,null,null,null,null,null,null,null,null,null,null,"Op.Eff.STOTTE.NOFO.V2!",null,null,"EFFEKTIVITET VED DE ULIKE STASJONENE"]
[null,null,null,null,null,null,null,null,null,null,null,null,null,null,null,null,null,null,null,null,null,null,null,null,null,null,null,"Velg st.",0,0,0,0,0,null,null,null,null,null,null,null,null,null,"Velg st."]
[null,null,null,null,null,null,null,null,null,null,null,null,null,null,null,null,null,null,null,null,null,null,null,null,null,null,null,1,{"$f":"'Op.Eff.STOTTE.NOFO'!D27","v":0.57878505000000002},{"$f":"'Op.Eff.STOTTE.NOFO'!E27","v":0.26220324871003264},{"$f":"'Op.Eff.STOTTE.NOFO'!F27","v":0.79763993749999995},{"$f":"'Op.Eff.STOTTE.NOFO'!$G$27","v":0.20646355147249321},{"$f":"'Op.Eff.STOTTE.NOFO'!H27","v":0.23186878233729816},null,null,null,null,null,null,null,null,null,1,27,{"$f":"$AQ$2&\"D\"&$AR4","v":"Op.Eff.STOTTE.NOFO.V2!D27"},{"$f":"$AQ$2&\"E\"&$AR4","v":"Op.Eff.STOTTE.NOFO.V2!E27"},{"$f":"$AQ$2&\"F\"&$AR4","v":"Op.Eff.STOTTE.NOFO.V2!F27"},{"$f":"$AQ$2&\"G\"&$AR4","v":"Op.Eff.STOTTE.NOFO.V2!G27"},{"$f":"$AQ$2&\"H\"&$AR4","v":"Op.Eff.STOTTE.NOFO.V2!H27"},null,{"$f":"INDIRECT(AS4,TRUE)","v":0.57878505000000002},{"$f":"INDIRECT(AT4,TRUE)","v":0.74153762499999998},{"$f":"INDIRECT(AU4,TRUE)","v":0.79763993749999995},{"$f":"INDIRECT(AV4,TRUE)","v":0.6690586999999999},{"$f":"INDIRECT(AW4,TRUE)","v":0.69675532812499996},null,78,123,144,97]
[null,null,null,null,null,null,null,null,null,null,null,null,null,null,null,null,null,null,null,null,null,null,null,null,null,null,null,2,{"$f":"'Op.Eff.STOTTE.NOFO'!D51","v":0.47561674966851769},{"$f":"'Op.Eff.STOTTE.NOFO'!E51","v":0.6613845034631245},{"$f":"'Op.Eff.STOTTE.NOFO'!F51","v":0.78304511978415725},{"$f":"'Op.Eff.STOTTE.NOFO'!$G$51","v":0.60524314088812392},{"$f":"'Op.Eff.STOTTE.NOFO'!H51","v":0.63132237845098083},null,null,null,null,null,null,null,null,null,2,51,"Op.Eff.STOTTE.NOFO.V2!D51","Op.Eff.STOTTE.NOFO.V2!E51","Op.Eff.STOTTE.NOFO.V2!F51","Op.Eff.STOTTE.NOFO.V2!G51","Op.Eff.STOTTE.NOFO.V2!H51",null,0.70817094999999997,0.81951085000000001,0.84047690000000008,0.77252651250000004,0.78517130312500005,null,78,123,144,97]
[null,null,null,null,null,null,null,null,null,null,null,null,null,null,null,null,null,null,null,null,null,null,null,null,null,null,null,3,{"$f":"'Op.Eff.STOTTE.NOFO'!D75","v":0.62156386673732233},{"$f":"'Op.Eff.STOTTE.NOFO'!E75","v":0.74515349359384775},{"$f":"'Op.Eff.STOTTE.NOFO'!F75","v":0.82239189190415463},{"$f":"'Op.Eff.STOTTE.NOFO'!$G$75","v":0.71348929670674632},{"$f":"'Op.Eff.STOTTE.NOFO'!H75","v":0.72564963723551756},null,null,null,null,null,null,null,null,null,3,75,"Op.Eff.STOTTE.NOFO.V2!D75","Op.Eff.STOTTE.NOFO.V2!E75","Op.Eff.STOTTE.NOFO.V2!F75","Op.Eff.STOTTE.NOFO.V2!G75","Op.Eff.STOTTE.NOFO.V2!H75",null,0.4811647750000001,0.69117435000000005,0.78105530000000001,0.59825681249999996,0.63791280937500006,null,78,123,144,97]
[null,null,null,null,null,null,null,null,null,null,null,null,null,null,null,null,null,null,null,null,null,null,null,null,null,null,null,4,{"$f":"'Op.Eff.STOTTE.NOFO'!D99","v":0.45400456229572739},{"$f":"'Op.Eff.STOTTE.NOFO'!E99","v":0.65022481051278413},{"$f":"'Op.Eff.STOTTE.NOFO'!F99","v":0.77935483387701732},{"$f":"'Op.Eff.STOTTE.NOFO'!$G$99","v":0.58868424512236683},{"$f":"'Op.Eff.STOTTE.NOFO'!H99","v":0.61806711295197403},null,null,null,null,null,null,null,null,null,4,99,"Op.Eff.STOTTE.NOFO.V2!D99","Op.Eff.STOTTE.NOFO.V2!E99","Op.Eff.STOTTE.NOFO.V2!F99","Op.Eff.STOTTE.NOFO.V2!G99","Op.Eff.STOTTE.NOFO.V2!H99",null,0.58652053750000011,0.75694914999999996,0.80742460000000005,0.68539958749999996,0.70907346874999999,null,78,123,144,97]
[null,null,null,null,null,null,null,null,null,null,null,null,null,null,null,null,null,null,null,null,null,null,null,null,null,null,null,5,{"$f":"'Op.Eff.STOTTE.NOFO'!D123","v":0.56754962971001111},{"$f":"'Op.Eff.STOTTE.NOFO'!E123","v":0.72069114710027538},{"$f":"'Op.Eff.STOTTE.NOFO'!F123","v":0.81222067365921868},{"$f":"'Op.Eff.STOTTE.NOFO'!$G$123","v":0.67791443162830822},{"$f":"'Op.Eff.STOTTE.NOFO'!H123","v":0.69459397052445337},null,null,null,null,null,null,null,null,null,5,123,"Op.Eff.STOTTE.NOFO.V2!D123","Op.Eff.STOTTE.NOFO.V2!E123","Op.Eff.STOTTE.NOFO.V2!F123","Op.Eff.STOTTE.NOFO.V2!G123","Op.Eff.STOTTE.NOFO.V2!H123",null,0.45920617500000005,0.67756307500000001,0.77466917499999999,0.5816481375,0.62327164062500007,null,78,123,144,97]
[null,null,null,null,null,null,null,null,null,null,null,null,null,null,null,null,null,null,null,null,null,null,null,null,null,null,null,6,{"$f":"'Op.Eff.STOTTE.NOFO'!D147","v":0.65080648959309328},{"$f":"'Op.Eff.STOTTE.NOFO'!E147","v":0.77166286488915115},{"$f":"'Op.Eff.STOTTE.NOFO'!F147","v":0.83933436351553892},{"$f":"'Op.Eff.STOTTE.NOFO'!$G$147","v":0.7362960837457958},{"$f":"'Op.Eff.STOTTE.NOFO'!H147","v":0.74952495043589462},null,null,null,null,null,null,null,null,null,6,147,"Op.Eff.STOTTE.NOFO.V2!D147","Op.Eff.STOTTE.NOFO.V2!E147","Op.Eff.STOTTE.NOFO.V2!F147","Op.Eff.STOTTE.NOFO.V2!G147","Op.Eff.STOTTE.NOFO.V2!H147",null,0.63660953750000004,0.76744143750000005,0.82398071250000005,0.71677806250000009,0.73620243750000003,null,74,125,154,95]
[null,null,null,null,null,null,null,null,null,null,null,null,null,null,null,null,null,null,null,null,null,null,null,null,null,null,null,7,{"$f":"'Op.Eff.STOTTE.NOFO'!D171","v":0.45417346252929036},{"$f":"'Op.Eff.STOTTE.NOFO'!E171","v":0.65247100415294512},{"$f":"'Op.Eff.STOTTE.NOFO'!F171","v":0.78106730466107877},{"$f":"'Op.Eff.STOTTE.NOFO'!$G$171","v":0.59116423963206211},{"$f":"'Op.Eff.STOTTE.NOFO'!H171","v":0.61971900274384406},null,null,null,null,null,null,null,null,null,7,171,"Op.Eff.STOTTE.NOFO.V2!D171","Op.Eff.STOTTE.NOFO.V2!E171","Op.Eff.STOTTE.NOFO.V2!F171","Op.Eff.STOTTE.NOFO.V2!G171","Op.Eff.STOTTE.NOFO.V2!H171",null,0.45213357499999995,0.67220718749999997,0.77101320000000007,0.57820709999999997,0.61839026562499999,null,74,125,154,95]
[null,null,null,null,null,null,null,null,null,null,null,null,null,null,null,null,null,null,null,null,null,null,null,null,null,null,null,8,{"$f":"'Op.Eff.STOTTE.NOFO'!D195","v":0.57797941192384761},{"$f":"'Op.Eff.STOTTE.NOFO'!E195","v":0.73338875414824656},{"$f":"'Op.Eff.STOTTE.NOFO'!F195","v":0.82442139026195038},{"$f":"'Op.Eff.STOTTE.NOFO'!$G$195","v":0.68745201956801327},{"$f":"'Op.Eff.STOTTE.NOFO'!H195","v":0.70581039397551448},null,null,null,null,null,null,null,null,null,8,195,"Op.Eff.STOTTE.NOFO.V2!D195","Op.Eff.STOTTE.NOFO.V2!E195","Op.Eff.STOTTE.NOFO.V2!F195","Op.Eff.STOTTE.NOFO.V2!G195","Op.Eff.STOTTE.NOFO.V2!H195",null,0.46141618750000002,0.67213418749999998,0.77184013749999991,0.58564736249999994,0.62275946874999999,null,74,125,154,95]
[null,null,null,null,null,null,null,null,null,null,null,null,null,null,null,null,null,null,null,null,null,null,null,null,null,null,null,9,{"$f":"'Op.Eff.STOTTE.NOFO'!D219","v":0.61739727803422284},{"$f":"'Op.Eff.STOTTE.NOFO'!E219","v":0.7598729881482168},{"$f":"'Op.Eff.STOTTE.NOFO'!F219","v":0.83741223880628712},{"$f":"'Op.Eff.STOTTE.NOFO'!$G$219","v":0.71694755000936639},{"$f":"'Op.Eff.STOTTE.NOFO'!H219","v":0.73290751374952334},null,null,null,null,null,null,null,null,null,9,219,"Op.Eff.STOTTE.NOFO.V2!D219","Op.Eff.STOTTE.NOFO.V2!E219","Op.Eff.STOTTE.NOFO.V2!F219","Op.Eff.STOTTE.NOFO.V2!G219","Op.Eff.STOTTE.NOFO.V2!H219",null,0.45999788750000004,0.66635753749999993,0.77161041249999984,0.59046784999999991,0.62210842187499993,null,74,125,154,95]
[null,null,null,null,null,null,null,null,null,null,null,null,null,null,null,null,null,null,null,null,null,null,null,null,null,null,null,10,{"$f":"'Op.Eff.STOTTE.NOFO'!D243","v":0.69527348316875226},{"$f":"'Op.Eff.STOTTE.NOFO'!E243","v":0.80119388253838564},{"$f":"'Op.Eff.STOTTE.NOFO'!F243","v":0.85437409994503055},{"$f":"'Op.Eff.STOTTE.NOFO'!$G$243","v":0.7685549248311041},{"$f":"'Op.Eff.STOTTE.NOFO'!H243","v":0.77984909762081811},null,null,null,null,null,null,null,null,null,10,243,"Op.Eff.STOTTE.NOFO.V2!D243","Op.Eff.STOTTE.NOFO.V2!E243","Op.Eff.STOTTE.NOFO.V2!F243","Op.Eff.STOTTE.NOFO.V2!G243","Op.Eff.STOTTE.NOFO.V2!H243",null,0.41517975000000001,0.63671226250000001,0.764112825,0.55805696249999992,0.59351544999999994,null,74,125,154,95]
[null,null,null,null,null,null,null,null,null,null,null,null,null,null,null,null,null,null,null,null,null,null,null,null,null,null,null,11,{"$f":"'Op.Eff.STOTTE.NOFO'!D267","v":0.53122665207783681},{"$f":"'Op.Eff.STOTTE.NOFO'!E267","v":0.69818381459231615},{"$f":"'Op.Eff.STOTTE.NOFO'!F267","v":0.80037953685056451},{"$f":"'Op.Eff.STOTTE.NOFO'!$G$267","v":0.65233841250361246},{"$f":"'Op.Eff.STOTTE.NOFO'!H267","v":0.67053210400608254},null,null,null,null,null,null,null,null,null,11,267,"Op.Eff.STOTTE.NOFO.V2!D267","Op.Eff.STOTTE.NOFO.V2!E267","Op.Eff.STOTTE.NOFO.V2!F267","Op.Eff.STOTTE.NOFO.V2!G267","Op.Eff.STOTTE.NOFO.V2!H267",null,0.45380737500000001,0.65882043749999997,0.77352770000000004,0.59357792499999995,0.61993335937500005,null,74,125,154,95]
[null,null,null,null,null,null,null,null,null,null,null,null,null,null,null,null,null,null,null,null,null,null,null,null,null,null,null,null,null,null,null,null,null,null,null,null,null,null,null,null,null,null,12,291,"Op.Eff.STOTTE.NOFO.V2!D291","Op.Eff.STOTTE.NOFO.V2!E291","Op.Eff.STOTTE.NOFO.V2!F291","Op.Eff.STOTTE.NOFO.V2!G291","Op.Eff.STOTTE.NOFO.V2!H291",null,0.59650721250000005,0.73945444999999987,0.82366745000000008,0.69406956250000007,0.7134246687500001,null,74,125,154,95]
[null,null,null,null,null,null,null,null,null,null,null,null,null,null,null,null,null,null,null,null,null,null,null,null,null,null,null,null,"FJORD_EFF",null,null,null,null,null,"B3 KYST_EFF",null,null,null,null,null,null,null,13,315,"Op.Eff.STOTTE.NOFO.V2!D315","Op.Eff.STOTTE.NOFO.V2!E315","Op.Eff.STOTTE.NOFO.V2!F315","Op.Eff.STOTTE.NOFO.V2!G315","Op.Eff.STOTTE.NOFO.V2!H315",null,0.37115133750000001,0.60857740000000005,0.75431376249999993,0.53199189999999996,0.56650860000000003,null,74,125,154,95]
[null,null,null,null,null,null,null,null,null,null,null,null,null,null,null,null,null,null,null,null,null,null,null,null,null,null,null,"Velg st.",0,0,0,0,0,null,"Velg st.",0,0,0,0,0,null,null,14,339,"Op.Eff.STOTTE.NOFO.V2!D339","Op.Eff.STOTTE.NOFO.V2!E339","Op.Eff.STOTTE.NOFO.V2!F339","Op.Eff.STOTTE.NOFO.V2!G339","Op.Eff.STOTTE.NOFO.V2!H339",null,0.55830843750000003,0.70706234999999995,0.81664160000000008,0.66610467500000003,0.687029265625,null,75,131,156,97]
[null,null,null,null,null,null,null,null,null,null,null,null,null,null,null,null,null,null,null,null,null,null,null,null,null,null,null,1,{"$f":"'Op.Eff.STOTTE.FJORD'!L14","v":9.8900534319769839E-4},{"$f":"'Op.Eff.STOTTE.FJORD'!M14","v":5.0824136955291456E-2},{"$f":"'Op.Eff.STOTTE.FJORD'!N14","v":0.10959606109324758},{"$f":"'Op.Eff.STOTTE.FJORD'!O14","v":3.6969881145326851E-2},{"$f":"SUM(AC18:AF18)/4","v":4.95947711342659E-2},null,1,{"$f":"'Op.Eff.STOTTE.KYST'!L14","v":2.6674886970817917E-2},{"$f":"'Op.Eff.STOTTE.KYST'!M14","v":0.19322651386530842},{"$f":"'Op.Eff.STOTTE.KYST'!N14","v":0.39785972668810288},{"$f":"'Op.Eff.STOTTE.KYST'!O14","v":0.12800513236088601},{"$f":"SUM(AJ18:AM18)/4","v":0.18644156497127878},null,null,15,363,"Op.Eff.STOTTE.NOFO.V2!D363","Op.Eff.STOTTE.NOFO.V2!E363","Op.Eff.STOTTE.NOFO.V2!F363","Op.Eff.STOTTE.NOFO.V2!G363","Op.Eff.STOTTE.NOFO.V2!H363",null,0.39441326249999997,0.59726824999999995,0.76290919999999984,0.55893696250000002,0.57838191874999989,null,75,131,156,97]
[null,null,null,null,null,null,null,null,null,null,null,null,null,null,null,null,null,null,null,null,null,null,null,null,null,null,null,2,{"$f":"'Op.Eff.STOTTE.FJORD'!L42","v":0.66628904644471842},{"$f":"'Op.Eff.STOTTE.FJORD'!M42","v":0.73497099603848337},{"$f":"'Op.Eff.STOTTE.FJORD'!N42","v":0.8784297963558414},{"$f":"'Op.Eff.STOTTE.FJORD'!O42","v":0.71929024851431655},{"$f":"SUM(AC19:AF19)/4","v":0.74974502183833991},null,2,{"$f":"'Op.Eff.STOTTE.KYST'!L42","v":0.79531185778873814},{"$f":"'Op.Eff.STOTTE.KYST'!M42","v":0.83208474816072442},{"$f":"'Op.Eff.STOTTE.KYST'!N42","v":0.89213558413719185},{"$f":"'Op.Eff.STOTTE.KYST'!O42","v":0.83127363587250136},{"$f":"SUM(AJ19:AM19)/4","v":0.837701456489789},null,null,16,387,"Op.Eff.STOTTE.NOFO.V2!D387","Op.Eff.STOTTE.NOFO.V2!E387","Op.Eff.STOTTE.NOFO.V2!F387","Op.Eff.STOTTE.NOFO.V2!G387","Op.Eff.STOTTE.NOFO.V2!H387",null,0.44301771249999999,0.62304190000000004,0.77790571249999996,0.55893696250000002,0.60072557187499998,null,71,135,155,97]
[null,null,null,null,null,null,null,null,null,null,null,null,null,null,null,null,null,null,null,null,null,null,null,null,null,null,null,3,{"$f":"'Op.Eff.STOTTE.FJORD'!L70","v":0.81804870530209628},{"$f":"'Op.Eff.STOTTE.FJORD'!M70","v":0.82171760045274489},{"$f":"'Op.Eff.STOTTE.FJORD'!N70","v":0.89413518220793131},{"$f":"'Op.Eff.STOTTE.FJORD'!O70","v":0.84365545650999452},{"$f":"SUM(AC20:AF20)/4","v":0.84438923611819172},null,3,{"$f":"'Op.Eff.STOTTE.KYST'!L70","v":0.86594482120838479},{"$f":"'Op.Eff.STOTTE.KYST'!M70","v":0.88054612337294857},{"$f":"'Op.Eff.STOTTE.KYST'!N70","v":0.89689844587352618},{"$f":"'Op.Eff.STOTTE.KYST'!O70","v":0.88499459751485676},{"$f":"SUM(AJ20:AM20)/4","v":0.88209599699242913},null,null,17,411,"Op.Eff.STOTTE.NOFO.V2!D411","Op.Eff.STOTTE.NOFO.V2!E411","Op.Eff.STOTTE.NOFO.V2!F411","Op.Eff.STOTTE.NOFO.V2!G411","Op.Eff.STOTTE.NOFO.V2!H411",null,0.4147052,0.60635433750000001,0.76754495000000011,0.57453049999999994,0.59078374687500002,null,67,141,155,96]
[null,null,null,null,null,null,null,null,null,null,null,null,null,null,null,null,null,null,null,null,null,null,null,null,null,null,null,4,{"$f":"'Op.Eff.STOTTE.FJORD'!L98","v":0.22596588573777232},{"$f":"'Op.Eff.STOTTE.FJORD'!M98","v":0.49229626485568762},{"$f":"'Op.Eff.STOTTE.FJORD'!N98","v":0.62422293676312968},{"$f":"'Op.Eff.STOTTE.FJORD'!O98","v":0.40207320367368993},{"$f":"SUM(AC21:AF21)/4","v":0.43613957275756987},null,4,{"$f":"'Op.Eff.STOTTE.KYST'!L98","v":0.47850133579942461},{"$f":"'Op.Eff.STOTTE.KYST'!M98","v":0.67578522920203732},{"$f":"'Op.Eff.STOTTE.KYST'!N98","v":0.80947213290460873},{"$f":"'Op.Eff.STOTTE.KYST'!O98","v":0.58770934629929772},{"$f":"SUM(AJ21:AM21)/4","v":0.63786701105134203},null,null,18,435,"Op.Eff.STOTTE.NOFO.V2!D435","Op.Eff.STOTTE.NOFO.V2!E435","Op.Eff.STOTTE.NOFO.V2!F435","Op.Eff.STOTTE.NOFO.V2!G435","Op.Eff.STOTTE.NOFO.V2!H435",null,0.57805981250000005,0.76120963749999992,0.87276661250000009,0.73402196250000007,0.73651450625000003,null,67,141,155,96]
[null,null,null,null,null,null,null,null,null,null,null,null,null,null,null,null,null,null,null,null,null,null,null,null,null,null,null,5,{"$f":"'Op.Eff.STOTTE.FJORD'!L126","v":0.87425246609124541},{"$f":"'Op.Eff.STOTTE.FJORD'!M126","v":0.88444750990379173},{"$f":"'Op.Eff.STOTTE.FJORD'!N126","v":0.8967343247588424},{"$f":"'Op.Eff.STOTTE.FJORD'!O126","v":0.87974405726634253},{"$f":"SUM(AC22:AF22)/4","v":0.88379458950505552},null,5,{"$f":"'Op.Eff.STOTTE.KYST'!L126","v":0.89324136868064119},{"$f":"'Op.Eff.STOTTE.KYST'!M126","v":0.89460243350311264},{"$f":"'Op.Eff.STOTTE.KYST'!N126","v":0.89817122186495169},{"$f":"'Op.Eff.STOTTE.KYST'!O126","v":0.89255807671528908},{"$f":"SUM(AJ22:AM22)/4","v":0.89464327519099862},null,null,19,459,"Op.Eff.STOTTE.NOFO.V2!D459","Op.Eff.STOTTE.NOFO.V2!E459","Op.Eff.STOTTE.NOFO.V2!F459","Op.Eff.STOTTE.NOFO.V2!G459","Op.Eff.STOTTE.NOFO.V2!H459",null,0.66107358749999989,0.73096267500000001,0.82225149999999991,0.73771993750000009,0.73800192499999995,null,67,141,155,96]
[null,null,null,null,null,null,null,null,null,null,null,null,null,null,null,null,null,null,null,null,null,null,null,null,null,null,null,null,null,null,null,null,null,null,null,null,null,null,null,null,null,null,20,483,"Op.Eff.STOTTE.NOFO.V2!D483","Op.Eff.STOTTE.NOFO.V2!E483","Op.Eff.STOTTE.NOFO.V2!F483","Op.Eff.STOTTE.NOFO.V2!G483","Op.Eff.STOTTE.NOFO.V2!H483",null,0.74326124999999998,0.78262362499999993,0.82875624999999997,0.77312836249999994,0.78194237187500004,null,49,136,135,88]
[null,null,null,null,null,null,null,null,null,null,null,null,null,null,null,null,null,null,null,null,null,null,null,null,null,null,null,null,null,null,null,null,null,null,"B4 KYST_EFF",null,null,null,null,null,null,null,21,507,"Op.Eff.STOTTE.NOFO.V2!D507","Op.Eff.STOTTE.NOFO.V2!E507","Op.Eff.STOTTE.NOFO.V2!F507","Op.Eff.STOTTE.NOFO.V2!G507","Op.Eff.STOTTE.NOFO.V2!H507",null,0.72244154999999999,0.77161299999999988,0.82682781250000015,0.76315489999999997,0.77100931562499997,null,49,136,135,88]
[null,null,null,null,null,null,null,null,null,null,null,null,null,null,null,null,null,null,null,null,null,null,null,null,null,null,null,null,null,null,null,null,null,null,"Velg st.",0,0,0,0,0,null,null,22,531,"Op.Eff.STOTTE.NOFO.V2!D531","Op.Eff.STOTTE.NOFO.V2!E531","Op.Eff.STOTTE.NOFO.V2!F531","Op.Eff.STOTTE.NOFO.V2!G531","Op.Eff.STOTTE.NOFO.V2!H531",null,0.62080027500000001,0.70119488750000003,0.8061425000000001,0.70237002500000001,0.70762692187499998,null,49,136,135,88]
[null,null,null,null,null,null,null,null,null,null,null,null,null,null,null,null,null,null,null,null,null,null,null,null,null,null,null,null,"NOFO_TILLATT",null,null,null,null,null,1,{"$f":"'Op.Eff.STOTTE.KYST'!L15","v":9.8900534319769839E-4},{"$f":"'Op.Eff.STOTTE.KYST'!M15","v":5.0824136955291456E-2},{"$f":"'Op.Eff.STOTTE.KYST'!N15","v":0.10959606109324758},{"$f":"'Op.Eff.STOTTE.KYST'!O15","v":3.6969881145326851E-2},{"$f":"SUM(AJ26:AM26)/4","v":4.95947711342659E-2},null,null,23,555,"Op.Eff.STOTTE.NOFO.V2!D555","Op.Eff.STOTTE.NOFO.V2!E555","Op.Eff.STOTTE.NOFO.V2!F555","Op.Eff.STOTTE.NOFO.V2!G555","Op.Eff.STOTTE.NOFO.V2!H555",null,0.52719880000000008,0.6614951375,0.78738643749999992,0.64789435000000006,0.65599368125000002,null,49,136,135,88]
[null,null,"Gruppe A NOFO-system:",null,null,"Stasjon",11,null,null,null,null,null,"Gruppe D system:",null,null,"Stasjon",3,null,null,null,null,null,null,null,null,null,null,null,"Vinter","Vår","Sommer","Høst",null,null,2,{"$f":"'Op.Eff.STOTTE.KYST'!L43","v":0.66628904644471842},{"$f":"'Op.Eff.STOTTE.KYST'!M43","v":0.73497099603848337},{"$f":"'Op.Eff.STOTTE.KYST'!N43","v":0.8784297963558414},{"$f":"'Op.Eff.STOTTE.KYST'!O43","v":0.71929024851431655},{"$f":"SUM(AJ27:AM27)/4","v":0.74974502183833991},null,null,24,579,"Op.Eff.STOTTE.NOFO.V2!D579","Op.Eff.STOTTE.NOFO.V2!E579","Op.Eff.STOTTE.NOFO.V2!F579","Op.Eff.STOTTE.NOFO.V2!G579","Op.Eff.STOTTE.NOFO.V2!H579",null,0.5767479875,0.68187262500000001,0.79081847500000002,0.67642974999999994,0.68146720937500005,null,49,136,135,88]
[null,null,null,null,null,null,null,null,null,null,null,null,null,null,null,null,null,null,null,null,null,null,null,null,null,null,null,"Velg st.",0,0,0,0,null,null,3,{"$f":"'Op.Eff.STOTTE.KYST'!L71","v":0.81804870530209628},{"$f":"'Op.Eff.STOTTE.KYST'!M71","v":0.82171760045274489},{"$f":"'Op.Eff.STOTTE.KYST'!N71","v":0.89413518220793131},{"$f":"'Op.Eff.STOTTE.KYST'!O71","v":0.84365545650999452},{"$f":"SUM(AJ28:AM28)/4","v":0.84438923611819172},null,null,25,603,"Op.Eff.STOTTE.NOFO.V2!D603","Op.Eff.STOTTE.NOFO.V2!E603","Op.Eff.STOTTE.NOFO.V2!F603","Op.Eff.STOTTE.NOFO.V2!G603","Op.Eff.STOTTE.NOFO.V2!H603",null,0.53765898749999996,0.67260686250000001,0.78491321250000001,0.64959368749999991,0.66119318749999989,null,49,136,135,88]
[null,null,"Gjennomsnittlig effektivitet",null,null,null,null,null,null,null,null,null,"Gjennomsnittlig effektivitet - Gruppe D",null,null,null,null,null,null,null,null,null,null,null,null,null,null,1,{"$f":"('Op.Eff.STOTTE.NOFO'!O15+'Op.Eff.STOTTE.NOFO'!D15+'Op.Eff.STOTTE.NOFO'!E15)/3","v":26.621133333333333},{"$f":"('Op.Eff.STOTTE.NOFO'!F15+'Op.Eff.STOTTE.NOFO'!$G$15+'Op.Eff.STOTTE.NOFO'!H15)/3","v":0.32636960866367398},{"$f":"('Op.Eff.STOTTE.NOFO'!I15+'Op.Eff.STOTTE.NOFO'!J15+'Op.Eff.STOTTE.NOFO'!K15)/3","v":32.803333333333335},{"$f":"('Op.Eff.STOTTE.NOFO'!L15+'Op.Eff.STOTTE.NOFO'!M15+'Op.Eff.STOTTE.NOFO'!N15)/3","v":0.280900504232513},null,null,4,{"$f":"'Op.Eff.STOTTE.KYST'!L99","v":0.22596588573777232},{"$f":"'Op.Eff.STOTTE.KYST'!M99","v":0.49229626485568762},{"$f":"'Op.Eff.STOTTE.KYST'!N99","v":0.62422293676312968},{"$f":"'Op.Eff.STOTTE.KYST'!O99","v":0.40207320367368993},0.43613957275756987,null,null,26,627,"Op.Eff.STOTTE.NOFO.V2!D627","Op.Eff.STOTTE.NOFO.V2!E627","Op.Eff.STOTTE.NOFO.V2!F627","Op.Eff.STOTTE.NOFO.V2!G627","Op.Eff.STOTTE.NOFO.V2!H627",null,0.55416069999999995,0.68096096250000004,0.78669357499999992,0.6610210125,0.67070906250000006,null,49,136,135,88]
[null,null,"Vinter","Vår","Sommer","Høst","År",null,null,null,null,null,"Vinter","Vår","Sommer","Høst","År",null,null,null,null,null,null,null,null,null,null,2,{"$f":"('Op.Eff.STOTTE.NOFO'!O39+'Op.Eff.STOTTE.NOFO'!D39+'Op.Eff.STOTTE.NOFO'!E39)/3","v":0.68473913430632327},{"$f":"('Op.Eff.STOTTE.NOFO'!F39+'Op.Eff.STOTTE.NOFO'!$G$39+'Op.Eff.STOTTE.NOFO'!H39)/3","v":0.88144680923010565},{"$f":"('Op.Eff.STOTTE.NOFO'!I39+'Op.Eff.STOTTE.NOFO'!J39+'Op.Eff.STOTTE.NOFO'!K39)/3","v":0.98372498158604438},{"$f":"('Op.Eff.STOTTE.NOFO'!L39+'Op.Eff.STOTTE.NOFO'!M39+'Op.Eff.STOTTE.NOFO'!N39)/3","v":0.82921790050526434},null,null,5,{"$f":"'Op.Eff.STOTTE.KYST'!L127","v":0.87425246609124541},{"$f":"'Op.Eff.STOTTE.KYST'!M127","v":0.88444750990379173},{"$f":"'Op.Eff.STOTTE.KYST'!N127","v":0.8967343247588424},{"$f":"'Op.Eff.STOTTE.KYST'!O127","v":0.87974405726634253},0.88379458950505552,null,null,27,651,"Op.Eff.STOTTE.NOFO.V2!D651","Op.Eff.STOTTE.NOFO.V2!E651","Op.Eff.STOTTE.NOFO.V2!F651","Op.Eff.STOTTE.NOFO.V2!G651","Op.Eff.STOTTE.NOFO.V2!H651",null,0.47963476250000003,0.65661072500000006,0.78630251250000005,0.61752028749999999,0.63501707187500001,null,49,136,135,88]
[null,null,{"$f":"VLOOKUP($G$27,$AQ$4:$BC$30,9,FALSE)","v":0.45380737500000001},{"$f":"VLOOKUP($G$27,$AQ$4:$BC$30,10,FALSE)","v":0.65882043749999997},{"$f":"VLOOKUP($G$27,$AQ$4:$BC$30,11,FALSE)","v":0.77352770000000004},{"$f":"VLOOKUP($G$27,$AQ$4:$BC$30,12,FALSE)","v":0.59357792499999995},{"$f":"VLOOKUP($G$27,$AQ$4:$BC$30,13,FALSE)","v":0.61993335937500005},null,null,null,null,null,{"$f":"VLOOKUP($Q$27,$AI$17:$AN$22,2,FALSE)","v":0.86594482120838479},{"$f":"VLOOKUP($Q$27,$AI$17:$AN$22,3,FALSE)","v":0.88054612337294857},{"$f":"VLOOKUP($Q$27,$AI$17:$AN$22,4,FALSE)","v":0.89689844587352618},{"$f":"VLOOKUP($Q$27,$AI$17:$AN$22,5,FALSE)","v":0.88499459751485676},{"$f":"VLOOKUP($Q$27,$AI$17:$AN$22,6,FALSE)","v":0.88209599699242913},null,null,null,null,null,null,null,null,null,null,3,{"$f":"('Op.Eff.STOTTE.NOFO'!O63+'Op.Eff.STOTTE.NOFO'!D63+'Op.Eff.STOTTE.NOFO'!E63)/3","v":0.85285773997971415},{"$f":"('Op.Eff.STOTTE.NOFO'!F63+'Op.Eff.STOTTE.NOFO'!$G$63+'Op.Eff.STOTTE.NOFO'!H63)/3","v":0.95150231127315565},{"$f":"('Op.Eff.STOTTE.NOFO'!I63+'Op.Eff.STOTTE.NOFO'!J63+'Op.Eff.STOTTE.NOFO'!K63)/3","v":0.99576718471523185},{"$f":"('Op.Eff.STOTTE.NOFO'!L63+'Op.Eff.STOTTE.NOFO'!M63+'Op.Eff.STOTTE.NOFO'!N63)/3","v":0.93232728088242833}]
[null,null,null,null,null,null,null,null,null,null,null,null,null,null,null,null,null,null,null,null,null,null,null,null,null,null,null,4,{"$f":"('Op.Eff.STOTTE.NOFO'!O87+'Op.Eff.STOTTE.NOFO'!D87+'Op.Eff.STOTTE.NOFO'!E87)/3","v":0.66093507602354673},{"$f":"('Op.Eff.STOTTE.NOFO'!F87+'Op.Eff.STOTTE.NOFO'!$G$87+'Op.Eff.STOTTE.NOFO'!H87)/3","v":0.87351841605519809},{"$f":"('Op.Eff.STOTTE.NOFO'!I87+'Op.Eff.STOTTE.NOFO'!J87+'Op.Eff.STOTTE.NOFO'!K87)/3","v":0.98374727224350667},{"$f":"('Op.Eff.STOTTE.NOFO'!L87+'Op.Eff.STOTTE.NOFO'!M87+'Op.Eff.STOTTE.NOFO'!N87)/3","v":0.81569741382794003},null,null,null,null,null,null,null,null,null,null,"Op.Eff.STOTTE.KYSTVAKT.V2!",null,null,"EFFEKTIVITET VED DE ULIKE STASJONENE"]
[null,null,"Gruppe B system",null,null,"Stasjon",2,null,null,null,null,null,"Gruppe E system:",null,null,"Stasjon",3,null,null,null,null,null,null,null,null,null,null,5,{"$f":"('Op.Eff.STOTTE.NOFO'!O111+'Op.Eff.STOTTE.NOFO'!D111+'Op.Eff.STOTTE.NOFO'!E111)/3","v":0.79041564464464997},{"$f":"('Op.Eff.STOTTE.NOFO'!F111+'Op.Eff.STOTTE.NOFO'!$G$111+'Op.Eff.STOTTE.NOFO'!H111)/3","v":0.93043757707403751},{"$f":"('Op.Eff.STOTTE.NOFO'!I111+'Op.Eff.STOTTE.NOFO'!J111+'Op.Eff.STOTTE.NOFO'!K111)/3","v":0.99209932250332178},{"$f":"('Op.Eff.STOTTE.NOFO'!L111+'Op.Eff.STOTTE.NOFO'!M111+'Op.Eff.STOTTE.NOFO'!N111)/3","v":0.89825942616615073},null,null,null,null,null,null,null,null,null,null,"Velg st."]
[null,null,null,null,null,null,null,null,null,null,null,null,null,null,null,null,"Velg region",null,null,null,null,null,null,null,null,null,null,6,{"$f":"('Op.Eff.STOTTE.NOFO'!O135+'Op.Eff.STOTTE.NOFO'!D135+'Op.Eff.STOTTE.NOFO'!E135)/3","v":0.87294734559024467},{"$f":"('Op.Eff.STOTTE.NOFO'!F135+'Op.Eff.STOTTE.NOFO'!$G$135+'Op.Eff.STOTTE.NOFO'!H135)/3","v":0.96318605641915422},{"$f":"('Op.Eff.STOTTE.NOFO'!I135+'Op.Eff.STOTTE.NOFO'!J135+'Op.Eff.STOTTE.NOFO'!K135)/3","v":0.99657588670646069},{"$f":"('Op.Eff.STOTTE.NOFO'!L135+'Op.Eff.STOTTE.NOFO'!M135+'Op.Eff.STOTTE.NOFO'!N135)/3","v":0.94212467785173837},null,null,null,null,null,null,null,null,null,null,1,27,{"$f":"$AQ$32&\"D\"&$AR34","v":"Op.Eff.STOTTE.KYSTVAKT.V2!D27"},{"$f":"$AQ$32&\"E\"&$AR34","v":"Op.Eff.STOTTE.KYSTVAKT.V2!E27"},{"$f":"$AQ$32&\"F\"&$AR34","v":"Op.Eff.STOTTE.KYSTVAKT.V2!F27"},{"$f":"$AQ$32&\"G\"&$AR34","v":"Op.Eff.STOTTE.KYSTVAKT.V2!G27"},{"$f":"$AQ$32&\"H\"&$AR34","v":"Op.Eff.STOTTE.KYSTVAKT.V2!H27"},null,{"$f":"INDIRECT(AS34,TRUE)","v":0.382277325},{"$f":"INDIRECT(AT34,TRUE)","v":0.63532889999999997},{"$f":"INDIRECT(AU34,TRUE)","v":0.75223163749999999},{"$f":"INDIRECT(AV34,TRUE)","v":0.50204969999999993},{"$f":"INDIRECT(AW34,TRUE)","v":0.56797189062499998}]
[null,null,"Gjennomsnittlig effektivitet",null,null,null,null,null,null,null,null,null,"Gjennomsnittlig effektivitet",null,null,null,null,null,null,null,null,null,null,null,null,null,null,7,{"$f":"('Op.Eff.STOTTE.NOFO'!O159+'Op.Eff.STOTTE.NOFO'!D159+'Op.Eff.STOTTE.NOFO'!E159)/3","v":0.66318463435665675},{"$f":"('Op.Eff.STOTTE.NOFO'!F159+'Op.Eff.STOTTE.NOFO'!$G$159+'Op.Eff.STOTTE.NOFO'!H159)/3","v":0.87870566745889001},{"$f":"('Op.Eff.STOTTE.NOFO'!I159+'Op.Eff.STOTTE.NOFO'!J159+'Op.Eff.STOTTE.NOFO'!K159)/3","v":0.98650137755037159},{"$f":"('Op.Eff.STOTTE.NOFO'!L159+'Op.Eff.STOTTE.NOFO'!M159+'Op.Eff.STOTTE.NOFO'!N159)/3","v":0.82174826830744507},null,null,null,null,null,null,null,null,null,null,2,51,"Op.Eff.STOTTE.KYSTVAKT.V2!D51","Op.Eff.STOTTE.KYSTVAKT.V2!E51","Op.Eff.STOTTE.KYSTVAKT.V2!F51","Op.Eff.STOTTE.KYSTVAKT.V2!G51","Op.Eff.STOTTE.KYSTVAKT.V2!H51",null,0.58418452499999995,0.77877124999999991,0.82481250000000006,0.67886321250000004,0.71665787187499996]
[null,null,"Vinter","Velg st.","Sommer","Høst","År",null,null,null,null,null,"Vinter","Vår","Sommer","Høst","År",null,null,null,null,null,null,null,null,null,null,8,{"$f":"('Op.Eff.STOTTE.NOFO'!O183+'Op.Eff.STOTTE.NOFO'!D183+'Op.Eff.STOTTE.NOFO'!E183)/3","v":0.7972549875472531},{"$f":"('Op.Eff.STOTTE.NOFO'!F183+'Op.Eff.STOTTE.NOFO'!$G$183+'Op.Eff.STOTTE.NOFO'!H183)/3","v":0.93524904127411734},{"$f":"('Op.Eff.STOTTE.NOFO'!I183+'Op.Eff.STOTTE.NOFO'!J183+'Op.Eff.STOTTE.NOFO'!K183)/3","v":0.99382081142824441},{"$f":"('Op.Eff.STOTTE.NOFO'!L183+'Op.Eff.STOTTE.NOFO'!M183+'Op.Eff.STOTTE.NOFO'!N183)/3","v":0.90209295529867395},null,null,null,null,null,null,null,null,null,null,3,75,"Op.Eff.STOTTE.KYSTVAKT.V2!D75","Op.Eff.STOTTE.KYSTVAKT.V2!E75","Op.Eff.STOTTE.KYSTVAKT.V2!F75","Op.Eff.STOTTE.KYSTVAKT.V2!G75","Op.Eff.STOTTE.KYSTVAKT.V2!H75",null,0.26055269999999997,0.53680514999999995,0.72430032499999997,0.40932038749999999,0.48274464062499994]
[null,null,{"$f":"VLOOKUP($G$33,$AQ$34:$BC$64,9,FALSE)","v":0.58418452499999995},{"$f":"VLOOKUP($G$33,$AQ$34:$BC$64,10,FALSE)","v":0.77877124999999991},{"$f":"VLOOKUP($G$33,$AQ$34:$BC$64,11,FALSE)","v":0.82481250000000006},{"$f":"VLOOKUP($G$33,$AQ$34:$BC$64,12,FALSE)","v":0.67886321250000004},{"$f":"VLOOKUP($G$33,$AQ$34:$BC$64,13,FALSE)","v":0.71665787187499996},null,null,null,null,null,{"$f":"VLOOKUP($Q$33,$AB$17:$AG$22,2,FALSE)","v":0.81804870530209628},{"$f":"VLOOKUP($Q$33,$AB$17:$AG$22,3,FALSE)","v":0.82171760045274489},{"$f":"VLOOKUP($Q$33,$AB$17:$AG$22,4,FALSE)","v":0.89413518220793131},{"$f":"VLOOKUP($Q$33,$AB$17:$AG$22,5,FALSE)","v":0.84365545650999452},{"$f":"VLOOKUP($Q$33,$AB$17:$AG$22,6,FALSE)","v":0.84438923611819172},null,null,null,null,null,null,null,null,null,null,9,{"$f":"('Op.Eff.STOTTE.NOFO'!O207+'Op.Eff.STOTTE.NOFO'!D207+'Op.Eff.STOTTE.NOFO'!E207)/3","v":0.83252810707694369},{"$f":"('Op.Eff.STOTTE.NOFO'!F207+'Op.Eff.STOTTE.NOFO'!$G$207+'Op.Eff.STOTTE.NOFO'!H207)/3","v":0.95266167689276493},{"$f":"('Op.Eff.STOTTE.NOFO'!I207+'Op.Eff.STOTTE.NOFO'!J207+'Op.Eff.STOTTE.NOFO'!K207)/3","v":0.9957407938569155},{"$f":"('Op.Eff.STOTTE.NOFO'!L207+'Op.Eff.STOTTE.NOFO'!M207+'Op.Eff.STOTTE.NOFO'!N207)/3","v":0.92291231513988137},null,null,null,null,null,null,null,null,null,null,4,99,"Op.Eff.STOTTE.KYSTVAKT.V2!D99","Op.Eff.STOTTE.KYSTVAKT.V2!E99","Op.Eff.STOTTE.KYSTVAKT.V2!F99","Op.Eff.STOTTE.KYSTVAKT.V2!G99","Op.Eff.STOTTE.KYSTVAKT.V2!H99",null,0.4078105125,0.65562372499999988,0.77089502500000007,0.51957038749999995,0.58847491249999995]
[null,null,null,null,null,null,null,null,null,null,null,null,"Gruppe E system:"]
[]
[null,null,null,null,null,null,null,null,null,null,null,null,"Gjennomsnittlig effektivitet - Gruppe E"]
[null,null,null,null,null,null,null,null,null,null,null,null,"Vinter","Vår","Sommer","Høst","År"]
[null,null,null,null,null,null,null,null,null,null,null,null,0.81799999999999995,0.82199999999999995,0.89400000000000002,0.84399999999999997,0.84399999999999997,null,null,null,null,null,null,null,null,null,null,10,{"$f":"('Op.Eff.STOTTE.NOFO'!O231+'Op.Eff.STOTTE.NOFO'!D231+'Op.Eff.STOTTE.NOFO'!E231)/3","v":0.90082000773922666},{"$f":"('Op.Eff.STOTTE.NOFO'!F231+'Op.Eff.STOTTE.NOFO'!$G$231+'Op.Eff.STOTTE.NOFO'!H231)/3","v":0.97425397166779659},{"$f":"('Op.Eff.STOTTE.NOFO'!I231+'Op.Eff.STOTTE.NOFO'!J231+'Op.Eff.STOTTE.NOFO'!K231)/3","v":0.99815755333496003},{"$f":"('Op.Eff.STOTTE.NOFO'!L231+'Op.Eff.STOTTE.NOFO'!M231+'Op.Eff.STOTTE.NOFO'!N231)/3","v":0.95468862977595226},null,null,null,null,null,null,null,null,null,null,5,123,"Op.Eff.STOTTE.KYSTVAKT.V2!D123","Op.Eff.STOTTE.KYSTVAKT.V2!E123","Op.Eff.STOTTE.KYSTVAKT.V2!F123","Op.Eff.STOTTE.KYSTVAKT.V2!G123","Op.Eff.STOTTE.KYSTVAKT.V2!H123",null,0.23472387500000003,0.51110997499999999,0.71046855000000009,0.37578191250000004,0.45802107812500004]
[null,null,null,null,null,null,null,null,null,null,null,null,null,null,null,null,null,null,null,null,null,null,null,null,null,null,null,11,{"$f":"('Op.Eff.STOTTE.NOFO'!O255+'Op.Eff.STOTTE.NOFO'!D255+'Op.Eff.STOTTE.NOFO'!E255)/3","v":0.75435573869798345},{"$f":"('Op.Eff.STOTTE.NOFO'!F255+'Op.Eff.STOTTE.NOFO'!$G$255+'Op.Eff.STOTTE.NOFO'!H255)/3","v":0.91966029332132082},{"$f":"('Op.Eff.STOTTE.NOFO'!I255+'Op.Eff.STOTTE.NOFO'!J255+'Op.Eff.STOTTE.NOFO'!K255)/3","v":0.99380333848863467},{"$f":"('Op.Eff.STOTTE.NOFO'!L255+'Op.Eff.STOTTE.NOFO'!M255+'Op.Eff.STOTTE.NOFO'!N255)/3","v":0.88175444273646753},null,null,null,null,null,null,null,null,null,null,6,147,"Op.Eff.STOTTE.KYSTVAKT.V2!D147","Op.Eff.STOTTE.KYSTVAKT.V2!E147","Op.Eff.STOTTE.KYSTVAKT.V2!F147","Op.Eff.STOTTE.KYSTVAKT.V2!G147","Op.Eff.STOTTE.KYSTVAKT.V2!H147",null,0.46934726250000003,0.68003663749999999,0.7971957125000001,0.58580303750000007,0.63309566250000016]
[null,null,null,null,null,null,null,null,null,null,null,null,null,null,null,null,null,null,null,null,null,null,null,null,null,null,null,null,"KYST_TILLAT",null,null,null,null,null,"FJORD_TILLATT",null,null,null,null,null,null,null,7,171,"Op.Eff.STOTTE.KYSTVAKT.V2!D171","Op.Eff.STOTTE.KYSTVAKT.V2!E171","Op.Eff.STOTTE.KYSTVAKT.V2!F171","Op.Eff.STOTTE.KYSTVAKT.V2!G171","Op.Eff.STOTTE.KYSTVAKT.V2!H171",null,0.229866075,0.50121321249999995,0.70279530000000001,0.36832857500000005,0.45055079062500003]
[null,null,null,null,null,null,null,null,null,null,null,null,null,null,null,null,null,null,null,null,null,null,null,null,null,null,null,"Velg st.",0,0,0,0,null,"Velg st.",0,0,0,0,null,null,null,null,8,195,"Op.Eff.STOTTE.KYSTVAKT.V2!D195","Op.Eff.STOTTE.KYSTVAKT.V2!E195","Op.Eff.STOTTE.KYSTVAKT.V2!F195","Op.Eff.STOTTE.KYSTVAKT.V2!G195","Op.Eff.STOTTE.KYSTVAKT.V2!H195",null,0.24101181249999998,0.50664458749999997,0.69865556249999994,0.37879803750000002,0.45627749999999995]
[null,null,"Innhold i denne rammen er kun til informasjon - forslagsvis henvis til planverket",null,null,null,null,null,null,null,null,null,null,null,null,null,null,null,null,null,null,null,null,null,null,null,null,1,{"$f":"SUM('Op.Eff.STOTTE.KYST'!D7:D9)","v":3.2264693793670363E-2},{"$f":"SUM('Op.Eff.STOTTE.KYST'!E7:E9)","v":0.2306168647425014},{"$f":"SUM('Op.Eff.STOTTE.KYST'!F7:F9)","v":0.47454448017148981},{"$f":"SUM('Op.Eff.STOTTE.KYST'!$G$7:G9)","v":0.15248514316585629},null,1,{"$f":"SUM('Op.Eff.STOTTE.KYST'!D7:D8)","v":1.1302918207973696E-3},{"$f":"SUM('Op.Eff.STOTTE.KYST'!E7:E8)","v":5.8007923033389926E-2},{"$f":"SUM('Op.Eff.STOTTE.KYST'!F7:F8)","v":0.12513397642015006},{"$f":"SUM('Op.Eff.STOTTE.KYST'!$G$7:G8)","v":4.2139384116693678E-2},null,null,null,null,9,219,"Op.Eff.STOTTE.KYSTVAKT.V2!D219","Op.Eff.STOTTE.KYSTVAKT.V2!E219","Op.Eff.STOTTE.KYSTVAKT.V2!F219","Op.Eff.STOTTE.KYSTVAKT.V2!G219","Op.Eff.STOTTE.KYSTVAKT.V2!H219",null,0.24223786250000001,0.49931833749999999,0.69942103749999984,0.382812025,0.45594731562499996]
[null,null,null,null,null,null,null,null,null,null,null,null,null,null,null,null,null,null,null,null,null,null,null,null,null,null,null,2,{"$f":"SUM('Op.Eff.STOTTE.KYST'!D35:D37)","v":0.905980271270037},{"$f":"SUM('Op.Eff.STOTTE.KYST'!E35:E37)","v":0.94086021505376349},{"$f":"SUM('Op.Eff.STOTTE.KYST'!F35:F37)","v":0.99732047159699888},{"$f":"SUM('Op.Eff.STOTTE.KYST'!$G$35:G37)","v":0.94151809832522959},null,2,{"$f":"SUM('Op.Eff.STOTTE.KYST'!D35:D36)","v":0.7495889847924373},{"$f":"SUM('Op.Eff.STOTTE.KYST'!E35:E36)","v":0.82314657611771369},{"$f":"SUM('Op.Eff.STOTTE.KYST'!F35:F36)","v":0.98070739549839225},{"$f":"SUM('Op.Eff.STOTTE.KYST'!$G$35:G36)","v":0.80578065910318741},null,null,null,null,10,243,"Op.Eff.STOTTE.KYSTVAKT.V2!D243","Op.Eff.STOTTE.KYSTVAKT.V2!E243","Op.Eff.STOTTE.KYSTVAKT.V2!F243","Op.Eff.STOTTE.KYSTVAKT.V2!G243","Op.Eff.STOTTE.KYSTVAKT.V2!H243",null,0.19444125000000001,0.45463368750000005,0.68033949999999999,0.34259196250000001,0.41800160000000003]
[null,null,null,null,null,null,null,null,null,null,null,null,null,null,null,null,null,null,null,null,null,null,null,null,null,null,null,3,{"$f":"SUM('Op.Eff.STOTTE.KYST'!D63:D65)","v":0.97184545828195645},{"$f":"SUM('Op.Eff.STOTTE.KYST'!E63:E65)","v":0.98811544991511036},{"$f":"SUM('Op.Eff.STOTTE.KYST'!F63:F65)","v":0.99866023579849938},{"$f":"SUM('Op.Eff.STOTTE.KYST'!$G$63:G65)","v":0.99149108589951374},null,3,{"$f":"SUM('Op.Eff.STOTTE.KYST'!D63:D64)","v":0.91378956021372792},{"$f":"SUM('Op.Eff.STOTTE.KYST'!E63:E64)","v":0.91680814940577249},{"$f":"SUM('Op.Eff.STOTTE.KYST'!F63:F64)","v":0.99531082529474801},{"$f":"SUM('Op.Eff.STOTTE.KYST'!$G$63:G64)","v":0.94138303619665042},null,null,null,null,11,267,"Op.Eff.STOTTE.KYSTVAKT.V2!D267","Op.Eff.STOTTE.KYSTVAKT.V2!E267","Op.Eff.STOTTE.KYSTVAKT.V2!F267","Op.Eff.STOTTE.KYSTVAKT.V2!G267","Op.Eff.STOTTE.KYSTVAKT.V2!H267",null,0.24137050000000002,0.49020693750000005,0.69640502500000001,0.38988624999999999,0.45446717812500004]
[null,null,null,null,null,null,null,null,null,null,null,null,null,null,null,null,null,null,null,null,null,null,null,null,null,null,null,4,{"$f":"SUM('Op.Eff.STOTTE.KYST'!D91:D93)","v":0.56391286477599678},{"$f":"SUM('Op.Eff.STOTTE.KYST'!E91:E93)","v":0.78056027164685915},{"$f":"SUM('Op.Eff.STOTTE.KYST'!F91:F93)","v":0.93220793140407276},{"$f":"SUM('Op.Eff.STOTTE.KYST'!$G$91:G93)","v":0.68111831442463533},null,4,{"$f":"SUM('Op.Eff.STOTTE.KYST'!D91:D92)","v":0.25780928894369093},{"$f":"SUM('Op.Eff.STOTTE.KYST'!E91:E92)","v":0.55814940577249583},{"$f":"SUM('Op.Eff.STOTTE.KYST'!F91:F92)","v":0.70766345123258301},{"$f":"SUM('Op.Eff.STOTTE.KYST'!$G$91:G92)","v":0.4561048082117774},null,null,null,null,12,291,"Op.Eff.STOTTE.KYSTVAKT.V2!D291","Op.Eff.STOTTE.KYSTVAKT.V2!E291","Op.Eff.STOTTE.KYSTVAKT.V2!F291","Op.Eff.STOTTE.KYSTVAKT.V2!G291","Op.Eff.STOTTE.KYSTVAKT.V2!H291",null,0.39673573750000002,0.62404737499999996,0.79126512500000001,0.54290368749999995,0.58873798124999999]
[null,null,{"$f":"VLOOKUP($G$27,$AQ$4:$BH$30,15,FALSE)","v":74},{"$f":"VLOOKUP($G$27,$AQ$4:$BH$30,16,FALSE)","v":125},{"$f":"VLOOKUP($G$27,$AQ$4:$BH$30,17,FALSE)","v":154},{"$f":"VLOOKUP($G$27,$AQ$4:$BH$30,18,FALSE)","v":95},null,"Sommer","Høst",null,null,null,null,null,null,null,null,null,null,null,null,null,null,null,null,null,null,5,{"$f":"SUM('Op.Eff.STOTTE.KYST'!D119:D121)","v":0.99897246198109335},{"$f":"SUM('Op.Eff.STOTTE.KYST'!E119:E121)","v":0.99830220713073003},{"$f":"SUM('Op.Eff.STOTTE.KYST'!F119:F121)","v":1},{"$f":"SUM('Op.Eff.STOTTE.KYST'!$G$119:G121)","v":0.99783900594273367},null,5,{"$f":"SUM('Op.Eff.STOTTE.KYST'!D119:D120)","v":0.97595561035758327},{"$f":"SUM('Op.Eff.STOTTE.KYST'!E119:E120)","v":0.98599320882852293},{"$f":"SUM('Op.Eff.STOTTE.KYST'!F119:F120)","v":0.99825830653804926},{"$f":"SUM('Op.Eff.STOTTE.KYST'!$G$119:G120)","v":0.98230686115613186},null,null,null,null,13,315,"Op.Eff.STOTTE.KYSTVAKT.V2!D315","Op.Eff.STOTTE.KYSTVAKT.V2!E315","Op.Eff.STOTTE.KYSTVAKT.V2!F315","Op.Eff.STOTTE.KYSTVAKT.V2!G315","Op.Eff.STOTTE.KYSTVAKT.V2!H315",null,0.15666801250000001,0.40939032500000005,0.65928586249999999,0.30835250000000003,0.38342417500000003]
[null,null,"Gruooe A system (Hs < 4 m)",null,null,{"$f":"VLOOKUP($G$27,$AQ$68:$AV$94,3,FALSE)","v":0.64939899999999995},{"$f":"VLOOKUP($G$27,$AQ$68:$AV$94,4,FALSE)","v":0.88783299999999998},{"$f":"VLOOKUP($G$27,$AQ$68:$AV$94,5,FALSE)","v":0.9783670000000001},{"$f":"VLOOKUP($G$27,$AQ$68:$AV$94,6,FALSE)","v":0.81829900000000011},null,null,null,null,null,null,null,null,null,null,null,null,null,null,null,null,null,null,null,"KYSTVAKT_TILLATT",null,null,null,null,null,null,null,null,null,null,null,null,null,14,339,"Op.Eff.STOTTE.KYSTVAKT.V2!D339","Op.Eff.STOTTE.KYSTVAKT.V2!E339","Op.Eff.STOTTE.KYSTVAKT.V2!F339","Op.Eff.STOTTE.KYSTVAKT.V2!G339","Op.Eff.STOTTE.KYSTVAKT.V2!H339",null,0.34265303750000004,0.56832735000000001,0.78107892499999998,0.50621800000000006,0.54956932812500003]
[null,null,"Gruooe A system (Hs < 4 m)",null,null,{"$f":"VLOOKUP($G$27,$AQ$68:$AV$94,3,FALSE)","v":0.64939899999999995},{"$f":"VLOOKUP($G$27,$AQ$68:$AV$94,4,FALSE)","v":0.88783299999999998},{"$f":"VLOOKUP($G$27,$AQ$68:$AV$94,5,FALSE)","v":0.9783670000000001},{"$f":"VLOOKUP($G$27,$AQ$68:$AV$94,6,FALSE)","v":0.81829900000000011},null,null,null,null,null,null,null,null,null,null,null,null,null,null,null,null,null,null,null,"Vinter","Vår","Sommer","Høst",null,null,null,null,null,null,null,null,null,null,15,363,"Op.Eff.STOTTE.KYSTVAKT.V2!D363","Op.Eff.STOTTE.KYSTVAKT.V2!E363","Op.Eff.STOTTE.KYSTVAKT.V2!F363","Op.Eff.STOTTE.KYSTVAKT.V2!G363","Op.Eff.STOTTE.KYSTVAKT.V2!H363",null,0.17983368750000001,0.42468407499999994,0.68635857499999986,0.34776446249999998,0.40966019999999997]
[null,null,"Gruppe B system (Hs < 2,5 m)",null,null,{"$f":"VLOOKUP($G$33,$AQ$98:$AV$124,3,FALSE)","v":0.71440100000000006},{"$f":"VLOOKUP($G$33,$AQ$98:$AV$124,4,FALSE)","v":0.9272999999999999},{"$f":"VLOOKUP($G$33,$AQ$98:$AV$124,5,FALSE)","v":0.97200000000000009},{"$f":"VLOOKUP($G$33,$AQ$98:$AV$124,6,FALSE)","v":0.82736699999999996},null,null,null,null,null,null,null,null,null,null,null,null,null,null,null,null,null,null,"Velg st.",0,0,0,0,null,null,null,null,null,null,null,null,null,null,16,387,"Op.Eff.STOTTE.KYSTVAKT.V2!D387","Op.Eff.STOTTE.KYSTVAKT.V2!E387","Op.Eff.STOTTE.KYSTVAKT.V2!F387","Op.Eff.STOTTE.KYSTVAKT.V2!G387","Op.Eff.STOTTE.KYSTVAKT.V2!H387",null,0.21214788750000002,0.45689500000000005,0.71394178750000004,0.39851413749999998,0.44537470312500005]
[null,null,"Gruppe D system (Hs < 1,5 m)",null,null,{"$f":"VLOOKUP($Q$27,$AB$45:$AF$50,2,FALSE)","v":0.97184545828195645},{"$f":"VLOOKUP($Q$27,$AB$45:$AF$50,3,FALSE)","v":0.98811544991511036},{"$f":"VLOOKUP($Q$27,$AB$45:$AF$50,4,FALSE)","v":0.99866023579849938},{"$f":"VLOOKUP($Q$27,$AB$45:$AF$50,5,FALSE)","v":0.99149108589951374},null,null,null,null,null,null,null,null,null,null,null,null,null,null,null,null,null,null,1,{"$f":"(SUM('Op.Eff.STOTTE.NOFO'!O11:O13)+SUM('Op.Eff.STOTTE.NOFO'!D11:D13)+SUM('Op.Eff.STOTTE.NOFO'!E11:E13))/3","v":20.587799999999998},{"$f":"(SUM('Op.Eff.STOTTE.NOFO'!F11:F13)+SUM('Op.Eff.STOTTE.NOFO'!$G$11:G13)+SUM('Op.Eff.STOTTE.NOFO'!H11:H13))/3","v":0.31365748079340849},{"$f":"(SUM('Op.Eff.STOTTE.NOFO'!I11:I13)+SUM('Op.Eff.STOTTE.NOFO'!J11:J13)+SUM('Op.Eff.STOTTE.NOFO'!K11:K13))/3","v":31.781099999999999},{"$f":"(SUM('Op.Eff.STOTTE.NOFO'!L11:L13)+SUM('Op.Eff.STOTTE.NOFO'!M11:M13)+SUM('Op.Eff.STOTTE.NOFO'!N11:N13))/3","v":0.22448971734349907},null,null,null,null,null,null,null,null,null,null,17,411,"Op.Eff.STOTTE.KYSTVAKT.V2!D411","Op.Eff.STOTTE.KYSTVAKT.V2!E411","Op.Eff.STOTTE.KYSTVAKT.V2!F411","Op.Eff.STOTTE.KYSTVAKT.V2!G411","Op.Eff.STOTTE.KYSTVAKT.V2!H411",null,0.175731425,0.41912306249999998,0.6987170250000001,0.35595779999999999,0.41238232812499998]
[null,null,"Gruppe E system (Hs < 1 m)",null,null,{"$f":"VLOOKUP($Q$33,$AH$45:$AL$50,2,FALSE)","v":0.91378956021372792},{"$f":"VLOOKUP($Q$33,$AH$45:$AL$50,3,FALSE)","v":0.91680814940577249},{"$f":"VLOOKUP($Q$33,$AH$45:$AL$50,4,FALSE)","v":0.99531082529474801},{"$f":"VLOOKUP($Q$33,$AH$45:$AL$50,5,FALSE)","v":0.94138303619665042},null,null,null,null,null,null,null,null,null,null,null,null,null,null,null,null,null,null,2,{"$f":"(SUM('Op.Eff.STOTTE.NOFO'!O35:O37)+SUM('Op.Eff.STOTTE.NOFO'!D35:D37)+SUM('Op.Eff.STOTTE.NOFO'!E35:E37))/3","v":0.45678793120560596},{"$f":"(SUM('Op.Eff.STOTTE.NOFO'!F35:F37)+SUM('Op.Eff.STOTTE.NOFO'!$G$35:G37)+SUM('Op.Eff.STOTTE.NOFO'!H35:H37))/3","v":0.75366418791372958},{"$f":"(SUM('Op.Eff.STOTTE.NOFO'!I35:I37)+SUM('Op.Eff.STOTTE.NOFO'!J35:J37)+SUM('Op.Eff.STOTTE.NOFO'!K35:K37))/3","v":0.94360739417158646},{"$f":"(SUM('Op.Eff.STOTTE.NOFO'!L35:L37)+SUM('Op.Eff.STOTTE.NOFO'!M35:M37)+SUM('Op.Eff.STOTTE.NOFO'!N35:N37))/3","v":0.65281350430072427},null,null,null,null,null,null,null,null,null,null,18,435,"Op.Eff.STOTTE.KYSTVAKT.V2!D435","Op.Eff.STOTTE.KYSTVAKT.V2!E435","Op.Eff.STOTTE.KYSTVAKT.V2!F435","Op.Eff.STOTTE.KYSTVAKT.V2!G435","Op.Eff.STOTTE.KYSTVAKT.V2!H435",null,0.20020773750000001,0.44044967499999993,0.70336961250000007,0.38595678750000001,0.432495953125]
[null,null,null,null,null,null,null,null,null,null,null,null,null,null,null,null,null,null,null,null,null,null,null,null,null,null,null,3,{"$f":"(SUM('Op.Eff.STOTTE.NOFO'!O59:O61)+SUM('Op.Eff.STOTTE.NOFO'!D59:D61)+SUM('Op.Eff.STOTTE.NOFO'!E59:E61))/3","v":0.68370153158433933},{"$f":"(SUM('Op.Eff.STOTTE.NOFO'!F59:F61)+SUM('Op.Eff.STOTTE.NOFO'!$G$59:G61)+SUM('Op.Eff.STOTTE.NOFO'!H59:H61))/3","v":0.87761174556121746},{"$f":"(SUM('Op.Eff.STOTTE.NOFO'!I59:I61)+SUM('Op.Eff.STOTTE.NOFO'!J59:J61)+SUM('Op.Eff.STOTTE.NOFO'!K59:K61))/3","v":0.98018035631971001},{"$f":"(SUM('Op.Eff.STOTTE.NOFO'!L59:L61)+SUM('Op.Eff.STOTTE.NOFO'!M59:M61)+SUM('Op.Eff.STOTTE.NOFO'!N59:N61))/3","v":0.82447947440977387},null,null,null,null,null,null,null,null,null,null,19,459,"Op.Eff.STOTTE.KYSTVAKT.V2!D459","Op.Eff.STOTTE.KYSTVAKT.V2!E459","Op.Eff.STOTTE.KYSTVAKT.V2!F459","Op.Eff.STOTTE.KYSTVAKT.V2!G459","Op.Eff.STOTTE.KYSTVAKT.V2!H459",null,0.49691318749999996,0.62238497500000001,0.80064107499999992,0.62684913750000004,0.63669709375000005]
[null,null,null,null,null,null,null,null,null,null,null,null,null,null,null,null,null,null,null,null,null,null,null,null,null,null,null,4,{"$f":"(SUM('Op.Eff.STOTTE.NOFO'!O83:O85)+SUM('Op.Eff.STOTTE.NOFO'!D83:D85)+SUM('Op.Eff.STOTTE.NOFO'!E83:E85))/3","v":0.42110579816271859},{"$f":"(SUM('Op.Eff.STOTTE.NOFO'!F81:F85)+SUM('Op.Eff.STOTTE.NOFO'!$G$83:G85)+SUM('Op.Eff.STOTTE.NOFO'!H83:H85))/3","v":0.73689360705606133},{"$f":"(SUM('Op.Eff.STOTTE.NOFO'!I83:I85)+SUM('Op.Eff.STOTTE.NOFO'!J83:J85)+SUM('Op.Eff.STOTTE.NOFO'!K83:K85))/3","v":0.94184185175976098},{"$f":"(SUM('Op.Eff.STOTTE.NOFO'!L83:L85)+SUM('Op.Eff.STOTTE.NOFO'!M83:M85)+SUM('Op.Eff.STOTTE.NOFO'!N83:N85))/3","v":0.62419625691221992},null,null,null,null,null,null,null,null,null,null,20,483,"Op.Eff.STOTTE.KYSTVAKT.V2!D483","Op.Eff.STOTTE.KYSTVAKT.V2!E483","Op.Eff.STOTTE.KYSTVAKT.V2!F483","Op.Eff.STOTTE.KYSTVAKT.V2!G483","Op.Eff.STOTTE.KYSTVAKT.V2!H483",null,0.65659267499999996,0.71827449999999993,0.803181225,0.70393088749999999,0.72049482187499991]
[null,null,null,null,null,null,null,null,null,null,null,null,null,null,null,null,null,null,null,null,null,null,null,null,null,null,null,5,{"$f":"(SUM('Op.Eff.STOTTE.NOFO'!O107:O109)+SUM('Op.Eff.STOTTE.NOFO'!D107:D109)+SUM('Op.Eff.STOTTE.NOFO'!E107:E109))/3","v":0.60051688495445665},{"$f":"(SUM('Op.Eff.STOTTE.NOFO'!F107:F109)+SUM('Op.Eff.STOTTE.NOFO'!$G$107:G109)+SUM('Op.Eff.STOTTE.NOFO'!H107:H109))/3","v":0.83705428911949975},{"$f":"(SUM('Op.Eff.STOTTE.NOFO'!I107:I109)+SUM('Op.Eff.STOTTE.NOFO'!J107:J109)+SUM('Op.Eff.STOTTE.NOFO'!K107:K109))/3","v":0.96940690312842015},{"$f":"(SUM('Op.Eff.STOTTE.NOFO'!L107:L109)+SUM('Op.Eff.STOTTE.NOFO'!M107:M109)+SUM('Op.Eff.STOTTE.NOFO'!N107:N109))/3","v":0.76769815171422284},null,null,null,null,null,null,null,null,null,null,21,507,"Op.Eff.STOTTE.KYSTVAKT.V2!D507","Op.Eff.STOTTE.KYSTVAKT.V2!E507","Op.Eff.STOTTE.KYSTVAKT.V2!F507","Op.Eff.STOTTE.KYSTVAKT.V2!G507","Op.Eff.STOTTE.KYSTVAKT.V2!H507",null,0.60954154999999988,0.68993467499999994,0.80334071250000005,0.68399717500000001,0.69670352812500003]
[null,null,null,null,null,null,null,null,null,null,null,null,null,null,null,null,null,null,null,null,null,null,null,null,null,null,null,6,{"$f":"(SUM('Op.Eff.STOTTE.NOFO'!O131:O133)+SUM('Op.Eff.STOTTE.NOFO'!D131:D133)+SUM('Op.Eff.STOTTE.NOFO'!E131:E133))/3","v":0.72704499900392572},{"$f":"(SUM('Op.Eff.STOTTE.NOFO'!F131:F133)+SUM('Op.Eff.STOTTE.NOFO'!$G$131:G133)+SUM('Op.Eff.STOTTE.NOFO'!H131:H133))/3","v":0.89845906692314059},{"$f":"(SUM('Op.Eff.STOTTE.NOFO'!I131:I133)+SUM('Op.Eff.STOTTE.NOFO'!J131:J133)+SUM('Op.Eff.STOTTE.NOFO'!K131:K133))/3","v":0.98542578852517282},{"$f":"(SUM('Op.Eff.STOTTE.NOFO'!L131:L133)+SUM('Op.Eff.STOTTE.NOFO'!M131:M133)+SUM('Op.Eff.STOTTE.NOFO'!N131:N133))/3","v":0.85353596842937474},null,null,null,null,null,null,null,null,null,null,22,531,"Op.Eff.STOTTE.KYSTVAKT.V2!D531","Op.Eff.STOTTE.KYSTVAKT.V2!E531","Op.Eff.STOTTE.KYSTVAKT.V2!F531","Op.Eff.STOTTE.KYSTVAKT.V2!G531","Op.Eff.STOTTE.KYSTVAKT.V2!H531",null,0.41854359999999996,0.57634426250000004,0.7695725000000001,0.55372394999999996,0.57954607812499992]
[null,null,null,null,null,null,null,null,null,null,null,null,null,null,null,null,null,null,null,null,null,null,null,null,null,null,null,7,{"$f":"(SUM('Op.Eff.STOTTE.NOFO'!O155:O157)+SUM('Op.Eff.STOTTE.NOFO'!D155:D157)+SUM('Op.Eff.STOTTE.NOFO'!E155:E157))/3","v":0.41882608332363652},{"$f":"(SUM('Op.Eff.STOTTE.NOFO'!F155:F157)+SUM('Op.Eff.STOTTE.NOFO'!$G$155:G157)+SUM('Op.Eff.STOTTE.NOFO'!H155:H157))/3","v":0.73778386308626709},{"$f":"(SUM('Op.Eff.STOTTE.NOFO'!I155:I157)+SUM('Op.Eff.STOTTE.NOFO'!J155:J157)+SUM('Op.Eff.STOTTE.NOFO'!K155:K157))/3","v":0.94574889072744128},{"$f":"(SUM('Op.Eff.STOTTE.NOFO'!L155:L157)+SUM('Op.Eff.STOTTE.NOFO'!M155:M157)+SUM('Op.Eff.STOTTE.NOFO'!N155:N157))/3","v":0.62766995434612394},null,null,null,null,null,null,null,null,null,null,23,555,"Op.Eff.STOTTE.KYSTVAKT.V2!D555","Op.Eff.STOTTE.KYSTVAKT.V2!E555","Op.Eff.STOTTE.KYSTVAKT.V2!F555","Op.Eff.STOTTE.KYSTVAKT.V2!G555","Op.Eff.STOTTE.KYSTVAKT.V2!H555",null,0.29825360000000001,0.49488553750000003,0.73171771249999995,0.44998622499999996,0.49371076874999997]
[null,null,null,null,null,null,null,null,null,null,null,null,null,null,null,null,null,null,null,null,null,null,null,null,null,null,null,8,{"$f":"(SUM('Op.Eff.STOTTE.NOFO'!O179:O181)+SUM('Op.Eff.STOTTE.NOFO'!D179:D181)+SUM('Op.Eff.STOTTE.NOFO'!E179:E181))/3","v":0.61354318906310379},{"$f":"(SUM('Op.Eff.STOTTE.NOFO'!F179:F181)+SUM('Op.Eff.STOTTE.NOFO'!$G$179:G181)+SUM('Op.Eff.STOTTE.NOFO'!H179:H181))/3","v":0.84585686326073084},{"$f":"(SUM('Op.Eff.STOTTE.NOFO'!I179:I181)+SUM('Op.Eff.STOTTE.NOFO'!J179:J181)+SUM('Op.Eff.STOTTE.NOFO'!K179:K181))/3","v":0.97338503630779372},{"$f":"(SUM('Op.Eff.STOTTE.NOFO'!L179:L181)+SUM('Op.Eff.STOTTE.NOFO'!M179:M181)+SUM('Op.Eff.STOTTE.NOFO'!N179:N181))/3","v":0.7790661149134479},null,null,null,null,null,null,null,null,null,null,24,579,"Op.Eff.STOTTE.KYSTVAKT.V2!D579","Op.Eff.STOTTE.KYSTVAKT.V2!E579","Op.Eff.STOTTE.KYSTVAKT.V2!F579","Op.Eff.STOTTE.KYSTVAKT.V2!G579","Op.Eff.STOTTE.KYSTVAKT.V2!H579",null,0.34910068750000001,0.53232112500000006,0.745197475,0.49446767500000005,0.53027174062500004]
[null,null,null,null,null,null,null,null,null,null,null,null,null,null,null,null,null,null,null,null,null,null,null,null,null,null,null,9,{"$f":"(SUM('Op.Eff.STOTTE.NOFO'!O203:O205)+SUM('Op.Eff.STOTTE.NOFO'!D203:D205)+SUM('Op.Eff.STOTTE.NOFO'!E203:E205))/3","v":0.68212845141324108},{"$f":"(SUM('Op.Eff.STOTTE.NOFO'!F203:F205)+SUM('Op.Eff.STOTTE.NOFO'!$G$203:G205)+SUM('Op.Eff.STOTTE.NOFO'!H203:H205))/3","v":0.88173446106216469},{"$f":"(SUM('Op.Eff.STOTTE.NOFO'!I203:I205)+SUM('Op.Eff.STOTTE.NOFO'!J203:J205)+SUM('Op.Eff.STOTTE.NOFO'!K203:K205))/3","v":0.978945732656745},{"$f":"(SUM('Op.Eff.STOTTE.NOFO'!L203:L205)+SUM('Op.Eff.STOTTE.NOFO'!M203:M205)+SUM('Op.Eff.STOTTE.NOFO'!N203:N205))/3","v":0.82395223505725068},null,null,null,null,null,null,null,null,null,null,25,603,"Op.Eff.STOTTE.KYSTVAKT.V2!D603","Op.Eff.STOTTE.KYSTVAKT.V2!E603","Op.Eff.STOTTE.KYSTVAKT.V2!F603","Op.Eff.STOTTE.KYSTVAKT.V2!G603","Op.Eff.STOTTE.KYSTVAKT.V2!H603",null,0.29869568749999997,0.50435166250000008,0.73519073749999997,0.45361931249999998,0.49796434999999994]
[null,null,null,null,null,null,null,null,null,null,null,null,null,null,null,null,null,null,null,null,null,null,null,null,null,null,null,10,{"$f":"(SUM('Op.Eff.STOTTE.NOFO'!O227:O229)+SUM('Op.Eff.STOTTE.NOFO'!D227:D229)+SUM('Op.Eff.STOTTE.NOFO'!E227:E229))/3","v":0.79039192294269123},{"$f":"(SUM('Op.Eff.STOTTE.NOFO'!F227:F229)+SUM('Op.Eff.STOTTE.NOFO'!$G$227:G229)+SUM('Op.Eff.STOTTE.NOFO'!H227:H229))/3","v":0.9268800914569254},{"$f":"(SUM('Op.Eff.STOTTE.NOFO'!I227:I229)+SUM('Op.Eff.STOTTE.NOFO'!J227:J229)+SUM('Op.Eff.STOTTE.NOFO'!K227:K229))/3","v":0.98611716534917626},{"$f":"(SUM('Op.Eff.STOTTE.NOFO'!L227:L229)+SUM('Op.Eff.STOTTE.NOFO'!M227:M229)+SUM('Op.Eff.STOTTE.NOFO'!N227:N229))/3","v":0.88670229551423307},null,null,null,null,null,null,null,null,null,null,26,627,"Op.Eff.STOTTE.KYSTVAKT.V2!D627","Op.Eff.STOTTE.KYSTVAKT.V2!E627","Op.Eff.STOTTE.KYSTVAKT.V2!F627","Op.Eff.STOTTE.KYSTVAKT.V2!G627","Op.Eff.STOTTE.KYSTVAKT.V2!H627",null,0.32395467500000008,0.51711803749999996,0.73519000000000001,0.47582103750000004,0.51302093750000011]
[null,null,null,null,null,null,null,null,null,null,null,null,null,null,null,null,null,null,null,null,null,null,null,null,null,null,null,11,{"$f":"(SUM('Op.Eff.STOTTE.NOFO'!O251:O253)+SUM('Op.Eff.STOTTE.NOFO'!D251:D253)+SUM('Op.Eff.STOTTE.NOFO'!E251:E253))/3","v":0.5352569926249825},{"$f":"(SUM('Op.Eff.STOTTE.NOFO'!F251:F253)+SUM('Op.Eff.STOTTE.NOFO'!$G$251:G253)+SUM('Op.Eff.STOTTE.NOFO'!H251:H253))/3","v":0.80235309518005693},{"$f":"(SUM('Op.Eff.STOTTE.NOFO'!I251:I253)+SUM('Op.Eff.STOTTE.NOFO'!J251:J253)+SUM('Op.Eff.STOTTE.NOFO'!K251:K253))/3","v":0.96561858342644691},{"$f":"(SUM('Op.Eff.STOTTE.NOFO'!L251:L253)+SUM('Op.Eff.STOTTE.NOFO'!M251:M253)+SUM('Op.Eff.STOTTE.NOFO'!N251:N253))/3","v":0.72850979047823683},null,null,null,null,null,null,null,null,null,null,27,651,"Op.Eff.STOTTE.KYSTVAKT.V2!D651","Op.Eff.STOTTE.KYSTVAKT.V2!E651","Op.Eff.STOTTE.KYSTVAKT.V2!F651","Op.Eff.STOTTE.KYSTVAKT.V2!G651","Op.Eff.STOTTE.KYSTVAKT.V2!H651",null,0.22190478750000003,0.47778842500000002,0.72940683750000002,0.40268926250000003,0.45794732812500005]
[]
[null,null,null,null,null,null,null,null,null,null,null,null,null,null,null,null,null,null,null,null,null,null,null,null,null,null,null,null,null,null,null,null,null,null,null,null,null,null,null,null,null,null,"Op.Eff.STOTTE.NOFO.V2!",null,null,"ANDEL AV TIDEN HVOR BØLGEFORHOLDENE TILLATER OPERASJON"]
[null,null,null,null,null,null,null,null,null,null,null,null,null,null,null,null,null,null,null,null,null,null,null,null,null,null,null,null,null,null,null,null,null,null,null,null,null,null,null,null,null,null,"Velg st."]
[null,null,null,null,null,null,null,null,null,null,null,null,null,null,null,null,null,null,null,null,null,null,null,null,null,null,null,"KYSTVAKT_EFF",null,null,null,null,null,null,null,null,null,null,null,null,null,null,1,null,{"$f":"('Op.Eff.STOTTE.NOFO.V2'!$O$15+'Op.Eff.STOTTE.NOFO.V2'!$D$15+'Op.Eff.STOTTE.NOFO.V2'!$E$15)","v":0.79863400000000007},{"$f":"('Op.Eff.STOTTE.NOFO.V2'!$F$15+'Op.Eff.STOTTE.NOFO.V2'!$G$15+'Op.Eff.STOTTE.NOFO.V2'!$H$15)","v":0.95919999999999994},{"$f":"('Op.Eff.STOTTE.NOFO.V2'!$I$15+'Op.Eff.STOTTE.NOFO.V2'!$J$15+'Op.Eff.STOTTE.NOFO.V2'!$K$15)","v":0.98409999999999997},{"$f":"('Op.Eff.STOTTE.NOFO.V2'!$L$15+'Op.Eff.STOTTE.NOFO.V2'!$M$15+'Op.Eff.STOTTE.NOFO.V2'!$N$15)","v":0.89616699999999994}]
[null,null,null,null,null,null,null,null,null,null,null,null,null,null,null,null,null,null,null,null,null,null,null,null,null,null,null,"Velg st.",0,0,0,0,0,null,null,null,null,null,null,null,null,null,2,null,{"$f":"('Op.Eff.STOTTE.NOFO.V2'!$O$39+'Op.Eff.STOTTE.NOFO.V2'!$D$39+'Op.Eff.STOTTE.NOFO.V2'!$E$39)","v":0.91233399999999998},{"$f":"('Op.Eff.STOTTE.NOFO.V2'!$F$39+'Op.Eff.STOTTE.NOFO.V2'!$G$39+'Op.Eff.STOTTE.NOFO.V2'!$H$39)","v":0.99176599999999993},{"$f":"('Op.Eff.STOTTE.NOFO.V2'!$I$39+'Op.Eff.STOTTE.NOFO.V2'!$J$39+'Op.Eff.STOTTE.NOFO.V2'!$K$39)","v":0.99716700000000014},{"$f":"('Op.Eff.STOTTE.NOFO.V2'!$L$39+'Op.Eff.STOTTE.NOFO.V2'!$M$39+'Op.Eff.STOTTE.NOFO.V2'!$N$39)","v":0.9751669999999999}]
[null,null,null,null,null,null,null,null,null,null,null,null,null,null,null,null,null,null,null,null,null,null,null,null,null,null,null,1,{"$f":"'Op.Eff.STOTTE.KYSTVAKT'!D27","v":0.39116091796632407},{"$f":"'Op.Eff.STOTTE.KYSTVAKT'!E27","v":0.58111612908740062},{"$f":"'Op.Eff.STOTTE.KYSTVAKT'!F27","v":0.70784544237955593},{"$f":"'Op.Eff.STOTTE.KYSTVAKT'!$G$27","v":0.52146087752583081},{"$f":"'Op.Eff.STOTTE.KYSTVAKT'!H27","v":0.55039584173977774},null,null,null,null,null,null,null,null,null,3,null,{"$f":"('Op.Eff.STOTTE.NOFO.V2'!$O$63+'Op.Eff.STOTTE.NOFO.V2'!$D$63+'Op.Eff.STOTTE.NOFO.V2'!$E$63)","v":0.68710000000000004},{"$f":"('Op.Eff.STOTTE.NOFO.V2'!$F$63+'Op.Eff.STOTTE.NOFO.V2'!$G$63+'Op.Eff.STOTTE.NOFO.V2'!$H$63)","v":0.9230330000000001},{"$f":"('Op.Eff.STOTTE.NOFO.V2'!$I$63+'Op.Eff.STOTTE.NOFO.V2'!$J$63+'Op.Eff.STOTTE.NOFO.V2'!$K$63)","v":0.97896599999999989},{"$f":"('Op.Eff.STOTTE.NOFO.V2'!$L$63+'Op.Eff.STOTTE.NOFO.V2'!$M$63+'Op.Eff.STOTTE.NOFO.V2'!$N$63)","v":0.82173399999999996}]
[null,null,null,null,null,null,null,null,null,null,null,null,null,null,null,null,null,null,null,null,null,null,null,null,null,null,null,2,{"$f":"'Op.Eff.STOTTE.KYSTVAKT'!D51","v":0.3035389806433399},{"$f":"'Op.Eff.STOTTE.KYSTVAKT'!E51","v":0.52458802114203307},{"$f":"'Op.Eff.STOTTE.KYSTVAKT'!F51","v":0.68149110756548426},{"$f":"'Op.Eff.STOTTE.KYSTVAKT'!$G$51","v":0.44785875653549129},{"$f":"'Op.Eff.STOTTE.KYSTVAKT'!H51","v":0.4893692164715871},null,null,null,null,null,null,null,null,null,4,null,{"$f":"('Op.Eff.STOTTE.NOFO.V2'!$O$87+'Op.Eff.STOTTE.NOFO.V2'!$D$87+'Op.Eff.STOTTE.NOFO.V2'!$E$87)","v":0.79723300000000008},{"$f":"('Op.Eff.STOTTE.NOFO.V2'!$F$87+'Op.Eff.STOTTE.NOFO.V2'!$G$87+'Op.Eff.STOTTE.NOFO.V2'!$H$87)","v":0.96643400000000002},{"$f":"('Op.Eff.STOTTE.NOFO.V2'!$I$87+'Op.Eff.STOTTE.NOFO.V2'!$J$87+'Op.Eff.STOTTE.NOFO.V2'!$K$87)","v":0.98813400000000007},{"$f":"('Op.Eff.STOTTE.NOFO.V2'!$L$87+'Op.Eff.STOTTE.NOFO.V2'!$M$87+'Op.Eff.STOTTE.NOFO.V2'!$N$87)","v":0.91120000000000001}]
[null,null,null,null,null,null,null,null,null,null,null,null,null,null,null,null,null,null,null,null,null,null,null,null,null,null,null,3,{"$f":"'Op.Eff.STOTTE.KYSTVAKT'!D75","v":0.46633409264900605},{"$f":"'Op.Eff.STOTTE.KYSTVAKT'!E75","v":0.62896007664027531},{"$f":"'Op.Eff.STOTTE.KYSTVAKT'!F75","v":0.72978037862343159},{"$f":"'Op.Eff.STOTTE.KYSTVAKT'!$G$75","v":0.58208951541304133},{"$f":"'Op.Eff.STOTTE.KYSTVAKT'!H75","v":0.60179101583143857},null,null,null,null,null,null,null,null,null,5,null,{"$f":"('Op.Eff.STOTTE.NOFO.V2'!$O$111+'Op.Eff.STOTTE.NOFO.V2'!$D$111+'Op.Eff.STOTTE.NOFO.V2'!$E$11)","v":5.1899999999999995E-2},{"$f":"('Op.Eff.STOTTE.NOFO.V2'!$F$111+'Op.Eff.STOTTE.NOFO.V2'!$G$111+'Op.Eff.STOTTE.NOFO.V2'!$H$11)","v":0.16153400000000001},{"$f":"('Op.Eff.STOTTE.NOFO.V2'!$I$111+'Op.Eff.STOTTE.NOFO.V2'!$J$111+'Op.Eff.STOTTE.NOFO.V2'!$K$11)","v":0.32373299999999999},{"$f":"('Op.Eff.STOTTE.NOFO.V2'!$L$111+'Op.Eff.STOTTE.NOFO.V2'!$M$111+'Op.Eff.STOTTE.NOFO.V2'!$N$11)","v":0.1052}]
[null,null,null,null,null,null,null,null,null,null,null,null,null,null,null,null,null,null,null,null,null,null,null,null,null,null,null,4,{"$f":"'Op.Eff.STOTTE.KYSTVAKT'!D99","v":0.27771881306348845},{"$f":"'Op.Eff.STOTTE.KYSTVAKT'!E99","v":0.50975318716907758},{"$f":"'Op.Eff.STOTTE.KYSTVAKT'!F99","v":0.67722596295660586},{"$f":"'Op.Eff.STOTTE.KYSTVAKT'!$G$99","v":0.42482403444762168},{"$f":"'Op.Eff.STOTTE.KYSTVAKT'!H99","v":0.4723804994091983},null,null,null,null,null,null,null,null,null,6,null,{"$f":"('Op.Eff.STOTTE.NOFO.V2'!$O$135+'Op.Eff.STOTTE.NOFO.V2'!$D$135+'Op.Eff.STOTTE.NOFO.V2'!$E$135)","v":0.85576500000000011},{"$f":"('Op.Eff.STOTTE.NOFO.V2'!$F$135+'Op.Eff.STOTTE.NOFO.V2'!$G$135+'Op.Eff.STOTTE.NOFO.V2'!$H$135)","v":0.96683299999999994},{"$f":"('Op.Eff.STOTTE.NOFO.V2'!$I$135+'Op.Eff.STOTTE.NOFO.V2'!$J$135+'Op.Eff.STOTTE.NOFO.V2'!$K$135)","v":0.99286700000000006},{"$f":"('Op.Eff.STOTTE.NOFO.V2'!$L$135+'Op.Eff.STOTTE.NOFO.V2'!$M$135+'Op.Eff.STOTTE.NOFO.V2'!$N$135)","v":0.92883400000000005}]
[null,null,null,null,null,null,null,null,null,null,null,null,null,null,null,null,null,null,null,null,null,null,null,null,null,null,null,5,{"$f":"'Op.Eff.STOTTE.KYSTVAKT'!D123","v":0.40662515314534636},{"$f":"'Op.Eff.STOTTE.KYSTVAKT'!E123","v":0.59641351225582273},{"$f":"'Op.Eff.STOTTE.KYSTVAKT'!F123","v":0.71681964729090808},{"$f":"'Op.Eff.STOTTE.KYSTVAKT'!$G$123","v":0.53788121824661017},{"$f":"'Op.Eff.STOTTE.KYSTVAKT'!H123","v":0.56443488273467179},null,null,null,null,null,null,null,null,null,7,null,{"$f":"('Op.Eff.STOTTE.NOFO.V2'!$O$159+'Op.Eff.STOTTE.NOFO.V2'!$D$159+'Op.Eff.STOTTE.NOFO.V2'!$E$159)","v":0.65266600000000008},{"$f":"('Op.Eff.STOTTE.NOFO.V2'!$F$159+'Op.Eff.STOTTE.NOFO.V2'!$G$159+'Op.Eff.STOTTE.NOFO.V2'!$H$159)","v":0.90719899999999987},{"$f":"('Op.Eff.STOTTE.NOFO.V2'!$I$159+'Op.Eff.STOTTE.NOFO.V2'!$J$159+'Op.Eff.STOTTE.NOFO.V2'!$K$159)","v":0.97783200000000003},{"$f":"('Op.Eff.STOTTE.NOFO.V2'!$L$159+'Op.Eff.STOTTE.NOFO.V2'!$M$159+'Op.Eff.STOTTE.NOFO.V2'!$N$159)","v":0.80153400000000008}]
[null,null,null,null,null,null,null,null,null,null,null,null,null,null,null,null,null,null,null,null,null,null,null,null,null,null,null,6,{"$f":"'Op.Eff.STOTTE.KYSTVAKT'!D147","v":0.50516202319116277},{"$f":"'Op.Eff.STOTTE.KYSTVAKT'!E147","v":0.65745437666912343},{"$f":"'Op.Eff.STOTTE.KYSTVAKT'!F147","v":0.74690385899781553},{"$f":"'Op.Eff.STOTTE.KYSTVAKT'!$G$147","v":0.61284922478096504},{"$f":"'Op.Eff.STOTTE.KYSTVAKT'!H147","v":0.63059237090976661},null,null,null,null,null,null,null,null,null,8,null,{"$f":"('Op.Eff.STOTTE.NOFO.V2'!$O$183+'Op.Eff.STOTTE.NOFO.V2'!$D$183+'Op.Eff.STOTTE.NOFO.V2'!$E$183)","v":0.66433200000000014},{"$f":"('Op.Eff.STOTTE.NOFO.V2'!$F$183+'Op.Eff.STOTTE.NOFO.V2'!$G$183+'Op.Eff.STOTTE.NOFO.V2'!$H$183)","v":0.90473300000000001},{"$f":"('Op.Eff.STOTTE.NOFO.V2'!$I$183+'Op.Eff.STOTTE.NOFO.V2'!$J$183+'Op.Eff.STOTTE.NOFO.V2'!$K$183)","v":0.97809900000000005},{"$f":"('Op.Eff.STOTTE.NOFO.V2'!$L$183+'Op.Eff.STOTTE.NOFO.V2'!$M$183+'Op.Eff.STOTTE.NOFO.V2'!$N$183)","v":0.81080099999999988}]
[null,null,null,null,null,null,null,null,null,null,null,null,null,null,null,null,null,null,null,null,null,null,null,null,null,null,null,7,{"$f":"'Op.Eff.STOTTE.KYSTVAKT'!D171","v":0.27540307088896104},{"$f":"'Op.Eff.STOTTE.KYSTVAKT'!E171","v":0.50943993092075646},{"$f":"'Op.Eff.STOTTE.KYSTVAKT'!F171","v":0.67942264588888512},{"$f":"'Op.Eff.STOTTE.KYSTVAKT'!$G$171","v":0.42561227549445341},{"$f":"'Op.Eff.STOTTE.KYSTVAKT'!H171","v":0.47246948079826406},null,null,null,null,null,null,null,null,null,9,null,{"$f":"('Op.Eff.STOTTE.NOFO.V2'!$O$207+'Op.Eff.STOTTE.NOFO.V2'!$D$207+'Op.Eff.STOTTE.NOFO.V2'!$E$207)","v":0.6603},{"$f":"('Op.Eff.STOTTE.NOFO.V2'!$F$207+'Op.Eff.STOTTE.NOFO.V2'!$G$207+'Op.Eff.STOTTE.NOFO.V2'!$H$207)","v":0.89769900000000002},{"$f":"('Op.Eff.STOTTE.NOFO.V2'!$I$207+'Op.Eff.STOTTE.NOFO.V2'!$J$207+'Op.Eff.STOTTE.NOFO.V2'!$K$207)","v":0.97643199999999986},{"$f":"('Op.Eff.STOTTE.NOFO.V2'!$L$207+'Op.Eff.STOTTE.NOFO.V2'!$M$207+'Op.Eff.STOTTE.NOFO.V2'!$N$207)","v":0.81570100000000001}]
[null,null,null,null,null,null,null,null,null,null,null,null,null,null,null,null,null,null,null,null,null,null,null,null,null,null,null,8,{"$f":"'Op.Eff.STOTTE.KYSTVAKT'!D195","v":0.41937275219182801},{"$f":"'Op.Eff.STOTTE.KYSTVAKT'!E195","v":0.60988627072773827},{"$f":"'Op.Eff.STOTTE.KYSTVAKT'!F195","v":0.72869579385662231},{"$f":"'Op.Eff.STOTTE.KYSTVAKT'!$G$195","v":0.55048475460534096},{"$f":"'Op.Eff.STOTTE.KYSTVAKT'!H195","v":0.57710989284538228},null,null,null,null,null,null,null,null,null,10,null,{"$f":"('Op.Eff.STOTTE.NOFO.V2'!$O$231+'Op.Eff.STOTTE.NOFO.V2'!$D$231+'Op.Eff.STOTTE.NOFO.V2'!$E$231)","v":0.60556699999999997},{"$f":"('Op.Eff.STOTTE.NOFO.V2'!$F$231+'Op.Eff.STOTTE.NOFO.V2'!$G$231+'Op.Eff.STOTTE.NOFO.V2'!$H$231)","v":0.8696330000000001},{"$f":"('Op.Eff.STOTTE.NOFO.V2'!$I$231+'Op.Eff.STOTTE.NOFO.V2'!$J$231+'Op.Eff.STOTTE.NOFO.V2'!$K$231)","v":0.97629999999999995},{"$f":"('Op.Eff.STOTTE.NOFO.V2'!$L$231+'Op.Eff.STOTTE.NOFO.V2'!$M$231+'Op.Eff.STOTTE.NOFO.V2'!$N$231)","v":0.78136699999999992}]
[null,null,null,null,null,null,null,null,null,null,null,null,null,null,null,null,null,null,null,null,null,null,null,null,null,null,null,9,{"$f":"'Op.Eff.STOTTE.KYSTVAKT'!D219","v":0.47272618158974078},{"$f":"'Op.Eff.STOTTE.KYSTVAKT'!E219","v":0.6435073388800483},{"$f":"'Op.Eff.STOTTE.KYSTVAKT'!F219","v":0.74206999289611986},{"$f":"'Op.Eff.STOTTE.KYSTVAKT'!$G$219","v":0.58989396486561463},{"$f":"'Op.Eff.STOTTE.KYSTVAKT'!H219","v":0.61204936955788103},null,null,null,null,null,null,null,null,null,11,null,{"$f":"('Op.Eff.STOTTE.NOFO.V2'!$O$255+'Op.Eff.STOTTE.NOFO.V2'!$D$255+'Op.Eff.STOTTE.NOFO.V2'!$E$255)","v":0.64939899999999995},{"$f":"('Op.Eff.STOTTE.NOFO.V2'!$F$255+'Op.Eff.STOTTE.NOFO.V2'!$G$255+'Op.Eff.STOTTE.NOFO.V2'!$H$255)","v":0.88783299999999998},{"$f":"('Op.Eff.STOTTE.NOFO.V2'!$I$255+'Op.Eff.STOTTE.NOFO.V2'!$J$255+'Op.Eff.STOTTE.NOFO.V2'!$K$255)","v":0.9783670000000001},{"$f":"('Op.Eff.STOTTE.NOFO.V2'!$L$255+'Op.Eff.STOTTE.NOFO.V2'!$M$255+'Op.Eff.STOTTE.NOFO.V2'!$N$255)","v":0.81829900000000011}]
[null,null,null,null,null,null,null,null,null,null,null,null,null,null,null,null,null,null,null,null,null,null,null,null,null,null,null,10,{"$f":"'Op.Eff.STOTTE.KYSTVAKT'!D243","v":0.56418724739114812},{"$f":"'Op.Eff.STOTTE.KYSTVAKT'!E243","v":0.69303266876957281},{"$f":"'Op.Eff.STOTTE.KYSTVAKT'!F243","v":0.75948507153817546},{"$f":"'Op.Eff.STOTTE.KYSTVAKT'!$G$243","v":0.65272885724050755},{"$f":"'Op.Eff.STOTTE.KYSTVAKT'!H243","v":0.66735846123485099},null,null,null,null,null,null,null,null,null,12,null,{"$f":"('Op.Eff.STOTTE.NOFO.V2'!$O$279+'Op.Eff.STOTTE.NOFO.V2'!$D$279+'Op.Eff.STOTTE.NOFO.V2'!$E$279)","v":0.81979999999999997},{"$f":"('Op.Eff.STOTTE.NOFO.V2'!$F$279+'Op.Eff.STOTTE.NOFO.V2'!$G$279+'Op.Eff.STOTTE.NOFO.V2'!$H$279)","v":0.94843300000000008},{"$f":"('Op.Eff.STOTTE.NOFO.V2'!$I$279+'Op.Eff.STOTTE.NOFO.V2'!$J$279+'Op.Eff.STOTTE.NOFO.V2'!$K$279)","v":0.99636599999999997},{"$f":"('Op.Eff.STOTTE.NOFO.V2'!$L$279+'Op.Eff.STOTTE.NOFO.V2'!$M$279+'Op.Eff.STOTTE.NOFO.V2'!$N$279)","v":0.9155660000000001}]
[null,null,null,null,null,null,null,null,null,null,null,null,null,null,null,null,null,null,null,null,null,null,null,null,null,null,null,11,{"$f":"'Op.Eff.STOTTE.KYSTVAKT'!D267","v":0.35822422672360937},{"$f":"'Op.Eff.STOTTE.KYSTVAKT'!E267","v":0.56332068676401648},{"$f":"'Op.Eff.STOTTE.KYSTVAKT'!F267","v":0.70338188656772971},{"$f":"'Op.Eff.STOTTE.KYSTVAKT'!$G$267","v":0.5026689047091808},{"$f":"'Op.Eff.STOTTE.KYSTVAKT'!H267","v":0.5318989261911341},null,null,null,null,null,null,null,null,null,13,null,{"$f":"('Op.Eff.STOTTE.NOFO.V2'!$O$303+'Op.Eff.STOTTE.NOFO.V2'!$D$303+'Op.Eff.STOTTE.NOFO.V2'!$E$303)","v":0.54663299999999992},{"$f":"('Op.Eff.STOTTE.NOFO.V2'!$F$303+'Op.Eff.STOTTE.NOFO.V2'!$G$303+'Op.Eff.STOTTE.NOFO.V2'!$H$303)","v":0.8418000000000001},{"$f":"('Op.Eff.STOTTE.NOFO.V2'!$I$303+'Op.Eff.STOTTE.NOFO.V2'!$J$303+'Op.Eff.STOTTE.NOFO.V2'!$K$303)","v":0.97446599999999994},{"$f":"('Op.Eff.STOTTE.NOFO.V2'!$L$303+'Op.Eff.STOTTE.NOFO.V2'!$M$303+'Op.Eff.STOTTE.NOFO.V2'!$N$303)","v":0.75276699999999996}]
[null,null,null,null,null,null,null,null,null,null,null,null,null,null,null,null,null,null,null,null,null,null,null,null,null,null,null,null,null,null,null,null,null,null,null,null,null,null,null,null,null,null,14,null,{"$f":"('Op.Eff.STOTTE.NOFO.V2'!$O$327+'Op.Eff.STOTTE.NOFO.V2'!$D$327+'Op.Eff.STOTTE.NOFO.V2'!$E$327)","v":0.78099899999999989},{"$f":"('Op.Eff.STOTTE.NOFO.V2'!$F$327+'Op.Eff.STOTTE.NOFO.V2'!$G$327+'Op.Eff.STOTTE.NOFO.V2'!$H$327)","v":0.92516699999999996},{"$f":"('Op.Eff.STOTTE.NOFO.V2'!$I$327+'Op.Eff.STOTTE.NOFO.V2'!$J$327+'Op.Eff.STOTTE.NOFO.V2'!$K$327)","v":0.99630000000000007},{"$f":"('Op.Eff.STOTTE.NOFO.V2'!$L$327+'Op.Eff.STOTTE.NOFO.V2'!$M$327+'Op.Eff.STOTTE.NOFO.V2'!$N$327)","v":0.88830000000000009}]
[null,null,null,null,null,null,null,null,null,null,null,null,null,null,null,null,null,null,null,null,null,null,null,null,null,null,null,null,null,null,null,null,null,null,null,null,null,null,null,null,null,null,15,null,{"$f":"('Op.Eff.STOTTE.NOFO.V2'!$O$351+'Op.Eff.STOTTE.NOFO.V2'!$D$351+'Op.Eff.STOTTE.NOFO.V2'!$E$351)","v":0.57840000000000003},{"$f":"('Op.Eff.STOTTE.NOFO.V2'!$F$351+'Op.Eff.STOTTE.NOFO.V2'!$G$351+'Op.Eff.STOTTE.NOFO.V2'!$H$351)","v":0.81716600000000006},{"$f":"('Op.Eff.STOTTE.NOFO.V2'!$I$351+'Op.Eff.STOTTE.NOFO.V2'!$J$351+'Op.Eff.STOTTE.NOFO.V2'!$K$351)","v":0.97716799999999993},{"$f":"('Op.Eff.STOTTE.NOFO.V2'!$L$351+'Op.Eff.STOTTE.NOFO.V2'!$M$351+'Op.Eff.STOTTE.NOFO.V2'!$N$351)","v":0.78106699999999996}]
[null,null,null,null,null,null,null,null,null,null,null,null,null,null,null,null,null,null,null,null,null,null,null,null,null,null,null,null,null,null,null,null,null,null,null,null,null,null,null,null,null,null,16,null,{"$f":"('Op.Eff.STOTTE.NOFO.V2'!$O$375+'Op.Eff.STOTTE.NOFO.V2'!$D$375+'Op.Eff.STOTTE.NOFO.V2'!$E$375)","v":0.64473399999999992},{"$f":"('Op.Eff.STOTTE.NOFO.V2'!$F$375+'Op.Eff.STOTTE.NOFO.V2'!$G$375+'Op.Eff.STOTTE.NOFO.V2'!$H$375)","v":0.84476699999999993},{"$f":"('Op.Eff.STOTTE.NOFO.V2'!$I$375+'Op.Eff.STOTTE.NOFO.V2'!$J$375+'Op.Eff.STOTTE.NOFO.V2'!$K$375)","v":0.9843670000000001},{"$f":"('Op.Eff.STOTTE.NOFO.V2'!$L$375+'Op.Eff.STOTTE.NOFO.V2'!$M$375+'Op.Eff.STOTTE.NOFO.V2'!$N$375)","v":0.78106699999999996}]
[null,null,null,null,null,null,null,null,null,null,null,null,null,null,null,null,null,null,null,null,null,null,null,null,null,null,null,null,null,null,null,null,null,null,null,null,null,null,null,null,null,null,17,null,{"$f":"('Op.Eff.STOTTE.NOFO.V2'!$O$399+'Op.Eff.STOTTE.NOFO.V2'!$D$399+'Op.Eff.STOTTE.NOFO.V2'!$E$399)","v":0.61396700000000004},{"$f":"('Op.Eff.STOTTE.NOFO.V2'!$F$399+'Op.Eff.STOTTE.NOFO.V2'!$G$399+'Op.Eff.STOTTE.NOFO.V2'!$H$399)","v":0.83416699999999999},{"$f":"('Op.Eff.STOTTE.NOFO.V2'!$I$399+'Op.Eff.STOTTE.NOFO.V2'!$J$399+'Op.Eff.STOTTE.NOFO.V2'!$K$399)","v":0.98153499999999994},{"$f":"('Op.Eff.STOTTE.NOFO.V2'!$L$399+'Op.Eff.STOTTE.NOFO.V2'!$M$399+'Op.Eff.STOTTE.NOFO.V2'!$N$399)","v":0.80426500000000001}]
[null,null,null,null,null,null,null,null,null,null,null,null,null,null,null,null,null,null,null,null,null,null,null,null,null,null,null,null,null,null,null,null,null,null,null,null,null,null,null,null,null,null,18,null,{"$f":"('Op.Eff.STOTTE.NOFO.V2'!$O$423+'Op.Eff.STOTTE.NOFO.V2'!$D$423+'Op.Eff.STOTTE.NOFO.V2'!$E$423)","v":0.651335},{"$f":"('Op.Eff.STOTTE.NOFO.V2'!$F$423+'Op.Eff.STOTTE.NOFO.V2'!$G$423+'Op.Eff.STOTTE.NOFO.V2'!$H$423)","v":0.85770099999999994},{"$f":"('Op.Eff.STOTTE.NOFO.V2'!$I$423+'Op.Eff.STOTTE.NOFO.V2'!$J$423+'Op.Eff.STOTTE.NOFO.V2'!$K$423)","v":0.98339900000000013},{"$f":"('Op.Eff.STOTTE.NOFO.V2'!$L$423+'Op.Eff.STOTTE.NOFO.V2'!$M$423+'Op.Eff.STOTTE.NOFO.V2'!$N$423)","v":0.827067}]
[null,null,null,null,null,null,null,null,null,null,null,null,null,null,null,null,null,null,null,null,null,null,null,null,null,null,null,null,null,null,null,null,null,null,null,null,null,null,null,null,null,null,19,null,{"$f":"('Op.Eff.STOTTE.NOFO.V2'!$O$447+'Op.Eff.STOTTE.NOFO.V2'!$D$447+'Op.Eff.STOTTE.NOFO.V2'!$E$447)","v":0.88773199999999997},{"$f":"('Op.Eff.STOTTE.NOFO.V2'!$F$447+'Op.Eff.STOTTE.NOFO.V2'!$G$447+'Op.Eff.STOTTE.NOFO.V2'!$H$447)","v":0.94159800000000005},{"$f":"('Op.Eff.STOTTE.NOFO.V2'!$I$447+'Op.Eff.STOTTE.NOFO.V2'!$J$447+'Op.Eff.STOTTE.NOFO.V2'!$K$447)","v":0.99760099999999996},{"$f":"('Op.Eff.STOTTE.NOFO.V2'!$L$447+'Op.Eff.STOTTE.NOFO.V2'!$M$447+'Op.Eff.STOTTE.NOFO.V2'!$N$447)","v":0.95239999999999991}]
[null,null,null,null,null,null,null,null,null,null,null,null,null,null,null,null,null,null,null,null,null,null,null,null,null,null,null,null,null,null,null,null,null,null,null,null,null,null,null,null,null,null,20,null,{"$f":"('Op.Eff.STOTTE.NOFO.V2'!$O$471+'Op.Eff.STOTTE.NOFO.V2'!$D$471+'Op.Eff.STOTTE.NOFO.V2'!$E$471)","v":0.95620000000000005},{"$f":"('Op.Eff.STOTTE.NOFO.V2'!$F$471+'Op.Eff.STOTTE.NOFO.V2'!$G$471+'Op.Eff.STOTTE.NOFO.V2'!$H$471)","v":0.97939999999999994},{"$f":"('Op.Eff.STOTTE.NOFO.V2'!$I$471+'Op.Eff.STOTTE.NOFO.V2'!$J$471+'Op.Eff.STOTTE.NOFO.V2'!$K$471)","v":0.99619999999999997},{"$f":"('Op.Eff.STOTTE.NOFO.V2'!$L$471+'Op.Eff.STOTTE.NOFO.V2'!$M$471+'Op.Eff.STOTTE.NOFO.V2'!$N$471)","v":0.97259999999999991}]
[null,null,null,null,null,null,null,null,null,null,null,null,null,null,null,null,null,null,null,null,null,null,null,null,null,null,null,null,null,null,null,null,null,null,null,null,null,null,null,null,null,null,21,null,{"$f":"('Op.Eff.STOTTE.NOFO.V2'!$O$495+'Op.Eff.STOTTE.NOFO.V2'!$D$495+'Op.Eff.STOTTE.NOFO.V2'!$E$495)","v":0.94676599999999989},{"$f":"('Op.Eff.STOTTE.NOFO.V2'!$F$495+'Op.Eff.STOTTE.NOFO.V2'!$G$495+'Op.Eff.STOTTE.NOFO.V2'!$H$495)","v":0.97543400000000002},{"$f":"('Op.Eff.STOTTE.NOFO.V2'!$I$495+'Op.Eff.STOTTE.NOFO.V2'!$J$495+'Op.Eff.STOTTE.NOFO.V2'!$K$495)","v":0.996201},{"$f":"('Op.Eff.STOTTE.NOFO.V2'!$L$495+'Op.Eff.STOTTE.NOFO.V2'!$M$495+'Op.Eff.STOTTE.NOFO.V2'!$N$495)","v":0.96980100000000002}]
[null,null,null,null,null,null,null,null,null,null,null,null,null,null,null,null,null,null,null,null,null,null,null,null,null,null,null,null,null,null,null,null,null,null,null,null,null,null,null,null,null,null,22,null,{"$f":"('Op.Eff.STOTTE.NOFO.V2'!$O$519+'Op.Eff.STOTTE.NOFO.V2'!$D$519+'Op.Eff.STOTTE.NOFO.V2'!$E$519)","v":0.85616599999999998},{"$f":"('Op.Eff.STOTTE.NOFO.V2'!$F$519+'Op.Eff.STOTTE.NOFO.V2'!$G$519+'Op.Eff.STOTTE.NOFO.V2'!$H$519)","v":0.91833399999999998},{"$f":"('Op.Eff.STOTTE.NOFO.V2'!$I$519+'Op.Eff.STOTTE.NOFO.V2'!$J$519+'Op.Eff.STOTTE.NOFO.V2'!$K$519)","v":0.99260000000000015},{"$f":"('Op.Eff.STOTTE.NOFO.V2'!$L$519+'Op.Eff.STOTTE.NOFO.V2'!$M$519+'Op.Eff.STOTTE.NOFO.V2'!$N$519)","v":0.93460100000000002}]
[null,null,null,null,null,null,null,null,null,null,null,null,null,null,null,null,null,null,null,null,null,null,null,null,null,null,null,null,null,null,null,null,null,null,null,null,null,null,null,null,null,null,23,null,{"$f":"('Op.Eff.STOTTE.NOFO.V2'!$O$543+'Op.Eff.STOTTE.NOFO.V2'!$D$543+'Op.Eff.STOTTE.NOFO.V2'!$E$543)","v":0.7539340000000001},{"$f":"('Op.Eff.STOTTE.NOFO.V2'!$F$543+'Op.Eff.STOTTE.NOFO.V2'!$G$543+'Op.Eff.STOTTE.NOFO.V2'!$H$543)","v":0.89426700000000015},{"$f":"('Op.Eff.STOTTE.NOFO.V2'!$I$543+'Op.Eff.STOTTE.NOFO.V2'!$J$543+'Op.Eff.STOTTE.NOFO.V2'!$K$543)","v":0.99070099999999994},{"$f":"('Op.Eff.STOTTE.NOFO.V2'!$L$543+'Op.Eff.STOTTE.NOFO.V2'!$M$543+'Op.Eff.STOTTE.NOFO.V2'!$N$543)","v":0.88943300000000003}]
[null,null,null,null,null,null,null,null,null,null,null,null,null,null,null,null,null,null,null,null,null,null,null,null,null,null,null,null,null,null,null,null,null,null,null,null,null,null,null,null,null,null,24,null,{"$f":"('Op.Eff.STOTTE.NOFO.V2'!$O$567+'Op.Eff.STOTTE.NOFO.V2'!$D$567+'Op.Eff.STOTTE.NOFO.V2'!$E$567)","v":0.81206700000000009},{"$f":"('Op.Eff.STOTTE.NOFO.V2'!$F$567+'Op.Eff.STOTTE.NOFO.V2'!$G$567+'Op.Eff.STOTTE.NOFO.V2'!$H$567)","v":0.90960099999999999},{"$f":"('Op.Eff.STOTTE.NOFO.V2'!$I$567+'Op.Eff.STOTTE.NOFO.V2'!$J$567+'Op.Eff.STOTTE.NOFO.V2'!$K$567)","v":0.98986600000000013},{"$f":"('Op.Eff.STOTTE.NOFO.V2'!$L$567+'Op.Eff.STOTTE.NOFO.V2'!$M$567+'Op.Eff.STOTTE.NOFO.V2'!$N$567)","v":0.91829900000000009}]
[null,null,null,null,null,null,null,null,null,null,null,null,null,null,null,null,null,null,null,null,null,null,null,null,null,null,null,null,null,null,null,null,null,null,null,null,null,null,null,null,null,null,25,null,{"$f":"('Op.Eff.STOTTE.NOFO.V2'!$O$591+'Op.Eff.STOTTE.NOFO.V2'!$D$591+'Op.Eff.STOTTE.NOFO.V2'!$E$591)","v":0.76806599999999992},{"$f":"('Op.Eff.STOTTE.NOFO.V2'!$F$591+'Op.Eff.STOTTE.NOFO.V2'!$G$591+'Op.Eff.STOTTE.NOFO.V2'!$H$591)","v":0.90746800000000005},{"$f":"('Op.Eff.STOTTE.NOFO.V2'!$I$591+'Op.Eff.STOTTE.NOFO.V2'!$J$591+'Op.Eff.STOTTE.NOFO.V2'!$K$591)","v":0.98796700000000004},{"$f":"('Op.Eff.STOTTE.NOFO.V2'!$L$591+'Op.Eff.STOTTE.NOFO.V2'!$M$591+'Op.Eff.STOTTE.NOFO.V2'!$N$591)","v":0.89159999999999995}]
[null,null,null,null,null,null,null,null,null,null,null,null,null,null,null,null,null,null,null,null,null,null,null,null,null,null,null,null,null,null,null,null,null,null,null,null,null,null,null,null,null,null,26,null,{"$f":"('Op.Eff.STOTTE.NOFO.V2'!$O$615+'Op.Eff.STOTTE.NOFO.V2'!$D$615+'Op.Eff.STOTTE.NOFO.V2'!$E$615)","v":0.78620100000000004},{"$f":"('Op.Eff.STOTTE.NOFO.V2'!$F$615+'Op.Eff.STOTTE.NOFO.V2'!$G$615+'Op.Eff.STOTTE.NOFO.V2'!$H$615)","v":0.91236800000000007},{"$f":"('Op.Eff.STOTTE.NOFO.V2'!$I$615+'Op.Eff.STOTTE.NOFO.V2'!$J$615+'Op.Eff.STOTTE.NOFO.V2'!$K$615)","v":0.98876600000000003},{"$f":"('Op.Eff.STOTTE.NOFO.V2'!$L$615+'Op.Eff.STOTTE.NOFO.V2'!$M$615+'Op.Eff.STOTTE.NOFO.V2'!$N$615)","v":0.9017329999999999}]
[null,null,null,null,null,null,null,null,null,null,null,null,null,null,null,null,null,null,null,null,null,null,null,null,null,null,null,null,null,null,null,null,null,null,null,null,null,null,null,null,null,null,27,null,{"$f":"('Op.Eff.STOTTE.NOFO.V2'!$O$639+'Op.Eff.STOTTE.NOFO.V2'!$D$639+'Op.Eff.STOTTE.NOFO.V2'!$E$639)","v":0.69953300000000007},{"$f":"('Op.Eff.STOTTE.NOFO.V2'!$F$639+'Op.Eff.STOTTE.NOFO.V2'!$G$639+'Op.Eff.STOTTE.NOFO.V2'!$H$639)","v":0.89256599999999997},{"$f":"('Op.Eff.STOTTE.NOFO.V2'!$I$639+'Op.Eff.STOTTE.NOFO.V2'!$J$639+'Op.Eff.STOTTE.NOFO.V2'!$K$639)","v":0.99176700000000007},{"$f":"('Op.Eff.STOTTE.NOFO.V2'!$L$639+'Op.Eff.STOTTE.NOFO.V2'!$M$639+'Op.Eff.STOTTE.NOFO.V2'!$N$639)","v":0.86050000000000004}]
[]
[null,null,null,null,null,null,null,null,null,null,null,null,null,null,null,null,null,null,null,null,null,null,null,null,null,null,null,null,null,null,null,null,null,null,null,null,null,null,null,null,null,null,"Op.Eff.STOTTE.KYSTVAKT.V2!",null,null,"ANDEL AV TIDEN HVOR BØLGEFORHOLDENE TILLATER OPERASJON"]
[null,null,null,null,null,null,null,null,null,null,null,null,null,null,null,null,null,null,null,null,null,null,null,null,null,null,null,null,null,null,null,null,null,null,null,null,null,null,null,null,null,null,"Velg st."]
[null,null,null,null,null,null,null,null,null,null,null,null,null,null,null,null,null,null,null,null,null,null,null,null,null,null,null,null,null,null,null,null,null,null,null,null,null,null,null,null,null,null,1,null,{"$f":"('Op.Eff.STOTTE.KYSTVAKT.V2'!$O$15+'Op.Eff.STOTTE.KYSTVAKT.V2'!$D$15+'Op.Eff.STOTTE.KYSTVAKT.V2'!$E$15)","v":0.48656700000000003},{"$f":"('Op.Eff.STOTTE.KYSTVAKT.V2'!$F$15+'Op.Eff.STOTTE.KYSTVAKT.V2'!$G$15+'Op.Eff.STOTTE.KYSTVAKT.V2'!$H$15)","v":0.78993399999999991},{"$f":"('Op.Eff.STOTTE.KYSTVAKT.V2'!$I$15+'Op.Eff.STOTTE.KYSTVAKT.V2'!$J$15+'Op.Eff.STOTTE.KYSTVAKT.V2'!$K$15)","v":0.91209999999999991},{"$f":"('Op.Eff.STOTTE.KYSTVAKT.V2'!$L$15+'Op.Eff.STOTTE.KYSTVAKT.V2'!$M$15+'Op.Eff.STOTTE.KYSTVAKT.V2'!$N$15)","v":0.63093399999999999}]
[null,null,null,null,null,null,null,null,null,null,null,null,null,null,null,null,null,null,null,null,null,null,null,null,null,null,null,null,null,null,null,null,null,null,null,null,null,null,null,null,null,null,2,null,{"$f":"('Op.Eff.STOTTE.KYSTVAKT.V2'!$O$39+'Op.Eff.STOTTE.KYSTVAKT.V2'!$D$39+'Op.Eff.STOTTE.KYSTVAKT.V2'!$E$39)","v":0.71440100000000006},{"$f":"('Op.Eff.STOTTE.KYSTVAKT.V2'!$F$39+'Op.Eff.STOTTE.KYSTVAKT.V2'!$G$39+'Op.Eff.STOTTE.KYSTVAKT.V2'!$H$39)","v":0.9272999999999999},{"$f":"('Op.Eff.STOTTE.KYSTVAKT.V2'!$I$39+'Op.Eff.STOTTE.KYSTVAKT.V2'!$J$39+'Op.Eff.STOTTE.KYSTVAKT.V2'!$K$39)","v":0.97200000000000009},{"$f":"('Op.Eff.STOTTE.KYSTVAKT.V2'!$L$39+'Op.Eff.STOTTE.KYSTVAKT.V2'!$M$39+'Op.Eff.STOTTE.KYSTVAKT.V2'!$N$39)","v":0.82736699999999996}]
[null,null,null,null,null,null,null,null,null,null,null,null,null,null,null,null,null,null,null,null,null,null,null,null,null,null,null,null,null,null,null,null,null,null,null,null,null,null,null,null,null,null,3,null,{"$f":"('Op.Eff.STOTTE.KYSTVAKT.V2'!$O$63+'Op.Eff.STOTTE.KYSTVAKT.V2'!$D$63+'Op.Eff.STOTTE.KYSTVAKT.V2'!$E$63)","v":0.33613400000000004},{"$f":"('Op.Eff.STOTTE.KYSTVAKT.V2'!$F$63+'Op.Eff.STOTTE.KYSTVAKT.V2'!$G$63+'Op.Eff.STOTTE.KYSTVAKT.V2'!$H$63)","v":0.67833300000000007},{"$f":"('Op.Eff.STOTTE.KYSTVAKT.V2'!$I$63+'Op.Eff.STOTTE.KYSTVAKT.V2'!$J$63+'Op.Eff.STOTTE.KYSTVAKT.V2'!$K$63)","v":0.88886599999999993},{"$f":"('Op.Eff.STOTTE.KYSTVAKT.V2'!$L$63+'Op.Eff.STOTTE.KYSTVAKT.V2'!$M$63+'Op.Eff.STOTTE.KYSTVAKT.V2'!$N$63)","v":0.52190100000000006}]
[null,null,null,null,null,null,null,null,null,null,null,null,null,null,null,null,null,null,null,null,null,null,null,null,null,null,null,null,null,null,null,null,null,null,null,null,null,null,null,null,null,null,4,null,{"$f":"('Op.Eff.STOTTE.KYSTVAKT.V2'!$O$87+'Op.Eff.STOTTE.KYSTVAKT.V2'!$D$87+'Op.Eff.STOTTE.KYSTVAKT.V2'!$E$87)","v":0.51293300000000008},{"$f":"('Op.Eff.STOTTE.KYSTVAKT.V2'!$F$87+'Op.Eff.STOTTE.KYSTVAKT.V2'!$G$87+'Op.Eff.STOTTE.KYSTVAKT.V2'!$H$87)","v":0.80579999999999996},{"$f":"('Op.Eff.STOTTE.KYSTVAKT.V2'!$I$87+'Op.Eff.STOTTE.KYSTVAKT.V2'!$J$87+'Op.Eff.STOTTE.KYSTVAKT.V2'!$K$87)","v":0.92949999999999999},{"$f":"('Op.Eff.STOTTE.KYSTVAKT.V2'!$L$87+'Op.Eff.STOTTE.KYSTVAKT.V2'!$M$87+'Op.Eff.STOTTE.KYSTVAKT.V2'!$N$87)","v":0.64829999999999999}]
[null,null,null,null,null,null,null,null,null,null,null,null,null,null,null,null,null,null,null,null,null,null,null,null,null,null,null,null,null,null,null,null,null,null,null,null,null,null,null,null,null,null,5,null,{"$f":"('Op.Eff.STOTTE.KYSTVAKT.V2'!$O$111+'Op.Eff.STOTTE.KYSTVAKT.V2'!$D$111+'Op.Eff.STOTTE.KYSTVAKT.V2'!$E$11)","v":5.1899999999999995E-2},{"$f":"('Op.Eff.STOTTE.KYSTVAKT.V2'!$F$111+'Op.Eff.STOTTE.KYSTVAKT.V2'!$G$111+'Op.Eff.STOTTE.KYSTVAKT.V2'!$H$11)","v":0.16153400000000001},{"$f":"('Op.Eff.STOTTE.KYSTVAKT.V2'!$I$111+'Op.Eff.STOTTE.KYSTVAKT.V2'!$J$111+'Op.Eff.STOTTE.KYSTVAKT.V2'!$K$11)","v":0.32373299999999999},{"$f":"('Op.Eff.STOTTE.KYSTVAKT.V2'!$L$111+'Op.Eff.STOTTE.KYSTVAKT.V2'!$M$111+'Op.Eff.STOTTE.KYSTVAKT.V2'!$N$11)","v":0.1052}]
[null,null,null,null,null,null,null,null,null,null,null,null,null,null,null,null,null,null,null,null,null,null,null,null,null,null,null,null,null,null,null,null,null,null,null,null,null,null,null,null,null,null,6,null,{"$f":"('Op.Eff.STOTTE.KYSTVAKT.V2'!$O$135+'Op.Eff.STOTTE.KYSTVAKT.V2'!$D$135+'Op.Eff.STOTTE.KYSTVAKT.V2'!$E$135)","v":0.58783200000000002},{"$f":"('Op.Eff.STOTTE.KYSTVAKT.V2'!$F$135+'Op.Eff.STOTTE.KYSTVAKT.V2'!$G$135+'Op.Eff.STOTTE.KYSTVAKT.V2'!$H$135)","v":0.82829999999999993},{"$f":"('Op.Eff.STOTTE.KYSTVAKT.V2'!$I$135+'Op.Eff.STOTTE.KYSTVAKT.V2'!$J$135+'Op.Eff.STOTTE.KYSTVAKT.V2'!$K$135)","v":0.94956700000000005},{"$f":"('Op.Eff.STOTTE.KYSTVAKT.V2'!$L$135+'Op.Eff.STOTTE.KYSTVAKT.V2'!$M$135+'Op.Eff.STOTTE.KYSTVAKT.V2'!$N$135)","v":0.72163400000000011}]
[null,null,null,null,null,null,null,null,null,null,null,null,null,null,null,null,null,null,null,null,null,null,null,null,null,null,null,null,null,null,null,null,null,null,null,null,null,null,null,null,null,null,7,null,{"$f":"('Op.Eff.STOTTE.KYSTVAKT.V2'!$O$159+'Op.Eff.STOTTE.KYSTVAKT.V2'!$D$159+'Op.Eff.STOTTE.KYSTVAKT.V2'!$E$159)","v":0.29766600000000004},{"$f":"('Op.Eff.STOTTE.KYSTVAKT.V2'!$F$159+'Op.Eff.STOTTE.KYSTVAKT.V2'!$G$159+'Op.Eff.STOTTE.KYSTVAKT.V2'!$H$159)","v":0.63656599999999997},{"$f":"('Op.Eff.STOTTE.KYSTVAKT.V2'!$I$159+'Op.Eff.STOTTE.KYSTVAKT.V2'!$J$159+'Op.Eff.STOTTE.KYSTVAKT.V2'!$K$159)","v":0.86906600000000001},{"$f":"('Op.Eff.STOTTE.KYSTVAKT.V2'!$L$159+'Op.Eff.STOTTE.KYSTVAKT.V2'!$M$159+'Op.Eff.STOTTE.KYSTVAKT.V2'!$N$159)","v":0.46866700000000006}]
[null,null,null,null,null,null,null,null,null,null,null,null,null,null,null,null,null,null,null,null,null,null,null,null,null,null,null,null,null,null,null,null,null,null,null,null,null,null,null,null,null,null,8,null,{"$f":"('Op.Eff.STOTTE.KYSTVAKT.V2'!$O$183+'Op.Eff.STOTTE.KYSTVAKT.V2'!$D$183+'Op.Eff.STOTTE.KYSTVAKT.V2'!$E$183)","v":0.31193300000000002},{"$f":"('Op.Eff.STOTTE.KYSTVAKT.V2'!$F$183+'Op.Eff.STOTTE.KYSTVAKT.V2'!$G$183+'Op.Eff.STOTTE.KYSTVAKT.V2'!$H$183)","v":0.64239899999999994},{"$f":"('Op.Eff.STOTTE.KYSTVAKT.V2'!$I$183+'Op.Eff.STOTTE.KYSTVAKT.V2'!$J$183+'Op.Eff.STOTTE.KYSTVAKT.V2'!$K$183)","v":0.86183299999999996},{"$f":"('Op.Eff.STOTTE.KYSTVAKT.V2'!$L$183+'Op.Eff.STOTTE.KYSTVAKT.V2'!$M$183+'Op.Eff.STOTTE.KYSTVAKT.V2'!$N$183)","v":0.48123399999999994}]
[null,null,null,null,null,null,null,null,null,null,null,null,null,null,null,null,null,null,null,null,null,null,null,null,null,null,null,null,null,null,null,null,null,null,null,null,null,null,null,null,null,null,9,null,{"$f":"('Op.Eff.STOTTE.KYSTVAKT.V2'!$O$207+'Op.Eff.STOTTE.KYSTVAKT.V2'!$D$207+'Op.Eff.STOTTE.KYSTVAKT.V2'!$E$207)","v":0.31319999999999998},{"$f":"('Op.Eff.STOTTE.KYSTVAKT.V2'!$F$207+'Op.Eff.STOTTE.KYSTVAKT.V2'!$G$207+'Op.Eff.STOTTE.KYSTVAKT.V2'!$H$207)","v":0.63259899999999991},{"$f":"('Op.Eff.STOTTE.KYSTVAKT.V2'!$I$207+'Op.Eff.STOTTE.KYSTVAKT.V2'!$J$207+'Op.Eff.STOTTE.KYSTVAKT.V2'!$K$207)","v":0.86173299999999986},{"$f":"('Op.Eff.STOTTE.KYSTVAKT.V2'!$L$207+'Op.Eff.STOTTE.KYSTVAKT.V2'!$M$207+'Op.Eff.STOTTE.KYSTVAKT.V2'!$N$207)","v":0.48600100000000002}]
[null,null,null,null,null,null,null,null,null,null,null,null,null,null,null,null,null,null,null,null,null,null,null,null,null,null,null,null,null,null,null,null,null,null,null,null,null,null,null,null,null,null,10,null,{"$f":"('Op.Eff.STOTTE.KYSTVAKT.V2'!$O$231+'Op.Eff.STOTTE.KYSTVAKT.V2'!$D$231+'Op.Eff.STOTTE.KYSTVAKT.V2'!$E$231)","v":0.25330000000000003},{"$f":"('Op.Eff.STOTTE.KYSTVAKT.V2'!$F$231+'Op.Eff.STOTTE.KYSTVAKT.V2'!$G$231+'Op.Eff.STOTTE.KYSTVAKT.V2'!$H$231)","v":0.58016599999999996},{"$f":"('Op.Eff.STOTTE.KYSTVAKT.V2'!$I$231+'Op.Eff.STOTTE.KYSTVAKT.V2'!$J$231+'Op.Eff.STOTTE.KYSTVAKT.V2'!$K$231)","v":0.84309999999999985},{"$f":"('Op.Eff.STOTTE.KYSTVAKT.V2'!$L$231+'Op.Eff.STOTTE.KYSTVAKT.V2'!$M$231+'Op.Eff.STOTTE.KYSTVAKT.V2'!$N$231)","v":0.43846699999999994}]
[null,null,null,null,null,null,null,null,null,null,null,null,null,null,null,null,null,null,null,null,null,null,null,null,null,null,null,null,null,null,null,null,null,null,null,null,null,null,null,null,null,null,11,null,{"$f":"('Op.Eff.STOTTE.KYSTVAKT.V2'!$O$255+'Op.Eff.STOTTE.KYSTVAKT.V2'!$D$255+'Op.Eff.STOTTE.KYSTVAKT.V2'!$E$255)","v":0.31130000000000002},{"$f":"('Op.Eff.STOTTE.KYSTVAKT.V2'!$F$255+'Op.Eff.STOTTE.KYSTVAKT.V2'!$G$255+'Op.Eff.STOTTE.KYSTVAKT.V2'!$H$255)","v":0.62006600000000001},{"$f":"('Op.Eff.STOTTE.KYSTVAKT.V2'!$I$255+'Op.Eff.STOTTE.KYSTVAKT.V2'!$J$255+'Op.Eff.STOTTE.KYSTVAKT.V2'!$K$255)","v":0.85620000000000007},{"$f":"('Op.Eff.STOTTE.KYSTVAKT.V2'!$L$255+'Op.Eff.STOTTE.KYSTVAKT.V2'!$M$255+'Op.Eff.STOTTE.KYSTVAKT.V2'!$N$255)","v":0.49499899999999997}]
[null,null,null,null,null,null,null,null,null,null,null,null,null,null,null,null,null,null,null,null,null,null,null,null,null,null,null,null,null,null,null,null,null,null,null,null,null,null,null,null,null,null,12,null,{"$f":"('Op.Eff.STOTTE.KYSTVAKT.V2'!$O$279+'Op.Eff.STOTTE.KYSTVAKT.V2'!$D$279+'Op.Eff.STOTTE.KYSTVAKT.V2'!$E$279)","v":0.50156699999999999},{"$f":"('Op.Eff.STOTTE.KYSTVAKT.V2'!$F$279+'Op.Eff.STOTTE.KYSTVAKT.V2'!$G$279+'Op.Eff.STOTTE.KYSTVAKT.V2'!$H$279)","v":0.76606700000000005},{"$f":"('Op.Eff.STOTTE.KYSTVAKT.V2'!$I$279+'Op.Eff.STOTTE.KYSTVAKT.V2'!$J$279+'Op.Eff.STOTTE.KYSTVAKT.V2'!$K$279)","v":0.9450329999999999},{"$f":"('Op.Eff.STOTTE.KYSTVAKT.V2'!$L$279+'Op.Eff.STOTTE.KYSTVAKT.V2'!$M$279+'Op.Eff.STOTTE.KYSTVAKT.V2'!$N$279)","v":0.674566}]
[null,null,null,null,null,null,null,null,null,null,null,null,null,null,null,null,null,null,null,null,null,null,null,null,null,null,null,null,null,null,null,null,null,null,null,null,null,null,null,null,null,null,13,null,{"$f":"('Op.Eff.STOTTE.KYSTVAKT.V2'!$O$303+'Op.Eff.STOTTE.KYSTVAKT.V2'!$D$303+'Op.Eff.STOTTE.KYSTVAKT.V2'!$E$303)","v":0.20533299999999999},{"$f":"('Op.Eff.STOTTE.KYSTVAKT.V2'!$F$303+'Op.Eff.STOTTE.KYSTVAKT.V2'!$G$303+'Op.Eff.STOTTE.KYSTVAKT.V2'!$H$303)","v":0.52506600000000003},{"$f":"('Op.Eff.STOTTE.KYSTVAKT.V2'!$I$303+'Op.Eff.STOTTE.KYSTVAKT.V2'!$J$303+'Op.Eff.STOTTE.KYSTVAKT.V2'!$K$303)","v":0.82289999999999996},{"$f":"('Op.Eff.STOTTE.KYSTVAKT.V2'!$L$303+'Op.Eff.STOTTE.KYSTVAKT.V2'!$M$303+'Op.Eff.STOTTE.KYSTVAKT.V2'!$N$303)","v":0.39739999999999998}]
[null,null,null,null,null,null,null,null,null,null,null,null,null,null,null,null,null,null,null,null,null,null,null,null,null,null,null,null,null,null,null,null,null,null,null,null,null,null,null,null,null,null,14,null,{"$f":"('Op.Eff.STOTTE.KYSTVAKT.V2'!$O$327+'Op.Eff.STOTTE.KYSTVAKT.V2'!$D$327+'Op.Eff.STOTTE.KYSTVAKT.V2'!$E$327)","v":0.43793300000000002},{"$f":"('Op.Eff.STOTTE.KYSTVAKT.V2'!$F$327+'Op.Eff.STOTTE.KYSTVAKT.V2'!$G$327+'Op.Eff.STOTTE.KYSTVAKT.V2'!$H$327)","v":0.70506699999999989},{"$f":"('Op.Eff.STOTTE.KYSTVAKT.V2'!$I$327+'Op.Eff.STOTTE.KYSTVAKT.V2'!$J$327+'Op.Eff.STOTTE.KYSTVAKT.V2'!$K$327)","v":0.93933300000000008},{"$f":"('Op.Eff.STOTTE.KYSTVAKT.V2'!$L$327+'Op.Eff.STOTTE.KYSTVAKT.V2'!$M$327+'Op.Eff.STOTTE.KYSTVAKT.V2'!$N$327)","v":0.63370000000000004}]
[null,null,null,null,null,null,null,null,null,null,null,null,null,null,null,null,null,null,null,null,null,null,null,null,null,null,null,null,null,null,null,null,null,null,null,null,null,null,null,null,null,null,15,null,{"$f":"('Op.Eff.STOTTE.KYSTVAKT.V2'!$O$351+'Op.Eff.STOTTE.KYSTVAKT.V2'!$D$351+'Op.Eff.STOTTE.KYSTVAKT.V2'!$E$351)","v":0.23596600000000001},{"$f":"('Op.Eff.STOTTE.KYSTVAKT.V2'!$F$351+'Op.Eff.STOTTE.KYSTVAKT.V2'!$G$351+'Op.Eff.STOTTE.KYSTVAKT.V2'!$H$351)","v":0.54206599999999994},{"$f":"('Op.Eff.STOTTE.KYSTVAKT.V2'!$I$351+'Op.Eff.STOTTE.KYSTVAKT.V2'!$J$351+'Op.Eff.STOTTE.KYSTVAKT.V2'!$K$351)","v":0.85476699999999994},{"$f":"('Op.Eff.STOTTE.KYSTVAKT.V2'!$L$351+'Op.Eff.STOTTE.KYSTVAKT.V2'!$M$351+'Op.Eff.STOTTE.KYSTVAKT.V2'!$N$351)","v":0.44606699999999999}]
[null,null,null,null,null,null,null,null,null,null,null,null,null,null,null,null,null,null,null,null,null,null,null,null,null,null,null,null,null,null,null,null,null,null,null,null,null,null,null,null,null,null,16,null,{"$f":"('Op.Eff.STOTTE.KYSTVAKT.V2'!$O$375+'Op.Eff.STOTTE.KYSTVAKT.V2'!$D$375+'Op.Eff.STOTTE.KYSTVAKT.V2'!$E$375)","v":0.27720100000000003},{"$f":"('Op.Eff.STOTTE.KYSTVAKT.V2'!$F$375+'Op.Eff.STOTTE.KYSTVAKT.V2'!$G$375+'Op.Eff.STOTTE.KYSTVAKT.V2'!$H$375)","v":0.58030000000000004},{"$f":"('Op.Eff.STOTTE.KYSTVAKT.V2'!$I$375+'Op.Eff.STOTTE.KYSTVAKT.V2'!$J$375+'Op.Eff.STOTTE.KYSTVAKT.V2'!$K$375)","v":0.88253400000000004},{"$f":"('Op.Eff.STOTTE.KYSTVAKT.V2'!$L$375+'Op.Eff.STOTTE.KYSTVAKT.V2'!$M$375+'Op.Eff.STOTTE.KYSTVAKT.V2'!$N$375)","v":0.50819999999999999}]
[null,null,null,null,null,null,null,null,null,null,null,null,null,null,null,null,null,null,null,null,null,null,null,null,null,null,null,null,null,null,null,null,null,null,null,null,null,null,null,null,null,null,17,null,{"$f":"('Op.Eff.STOTTE.KYSTVAKT.V2'!$O$399+'Op.Eff.STOTTE.KYSTVAKT.V2'!$D$399+'Op.Eff.STOTTE.KYSTVAKT.V2'!$E$399)","v":0.231933},{"$f":"('Op.Eff.STOTTE.KYSTVAKT.V2'!$F$399+'Op.Eff.STOTTE.KYSTVAKT.V2'!$G$399+'Op.Eff.STOTTE.KYSTVAKT.V2'!$H$399)","v":0.53623299999999996},{"$f":"('Op.Eff.STOTTE.KYSTVAKT.V2'!$I$399+'Op.Eff.STOTTE.KYSTVAKT.V2'!$J$399+'Op.Eff.STOTTE.KYSTVAKT.V2'!$K$399)","v":0.87010100000000001},{"$f":"('Op.Eff.STOTTE.KYSTVAKT.V2'!$L$399+'Op.Eff.STOTTE.KYSTVAKT.V2'!$M$399+'Op.Eff.STOTTE.KYSTVAKT.V2'!$N$399)","v":0.45746600000000004}]
[null,null,null,null,null,null,null,null,null,null,null,null,null,null,null,null,null,null,null,null,null,null,null,null,null,null,null,null,null,null,null,null,null,null,null,null,null,null,null,null,null,null,18,null,{"$f":"('Op.Eff.STOTTE.KYSTVAKT.V2'!$O$423+'Op.Eff.STOTTE.KYSTVAKT.V2'!$D$423+'Op.Eff.STOTTE.KYSTVAKT.V2'!$E$423)","v":0.26156800000000002},{"$f":"('Op.Eff.STOTTE.KYSTVAKT.V2'!$F$423+'Op.Eff.STOTTE.KYSTVAKT.V2'!$G$423+'Op.Eff.STOTTE.KYSTVAKT.V2'!$H$423)","v":0.56083399999999994},{"$f":"('Op.Eff.STOTTE.KYSTVAKT.V2'!$I$423+'Op.Eff.STOTTE.KYSTVAKT.V2'!$J$423+'Op.Eff.STOTTE.KYSTVAKT.V2'!$K$423)","v":0.87229900000000016},{"$f":"('Op.Eff.STOTTE.KYSTVAKT.V2'!$L$423+'Op.Eff.STOTTE.KYSTVAKT.V2'!$M$423+'Op.Eff.STOTTE.KYSTVAKT.V2'!$N$423)","v":0.494834}]
[null,null,null,null,null,null,null,null,null,null,null,null,null,null,null,null,null,null,null,null,null,null,null,null,null,null,null,null,null,null,null,null,null,null,null,null,null,null,null,null,null,null,19,null,{"$f":"('Op.Eff.STOTTE.KYSTVAKT.V2'!$O$447+'Op.Eff.STOTTE.KYSTVAKT.V2'!$D$447+'Op.Eff.STOTTE.KYSTVAKT.V2'!$E$447)","v":0.62756599999999996},{"$f":"('Op.Eff.STOTTE.KYSTVAKT.V2'!$F$447+'Op.Eff.STOTTE.KYSTVAKT.V2'!$G$447+'Op.Eff.STOTTE.KYSTVAKT.V2'!$H$447)","v":0.76959900000000014},{"$f":"('Op.Eff.STOTTE.KYSTVAKT.V2'!$I$447+'Op.Eff.STOTTE.KYSTVAKT.V2'!$J$447+'Op.Eff.STOTTE.KYSTVAKT.V2'!$K$447)","v":0.96266699999999994},{"$f":"('Op.Eff.STOTTE.KYSTVAKT.V2'!$L$447+'Op.Eff.STOTTE.KYSTVAKT.V2'!$M$447+'Op.Eff.STOTTE.KYSTVAKT.V2'!$N$447)","v":0.77749999999999986}]
[null,null,null,null,null,null,null,null,null,null,null,null,null,null,null,null,null,null,null,null,null,null,null,null,null,null,null,null,null,null,null,null,null,null,null,null,null,null,null,null,null,null,20,null,{"$f":"('Op.Eff.STOTTE.KYSTVAKT.V2'!$O$471+'Op.Eff.STOTTE.KYSTVAKT.V2'!$D$471+'Op.Eff.STOTTE.KYSTVAKT.V2'!$E$471)","v":0.81843299999999997},{"$f":"('Op.Eff.STOTTE.KYSTVAKT.V2'!$F$471+'Op.Eff.STOTTE.KYSTVAKT.V2'!$G$471+'Op.Eff.STOTTE.KYSTVAKT.V2'!$H$471)","v":0.87680000000000002},{"$f":"('Op.Eff.STOTTE.KYSTVAKT.V2'!$I$471+'Op.Eff.STOTTE.KYSTVAKT.V2'!$J$471+'Op.Eff.STOTTE.KYSTVAKT.V2'!$K$471)","v":0.95530000000000004},{"$f":"('Op.Eff.STOTTE.KYSTVAKT.V2'!$L$471+'Op.Eff.STOTTE.KYSTVAKT.V2'!$M$471+'Op.Eff.STOTTE.KYSTVAKT.V2'!$N$471)","v":0.86339999999999995}]
[null,null,null,null,null,null,null,null,null,null,null,null,null,null,null,null,null,null,null,null,null,null,null,null,null,null,null,null,null,null,null,null,null,null,null,null,null,null,null,null,null,null,21,null,{"$f":"('Op.Eff.STOTTE.KYSTVAKT.V2'!$O$495+'Op.Eff.STOTTE.KYSTVAKT.V2'!$D$495+'Op.Eff.STOTTE.KYSTVAKT.V2'!$E$495)","v":0.76746599999999998},{"$f":"('Op.Eff.STOTTE.KYSTVAKT.V2'!$F$495+'Op.Eff.STOTTE.KYSTVAKT.V2'!$G$495+'Op.Eff.STOTTE.KYSTVAKT.V2'!$H$495)","v":0.84653400000000001},{"$f":"('Op.Eff.STOTTE.KYSTVAKT.V2'!$I$495+'Op.Eff.STOTTE.KYSTVAKT.V2'!$J$495+'Op.Eff.STOTTE.KYSTVAKT.V2'!$K$495)","v":0.95886700000000002},{"$f":"('Op.Eff.STOTTE.KYSTVAKT.V2'!$L$495+'Op.Eff.STOTTE.KYSTVAKT.V2'!$M$495+'Op.Eff.STOTTE.KYSTVAKT.V2'!$N$495)","v":0.84393399999999996}]
[null,null,null,null,null,null,null,null,null,null,null,null,null,null,null,null,null,null,null,null,null,null,null,null,null,null,null,null,null,null,null,null,null,null,null,null,null,null,null,null,null,null,22,null,{"$f":"('Op.Eff.STOTTE.KYSTVAKT.V2'!$O$519+'Op.Eff.STOTTE.KYSTVAKT.V2'!$D$519+'Op.Eff.STOTTE.KYSTVAKT.V2'!$E$519)","v":0.537466},{"$f":"('Op.Eff.STOTTE.KYSTVAKT.V2'!$F$519+'Op.Eff.STOTTE.KYSTVAKT.V2'!$G$519+'Op.Eff.STOTTE.KYSTVAKT.V2'!$H$519)","v":0.72073300000000007},{"$f":"('Op.Eff.STOTTE.KYSTVAKT.V2'!$I$519+'Op.Eff.STOTTE.KYSTVAKT.V2'!$J$519+'Op.Eff.STOTTE.KYSTVAKT.V2'!$K$519)","v":0.93420000000000003},{"$f":"('Op.Eff.STOTTE.KYSTVAKT.V2'!$L$519+'Op.Eff.STOTTE.KYSTVAKT.V2'!$M$519+'Op.Eff.STOTTE.KYSTVAKT.V2'!$N$519)","v":0.699434}]
[null,null,null,null,null,null,null,null,null,null,null,null,null,null,null,null,null,null,null,null,null,null,null,null,null,null,null,null,null,null,null,null,null,null,null,null,null,null,null,null,null,null,23,null,{"$f":"('Op.Eff.STOTTE.KYSTVAKT.V2'!$O$543+'Op.Eff.STOTTE.KYSTVAKT.V2'!$D$543+'Op.Eff.STOTTE.KYSTVAKT.V2'!$E$543)","v":0.38966699999999999},{"$f":"('Op.Eff.STOTTE.KYSTVAKT.V2'!$F$543+'Op.Eff.STOTTE.KYSTVAKT.V2'!$G$543+'Op.Eff.STOTTE.KYSTVAKT.V2'!$H$543)","v":0.62983300000000009},{"$f":"('Op.Eff.STOTTE.KYSTVAKT.V2'!$I$543+'Op.Eff.STOTTE.KYSTVAKT.V2'!$J$543+'Op.Eff.STOTTE.KYSTVAKT.V2'!$K$543)","v":0.90166699999999989},{"$f":"('Op.Eff.STOTTE.KYSTVAKT.V2'!$L$543+'Op.Eff.STOTTE.KYSTVAKT.V2'!$M$543+'Op.Eff.STOTTE.KYSTVAKT.V2'!$N$543)","v":0.57630000000000003}]
[null,null,null,null,null,null,null,null,null,null,null,null,null,null,null,null,null,null,null,null,null,null,null,null,null,null,null,null,null,null,null,null,null,null,null,null,null,null,null,null,null,null,24,null,{"$f":"('Op.Eff.STOTTE.KYSTVAKT.V2'!$O$567+'Op.Eff.STOTTE.KYSTVAKT.V2'!$D$567+'Op.Eff.STOTTE.KYSTVAKT.V2'!$E$567)","v":0.45236600000000005},{"$f":"('Op.Eff.STOTTE.KYSTVAKT.V2'!$F$567+'Op.Eff.STOTTE.KYSTVAKT.V2'!$G$567+'Op.Eff.STOTTE.KYSTVAKT.V2'!$H$567)","v":0.6729679999999999},{"$f":"('Op.Eff.STOTTE.KYSTVAKT.V2'!$I$567+'Op.Eff.STOTTE.KYSTVAKT.V2'!$J$567+'Op.Eff.STOTTE.KYSTVAKT.V2'!$K$567)","v":0.9161990000000001},{"$f":"('Op.Eff.STOTTE.KYSTVAKT.V2'!$L$567+'Op.Eff.STOTTE.KYSTVAKT.V2'!$M$567+'Op.Eff.STOTTE.KYSTVAKT.V2'!$N$567)","v":0.63023300000000004}]
[null,null,null,null,null,null,null,null,null,null,null,null,null,null,null,null,null,null,null,null,null,null,null,null,null,null,null,null,null,null,null,null,null,null,null,null,null,null,null,null,null,null,25,null,{"$f":"('Op.Eff.STOTTE.KYSTVAKT.V2'!$O$591+'Op.Eff.STOTTE.KYSTVAKT.V2'!$D$591+'Op.Eff.STOTTE.KYSTVAKT.V2'!$E$591)","v":0.38966599999999996},{"$f":"('Op.Eff.STOTTE.KYSTVAKT.V2'!$F$591+'Op.Eff.STOTTE.KYSTVAKT.V2'!$G$591+'Op.Eff.STOTTE.KYSTVAKT.V2'!$H$591)","v":0.64010100000000003},{"$f":"('Op.Eff.STOTTE.KYSTVAKT.V2'!$I$591+'Op.Eff.STOTTE.KYSTVAKT.V2'!$J$591+'Op.Eff.STOTTE.KYSTVAKT.V2'!$K$591)","v":0.90706699999999996},{"$f":"('Op.Eff.STOTTE.KYSTVAKT.V2'!$L$591+'Op.Eff.STOTTE.KYSTVAKT.V2'!$M$591+'Op.Eff.STOTTE.KYSTVAKT.V2'!$N$591)","v":0.58093299999999992}]
[null,null,null,null,null,null,null,null,null,null,null,null,null,null,null,null,null,null,null,null,null,null,null,null,null,null,null,null,null,null,null,null,null,null,null,null,null,null,null,null,null,null,26,null,{"$f":"('Op.Eff.STOTTE.KYSTVAKT.V2'!$O$615+'Op.Eff.STOTTE.KYSTVAKT.V2'!$D$615+'Op.Eff.STOTTE.KYSTVAKT.V2'!$E$615)","v":0.42143400000000003},{"$f":"('Op.Eff.STOTTE.KYSTVAKT.V2'!$F$615+'Op.Eff.STOTTE.KYSTVAKT.V2'!$G$615+'Op.Eff.STOTTE.KYSTVAKT.V2'!$H$615)","v":0.65373400000000004},{"$f":"('Op.Eff.STOTTE.KYSTVAKT.V2'!$I$615+'Op.Eff.STOTTE.KYSTVAKT.V2'!$J$615+'Op.Eff.STOTTE.KYSTVAKT.V2'!$K$615)","v":0.90569900000000003},{"$f":"('Op.Eff.STOTTE.KYSTVAKT.V2'!$L$615+'Op.Eff.STOTTE.KYSTVAKT.V2'!$M$615+'Op.Eff.STOTTE.KYSTVAKT.V2'!$N$615)","v":0.60853299999999999}]
[null,null,null,null,null,null,null,null,null,null,null,null,null,null,null,null,null,null,null,null,null,null,null,null,null,null,null,null,null,null,null,null,null,null,null,null,null,null,null,null,null,null,27,null,{"$f":"('Op.Eff.STOTTE.KYSTVAKT.V2'!$O$639+'Op.Eff.STOTTE.KYSTVAKT.V2'!$D$639+'Op.Eff.STOTTE.KYSTVAKT.V2'!$E$639)","v":0.29083300000000001},{"$f":"('Op.Eff.STOTTE.KYSTVAKT.V2'!$F$639+'Op.Eff.STOTTE.KYSTVAKT.V2'!$G$639+'Op.Eff.STOTTE.KYSTVAKT.V2'!$H$639)","v":0.608433},{"$f":"('Op.Eff.STOTTE.KYSTVAKT.V2'!$I$639+'Op.Eff.STOTTE.KYSTVAKT.V2'!$J$639+'Op.Eff.STOTTE.KYSTVAKT.V2'!$K$639)","v":0.90123399999999998},{"$f":"('Op.Eff.STOTTE.KYSTVAKT.V2'!$L$639+'Op.Eff.STOTTE.KYSTVAKT.V2'!$M$639+'Op.Eff.STOTTE.KYSTVAKT.V2'!$N$639)","v":0.51983299999999999}]

{"sheet":"Ark2","index":3,"n_rows":0,"n_cols":0,"rows_kept":0,"cut":false,"hidden":true,"merged":[]}

{"sheet":"3. Barriere 1 og 2","index":4,"n_rows":103,"n_cols":21,"rows_kept":103,"cut":false,"hidden":false,"merged":[]}
[]
[null,"Valg av bekjempelse i barriere 1 og 2"]
[]
[null,null,null,"Vinter",null,"Vår",null,"Sommer",null,"Høst"]
[null,"Parameter","Timer","5°C - 10 m/s vind",null,"5°C - 5 m/s vind",null,"15°C - 5 m/s vind",null,"15°C - 10 m/s vind"]
[null,"Utstrømningsrate (Sm3/d)",null,{"$f":"'1. Input fra oljedrift og MRA'!C10","v":1000},null,{"$f":"'1. Input fra oljedrift og MRA'!C10","v":1000},null,{"$f":"'1. Input fra oljedrift og MRA'!C10","v":1000},null,{"$f":"'1. Input fra oljedrift og MRA'!C10","v":1000}]
[]
[null,"Fordampning etter antall timer på sjø (%)",2,{"$f":"(VLOOKUP('1. Input fra oljedrift og MRA'!$C$35&\"-\"&\"Vinterforhold\"&\"-\"&10&\"-\"&$C8,Oljedatabase!$C:$S,9,FALSE))*100","v":14.000000000000002},null,{"$f":"VLOOKUP('1. Input fra oljedrift og MRA'!$C$35&\"-\"&\"Vinterforhold\"&\"-\"&5&\"-\"&$C8,Oljedatabase!$C:$S,9,FALSE)*100","v":11},null,{"$f":"VLOOKUP('1. Input fra oljedrift og MRA'!$C$35&\"-\"&\"Sommerforhold\"&\"-\"&5&\"-\"&$C8,Oljedatabase!$C:$S,9,FALSE)*100","v":13},null,{"$f":"VLOOKUP('1. Input fra oljedrift og MRA'!$C$35&\"-\"&\"Sommerforhold\"&\"-\"&10&\"-\"&$C8,Oljedatabase!$C:$S,9,FALSE)*100","v":16},null,null,null,null,null,null,null,null,{"$f":"ISERROR(D8)","v":false},null,{"$f":"ISERROR(J8)","v":false}]
[null,"Nedblanding etter antall timer på sjø (%)",null,{"$f":"VLOOKUP('1. Input fra oljedrift og MRA'!$C$35&\"-\"&\"Vinterforhold\"&\"-\"&10&\"-\"&'3. Barriere 1 og 2'!$C8,Oljedatabase!$C:$S,11,FALSE)*100","v":5},null,{"$f":"VLOOKUP('1. Input fra oljedrift og MRA'!$C$35&\"-\"&\"Vinterforhold\"&\"-\"&5&\"-\"&$C8,Oljedatabase!$C:$S,11,FALSE)*100","v":0},null,{"$f":"VLOOKUP('1. Input fra oljedrift og MRA'!$C$35&\"-\"&\"Sommerforhold\"&\"-\"&5&\"-\"&$C8,Oljedatabase!$C:$S,11,FALSE)*100","v":0},null,{"$f":"VLOOKUP('1. Input fra oljedrift og MRA'!$C$35&\"-\"&\"Sommerforhold\"&\"-\"&10&\"-\"&$C8,Oljedatabase!$C:$S,11,FALSE)*100","v":5},null,null,null,{"$f":"IF(COUNTIF(S8:U13,\"Sann\")>0,\"Forvitringsstudiet for denne oljen er mangelfullt for tidenheten du har valgt \",\"Ok\")","v":"Ok"},null,null,null,null,{"$f":"ISERROR(D9)","v":false},null,{"$f":"ISERROR(J9)","v":false}]
[null,"Oljemengde tilgjengelig for emulsjonsdannelse (Sm3/d)",null,{"$f":"D6-(D6*((D8+D9)/100))","v":810},null,{"$f":"F6-(F6*((F8+F9)/100))","v":890},null,{"$f":"H6-(H6*((H8+H9)/100))","v":870},null,{"$f":"J6-(J6*((J8+J9)/100))","v":790}]
[null,"Vanninnhold etter antall timer på sjø (%)",null,{"$f":"VLOOKUP('1. Input fra oljedrift og MRA'!$C$35&\"-\"&\"Vinterforhold\"&\"-\"&10&\"-\"&'3. Barriere 1 og 2'!$C8,Oljedatabase!$C:$S,6,FALSE)*100","v":18},null,{"$f":"VLOOKUP('1. Input fra oljedrift og MRA'!$C$35&\"-\"&\"Vinterforhold\"&\"-\"&5&\"-\"&$C8,Oljedatabase!$C:$S,6,FALSE)*100","v":6},null,{"$f":"VLOOKUP('1. Input fra oljedrift og MRA'!$C$35&\"-\"&\"Sommerforhold\"&\"-\"&5&\"-\"&$C8,Oljedatabase!$C:$S,6,FALSE)*100","v":6},null,{"$f":"VLOOKUP('1. Input fra oljedrift og MRA'!$C$35&\"-\"&\"Sommerforhold\"&\"-\"&10&\"-\"&$C8,Oljedatabase!$C:$S,6,FALSE)*100","v":20},null,null,null,null,null,null,null,null,{"$f":"ISERROR(D11)","v":false},null,{"$f":"ISERROR(J11)","v":false}]
[null,"Emulsjonsmengde tilgjengelig for opptak i barriere 1 (Sm3/d)",null,{"$f":"D10+(((D11/100)/((100-D11)/100))*D10)","v":987.80487804878044},null,{"$f":"F10+(((F11/100)/((100-F11)/100))*F10)","v":946.80851063829789},null,{"$f":"H10+(((H11/100)/((100-H11)/100))*H10)","v":925.531914893617},null,{"$f":"J10+(((J11/100)/((100-J11)/100))*J10)","v":987.5}]
[null,"Viskositet av emulsjon inn til barriere 1 (cP)",null,{"$f":"VLOOKUP('1. Input fra oljedrift og MRA'!$C$35&\"-\"&\"Vinterforhold\"&\"-\"&10&\"-\"&'3. Barriere 1 og 2'!$C8,Oljedatabase!$C:$S,7,FALSE)","v":966},null,{"$f":"VLOOKUP('1. Input fra oljedrift og MRA'!$C$35&\"-\"&\"Vinterforhold\"&\"-\"&5&\"-\"&'3. Barriere 1 og 2'!$C8,Oljedatabase!$C:$S,7,FALSE)","v":448},null,{"$f":"VLOOKUP('1. Input fra oljedrift og MRA'!$C$35&\"-\"&\"Sommerforhold\"&\"-\"&5&\"-\"&'3. Barriere 1 og 2'!$C8,Oljedatabase!$C:$S,7,FALSE)","v":308},null,{"$f":"VLOOKUP('1. Input fra oljedrift og MRA'!$C$35&\"-\"&\"Sommerforhold\"&\"-\"&10&\"-\"&'3. Barriere 1 og 2'!$C8,Oljedatabase!$C:$S,7,FALSE)","v":677},null,null,null,null,null,null,null,null,{"$f":"ISERROR(D13)","v":false},null,{"$f":"ISERROR(J13)","v":false}]
[null,"Behov for høyvikskositets opptager (>50.000 cP)?",null,"Nei",null,"Nei",null,"Nei",null,"Nei"]
[]
[null,"Beredskapsbehov i barriere 1",null,"Vinter",null,"Vår",null,"Sommer",null,"Høst"]
[null,"Beregnet behov for NOFO-systemer",null,{"$f":"IF(D14=\"Nei\",(D12/Sys.Kapasitet!$C$5),(D12/Sys.Kapasitet!$D$5))","v":0.34478355254756732},null,{"$f":"IF(F14=\"Nei\",(F12/Sys.Kapasitet!#REF!),(F12/Sys.Kapasitet!#REF!))","v":{"$error":"#REF!"}},null,{"$f":"IF(H14=\"Nei\",(H12/Sys.Kapasitet!A5),(H12/Sys.Kapasitet!B5))","v":{"$error":"#DIV/0!"}},null,{"$f":"IF(J14=\"Nei\",(J12/Sys.Kapasitet!C5),(J12/Sys.Kapasitet!D5))","v":0.34467713787085513}]
[null,"s",null,{"$f":"IF(D17<1,ROUNDUP(D17,0) & \" NOFO-system\",ROUNDUP(D17,0) & \" NOFO-systemer\")","v":"1 NOFO-system"},null,{"$f":"IF(F17<1,ROUNDUP(F17,0) & \" NOFO-system\",ROUNDUP(F17,0) & \" NOFO-systemer\")","v":{"$error":"#REF!"}},null,{"$f":"IF(H17<1,ROUNDUP(H17,0) & \" NOFO-system\",ROUNDUP(H17,0) & \" NOFO-systemer\")","v":{"$error":"#DIV/0!"}},null,{"$f":"IF(J17<1,ROUNDUP(J17,0) & \" NOFO-system\",ROUNDUP(J17,0) & \" NOFO-systemer\")","v":"1 NOFO-system"}]
[null,"Beredskapsløsning i barriere 1","Antall","Ytelse - Vinter","Antall","Ytelse - Vår","Antall","Ytelse - Sommer","Antall","Ytelse - Høst"]
[null,"NOFO J med overløpsskimmer",1,{"$f":"IF(D14=\"Nei\",C20*Sys.Kapasitet!$C$5,C20*Sys.Kapasitet!$D$5)","v":2865},1,{"$f":"IF(F14=\"Nei\",E20*Sys.Kapasitet!$C$5,E20*Sys.Kapasitet!$D$5)","v":2865},1,{"$f":"IF(H14=\"Nei\",G20*Sys.Kapasitet!$C$5,G20*Sys.Kapasitet!$D$5)","v":2865},1,{"$f":"IF(J14=\"Nei\",I20*Sys.Kapasitet!$C$5,I20*Sys.Kapasitet!$D$5)","v":2865}]
[null,"NOFO J med høyviskositetsskimmer",0,{"$f":"IF(D14=\"Nei\",C21*Sys.Kapasitet!$C$7,C21*Sys.Kapasitet!$C$7)","v":0},0,{"$f":"IF(F15=\"Nei\",E21*Sys.Kapasitet!$C$5,E21*Sys.Kapasitet!$C$7)","v":0},0,{"$f":"IF(H14=\"Nei\",G21*Sys.Kapasitet!$C$7,G21*Sys.Kapasitet!$D$7)","v":0},0,{"$f":"IF(J14=\"Nei\",I21*Sys.Kapasitet!$C$7,I21*Sys.Kapasitet!$D$7)","v":0}]
[null,"NOFO havgående høyhastighetssystem",0,{"$f":"IF(D14=\"Nei\",C22*Sys.Kapasitet!$C$9,C22*Sys.Kapasitet!$D$9)","v":0},0,{"$f":"IF(F16=\"Nei\",E22*Sys.Kapasitet!$C$5,E22*Sys.Kapasitet!$C$9)","v":0},0,{"$f":"IF(H14=\"Nei\",G22*Sys.Kapasitet!$C$9,G22*Sys.Kapasitet!$D$9)","v":0},0,{"$f":"IF(J14=\"Nei\",I22*Sys.Kapasitet!$C$9,I22*Sys.Kapasitet!$D$9)","v":0}]
[null,"NOFO båtdispergering - høy doseringsrate",0,{"$f":"IF(D14=\"Nei\",C23*Sys.Kapasitet!$C$11,C23*Sys.Kapasitet!$D$11)","v":0},0,{"$f":"IF(F14=\"Nei\",E23*Sys.Kapasitet!$C$11,E23*Sys.Kapasitet!$C$12)","v":0},0,{"$f":"IF(H14=\"Nei\",G23*Sys.Kapasitet!$C$11,G23*Sys.Kapasitet!$D$11)","v":0},0,{"$f":"IF(J14=\"Nei\",I23*Sys.Kapasitet!$C$11,I23*Sys.Kapasitet!$C$11)","v":0}]
[null,"NOFO båtdispergering - lav doseringsrate",0,{"$f":"IF(D15=\"Nei\",C24*Sys.Kapasitet!$C$11,C24*Sys.Kapasitet!$C$13)","v":0},0,{"$f":"IF(F14=\"Nei\",E24*Sys.Kapasitet!$C$13,E24*Sys.Kapasitet!$C$13)","v":0},0,{"$f":"IF(H14=\"Nei\",G24*Sys.Kapasitet!$C$13,G24*Sys.Kapasitet!$D$13)","v":0},0,{"$f":"IF(J14=\"Nei\",I24*Sys.Kapasitet!$C$13,I24*Sys.Kapasitet!$C$13)","v":0}]
[null,"Kapasitet av valgt beredskapsløsning (Sm3/d)",null,{"$f":"ROUNDDOWN(SUM(D20:D24),0)","v":2865},null,{"$f":"ROUNDDOWN(SUM(F20:F24),0)","v":2865},null,{"$f":"ROUNDDOWN(SUM(H20:H24),0)","v":2865},null,{"$f":"ROUNDDOWN(SUM(J20:J24),0)","v":2865}]
[null,"Gjenværende emulsjon tilgjengelig for bekjempelse (Sm3/d)",null,{"$f":"IF(D12>D25,D12-D25,\"Behov dekket\")","v":"Behov dekket"},null,{"$f":"IF(F12>F25,F12-F25,\"Behov dekket\")","v":"Behov dekket"},null,{"$f":"IF(H12>H25,H12-H25,\"Behov dekket\")","v":"Behov dekket"},null,{"$f":"IF(J12>J25,J12-J25,\"Behov dekket\")","v":"Behov dekket"}]
[null,"Effektivitet av systemer i primærkonfigurasjon (%)",null,{"$f":"IF(SUM(D20:D24)>0,((C20*(Sys.Effektivitet!C6/100))+(C21*(Sys.Effektivitet!C8/100))+(C22*(Sys.Effektivitet!C10/100))+(C23*(Sys.Effektivitet!C12/100)+(C24*(Sys.Effektivitet!C14/100))))/SUM(C20:C24),\"Velg beredskapsløsning\")","v":0.45380737500000001},null,{"$f":"IF(SUM(F20:F24)>0,((E20*(Sys.Effektivitet!D6/100))+(E21*(Sys.Effektivitet!D8/100))+(E22*(Sys.Effektivitet!D10/100))+(E23*(Sys.Effektivitet!D12/100))+(E24*(Sys.Effektivitet!D14/100)))/SUM(E20:E24),\"Velg beredskapsløsning\")","v":0.65882043749999997},null,{"$f":"IF(SUM(H20:H24)>0,((G20*(Sys.Effektivitet!E6/100))+(G21*(Sys.Effektivitet!E8/100))+(G22*(Sys.Effektivitet!E18/100))+(G23*(Sys.Effektivitet!E12/100))+(G24*(Sys.Effektivitet!E14/100)))/SUM(G20:G24),\"Velg beredskapsløsning\")","v":0.77352770000000004},null,{"$f":"IF(SUM(J20:J24)>0,((I20*(Sys.Effektivitet!F6/100))+(I21*(Sys.Effektivitet!F8/100))+(I22*(Sys.Effektivitet!F10/100))+(I23*(Sys.Effektivitet!F12/100))+(I24*(Sys.Effektivitet!F14/100)))/SUM(I20:I24),\"Velg beredskapsløsning\")","v":0.59357792499999995}]
[null,"Ytelse av valgt beredskapsløsning i primærkonfigurasjon (Sm3/d)",null,{"$f":"IF(D25>0,D25*D27,\"Velg beredskapsløsning\")","v":1300.158129375},null,{"$f":"IF(F25>0,F25*F27,\"Velg beredskapsløsning\")","v":1887.5205534375},null,{"$f":"IF(H25>0,H25*H27,\"Velg beredskapsløsning\")","v":2216.1568605000002},null,{"$f":"IF(J25>0,J25*J27,\"Velg beredskapsløsning\")","v":1700.6007551249998}]
[null,"Emulsjonsmengde ut av primærkonfigurasjon (Sm3/d)",null,{"$f":"IF(D25=0,D12,(IF(D25<D12,D12-D28,D12*(1-D27))))","v":539.53173932926825},null,{"$f":"IF(F25=0,F12,(IF(F25<F12,F12-F28,F12*(1-F27))))","v":323.03171343085108},null,{"$f":"IF(H25=0,H12,(IF(H25<H12,H12-H28,H12*(1-H27))))","v":209.60734148936166},null,{"$f":"IF(J25=0,J12,(IF(J25<J12,J12-J28,J12*(1-J27))))","v":401.34179906250006}]
[null,"NOFO J med overløpsskimmer",0,{"$f":"IF(D14=\"Nei\",(C30*Sys.Kapasitet!$C$6),(C30*Sys.Kapasitet!$C$6))","v":0},0,{"$f":"IF(F14=\"Nei\",(E30*Sys.Kapasitet!$C$6),(E30*Sys.Kapasitet!$C$6))","v":0},0,{"$f":"IF(H14=\"Nei\",(G30*Sys.Kapasitet!$C$6),(G30*Sys.Kapasitet!$C$6))","v":0},0,{"$f":"IF(J14=\"Nei\",(I30*Sys.Kapasitet!$C$6),(I30*Sys.Kapasitet!$C$6))","v":0}]
[null,"NOFO J med høyviskositetsskimmer",0,{"$f":"IF(D14=\"Nei\",(C31*Sys.Kapasitet!$C$8),(C31*Sys.Kapasitet!$C$8))","v":0},0,{"$f":"IF(F14=\"Nei\",(E31*Sys.Kapasitet!$C$8),(E31*Sys.Kapasitet!$C$8))","v":0},0,{"$f":"IF(H14=\"Nei\",(G31*Sys.Kapasitet!$C$8),(G31*Sys.Kapasitet!$C$8))","v":0},0,{"$f":"IF(J14=\"Nei\",(I31*Sys.Kapasitet!$C$8),(I31*Sys.Kapasitet!$C$8))","v":0}]
[null,"NOFO havgående høyhastighetssystem",0,{"$f":"IF(D14=\"Nei\",(C32*Sys.Kapasitet!$C$10),(C32*Sys.Kapasitet!$C$10))","v":0},0,{"$f":"IF(F14=\"Nei\",(E32*Sys.Kapasitet!$C$10),(E32*Sys.Kapasitet!$C$10))","v":0},0,{"$f":"IF(H14=\"Nei\",(G32*Sys.Kapasitet!$C$10),(G32*Sys.Kapasitet!$C$10))","v":0},0,{"$f":"IF(J14=\"Nei\",(I32*Sys.Kapasitet!$C$10),(I32*Sys.Kapasitet!$C$10))","v":0}]
[null,"NOFO båtdispergering - høy doseringsrate",0,{"$f":"IF(D14=\"Nei\",(C33*Sys.Kapasitet!$C$12),(C33*Sys.Kapasitet!$C$12))","v":0},0,{"$f":"IF(F14=\"Nei\",(E33*Sys.Kapasitet!$C$12),(E33*Sys.Kapasitet!$C$12))","v":0},0,{"$f":"IF(H14=\"Nei\",(G33*Sys.Kapasitet!$C$12),(G33*Sys.Kapasitet!$C$12))","v":0},0,{"$f":"IF(J14=\"Nei\",(I33*Sys.Kapasitet!$C$12),(I33*Sys.Kapasitet!$C$12))","v":0}]
[null,"NOFO båtdispergering - lav doseringsrate",0,{"$f":"IF(D14=\"Nei\",(C34*Sys.Kapasitet!$C$14),(C34*Sys.Kapasitet!$D$14))","v":0},0,{"$f":"IF(F14=\"Nei\",(E34*Sys.Kapasitet!$C$14),(E34*Sys.Kapasitet!$D$14))","v":0},0,{"$f":"IF(H14=\"Nei\",(G34*Sys.Kapasitet!$C$14),(G34*Sys.Kapasitet!$D$14))","v":0},0,{"$f":"IF(J14=\"Nei\",(I34*Sys.Kapasitet!$C$14),(I34*Sys.Kapasitet!$D$14))","v":0}]
[null,"Kapasitet av sekundærkonfigurasjon (Sm3/d)",null,{"$f":"ROUNDDOWN(SUM(D30:D34),0)","v":0},null,{"$f":"ROUNDDOWN(SUM(F30:F34),0)","v":0},null,{"$f":"ROUNDDOWN(SUM(H30:H34),0)","v":0},null,{"$f":"ROUNDDOWN(SUM(J30:J34),0)","v":0}]
[null,"Gjenværende emulsjon tilgjengelig for bekjempelse (Sm3/d)",null,{"$f":"IF(D29>D35,D29-D35,\"Ingen\")","v":539.53173932926825},null,{"$f":"IF(F29>F35,F29-F35,\"Ingen\")","v":323.03171343085108},null,{"$f":"IF(H29>H35,H29-H35,\"Ingen\")","v":209.60734148936166},null,{"$f":"IF(J29>J35,J29-J35,\"Ingen\")","v":401.34179906250006}]
[null,"Effektivitet av systemer i sekundærkonfigurasjon (%)",null,{"$f":"IF(SUM(C30:C34)>0,MIN((IF(SUM(D29:D34)>0,((((C30*(Sys.Effektivitet!$C$7/100))+(C31*(Sys.Effektivitet!$C$9/100)))+(C32*(Sys.Effektivitet!$C$11/100))+(C33*(Sys.Effektivitet!$C$13/100))+(C34*(Sys.Effektivitet!$C$15/100))/SUM(C30:C34))),\"Ingen fartøy i sek. konfig.\")),(D27)/2),\"Ingen fartøy i sek. konfig\")","v":"Ingen fartøy i sek. konfig"},null,{"$f":"IF(SUM(E30:E34)>0,MIN((IF(SUM(F30:F34)>0,((((E30*(Sys.Effektivitet!$C$7/100))+(E31*(Sys.Effektivitet!$C$9/100)))+(E32*(Sys.Effektivitet!$C$11/100))+(E33*(Sys.Effektivitet!$C$13/100))+(E34*(Sys.Effektivitet!$C$15/100))/SUM(E30:E34))),\"Ingen fartøy i sek. konfig.\")),(F27)/2),\"Ingen fartøy i sek. konfig\")","v":"Ingen fartøy i sek. konfig"},null,{"$f":"IF(SUM(G30:G34)>0,MIN((IF(SUM(H29:H34)>0,((((G30*(Sys.Effektivitet!$C$7/100))+(G31*(Sys.Effektivitet!$C$9/100)))+(G32*(Sys.Effektivitet!$C$11/100))+(G33*(Sys.Effektivitet!$C$13/100))+(G34*(Sys.Effektivitet!$C$15/100))/SUM(G30:G34))),\"Ingen fartøy i sek. konfig.\")),(H27)/2),\"Ingen fartøy i sek. konfig\")","v":"Ingen fartøy i sek. konfig"},null,{"$f":"IF(SUM(I30:I34)>0,MIN((IF(SUM(J29:J34)>0,((((I30*(Sys.Effektivitet!$C$7/100))+(I31*(Sys.Effektivitet!$C$9/100)))+(I32*(Sys.Effektivitet!$C$11/100))+(I33*(Sys.Effektivitet!$C$13/100))+(I34*(Sys.Effektivitet!$C$15/100))/SUM(I30:I34))),\"Ingen fartøy i sek. konfig.\")),(J27)/2),\"Ingen fartøy i sek. konfig\")","v":"Ingen fartøy i sek. konfig"}]
[null,"Ytelse av valgt beredskapsløsning i sekundærkonfigurajson (Sm3/d)",null,{"$f":"IF(D35>0,D35*D37,\"Ingen fartøy i sek. konfig\")","v":"Ingen fartøy i sek. konfig"},null,{"$f":"IF(F35>0,F35*F37,\"Ingen fartøy i sek. konfig\")","v":"Ingen fartøy i sek. konfig"},null,{"$f":"IF(H35>0,H35*H37,\"Ingen fartøy i sek. konfig\")","v":"Ingen fartøy i sek. konfig"},null,{"$f":"IF(J35>0,J35*J37,\"Ingen fartøy i sek. konfig\")","v":"Ingen fartøy i sek. konfig"}]
[null,"Emulsjonsmengde ut av sekundærkonfigurasjon (Sm3/d)",null,{"$f":"IF(D35=0,D29,(IF(D35<D29,D29-D38,D29*(1-D37))))","v":539.53173932926825},null,{"$f":"IF(F35=0,F29,(IF(F35<F29,F29-F38,F29*(1-F37))))","v":323.03171343085108},null,{"$f":"IF(H35=0,H29,(IF(H35<H29,H29-H38,H29*(1-H37))))","v":209.60734148936166},null,{"$f":"IF(J35=0,J29,(IF(J35<J29,J29-J38,J29*(1-J37))))","v":401.34179906250006}]
[null,"Status",null,{"$f":"IF(SUM(D20+D21+D22+D23+D24+D30+D31+D32+D33+D34)>D12,\"Valgt beredskapsløsning er tilstrekkelig for å bekjempe beregnet emulsjonsmengde på havoverflaten\",\"Valgt beredskapsløsning er ikke tilstrekkelig for å bekjempe beregnet emulsjonsmengde på havoverflaten\")","v":"Valgt beredskapsløsning er tilstrekkelig for å bekjempe beregnet emulsjonsmengde på havoverflaten"},null,{"$f":"IF(SUM(F20+F21+F22+F23+F24+F30+F31+F32+F33+F34)>F12,\"Valgt beredskapsløsning er tilstrekkelig for å bekjempe beregnet emulsjonsmengde på havoverflaten\",\"Valgt beredskapsløsning er ikke tilstrekkelig for å bekjempe beregnet emulsjonsmengde på havoverflaten\")","v":"Valgt beredskapsløsning er tilstrekkelig for å bekjempe beregnet emulsjonsmengde på havoverflaten"},null,{"$f":"IF(SUM(H20+H21+H22+H23+H24+H30+H31+H32+H33+H34)>H12,\"Valgt beredskapsløsning er tilstrekkelig for å bekjempe beregnet emulsjonsmengde på havoverflaten\",\"Valgt beredskapsløsning er ikke tilstrekkelig for å bekjempe beregnet emulsjonsmengde på havoverflaten\")","v":"Valgt beredskapsløsning er tilstrekkelig for å bekjempe beregnet emulsjonsmengde på havoverflaten"},null,{"$f":"IF(SUM(J20+J21+J22+J23+J34+J30+J31+J32+J33+J34)>J12,\"Valgt beredskapsløsning er tilstrekkelig for å bekjempe beregnet emulsjonsmengde på havoverflaten\",\"Valgt beredskapsløsning er ikke tilstrekkelig for å bekjempe beregnet emulsjonsmengde på havoverflaten\")","v":"Valgt beredskapsløsning er tilstrekkelig for å bekjempe beregnet emulsjonsmengde på havoverflaten"}]
[null,"Samlet barriereeffektivitet i barriere 1 (%)",null,{"$f":"D42/D12","v":0.45380737500000001},null,{"$f":"F42/F12","v":0.65882043750000008},null,{"$f":"H42/H12","v":0.77352770000000015},null,{"$f":"J42/J12","v":0.59357792499999995}]
[null,"Samlet ytelse av barriere 1 (Sm3/d)",null,{"$f":"IF(D35>0,(D12-D29)+(D29-D39),(D12-D29))","v":448.27313871951219},null,{"$f":"IF(F35>0,(F12-F29)+(F29-F39),(F12-F29))","v":623.77679720744686},null,{"$f":"IF(H35>0,(H12-H29)+(H29-H39),(H12-H29))","v":715.9245734042554},null,{"$f":"IF(J35>0,(J12-J29)+(J29-J39),(J12-J29))","v":586.15820093749994}]
[null,"Emulsjonsmengde ut av barriere 1 (Sm3/d)",null,{"$f":"D39","v":539.53173932926825},null,{"$f":"F39","v":323.03171343085108},null,{"$f":"H39","v":209.60734148936166},null,{"$f":"J39","v":401.34179906250006}]
[]
[]
[null,null,"Timer","Vinter",null,"Vår",null,"Sommer",null,"Høst"]
[null,"Parameter",null,"5°C - 10 m/s vind",null,"5°C - 5 m/s vind",null,"15°C - 5 m/s vind",null,"15°C - 10 m/s vind"]
[null,"Emulsjonsmengde inn til barriere 2 (Sm3/d)",null,{"$f":"D43","v":539.53173932926825},null,{"$f":"F43","v":323.03171343085108},null,{"$f":"H43","v":209.60734148936166},null,{"$f":"J43","v":401.34179906250006}]
[null,"Oljemengde inn til barriere 2 (Sm3/d)",null,{"$f":"D48/(1+((D11/100)/((100-D11)/100)))","v":442.41602624999996},null,{"$f":"F48/(1+((F11/100)/((100-F11)/100)))","v":303.64981062500004},null,{"$f":"H48/(1+((H11/100)/((100-H11)/100)))","v":197.03090099999997},null,{"$f":"J48/(1+((J11/100)/((100-J11)/100)))","v":321.07343925000004}]
[null,"Fordampning etter antall timer på sjø (%)",12,{"$f":"VLOOKUP('1. Input fra oljedrift og MRA'!$C$35&\"-\"&\"Vinterforhold\"&\"-\"&10&\"-\"&$C50,Oljedatabase!$C:$S,9,FALSE)*100","v":19},null,{"$f":"VLOOKUP('1. Input fra oljedrift og MRA'!$C$35&\"-\"&\"Vinterforhold\"&\"-\"&5&\"-\"&$C50,Oljedatabase!$C:$S,9,FALSE)*100","v":16},null,{"$f":"VLOOKUP('1. Input fra oljedrift og MRA'!$C$35&\"-\"&\"Sommerforhold\"&\"-\"&5&\"-\"&$C50,Oljedatabase!$C:$S,9,FALSE)*100","v":18},null,{"$f":"VLOOKUP('1. Input fra oljedrift og MRA'!$C$35&\"-\"&\"Sommerforhold\"&\"-\"&10&\"-\"&$C50,Oljedatabase!$C:$S,9,FALSE)*100","v":21},null,null,null,null,null,null,null,null,{"$f":"ISERROR(D50)","v":false},null,{"$f":"ISERROR(J50)","v":false}]
[null,"Nedblanding etter antall timer på sjø (%)",null,{"$f":"VLOOKUP('1. Input fra oljedrift og MRA'!$C$35&\"-\"&\"Vinterforhold\"&\"-\"&10&\"-\"&$C50,Oljedatabase!$C:$S,11,FALSE)*100","v":17},null,{"$f":"VLOOKUP('1. Input fra oljedrift og MRA'!$C$35&\"-\"&\"Vinterforhold\"&\"-\"&5&\"-\"&$C50,Oljedatabase!$C:$S,11,FALSE)*100","v":1},null,{"$f":"VLOOKUP('1. Input fra oljedrift og MRA'!$C$35&\"-\"&\"Sommerforhold\"&\"-\"&5&\"-\"&$C50,Oljedatabase!$C:$S,11,FALSE)*100","v":1},null,{"$f":"VLOOKUP('1. Input fra oljedrift og MRA'!$C$35&\"-\"&\"Sommerforhold\"&\"-\"&10&\"-\"&$C50,Oljedatabase!$C:$S,11,FALSE)*100","v":19},null,null,null,{"$f":"IF(COUNTIF(S50:U55,\"Sann\")>0,\"Forvitringsstudiet for denne oljen er mangelfullt for tidenheten du har valgt \",\"Ok\")","v":"Ok"},null,null,null,null,{"$f":"ISERROR(D51)","v":false},null,{"$f":"ISERROR(J51)","v":false}]
[null,"Oljemengde tilgjengelig for emulsjonsdannelse (Sm3/d)",null,{"$f":"D49-(D49*(((D50-D8)/100)+((D51-D9)/100)))","v":367.20530178749999},null,{"$f":"F49-(F49*(((F50-F8)/100)+((F51-F9)/100)))","v":285.43082198750005},null,{"$f":"H49-(H49*(((H50-H8)/100)+((H51-H9)/100)))","v":185.20904693999998},null,{"$f":"J49-(J49*(((J50-J8)/100)+((J51-J9)/100)))","v":260.06948579250002}]
[null,"Vanninnhold etter 12 timer på sjø (%)",null,{"$f":"VLOOKUP('1. Input fra oljedrift og MRA'!$C$35&\"-\"&\"Vinterforhold\"&\"-\"&10&\"-\"&$C50,Oljedatabase!$C:$S,6,FALSE)*100","v":56.999999999999993},null,{"$f":"VLOOKUP('1. Input fra oljedrift og MRA'!$C$35&\"-\"&\"Vinterforhold\"&\"-\"&5&\"-\"&$C50,Oljedatabase!$C:$S,6,FALSE)*100","v":28.999999999999996},null,{"$f":"VLOOKUP('1. Input fra oljedrift og MRA'!$C$35&\"-\"&\"Sommerforhold\"&\"-\"&5&\"-\"&$C50,Oljedatabase!$C:$S,6,FALSE)*100","v":31},null,{"$f":"VLOOKUP('1. Input fra oljedrift og MRA'!$C$35&\"-\"&\"Sommerforhold\"&\"-\"&10&\"-\"&$C50,Oljedatabase!$C:$S,6,FALSE)*100","v":61},null,null,null,null,null,null,null,null,{"$f":"ISERROR(D53)","v":false},null,{"$f":"ISERROR(J53)","v":false}]
[null,"Emulsjonsmengde tilgjengelig for opptak i barriere 2 (Sm3/d)",null,{"$f":"D52+(((D53/100)/(1-(D53/100)))*D52)","v":853.96581811046497},null,{"$f":"F52+(((F53/100)/(1-(F53/100)))*F52)","v":402.01524223591559},null,{"$f":"H52+(((H53/100)/(1-(H53/100)))*H52)","v":268.41890860869563},null,{"$f":"J52+(((J53/100)/(1-(J53/100)))*J52)","v":666.8448353653846}]
[null,"Viskositet av emulsjon inn til barriere 2 (cP)",null,{"$f":"VLOOKUP('1. Input fra oljedrift og MRA'!$C$35&\"-\"&\"Vinterforhold\"&\"-\"&10&\"-\"&$C50,Oljedatabase!$C:$S,7,FALSE)","v":11300},null,{"$f":"VLOOKUP('1. Input fra oljedrift og MRA'!$C$35&\"-\"&\"Vinterforhold\"&\"-\"&5&\"-\"&$C50,Oljedatabase!$C:$S,7,FALSE)","v":1870},null,{"$f":"VLOOKUP('1. Input fra oljedrift og MRA'!$C$35&\"-\"&\"Sommerforhold\"&\"-\"&5&\"-\"&$C50,Oljedatabase!$C:$S,7,FALSE)","v":1350},null,{"$f":"VLOOKUP('1. Input fra oljedrift og MRA'!$C$35&\"-\"&\"Sommerforhold\"&\"-\"&10&\"-\"&$C50,Oljedatabase!$C:$S,7,FALSE)","v":9540},null,null,null,null,null,null,null,null,{"$f":"ISERROR(D55)","v":false},null,{"$f":"ISERROR(J55)","v":false}]
[null,"Økt systembehov grunnet høy viskositet (>50.000 cP)?",null,"Nei",null,"Nei",null,"Nei",null,"Nei"]
[]
[null,"Beredskapsbehov i barriere 2",null,"Vinter",null,"Vår",null,"Sommer",null,"Høst"]
[null,"Beregnet behov for NOFO-systemer",null,{"$f":"IF(D56=\"Nei\",(D54/Sys.Kapasitet!$C$5),(D54/Sys.Kapasitet!$D$5))","v":0.29806834838061602},null,{"$f":"IF(F56=\"Nei\",(F54/Sys.Kapasitet!$C$5),(F54/Sys.Kapasitet!$D$5))","v":0.14031945627780648},null,{"$f":"IF(H56=\"Nei\",(H54/Sys.Kapasitet!$C$5),(H54/Sys.Kapasitet!$D$5))","v":9.3688973336368456E-2},null,{"$f":"IF(J56=\"Nei\",(J54/Sys.Kapasitet!$C$5),(J54/Sys.Kapasitet!$D$5))","v":0.2327556144381796}]
[null,"Antatt behov for NOFO-systemer",null,{"$f":"IF(D59<1,ROUNDUP(D59,0) & \" NOFO-system\",ROUNDUP(D59,0) & \" NOFO-systemer\")","v":"1 NOFO-system"},null,{"$f":"IF(F59<1,ROUNDUP(F59,0) & \" NOFO-system\",ROUNDUP(F59,0) & \" NOFO-systemer\")","v":"1 NOFO-system"},null,{"$f":"IF(H59<1,ROUNDUP(H59,0) & \" NOFO-system\",ROUNDUP(H59,0) & \" NOFO-systemer\")","v":"1 NOFO-system"},null,{"$f":"IF(J59<1,ROUNDUP(J59,0) & \" NOFO-system\",ROUNDUP(J59,0) & \" NOFO-systemer\")","v":"1 NOFO-system"}]
[null,"Beredskapsløsning i barriere 2","Antall","Vinter","Antall","Vår","Antall","Sommer","Antall","Høst"]
[null,"NOFO J med overløpsskimmer",1,{"$f":"IF(D56=\"Nei\",C62*Sys.Kapasitet!$C$22,C62*Sys.Kapasitet!$C$22)","v":2101},1,{"$f":"IF(F56=\"Nei\",E62*Sys.Kapasitet!$C$22,E62*Sys.Kapasitet!$C$22)","v":2101},1,{"$f":"IF(H56=\"Nei\",G62*Sys.Kapasitet!$C22,H62*Sys.Kapasitet!$C$22)","v":2101},1,{"$f":"IF(J56=\"Nei\",I62*Sys.Kapasitet!$C22,J62*Sys.Kapasitet!$C$22)","v":2101}]
[null,"NOFO J med høyviskositetsskimmer",0,{"$f":"IF(D56=\"Nei\",C63*Sys.Kapasitet!$C$24,C63*Sys.Kapasitet!$C$24)","v":0},0,{"$f":"IF(F56=\"Nei\",E63*Sys.Kapasitet!$C$24,E63*Sys.Kapasitet!$C$24)","v":0},0,{"$f":"IF(H56=\"Nei\",G63*Sys.Kapasitet!$C$24,G63*Sys.Kapasitet!$C$24)","v":0},0,{"$f":"IF(J56=\"Nei\",I63*Sys.Kapasitet!$C$24,I63*Sys.Kapasitet!$C$24)","v":0}]
[null,"NOFO havgående høyhastighetssystem",0,{"$f":"IF(D56=\"Nei\",C64*Sys.Kapasitet!$C$26,C64*Sys.Kapasitet!$C$26)","v":0},0,{"$f":"IF(F56=\"Nei\",E64*Sys.Kapasitet!$C$26,E64*Sys.Kapasitet!$C$26)","v":0},0,{"$f":"IF(H56=\"Nei\",G64*Sys.Kapasitet!$C$26,G64*Sys.Kapasitet!$C$26)","v":0},0,{"$f":"IF(J56=\"Nei\",I64*Sys.Kapasitet!$C$26,I64*Sys.Kapasitet!$C$26)","v":0}]
[null,"NOFO båtdispergering - lav doseringsrate",0,{"$f":"IF(D56=\"Nei\",C65*Sys.Kapasitet!$C$30,C65*Sys.Kapasitet!$C$30)","v":0},0,{"$f":"IF(F56=\"Nei\",E65*Sys.Kapasitet!$C$30,E65*Sys.Kapasitet!$C$30)","v":0},0,{"$f":"IF(H56=\"Nei\",G65*Sys.Kapasitet!$C30,G65*Sys.Kapasitet!$C$30)","v":0},0,{"$f":"IF(J56=\"Nei\",I65*Sys.Kapasitet!$C30,I65*Sys.Kapasitet!$C$30)","v":0}]
[null,"NOFO båtdispergering - høy doseringsrate",0,{"$f":"IF(D56=\"Nei\",C66*Sys.Kapasitet!$C$28,C66*Sys.Kapasitet!$C$28)","v":0},0,{"$f":"IF(F56=\"Nei\",E66*Sys.Kapasitet!$C$28,E66*Sys.Kapasitet!$C$28)","v":0},0,{"$f":"IF(H56=\"Nei\",G66*Sys.Kapasitet!$C$28,G66*Sys.Kapasitet!$C$28)","v":0},0,{"$f":"IF(J56=\"Nei\",I66*Sys.Kapasitet!$C$28,I66*Sys.Kapasitet!$C$28)","v":0}]
[null,"Kapasitet av valgt beredskapsløsning (Sm3/d)",null,{"$f":"ROUNDDOWN(SUM(D62:D66),0)","v":2101},null,{"$f":"ROUNDDOWN(SUM(F62:F66),0)","v":2101},null,{"$f":"ROUNDDOWN(SUM(H62:H66),0)","v":2101},null,{"$f":"ROUNDDOWN(SUM(J62:J66),0)","v":2101}]
[null,"Gjenværende emulsjon tilgjengelig for bekjempelse (Sm3/d)",null,{"$f":"IF(D54>D67,D54-D67,\"Behov dekket\")","v":"Behov dekket"},null,{"$f":"IF(F54>F67,F54-F67,\"Behov dekket\")","v":"Behov dekket"},null,{"$f":"IF(H54>H67,H54-H67,\"Behov dekket\")","v":"Behov dekket"},null,{"$f":"IF(J54>J67,J54-J67,\"Behov dekket\")","v":"Behov dekket"}]
[null,"Effektivitet av systemer i primærkonfigurasjon (%)",null,{"$f":"IF(SUM(C62:C66)>0,MIN((IF(SUM(D62:D66)>0,(((C62*(Sys.Effektivitet!C6/100))+(C63*(Sys.Effektivitet!C8/100))+(C64*(Sys.Effektivitet!C10/100))+(C65*(Sys.Effektivitet!C14/100))+(C66*(Sys.Effektivitet!C12/100))))/SUM(C62:C66),\"Velg beredskapsløsning\")),(D27)/2),\"Velg beredskapsløsning\")","v":0.22690368750000001},null,{"$f":"IF(SUM(E62:E66)>0,MIN((IF(SUM(F62:F66)>0,(((E62*(Sys.Effektivitet!D6/100))+(E63*(Sys.Effektivitet!D8/100))+(E64*(Sys.Effektivitet!D10/100))+(E65*(Sys.Effektivitet!D14/100))+(E66*(Sys.Effektivitet!D12/100))))/SUM(E62:E66),\"Velg beredskapsløsning\")),(F27)/2),\"Velg beredskapsløsning\")","v":0.32941021874999998},null,{"$f":"IF(SUM(G62:G66)>0,MIN((IF(SUM(H62:H66)>0,(((G62*(Sys.Effektivitet!E6/100))+(G63*(Sys.Effektivitet!E8/100))+(G64*(Sys.Effektivitet!E10/100))+(G65*(Sys.Effektivitet!E14/100))+(G66*(Sys.Effektivitet!E12/100))))/SUM(G62:G66),\"Velg beredskapsløsning\")),(H27)/2),\"Velg beredskapsløsning\")","v":0.38676385000000002},null,{"$f":"IF(SUM(I62:I66)>0,MIN((IF(SUM(J62:J66)>0,(((I62*(Sys.Effektivitet!F6/100))+(I63*(Sys.Effektivitet!F8/100))+(I64*(Sys.Effektivitet!F10/100))+(I65*(Sys.Effektivitet!F14/100))+(I66*(Sys.Effektivitet!F12/100))))/SUM(I62:I66),\"Velg beredskapsløsning\")),(J27)/2),\"Velg beredskapsløsning\")","v":0.29678896249999998}]
[null,"Ytelse av valgt beredskapsløsning i primærkonfigurasjon (Sm3/d)",null,{"$f":"IF(D67>0,D67*D69,\"Velg beredskapsløsning\")","v":476.72464743750004},null,{"$f":"IF(F67>0,F67*F69,\"Velg beredskapsløsning\")","v":692.09086959374997},null,{"$f":"IF(H67>0,H67*H69,\"Velg beredskapsløsning\")","v":812.59084885000004},null,{"$f":"IF(J67>0,J67*J69,\"Velg beredskapsløsning\")","v":623.55361021249996}]
[null,"Emulsjonsmengde ut av primærkonfigurasjon (Sm3/d)",null,{"$f":"IF(D67=0,D54,(IF(D67<D54,D54-D70,D54*(1-D69))))","v":660.19782498224617},null,{"$f":"IF(F67=0,F54,(IF(F67<F54,F54-F70,F54*(1-F69))))","v":269.58731335014841},null,{"$f":"IF(H67=0,H54,(IF(H67<H54,H54-H70,H54*(1-H69))))","v":164.60417810239835},null,{"$f":"IF(J67=0,J54,(IF(J67<J54,J54-J70,J54*(1-J69))))","v":468.93264852880878}]
[null,"NOFO J med overløpsskimmer",0,{"$f":"IF(D56=\"Nei\",C72*Sys.Kapasitet!$C$23,C72*Sys.Kapasitet!$C$23)","v":0},0,{"$f":"IF(F56=\"Nei\",E72*Sys.Kapasitet!$C$23,E72*Sys.Kapasitet!$C$23)","v":0},0,{"$f":"IF(H56=\"Nei\",G72*Sys.Kapasitet!$C$23,G72*Sys.Kapasitet!$C$23)","v":0},0,{"$f":"IF(J56=\"Nei\",I72*Sys.Kapasitet!$C$23,I72*Sys.Kapasitet!$C$23)","v":0}]
[null,"NOFO J med høyviskositetsskimmer",0,{"$f":"IF(D57=\"Nei\",C73*Sys.Kapasitet!$C$25,C73*Sys.Kapasitet!$C$25)","v":0},0,{"$f":"IF(F57=\"Nei\",E73*Sys.Kapasitet!$C$25,E73*Sys.Kapasitet!$C$25)","v":0},0,{"$f":"IF(H57=\"Nei\",G73*Sys.Kapasitet!$C$25,G73*Sys.Kapasitet!$C$25)","v":0},0,{"$f":"IF(J57=\"Nei\",I73*Sys.Kapasitet!$C$25,I73*Sys.Kapasitet!$C$25)","v":0}]
[null,"NOFO havgående høyhastighetssystem",0,{"$f":"IF(D58=\"Nei\",C74*Sys.Kapasitet!$C$27,C74*Sys.Kapasitet!$C$27)","v":0},0,{"$f":"IF(F58=\"Nei\",E74*Sys.Kapasitet!$C$27,E74*Sys.Kapasitet!$C$27)","v":0},0,{"$f":"IF(H58=\"Nei\",G74*Sys.Kapasitet!$C$27,G74*Sys.Kapasitet!$C$27)","v":0},0,{"$f":"IF(J58=\"Nei\",I74*Sys.Kapasitet!$C$27,I74*Sys.Kapasitet!$C$27)","v":0}]
[null,"NOFO båtdispergering - lav doseringsrate",0,{"$f":"IF(D59=\"Nei\",C75*Sys.Kapasitet!$C$31,C75*Sys.Kapasitet!$C$31)","v":0},0,{"$f":"IF(F59=\"Nei\",E75*Sys.Kapasitet!$C$31,E75*Sys.Kapasitet!$C$31)","v":0},0,{"$f":"IF(H59=\"Nei\",G75*Sys.Kapasitet!$C$31,G75*Sys.Kapasitet!$C$31)","v":0},0,{"$f":"IF(J59=\"Nei\",I75*Sys.Kapasitet!$C$31,I75*Sys.Kapasitet!$C$31)","v":0}]
[null,"NOFO båtdispergering - høy doseringsrate",0,{"$f":"IF(D60=\"Nei\",C76*Sys.Kapasitet!$C$27,C76*Sys.Kapasitet!$D$27)","v":0},0,{"$f":"IF(F60=\"Nei\",E76*Sys.Kapasitet!$C$27,E76*Sys.Kapasitet!$D$27)","v":0},0,{"$f":"IF(H60=\"Nei\",G76*Sys.Kapasitet!$C$27,G76*Sys.Kapasitet!$D$27)","v":0},0,{"$f":"IF(J60=\"Nei\",I76*Sys.Kapasitet!$C$27,I76*Sys.Kapasitet!$D$27)","v":0}]
[null,"Kapasitet av sekundærkonfigurasjon (Sm3/d)",null,{"$f":"ROUNDDOWN(SUM(D72:D76),0)","v":0},null,{"$f":"ROUNDDOWN(SUM(F72:F76),0)","v":0},null,{"$f":"ROUNDDOWN(SUM(H72:H76),0)","v":0},null,{"$f":"ROUNDDOWN(SUM(J72:J76),0)","v":0}]
[null,"Gjenværende emulsjon tilgjengelig for bekjempelse (Sm3/d)",null,{"$f":"IF(D71>D77,D71-D77,\"Ingen\")","v":660.19782498224617},null,{"$f":"IF(F71>F77,F71-F77,\"Ingen\")","v":269.58731335014841},null,{"$f":"IF(H71>H77,H71-H77,\"Ingen\")","v":164.60417810239835},null,{"$f":"IF(J71>J77,J71-J77,\"Ingen\")","v":468.93264852880878}]
[null,"Effektivitet av systemer i sekundærkonfigurasjon (%)",null,{"$f":"IF(SUM(C72:C76)>0,MIN((IF(SUM(D72:D76)>0,((((C72*(Sys.Effektivitet!$C$7/100))+(C73*(Sys.Effektivitet!$C$9/100))+(C74*(Sys.Effektivitet!$C$11/100))+(C75*(Sys.Effektivitet!$C$15/100))+(C76*(Sys.Effektivitet!$C$13/100)))/SUM(C72:C76))),\"Ingen fartøy i sek. konfig.\")),(D27)/2),\"Ingen fartøy i sek. konfig\")","v":"Ingen fartøy i sek. konfig"},null,{"$f":"IF(SUM(E72:E76)>0,MIN((IF(SUM(F72:F76)>0,((((E72*(Sys.Effektivitet!$C$7/100))+(E73*(Sys.Effektivitet!$C$9/100))+(E74*(Sys.Effektivitet!$C$11/100))+(E75*(Sys.Effektivitet!$C$15/100))+(E76*(Sys.Effektivitet!$C$13/100)))/SUM(E72:E76))),\"Ingen fartøy i sek. konfig.\")),(F27)/2),\"Ingen fartøy i sek. konfig\")","v":"Ingen fartøy i sek. konfig"},null,{"$f":"IF(SUM(G72:G76)>0,MIN((IF(SUM(H72:H76)>0,((((G72*(Sys.Effektivitet!$C$7/100))+(G73*(Sys.Effektivitet!$C$9/100))+(G74*(Sys.Effektivitet!$C$11/100))+(G75*(Sys.Effektivitet!$C$15/100))+(G76*(Sys.Effektivitet!$C$13/100)))/SUM(G72:G76))),\"Ingen fartøy i sek. konfig.\")),(H27)/2),\"Ingen fartøy i sek. konfig\")","v":"Ingen fartøy i sek. konfig"},null,{"$f":"IF(SUM(I72:I76)>0,MIN((IF(SUM(J72:J76)>0,((((I72*(Sys.Effektivitet!$C$7/100))+(I73*(Sys.Effektivitet!$C$9/100))+(I74*(Sys.Effektivitet!$C$11/100))+(I75*(Sys.Effektivitet!$C$15/100))+(I76*(Sys.Effektivitet!$C$13/100)))/SUM(I72:I76))),\"Ingen fartøy i sek. konfig.\")),(J27)/2),\"Ingen fartøy i sek. konfig\")","v":"Ingen fartøy i sek. konfig"}]
[null,"Ytelse av valgt beredskapsløsning i sekundærkonfigurasjon (Sm3/d)",null,{"$f":"IF(D77>0,D77*D79,\"Ingen fartøy i sek. konfig\")","v":"Ingen fartøy i sek. konfig"},null,{"$f":"IF(F77>0,F77*F79,\"Ingen fartøy i sek. konfig\")","v":"Ingen fartøy i sek. konfig"},null,{"$f":"IF(H77>0,H77*H79,\"Ingen fartøy i sek. konfig\")","v":"Ingen fartøy i sek. konfig"},null,{"$f":"IF(J77>0,J77*J79,\"Ingen fartøy i sek. konfig\")","v":"Ingen fartøy i sek. konfig"}]
[null,"Emulsjonsmengde ut av sekundærkonfigurasjon (Sm3/d)",null,{"$f":"IF(D77=0,D71,(IF(D77<D71,D71-D80,D71*(1-D79))))","v":660.19782498224617},null,{"$f":"IF(F77=0,F71,(IF(F77<F71,F71-F80,F71*(1-F79))))","v":269.58731335014841},null,{"$f":"IF(H77=0,H71,(IF(H77<H71,H71-H80,H71*(1-H79))))","v":164.60417810239835},null,{"$f":"IF(J77=0,J71,(IF(J77<J71,J71-J80,J71*(1-J79))))","v":468.93264852880878}]
[null,"Status",null,{"$f":"IF(SUM(D62+D63+D64+D65+D66+D72+D73+D74+D75+D76)>D54,\"Valgt beredskapsløsning er tilstrekkelig for å bekjempe beregnet emulsjonsmengde på havoverflaten\",\"Valgt beredskapsløsning er ikke tilstrekkelig for å bekjempe beregnet emulsjonsmengde på havoverflaten\")","v":"Valgt beredskapsløsning er tilstrekkelig for å bekjempe beregnet emulsjonsmengde på havoverflaten"},null,{"$f":"IF(SUM(F62+F63+F64+F65+F66+F72+F73+F74+F75+F76)>F54,\"Valgt beredskapsløsning er tilstrekkelig for å bekjempe beregnet emulsjonsmengde på havoverflaten\",\"Valgt beredskapsløsning er ikke tilstrekkelig for å bekjempe beregnet emulsjonsmengde på havoverflaten\")","v":"Valgt beredskapsløsning er tilstrekkelig for å bekjempe beregnet emulsjonsmengde på havoverflaten"},null,{"$f":"IF(SUM(H62+H63+H64+H65+H66+H72+H73+H74+H75+H76)>H54,\"Valgt beredskapsløsning er tilstrekkelig for å bekjempe beregnet emulsjonsmengde på havoverflaten\",\"Valgt beredskapsløsning er ikke tilstrekkelig for å bekjempe beregnet emulsjonsmengde på havoverflaten\")","v":"Valgt beredskapsløsning er tilstrekkelig for å bekjempe beregnet emulsjonsmengde på havoverflaten"},null,{"$f":"IF(SUM(J62+J63+J64+J65+J66+J72+J73+J74+J75+J76)>J54,\"Valgt beredskapsløsning er tilstrekkelig for å bekjempe beregnet emulsjonsmengde på havoverflaten\",\"Valgt beredskapsløsning er ikke tilstrekkelig for å bekjempe beregnet emulsjonsmengde på havoverflaten\")","v":"Valgt beredskapsløsning er tilstrekkelig for å bekjempe beregnet emulsjonsmengde på havoverflaten"}]
[null,"Samlet barriereeffektivitet i barriere 2 (%)",null,{"$f":"D84/D54","v":0.22690368750000001},null,{"$f":"F84/F54","v":0.32941021874999998},null,{"$f":"H84/H54","v":0.38676385000000008},null,{"$f":"J84/J54","v":0.29678896250000003}]
[null,"Samlet ytelse av barriere 2 (Sm3/d)",null,{"$f":"IF(D77>0,(D54-D71)+(D71-D81),(D54-D71))","v":193.76799312821879},null,{"$f":"IF(F77>0,(F54-F71)+(F71-F81),(F54-F71))","v":132.42792888576719},null,{"$f":"IF(H77>0,(H54-H71)+(H71-H81),(H54-H71))","v":103.81473050629728},null,{"$f":"IF(J77>0,(J54-J71)+(J71-J81),(J54-J71))","v":197.91218683657581}]
[null,"Emulsjonsmengde ut av barriere 2 (Sm3/d)",null,{"$f":"D81","v":660.19782498224617},null,{"$f":"F81","v":269.58731335014841},null,{"$f":"H81","v":164.60417810239835},null,{"$f":"J81","v":468.93264852880878}]
[]
[]
[null,null,null,"Vinter",null,"Vår",null,"Sommer",null,"Høst"]
[null,"Oppsummering av beredskap i barriere 1 og 2",null,"5°C - 10 m/s vind",null,"5°C - 5 m/s vind",null,"15°C - 5 m/s vind",null,"15°C - 10 m/s vind"]
[null,"Emulsjonsmengde ut av barriere 1 og 2 (Sm3/d)",null,{"$f":"D85","v":660.19782498224617},null,{"$f":"F85","v":269.58731335014841},null,{"$f":"H85","v":164.60417810239835},null,{"$f":"J85","v":468.93264852880878}]
[null,"Totalt antall systemer i barriere 1 og 2"]
[null,"NOFO J med overløpsskimmer",null,{"$f":"C20+C62","v":2},null,{"$f":"E20+E62","v":2},null,{"$f":"G20+G62","v":2},null,{"$f":"I20+I62","v":2}]
[null,"NOFO J med høyviskositetsskimmer",null,{"$f":"C21+C63","v":0},null,{"$f":"E21+E63","v":0},null,{"$f":"G21+G63","v":0},null,{"$f":"I21+I63","v":0}]
[null,"NOFO havgående høyhastighetssystem",null,{"$f":"C22+C64","v":0},null,{"$f":"E22+E64","v":0},null,{"$f":"G22+G64","v":0},null,{"$f":"I22+I64","v":0}]
[null,"NOFO båtdispergering - lav doseringsrate",null,{"$f":"C24+C65","v":0},null,{"$f":"E24+E65","v":0},null,{"$f":"G24+G65","v":0},null,{"$f":"I24+I65","v":0}]
[null,"NOFO båtdispergering - høy doseringsrate",null,{"$f":"C23+C66","v":0},null,{"$f":"E23+E66","v":0},null,{"$f":"G23+G66","v":0},null,{"$f":"I23+I66","v":0}]
[null,"NOFO J med overløpsskimmer (sekundærkonfigurasjon)",null,{"$f":"C30+C72","v":0},null,{"$f":"E30+E72","v":0},null,{"$f":"G30+G72","v":0},null,{"$f":"I30+I72","v":0}]
[null,"NOFO J med høyviskositetsskimmer (sekundærkonfigurasjon)",null,{"$f":"C31+C73","v":0},null,{"$f":"E31+E73","v":0},null,{"$f":"G31+G73","v":0},null,{"$f":"I31+I73","v":0}]
[null,"NOFO havgående høyhastighetssystem (sekundærkonfigurasjon)",null,{"$f":"C32+C74","v":0},null,{"$f":"E32+E74","v":0},null,{"$f":"G32+G74","v":0},null,{"$f":"I32+I74","v":0}]
[null,"NOFO båtdispergering - lav doseringsrate (sekundærkonfigurasjon)",null,{"$f":"C34+C75","v":0},null,{"$f":"E34+E75","v":0},null,{"$f":"G34+G75","v":0},null,{"$f":"I34+I75","v":0}]
[null,"NOFO båtdispergering - høy doseringsrate (sekundærkonfigurasjon)",null,{"$f":"C76+C33","v":0},null,{"$f":"E76+E33","v":0},null,{"$f":"G76+G33","v":0},null,{"$f":"I76+I33","v":0}]
[null,"Samlet ytelse av barriere 1 og 2 (Sm3/d)",null,{"$f":"D42+D84","v":642.04113184773098},null,{"$f":"F42+F84","v":756.20472609321405},null,{"$f":"H42+H84","v":819.73930391055274},null,{"$f":"J42+J84","v":784.0703877740757}]
[null,"Beregnet effektivitet av barriere 1 og 2 (%)",null,{"$f":"D102/(D12+D54)","v":0.34859992787735072},null,{"$f":"F102/(F12+F54)","v":0.56064013143438107},null,{"$f":"H102/(H12+H54)","v":0.68657710834852059},null,{"$f":"J102/(J12+J54)","v":0.47394616346772894}]

{"sheet":"4. Barriere 3 og 4","index":5,"n_rows":74,"n_cols":11,"rows_kept":74,"cut":false,"hidden":false,"merged":[]}
[" "]
[null,"Valg av bekjempelse i barriere 3 og 4"]
[]
[null,null,null,"Vinter",null,"Vår",null,"Sommer",null,"Høst"]
[null,"Parameter",null,"5°C - 10 m/s vind",null,"5°C - 5 m/s vind",null,"15°C - 5 m/s vind",null,"15°C - 10 m/s vind"]
[null,"95-persentil av strandet emulsjonsmengde (tonn)",null,{"$f":"'1. Input fra oljedrift og MRA'!C31","v":100},null,{"$f":"'1. Input fra oljedrift og MRA'!C32","v":100},null,{"$f":"'1. Input fra oljedrift og MRA'!C33","v":100},null,{"$f":"'1. Input fra oljedrift og MRA'!C34","v":100}]
[null,"Samlet barriereeffektivitet i barriere 1 (%)",null,{"$f":"'3. Barriere 1 og 2'!D41","v":0.45380737500000001},null,{"$f":"'3. Barriere 1 og 2'!F41","v":0.65882043750000008},null,{"$f":"'3. Barriere 1 og 2'!H41","v":0.77352770000000015},null,{"$f":"'3. Barriere 1 og 2'!J41","v":0.59357792499999995}]
[null,"Strandet mengde etter effekt av barriere 1 (tonn)",null,{"$f":"D6*(1-D7)","v":54.619262499999998},null,{"$f":"F6*(1-F7)","v":34.117956249999992},null,{"$f":"H6*(1-H7)","v":22.647229999999986},null,{"$f":"J6*(1-J7)","v":40.642207500000005}]
[null,"Samlet barriereeffektivitet i barriere 2 (%)",null,{"$f":"'3. Barriere 1 og 2'!D83","v":0.22690368750000001},null,{"$f":"'3. Barriere 1 og 2'!F83","v":0.32941021874999998},null,{"$f":"'3. Barriere 1 og 2'!H83","v":0.38676385000000008},null,{"$f":"'3. Barriere 1 og 2'!J83","v":0.29678896250000003}]
[null,"Strandet mengde etter effekt av barriere 2 (tonn)",null,{"$f":"D8*(1-D9)","v":42.225950430219527},null,{"$f":"F8*(1-F9)","v":22.879152818384565},null,{"$f":"H8*(1-H9)","v":13.888100133364489},null,{"$f":"J8*(1-J9)","v":28.580048902365284}]
[null,"Antall døgn hvor stranding forekommer (d)",null,10,null,10,null,10,null,10]
[null,"Emulsjonsmengde tilgjengelig for opptak i barriere 3 (tonn/d)",null,{"$f":"ROUNDUP(D10/D11,0)","v":5},null,{"$f":"ROUNDUP(F10/F11,0)","v":3},null,{"$f":"ROUNDUP(H10/H11,0)","v":2},null,{"$f":"ROUNDUP(J10/J11,0)","v":3}]
[]
[]
[null,"Beredskapsbehov i barriere 3"]
[null,"Beregnet behov for Kystsystemer",null,{"$f":"(D12/Sys.Kapasitet!$C$11)","v":7.215007215007215E-3},null,{"$f":"(F12/Sys.Kapasitet!$C$11)","v":4.329004329004329E-3},null,{"$f":"(H12/Sys.Kapasitet!$C$11)","v":2.886002886002886E-3},null,{"$f":"(J12/Sys.Kapasitet!$C$11)","v":4.329004329004329E-3}]
[null,"Antatt behov for Kystsystemer",null,{"$f":"IF(D16<1,ROUNDUP(D16,0) & \" Kystsystem\",ROUNDUP(D16,0) & \" Kystsystemer\")","v":"1 Kystsystem"},null,{"$f":"IF(F16<1,ROUNDUP(F16,0) & \" Kystsystem\",ROUNDUP(F16,0) & \" Kystsystemer\")","v":"1 Kystsystem"},null,{"$f":"IF(H16<1,ROUNDUP(H16,0) & \" Kystsystem\",ROUNDUP(H16,0) & \" Kystsystemer\")","v":"1 Kystsystem"},null,{"$f":"IF(J16<1,ROUNDUP(J16,0) & \" Kystsystem\",ROUNDUP(J16,0) & \" Kystsystemer\")","v":"1 Kystsystem"}]
[null,"Beredskapsløsning i barriere 3","Antall","Ytelse - Vinter","Antall","Ytelse - Vår","Antall","Ytelse - Sommer","Antall","Ytelse - Høst"]
[null,"Høyhastighetssystem kyst",1,{"$f":"C19*'2. Effektivitet'!C50","v":74},1,{"$f":"E19*'2. Effektivitet'!D50","v":125},1,{"$f":"G19*'2. Effektivitet'!E50","v":154},1,{"$f":"I19*'2. Effektivitet'!F50","v":95}]
[null,"Konvensjonelt system kyst",0,{"$f":"(C20*'2. Effektivitet'!C50)/2","v":0},0,{"$f":"(E20*'2. Effektivitet'!D50)/2","v":0},0,{"$f":"(G20*'2. Effektivitet'!E50)/2","v":0},0,{"$f":"(I20*'2. Effektivitet'!F50)/2","v":0}]
[null,"Kapasitet av valgt beredskapsløsning (Sm3/d)",null,{"$f":"ROUNDDOWN(SUM(D19:D20),0)","v":74},null,{"$f":"ROUNDDOWN(SUM(F19:F20),0)","v":125},null,{"$f":"ROUNDDOWN(SUM(H19:H20),0)","v":154},null,{"$f":"ROUNDDOWN(SUM(J19:J20),0)","v":95},3]
[null,"Gjenværende emulsjon tilgjengelig for bekjempelse (Sm3/d)",null,{"$f":"IF(D12>D21,D12-D21,\"Behov dekket\")","v":"Behov dekket"},null,{"$f":"IF(F12>F21,F12-F21,\"Behov dekket\")","v":"Behov dekket"},null,{"$f":"IF(H12>H21,H12-H21,\"Behov dekket\")","v":"Behov dekket"},null,{"$f":"IF(J12>J21,J12-J21,\"Behov dekket\")","v":"Behov dekket"}]
[null,"Effektivitet av systemer i primærkonfigurasjon (%)",null,{"$f":"IF(SUM(D19:D20)>0,((C19*(Sys.Effektivitet!C16/100))+(C20*(Sys.Effektivitet!C18/100)))/SUM(C19:C20),\"Velg beredskapsløsning\")","v":0.86594482120838479},null,{"$f":"IF(SUM(F19:F20)>0,((E19*(Sys.Effektivitet!D16/100))+(E20*(Sys.Effektivitet!D18/100)))/SUM(E19:E20),\"Velg beredskapsløsning\")","v":0.88054612337294857},null,{"$f":"IF(SUM(H19:H20)>0,((G19*(Sys.Effektivitet!E16/100))+(G20*(Sys.Effektivitet!E18/100)))/SUM(G19:G20),\"Velg beredskapsløsning\")","v":0.8968984458735263},null,{"$f":"IF(SUM(J19:J20)>0,((I19*(Sys.Effektivitet!F16/100))+(I20*(Sys.Effektivitet!F18/100)))/SUM(I19:I20),\"Velg beredskapsløsning\")","v":0.88499459751485676}]
[null,"Ytelse av valgt beredskapsløsning i primærkonfigurasjon (Sm3/d)",null,{"$f":"IF(D21>0,D21*D23,\"Velg beredskapsløsning\")","v":64.079916769420478},null,{"$f":"IF(F21>0,F21*F23,\"Velg beredskapsløsning\")","v":110.06826542161858},null,{"$f":"IF(H21>0,H21*H23,\"Velg beredskapsløsning\")","v":138.12236066452306},null,{"$f":"IF(J21>0,J21*J23,\"Velg beredskapsløsning\")","v":84.074486763911395}]
[null,"Emulsjonsmengde ut av primærkonfigurasjon (Sm3/d)",null,{"$f":"IF(D21=0,D12,(IF(D21<D12,D12-D24,D12*(1-D23))))","v":0.67027589395807607},null,{"$f":"IF(F21=0,F12,(IF(F21<F12,F12-F24,F12*(1-F23))))","v":0.35836162988115428},null,{"$f":"IF(H21=0,H12,(IF(H21<H12,H12-H24,H12*(1-H23))))","v":0.20620310825294741},null,{"$f":"IF(J21=0,J12,(IF(J21<J12,J12-J24,J12*(1-J23))))","v":0.34501620745542971}]
[null,"NOFO J overløp",0,{"$f":"C26*Sys.Kapasitet!$C$36","v":0},0,{"$f":"E26*Sys.Kapasitet!$C$36","v":0},0,{"$f":"G26*Sys.Kapasitet!$C$36","v":0},0,{"$f":"I26*Sys.Kapasitet!$C$36","v":0}]
[null,"NOFO J HiVisc",0,{"$f":"C27*Sys.Kapasitet!$C$38","v":0},0,{"$f":"E27*Sys.Kapasitet!$C$38","v":0},0,{"$f":"G27*Sys.Kapasitet!$C$38","v":0},0,{"$f":"I27*Sys.Kapasitet!$C$38","v":0}]
[null,"MOS Sweeper",0,{"$f":"C28*Sys.Kapasitet!$C$40","v":0},0,{"$f":"E28*Sys.Kapasitet!$C$40","v":0},0,{"$f":"G28*Sys.Kapasitet!$C$40","v":0},0,{"$f":"I28*Sys.Kapasitet!$C$40","v":0}]
[null,"Høyhastighetssystem kyst",0,{"$f":"(C29*'2. Effektivitet'!C50)*0.75","v":0},0,{"$f":"(E29*'2. Effektivitet'!D50)*0.75","v":0},0,{"$f":"(G29*'2. Effektivitet'!E50)*0.75","v":0},0,{"$f":"(I29*'2. Effektivitet'!F50)*0.75","v":0}]
[null,"Konvensjonelt system kyst",0,{"$f":"((C30*'2. Effektivitet'!C50)/2)*0.75","v":0},0,{"$f":"((E30*'2. Effektivitet'!D50)/2)*0.75","v":0},0,{"$f":"((G30*'2. Effektivitet'!E50)/2)*0.75","v":0},0,{"$f":"((I30*'2. Effektivitet'!F50)/2)*0.75","v":0}]
[null,"Kapasitet av sekundærkonfigurasjon (Sm3/d)",null,{"$f":"ROUNDDOWN(SUM(D26:D30),0)","v":0},null,{"$f":"ROUNDDOWN(SUM(F26:F30),0)","v":0},null,{"$f":"ROUNDDOWN(SUM(H26:H30),0)","v":0},null,{"$f":"ROUNDDOWN(SUM(J26:J30),0)","v":0}]
[null,"Gjenværende emulsjon tilgjengelig for bekjempelse (Sm3/d)",null,{"$f":"IF(D25>D31,D25-D31,\"Behov dekket\")","v":0.67027589395807607},null,{"$f":"IF(F25>F31,F25-F31,\"Behov dekket\")","v":0.35836162988115428},null,{"$f":"IF(H25>H31,H25-H31,\"Behov dekket\")","v":0.20620310825294741},null,{"$f":"IF(J25>J31,J25-J31,\"Behov dekket\")","v":0.34501620745542971}]
[null,"Effektivitet av systemer i sekundærkonfigurasjon (%)",null,{"$f":"IF(SUM(D29:D30)>0,((C29*(Sys.Effektivitet!C16/100))+(C30*(Sys.Effektivitet!C17/100)))/SUM(C29:C30),\"Ingen fartøy i sek. konfig\")","v":"Ingen fartøy i sek. konfig"},null,{"$f":"IF(SUM(F29:F30)>0,((E29*(Sys.Effektivitet!D16/100))+(E30*(Sys.Effektivitet!D17/100)))/SUM(E29:E30),\"Ingen fartøy i sek. konfig\")","v":"Ingen fartøy i sek. konfig"},null,{"$f":"IF(SUM(H29:H30)>0,((G29*(Sys.Effektivitet!E16/100))+(G30*(Sys.Effektivitet!E17/100)))/SUM(G29:G30),\"Ingen fartøy i sek. konfig\")","v":"Ingen fartøy i sek. konfig"},null,{"$f":"IF(SUM(J29:J30)>0,((I29*(Sys.Effektivitet!F16/100))+(I30*(Sys.Effektivitet!F17/100)))/SUM(I29:I30),\"Ingen fartøy i sek. konfig\")","v":"Ingen fartøy i sek. konfig"}]
[null,"Ytelse av valgt beredskapsløsning i sekundærkonfigurasjon (Sm3/d)",null,{"$f":"IF(D31>0,D31*D33,\"Ingen fartøy i sek. konfig\")","v":"Ingen fartøy i sek. konfig"},null,{"$f":"IF(F31>0,F31*F33,\"Ingen fartøy i sek. konfig\")","v":"Ingen fartøy i sek. konfig"},null,{"$f":"IF(H31>0,H31*H33,\"Ingen fartøy i sek. konfig\")","v":"Ingen fartøy i sek. konfig"},null,{"$f":"IF(J31>0,J31*J33,\"Ingen fartøy i sek. konfig\")","v":"Ingen fartøy i sek. konfig"}]
[null,"Emulsjonsmengde ut av sekundærkonfigurasjon (Sm3/d)",null,{"$f":"IF(D31=0,D25,(IF(D31<D25,D25-D34,D25*(1-D33))))","v":0.67027589395807607},null,{"$f":"IF(F31=0,F25,(IF(F31<F25,F25-F34,F25*(1-F33))))","v":0.35836162988115428},null,{"$f":"IF(H31=0,H25,(IF(H31<H25,H25-H34,H25*(1-H33))))","v":0.20620310825294741},null,{"$f":"IF(J31=0,J25,(IF(J31<J25,J25-J34,J25*(1-J33))))","v":0.34501620745542971}]
[null,"Status",null,{"$f":"IF(SUM(D19+D20+D29+D30)>D12,\"Valgt beredskapsløsning er tilstrekkelig for å bekjempe beregnet emulsjonsmengde på havoverflaten\",\"Valgt beredskapsløsning er ikke tilstrekkelig for å bekjempe beregnet emulsjonsmengde på havoverflaten\")","v":"Valgt beredskapsløsning er tilstrekkelig for å bekjempe beregnet emulsjonsmengde på havoverflaten"},null,{"$f":"IF(SUM(F19+F20+F29+F30)>F12,\"Valgt beredskapsløsning er tilstrekkelig for å bekjempe beregnet emulsjonsmengde på havoverflaten\",\"Valgt beredskapsløsning er ikke tilstrekkelig for å bekjempe beregnet emulsjonsmengde på havoverflaten\")","v":"Valgt beredskapsløsning er tilstrekkelig for å bekjempe beregnet emulsjonsmengde på havoverflaten"},null,{"$f":"IF(SUM(H19+H20+H29+H30)>H12,\"Valgt beredskapsløsning er tilstrekkelig for å bekjempe beregnet emulsjonsmengde på havoverflaten\",\"Valgt beredskapsløsning er ikke tilstrekkelig for å bekjempe beregnet emulsjonsmengde på havoverflaten\")","v":"Valgt beredskapsløsning er tilstrekkelig for å bekjempe beregnet emulsjonsmengde på havoverflaten"},null,{"$f":"IF(SUM(J19+J20+J29+J30)>J12,\"Valgt beredskapsløsning er tilstrekkelig for å bekjempe beregnet emulsjonsmengde på havoverflaten\",\"Valgt beredskapsløsning er ikke tilstrekkelig for å bekjempe beregnet emulsjonsmengde på havoverflaten\")","v":"Valgt beredskapsløsning er tilstrekkelig for å bekjempe beregnet emulsjonsmengde på havoverflaten"}]
[null,"Total barriereeffektivitet i barriere 3 (%)",null,{"$f":"D38/D12","v":0.8659448212083849},null,{"$f":"F38/F12","v":0.88054612337294857},null,{"$f":"H38/H12","v":0.8968984458735263},null,{"$f":"J38/J12","v":0.88499459751485665}]
[null,"Total ytelse av barriere 3 (Sm3/d)",null,{"$f":"D12-D35","v":4.3297241060419243},null,{"$f":"F12-F35","v":2.6416383701188457},null,{"$f":"H12-H35","v":1.7937968917470526},null,{"$f":"J12-J35","v":2.6549837925445701}]
[null,"Emulsjonsmengde ut av barriere 3 (Sm3/d)",null,{"$f":"D35","v":0.67027589395807607},null,{"$f":"F35","v":0.35836162988115428},null,{"$f":"H35","v":0.20620310825294741},null,{"$f":"J35","v":0.34501620745542971}]
[]
[]
[null,null,null,"Vinter",null,"Vår",null,"Sommer",null,"Høst"]
[null,"Parameter",null,"5°C - 10 m/s vind",null,"5°C - 5 m/s vind",null,"15°C - 5 m/s vind",null,"15°C - 10 m/s vind"]
[null,"Emulsjonsmengde tilgjengelig for opptak i barriere 4 (Sm3/d)",null,{"$f":"D39","v":0.67027589395807607},null,{"$f":"F39","v":0.35836162988115428},null,{"$f":"H39","v":0.20620310825294741},null,{"$f":"J39","v":0.34501620745542971}]
[]
[]
[null,"Beredskapsbehov i barriere 4",null,"Vinter",null,"Vår",null,"Sommer",null,"Høst"]
[null,"Beregnet behov for Kystsystemer",null,{"$f":"D44/Sys.Kapasitet!C15","v":8.3784486744759509E-3},null,{"$f":"F44/Sys.Kapasitet!E15","v":{"$error":"#DIV/0!"}},null,{"$f":"H44/Sys.Kapasitet!C15","v":2.5775388531618427E-3},null,{"$f":"J44/Sys.Kapasitet!E15","v":{"$error":"#DIV/0!"}}]
[null,"Antatt behov for Kystsystemer",null,{"$f":"IF(D48<1,ROUNDUP(D48,0) & \" Fjordsystem\",ROUNDUP(D48,0) & \" Fjordsystemer\")","v":"1 Fjordsystem"},null,{"$f":"IF(F48<1,ROUNDUP(F48,0) & \" Fjordsystem\",ROUNDUP(F48,0) & \" Fjordsystemer\")","v":{"$error":"#DIV/0!"}},null,{"$f":"IF(H48<1,ROUNDUP(H48,0) & \" Fjordsystem\",ROUNDUP(H48,0) & \" Fjordsystemer\")","v":"1 Fjordsystem"},null,{"$f":"IF(J48<1,ROUNDUP(J48,0) & \" Fjordsystem\",ROUNDUP(J48,0) & \" Fjordsystemer\")","v":{"$error":"#DIV/0!"}}]
[null,"Beredskapsløsning i barriere 4","Antall","Effektivitet - Vinter","Antall","Effektivitet - Vår","Antall","Effektivitet - Sommer","Antall","Effektivitet - Høst"]
[null,"NOFO J overløp",0,{"$f":"C51*Sys.Kapasitet!$C$35","v":0},0,{"$f":"E51*Sys.Kapasitet!$C$35","v":0},0,{"$f":"G51*Sys.Kapasitet!$C$35","v":0},0,{"$f":"I51*Sys.Kapasitet!$C$35","v":0}]
[null,"NOFO J HiVisc",0,{"$f":"C52*Sys.Kapasitet!$C$37","v":0},0,{"$f":"E52*Sys.Kapasitet!$C$37","v":0},0,{"$f":"G52*Sys.Kapasitet!$C$37","v":0},0,{"$f":"I52*Sys.Kapasitet!$C$37","v":0}]
[null,"MOS Sweeper",0,{"$f":"C53*Sys.Kapasitet!$C$39","v":0},0,{"$f":"E53*Sys.Kapasitet!$C$39","v":0},0,{"$f":"G53*Sys.Kapasitet!$C$39","v":0},0,{"$f":"I53*Sys.Kapasitet!$C$39","v":0}]
[null,"NOFO båtdispergering Høy",0,{"$f":"C54*Sys.Kapasitet!$C$41","v":0},0,{"$f":"E54*Sys.Kapasitet!$C$41","v":0},0,{"$f":"G54*Sys.Kapasitet!$C$41","v":0},0,{"$f":"I54*Sys.Kapasitet!$C$41","v":0}]
[null,"NOFO båtdispergering Lav",0,{"$f":"C55*Sys.Kapasitet!$C$43","v":0},0,{"$f":"E55*Sys.Kapasitet!$C$43","v":0},0,{"$f":"G55*Sys.Kapasitet!$C$43","v":0},0,{"$f":"I55*Sys.Kapasitet!$C$43","v":0}]
[null,"NOFO Barriere 4-pakke",{"$f":"'1. Input fra oljedrift og MRA'!C40*4","v":4},{"$f":"(Sys.Effektivitet!C19/100)","v":0.81799999999999995},{"$f":"'1. Input fra oljedrift og MRA'!C41*4","v":8},{"$f":"(Sys.Effektivitet!D19/100)","v":0.82199999999999984},{"$f":"'1. Input fra oljedrift og MRA'!C42*4","v":12},{"$f":"(Sys.Effektivitet!E19/100)","v":0.89400000000000002},{"$f":"'1. Input fra oljedrift og MRA'!C43*4","v":16},{"$f":"(Sys.Effektivitet!F19/100)","v":0.84399999999999986}]
[null,"Emulsjonsmengde ut av barriere 4 (Sm3/d)",null,{"$f":"IF(D44>0,D44*(1-D56),\"Ingen\")","v":0.12199021270036987},null,{"$f":"IF(F44>0,F44*(1-F56),\"Ingen\")","v":6.3788370118845514E-2},null,2.1857529474812423E-2,null,5.382252836304708E-2]
[null,"NOFO J overløp",0,{"$f":"C58*Sys.Kapasitet!C36","v":0},0,{"$f":"E58*Sys.Kapasitet!E36","v":0},0,{"$f":"G58*Sys.Kapasitet!C36","v":0},0,{"$f":"I58*Sys.Kapasitet!E36","v":0}]
[null,"NOFO J HiVisc",0,{"$f":"C59*Sys.Kapasitet!C38","v":0},0,{"$f":"E59*Sys.Kapasitet!E38","v":0},0,{"$f":"G59*Sys.Kapasitet!C38","v":0},0,{"$f":"I59*Sys.Kapasitet!E38","v":0}]
[null,"MOS Sweeper",0,{"$f":"C60*Sys.Kapasitet!C40","v":0},0,{"$f":"E60*Sys.Kapasitet!E40","v":0},0,{"$f":"G60*Sys.Kapasitet!C40","v":0},0,{"$f":"I60*Sys.Kapasitet!E40","v":0}]
[]
[]
[null,null,null,"Vinter",null,"Vår",null,"Sommer",null,"Høst"]
[null,"Parameter",null,"5°C - 10 m/s vind",null,"5°C - 5 m/s vind",null,"15°C - 5 m/s vind",null,"15°C - 10 m/s vind"]
[null,"Emulsjonsmengde ut av barriere 3 og 4 (Sm3/d)",null,{"$f":"D57","v":0.12199021270036987},null,{"$f":"F57","v":6.3788370118845514E-2},null,{"$f":"H57","v":2.1857529474812423E-2},null,{"$f":"J57","v":5.382252836304708E-2}]
[null,"Totalt antall systemer i barriere 3 og 4"]
[null,"NOFO J med overløpsopptaker",null,{"$f":"#REF!+C51","v":{"$error":"#REF!"}},null,{"$f":"#REF!+E51","v":{"$error":"#REF!"}},null,{"$f":"#REF!+G51","v":{"$error":"#REF!"}},null,{"$f":"#REF!+I51","v":{"$error":"#REF!"}}]
[null,"NOFO J med HiVisc oljeooptaker",null,{"$f":"#REF!+C52","v":{"$error":"#REF!"}},null,{"$f":"#REF!+E52","v":{"$error":"#REF!"}},null,{"$f":"#REF!+G52","v":{"$error":"#REF!"}},null,{"$f":"#REF!+I52","v":{"$error":"#REF!"}}]
[null,"MOS Sweeper",null,{"$f":"#REF!+C53","v":{"$error":"#REF!"}},null,{"$f":"#REF!+E53","v":{"$error":"#REF!"}},null,{"$f":"#REF!+G53","v":{"$error":"#REF!"}},null,{"$f":"#REF!+I53","v":{"$error":"#REF!"}}]
[null,"Høyhastighetssystem kyst",null,{"$f":"C19+C29","v":1},null,{"$f":"E19+E29","v":1},null,{"$f":"G19+G29","v":1},null,{"$f":"I19+I29","v":1}]
[null,"Konvensjonelt system kyst",null,{"$f":"C20+C30","v":0},null,{"$f":"E20+E30","v":0},null,{"$f":"G20+G30","v":0},null,{"$f":"I20+I30","v":0}]
[null,"NOFO Barriere 4-pakke",null,{"$f":"C56","v":4},null,{"$f":"E56","v":8},null,{"$f":"G56","v":12},null,{"$f":"I56","v":16}]
[null,"Total ytelse av barriere 3 og 4 (Sm3/d)",null,{"$f":"D38+(D44*D56)","v":4.8780097872996304},null,{"$f":"F38+(F44*F56)","v":2.9362116298811545},null,{"$f":"H38+(H44*H56)","v":1.9781424705251875},null,{"$f":"J38+(J44*J56)","v":2.9461774716369526}]
[null,"Beregnet effektivitet av barriere 3 og 4 (%)",null,{"$f":"D73/(D12+D44)","v":0.86027732662838519},null,{"$f":"F73/(F12+F44)","v":0.87429882587869523},null,{"$f":"H73/(H12+H44)","v":0.89662754219018526},null,{"$f":"J73/(J12+J44)","v":0.88076627702743604}]

{"sheet":"5. Barriere 5","index":6,"n_rows":27,"n_cols":10,"rows_kept":27,"cut":false,"hidden":false,"merged":[[19,1,19,7],[5,1,5,7]]}
[]
[null,"Strandrensing"]
[]
[null,null,null,"Vinter",null,"Vår",null,"Sommer",null,"Høst"]
[null,"Parameter",null,"5°C - 10 m/s vind",null,"5°C - 5 m/s vind",null,"15°C - 5 m/s vind",null,"15°C - 10 m/s vind"]
[null,"Beregningsalternativ 1"]
[null,"Strandet mengde emulsjon fra MRA (tonn)",null,{"$f":"'1. Input fra oljedrift og MRA'!C31","v":100},null,{"$f":"'1. Input fra oljedrift og MRA'!C32","v":100},null,{"$f":"'1. Input fra oljedrift og MRA'!C33","v":100},null,{"$f":"'1. Input fra oljedrift og MRA'!C34","v":100}]
[null,"Effektivitet av barriere 1 til 4 (%)",null,{"$f":"'6. Oppsummering'!C46/100","v":0.98780097872996309},null,{"$f":"'6. Oppsummering'!D46/100","v":0.99362116298811543},null,{"$f":"'6. Oppsummering'!E46/100","v":0.99781424705251875},null,{"$f":"'6. Oppsummering'!F46/100","v":0.99461774716369533}]
[null,"Ytelse av foregående barrierer (tonn)",null,{"$f":"D7*D8","v":98.780097872996308},null,{"$f":"F7*F8","v":99.362116298811543},null,{"$f":"H7*H8","v":99.781424705251879},null,{"$f":"J7*J8","v":99.461774716369533}]
[null,"Mengde emulsjon inn til barriere 5 (tonn)",null,{"$f":"D7-D9","v":1.2199021270036923},null,{"$f":"F7-F9","v":0.63788370118845705},null,{"$f":"H7-H9","v":0.21857529474812054},null,{"$f":"J7-J9","v":0.53822528363046729}]
[null,"Reduksjonsfaktor mellom B4 og B5 (%)",null,0,null,0,null,0,null,0]
[null,"Volumøkning grunnet innblanding av annet materiale (%)",null,5,null,5,null,5,null,5]
[null,"Mengde oljebefengt masse som må bekjempes i barriere 5 (tonn)",null,{"$f":"D10*(1-D11)*(IF(D12>0,(1+D12),1))","v":7.3194127620221536},null,{"$f":"F10*(1-F11)*(IF(F12>0,(1+F12),1))","v":3.8273022071307423},null,{"$f":"H10*(1-H11)*(IF(H12>0,(1+H12),1))","v":1.3114517684887232},null,{"$f":"J10*(1-J11)*(IF(J12>0,(1+J12),1))","v":3.2293517017828037}]
[null,"Antall døgn som strandrensing skal være gjennomført innen (d)",null,100,null,100,null,100,null,100]
[null,"Mengde oljebefengt masse som må bekjempes per døgn (tonn/d)",null,{"$f":"D13/D14","v":7.3194127620221539E-2},null,{"$f":"F13/F14","v":3.8273022071307422E-2},null,{"$f":"H13/H14","v":1.3114517684887233E-2},null,{"$f":"J13/J14","v":3.2293517017828038E-2}]
[null,"Kapasitet per dagsverk (tonn/d)",null,0.18,null,0.18,null,0.18,null,0.18]
[null,"Reduksjon i effektivitet grunnet kulde og mørke (%)",null,0.5,null,0,null,0,null,0]
[null,"Antall personer nødvendig for å oppnå rensing innen angitt tid (dagsverk)",null,{"$f":"ROUNDUP(D15/(IF(D17>0,(D16*(1-D17)),D16)),0) &\" (\"&ROUNDUP(D13/(IF(D17>0,(D16*(1-D17)),D16)),0)&\")\"","v":"1 (82)"},null,{"$f":"ROUNDUP(F15/(IF(F17>0,(F16*(1-F17)),F16)),0) &\" (\"&ROUNDUP(F13/(IF(F17>0,(F16*(1-F17)),F16)),0)&\")\"","v":"1 (22)"},null,{"$f":"ROUNDUP(H15/(IF(H17>0,(H16*(1-H17)),H16)),0) &\" (\"&ROUNDUP(H13/(IF(H17>0,(H16*(1-H17)),H16)),0)&\")\"","v":"1 (8)"},null,{"$f":"ROUNDUP(J15/(IF(J17>0,(J16*(1-J17)),J16)),0) &\" (\"&ROUNDUP(J13/(IF(J17>0,(J16*(1-J17)),J16)),0)&\")\"","v":"1 (18)"}]
[]
[null,"Beregningsalternativ 2"]
[null,null,null,"Vinter",null,"Vår",null,"Sommer",null,"Høst"]
[null,"Antall meter kontaminert strandlinje (m)",null,{"$f":"IF('1. Input fra oljedrift og MRA'!C26>0,'1. Input fra oljedrift og MRA'!C26,\"Ingen data\")","v":"Ingen data"},null,{"$f":"IF('1. Input fra oljedrift og MRA'!C27>0,'1. Input fra oljedrift og MRA'!C27,\"Ingen data\")","v":"Ingen data"},null,{"$f":"IF('1. Input fra oljedrift og MRA'!C28>0,'1. Input fra oljedrift og MRA'!C28,\"Ingen data\")","v":"Ingen data"},null,{"$f":"IF('1. Input fra oljedrift og MRA'!C29>0,'1. Input fra oljedrift og MRA'!C29,\"Ingen data\")","v":"Ingen data"}]
[null,"Antall døgn som strandrensing skal være gjennomført innen",null,100,null,100,null,100,null,100]
[null,"Lengde strand som må renses per døgn (m/d)",null,{"$f":"IF(D22=\"Ingen data\",\"Ingen data\",D22/D23)","v":"Ingen data"},null,{"$f":"IF(F22=\"Ingen data\",\"Ingen data\",F22/F23)","v":"Ingen data"},null,{"$f":"IF(H22=\"Ingen data\",\"Ingen data\",H22/H23)","v":"Ingen data"},null,{"$f":"IF(J22=\"Ingen data\",\"Ingen data\",J22/J23)","v":"Ingen data"}]
[null,"Lengde strand renset per dagsverk (meter/d)",null,4,null,4,null,4,null,4]
[null,"Reduksjon i effektivitet grunnet kulde og mørke",null,0.5,null,0,null,0,null,0]
[null,{"$f":"IF('1. Input fra oljedrift og MRA'!C28*'1. Input fra oljedrift og MRA'!C29>0,\"Antall personer nødvendig for å rense kontaminert strand innen angitt tid (dagsverk)\",\"Dagsverk nødvendig for å rense kontaminert strand (dagsverk)\")","v":"Dagsverk nødvendig for å rense kontaminert strand (dagsverk)"},null,{"$f":"IF(D22=\"Ingen data\",\"Ingen data\",ROUNDUP(D24/(IF(D26>0,(D25*(1-D26)),D25)),0)&\" (\"&ROUNDUP(D22/(IF(D26>0,(D25*(1-D26)),D25)),0)&\")\")","v":"Ingen data"},null,{"$f":"IF(F22=\"Ingen data\",\"Ingen data\",ROUNDUP(F24/(IF(F26>0,(F25*(1-F26)),F25)),0)&\" (\"&ROUNDUP(F22/(IF(F26>0,(F25*(1-F26)),F25)),0)&\")\")","v":"Ingen data"},null,{"$f":"IF(H22=\"Ingen data\",\"Ingen data\",ROUNDUP(H24/(IF(H26>0,(H25*(1-H26)),H25)),0)&\" (\"&ROUNDUP(H22/(IF(H26>0,(H25*(1-H26)),H25)),0)&\")\")","v":"Ingen data"},null,{"$f":"IF(J22=\"Ingen data\",\"Ingen data\",ROUNDUP(J24/(IF(J26>0,(J25*(1-J26)),J25)),0)&\" (\"&ROUNDUP(J22/(IF(J26>0,(J25*(1-J26)),J25)),0)&\")\")","v":"Ingen data"}]

{"sheet":"Ark1","index":7,"n_rows":0,"n_cols":0,"rows_kept":0,"cut":false,"hidden":true,"merged":[]}

{"sheet":"6. Oppsummering","index":8,"n_rows":46,"n_cols":6,"rows_kept":46,"cut":false,"hidden":false,"merged":[[1,1,1,3],[40,1,41,1]]}
[]
[null,"Kapasitet, ytelse og effektivitet av valgt beredskapsløsning"]
[]
[null,"Om aktiviteten"]
[null,"Navn",{"$f":"'1. Input fra oljedrift og MRA'!C7","v":"Test"}]
[null,"Type",{"$f":"'1. Input fra oljedrift og MRA'!C9","v":0}]
[null,"Dato",{"$f":"'1. Input fra oljedrift og MRA'!C13","v":"00:00:00"}]
[null,"Lokasjon",{"$f":"'1. Input fra oljedrift og MRA'!C12","v":0}]
[null,"Dim. utblåsningsrate",{"$f":"'1. Input fra oljedrift og MRA'!C10&\" Sm3/d\"","v":"1000 Sm3/d"}]
[]
[null,"Barriere 1 og 2","Vinter (5°C - 10 m/s vind)","Vår (5°C - 5 m/s vind)","Sommer (15°C - 5 m/s vind)","Høst (15°C - 10 m/s vind)"]
[null,"Emulsjonsmengde inn til barriere 1",{"$f":"ROUNDUP('3. Barriere 1 og 2'!D12,0) & \" Sm3/d\"","v":"988 Sm3/d"},{"$f":"ROUNDUP('3. Barriere 1 og 2'!F12,0) & \" Sm3/d\"","v":"947 Sm3/d"},{"$f":"ROUNDUP('3. Barriere 1 og 2'!H12,0) & \" Sm3/d\"","v":"926 Sm3/d"},{"$f":"ROUNDUP('3. Barriere 1 og 2'!J12,0) & \" Sm3/d\"","v":"988 Sm3/d"}]
[null,"Viskositet av emulsjon inn til barriere 1",{"$f":"ROUNDUP('3. Barriere 1 og 2'!D13,0)&\" cP\"","v":"966 cP"},{"$f":"ROUNDUP('3. Barriere 1 og 2'!F13,9)&\" cP\"","v":"448 cP"},{"$f":"ROUNDUP('3. Barriere 1 og 2'!H13,9)&\" cP\"","v":"308 cP"},{"$f":"ROUNDUP('3. Barriere 1 og 2'!J13,9)&\" cP\"","v":"677 cP"}]
[]
[null,"Antall og systemtyper i valgt beredskapsløsning i barriere 1 og 2"]
[null,"NOFO J med overløpsskimmer",{"$f":"'3. Barriere 1 og 2'!D92+'3. Barriere 1 og 2'!D97","v":2},{"$f":"'3. Barriere 1 og 2'!F92+'3. Barriere 1 og 2'!F97","v":2},{"$f":"'3. Barriere 1 og 2'!H92+'3. Barriere 1 og 2'!H97","v":2},{"$f":"'3. Barriere 1 og 2'!J92+'3. Barriere 1 og 2'!J97","v":2}]
[null,"NOFO J med høyviskositetsskimmer",{"$f":"'3. Barriere 1 og 2'!D93+'3. Barriere 1 og 2'!D98","v":0},{"$f":"'3. Barriere 1 og 2'!F93+'3. Barriere 1 og 2'!F98","v":0},{"$f":"'3. Barriere 1 og 2'!H93+'3. Barriere 1 og 2'!H98","v":0},{"$f":"'3. Barriere 1 og 2'!J93+'3. Barriere 1 og 2'!J98","v":0}]
[null,"NOFO havgående høyhastighetssystem",{"$f":"'3. Barriere 1 og 2'!D94+'3. Barriere 1 og 2'!D99","v":0},{"$f":"'3. Barriere 1 og 2'!F94+'3. Barriere 1 og 2'!F99","v":0},{"$f":"'3. Barriere 1 og 2'!H94+'3. Barriere 1 og 2'!H99","v":0},{"$f":"'3. Barriere 1 og 2'!J94+'3. Barriere 1 og 2'!J99","v":0}]
[null,"NOFO båtdispergering - lav doseringsrate",{"$f":"'3. Barriere 1 og 2'!D95+'3. Barriere 1 og 2'!D100","v":0},{"$f":"'3. Barriere 1 og 2'!F95+'3. Barriere 1 og 2'!F100","v":0},{"$f":"'3. Barriere 1 og 2'!H95+'3. Barriere 1 og 2'!H100","v":0},{"$f":"'3. Barriere 1 og 2'!J95+'3. Barriere 1 og 2'!J100","v":0}]
[null,"NOFO båtdispergering - høy doseringsrate",{"$f":"'3. Barriere 1 og 2'!D96+'3. Barriere 1 og 2'!D101","v":0},{"$f":"'3. Barriere 1 og 2'!F96+'3. Barriere 1 og 2'!F101","v":0},{"$f":"'3. Barriere 1 og 2'!H96+'3. Barriere 1 og 2'!H101","v":0},{"$f":"'3. Barriere 1 og 2'!J96+'3. Barriere 1 og 2'!J101","v":0}]
[null,"Emulsjonsdannelse mellom barriere 1 og 2",{"$f":"ROUNDUP(('3. Barriere 1 og 2'!D54-'3. Barriere 1 og 2'!D43),0)&\" Sm3/d\"","v":"315 Sm3/d"},{"$f":"ROUNDUP(('3. Barriere 1 og 2'!F54-'3. Barriere 1 og 2'!F43),0)&\" Sm3/d\"","v":"79 Sm3/d"},{"$f":"ROUNDUP(('3. Barriere 1 og 2'!H54-'3. Barriere 1 og 2'!H43),0)&\" Sm3/d\"","v":"59 Sm3/d"},{"$f":"ROUNDUP(('3. Barriere 1 og 2'!J54-'3. Barriere 1 og 2'!J43),0)&\" Sm3/d\"","v":"266 Sm3/d"}]
[null,"Ytelse av valgt beredskapsløsning i barriere 1 og 2",{"$f":"ROUNDUP('3. Barriere 1 og 2'!D102,0)&\" Sm3/d\"","v":"643 Sm3/d"},{"$f":"ROUNDUP('3. Barriere 1 og 2'!F102,0)&\" Sm3/d\"","v":"757 Sm3/d"},{"$f":"ROUNDUP('3. Barriere 1 og 2'!H102,0)&\" Sm3/d\"","v":"820 Sm3/d"},{"$f":"ROUNDUP('3. Barriere 1 og 2'!J102,0)&\" Sm3/d\"","v":"785 Sm3/d"}]
[null,"Emulsjonsmengde ut av barriere 2",{"$f":"ROUNDUP('3. Barriere 1 og 2'!D85,0) & \" Sm3/d\"","v":"661 Sm3/d"},{"$f":"ROUNDUP('3. Barriere 1 og 2'!F85,0) & \" Sm3/d\"","v":"270 Sm3/d"},{"$f":"ROUNDUP('3. Barriere 1 og 2'!H85,0) & \" Sm3/d\"","v":"165 Sm3/d"},{"$f":"ROUNDUP('3. Barriere 1 og 2'!J85,0) & \" Sm3/d\"","v":"469 Sm3/d"}]
[null,"Effekt av barriere 1 og 2",{"$f":"'3. Barriere 1 og 2'!D103","v":0.34859992787735072},{"$f":"'3. Barriere 1 og 2'!F103","v":0.56064013143438107},{"$f":"'3. Barriere 1 og 2'!H103","v":0.68657710834852059},{"$f":"'3. Barriere 1 og 2'!J103","v":0.47394616346772894}]
[]
[null,"Barriere 3 og 4","Vinter (5°C - 10 m/s vind)","Vår (5°C - 5 m/s vind)","Sommer (15°C - 5 m/s vind)","Høst (15°C - 10 m/s vind)"]
[null,"Emulsjonsmengde inn til barriere 3",{"$f":"ROUNDUP('4. Barriere 3 og 4'!D12,0) & \" tonn/d\"","v":"5 tonn/d"},{"$f":"ROUNDUP('4. Barriere 3 og 4'!F12,0) & \" tonn/d\"","v":"3 tonn/d"},{"$f":"ROUNDUP('4. Barriere 3 og 4'!H12,0) & \" tonn/d\"","v":"2 tonn/d"},{"$f":"ROUNDUP('4. Barriere 3 og 4'!J12,0) & \" tonn/d\"","v":"3 tonn/d"}]
[]
[null,"Antall og systemtyper i valgt beredskapsløsning i barriere 3 og 4"]
[null,"Høyhastighetssystem kyst",{"$f":"'4. Barriere 3 og 4'!D70","v":1},{"$f":"'4. Barriere 3 og 4'!F70","v":1},{"$f":"'4. Barriere 3 og 4'!H70","v":1},{"$f":"'4. Barriere 3 og 4'!J70","v":1}]
[null,"Konvensjonelt system kyst",{"$f":"'4. Barriere 3 og 4'!D71","v":0},{"$f":"'4. Barriere 3 og 4'!F71","v":0},{"$f":"'4. Barriere 3 og 4'!H71","v":0},{"$f":"'4. Barriere 3 og 4'!J71","v":0}]
[null,"NOFO Barriere 4-pakke",{"$f":"'4. Barriere 3 og 4'!D72","v":4},{"$f":"'4. Barriere 3 og 4'!F72","v":8},{"$f":"'4. Barriere 3 og 4'!H72","v":12},{"$f":"'4. Barriere 3 og 4'!J72","v":16}]
[null,"Ytelse av valgt beredskapsløsning i barriere 3 og 4",{"$f":"ROUNDUP('4. Barriere 3 og 4'!D73,0)& \" Sm3/d\"","v":"5 Sm3/d"},{"$f":"ROUNDUP('4. Barriere 3 og 4'!F73,0)& \" Sm3/d\"","v":"3 Sm3/d"},{"$f":"ROUNDUP('4. Barriere 3 og 4'!H73,0)& \" Sm3/d\"","v":"2 Sm3/d"},{"$f":"ROUNDUP('4. Barriere 3 og 4'!J73,0)& \" Sm3/d\"","v":"3 Sm3/d"}]
[null,"Emulsjonsmengde ut av barriere 4",{"$f":"ROUNDUP('4. Barriere 3 og 4'!D65,0)&\" Sm3/d\"","v":"1 Sm3/d"},{"$f":"ROUNDUP('4. Barriere 3 og 4'!F65,0)&\" Sm3/d\"","v":"1 Sm3/d"},{"$f":"ROUNDUP('4. Barriere 3 og 4'!H65,0)&\" Sm3/d\"","v":"1 Sm3/d"},{"$f":"ROUNDUP('4. Barriere 3 og 4'!J65,0)&\" Sm3/d\"","v":"1 Sm3/d"}]
[null,"Effekt av barriere 3 og 4",{"$f":"'4. Barriere 3 og 4'!D74","v":0.86027732662838519},{"$f":"'4. Barriere 3 og 4'!F74","v":0.87429882587869523},{"$f":"'4. Barriere 3 og 4'!H74","v":0.89662754219018526},{"$f":"'4. Barriere 3 og 4'!J74","v":0.88076627702743604}]
[]
[null,"Barriere 5","Vinter (5°C - 10 m/s vind)","Sommer (15°C - 5 m/s vind)","Sommer (15°C - 5 m/s vind)","Sommer (15°C - 5 m/s vind)"]
[null,"Dimensjonerende parameter for barriere 5",{"$f":"IF('5. Barriere 5'!#REF!=\"Beregningsalternativ 1\",\"Strandet mengde emulsjon\",\"Antall meter kontaminert strandlinje\")","v":{"$error":"#REF!"}},{"$f":"IF('5. Barriere 5'!#REF!=\"Beregningsalternativ 1\",\"Strandet mengde emulsjon\",\"Antall meter kontaminert strandlinje\")","v":{"$error":"#REF!"}},{"$f":"IF('5. Barriere 5'!#REF!=\"Beregningsalternativ 1\",\"Strandet mengde emulsjon\",\"Antall meter kontaminert strandlinje\")","v":{"$error":"#REF!"}},{"$f":"IF('5. Barriere 5'!#REF!=\"Beregningsalternativ 1\",\"Strandet mengde emulsjon\",\"Antall meter kontaminert strandlinje\")","v":{"$error":"#REF!"}}]
[null,"Antall døgn strandrensing skal være gjennomført innen",{"$f":"IF(C38=\"Strandet mengde emulsjon\",'5. Barriere 5'!D14&\" døgn\",'5. Barriere 5'!D23&\" døgn\")","v":{"$error":"#REF!"}},{"$f":"IF(D38=\"Strandet mengde emulsjon\",'5. Barriere 5'!H14&\" døgn\",'5. Barriere 5'!H23&\" døgn\")","v":{"$error":"#REF!"}},{"$f":"IF(E38=\"Strandet mengde emulsjon\",'5. Barriere 5'!I14&\" døgn\",'5. Barriere 5'!I23&\" døgn\")","v":{"$error":"#REF!"}},{"$f":"IF(F38=\"Strandet mengde emulsjon\",'5. Barriere 5'!J14&\" døgn\",'5. Barriere 5'!J23&\" døgn\")","v":{"$error":"#REF!"}}]
[null,"Mengde emulsjon/antall meter strandlinje som må bekjempes per dag",{"$f":"IF(C38=\"Strandet mengde emulsjon\",ROUNDUP('5. Barriere 5'!D15,2)&\" tonn/d\",ROUNDUP('5. Barriere 5'!D24,2)&\" m/d\")","v":{"$error":"#REF!"}},{"$f":"IF(D38=\"Strandet mengde emulsjon\",ROUNDUP('5. Barriere 5'!H15,2)&\" tonn/d\",ROUNDUP('5. Barriere 5'!H24,2)&\" m/d\")","v":{"$error":"#REF!"}},{"$f":"IF(E38=\"Strandet mengde emulsjon\",ROUNDUP('5. Barriere 5'!I15,2)&\" tonn/d\",ROUNDUP('5. Barriere 5'!I24,2)&\" m/d\")","v":{"$error":"#REF!"}},{"$f":"IF(F38=\"Strandet mengde emulsjon\",ROUNDUP('5. Barriere 5'!J15,2)&\" tonn/d\",ROUNDUP('5. Barriere 5'!J24,2)&\" m/d\")","v":{"$error":"#REF!"}}]
[null,"Antall personer nødvendig for å oppnå rensing innen angitt tid",{"$f":"'5. Barriere 5'!#REF!","v":{"$error":"#REF!"}},{"$f":"'5. Barriere 5'!#REF!","v":{"$error":"#REF!"}},{"$f":"'5. Barriere 5'!#REF!","v":{"$error":"#REF!"}},{"$f":"'5. Barriere 5'!#REF!","v":{"$error":"#REF!"}}]
[null,null,{"$f":"\"Personer (dagsverk)\"","v":"Personer (dagsverk)"},{"$f":"\"Personer (dagsverk)\"","v":"Personer (dagsverk)"},{"$f":"\"Personer (dagsverk)\"","v":"Personer (dagsverk)"},{"$f":"\"Personer (dagsverk)\"","v":"Personer (dagsverk)"}]
[null,"Reduksjon i effektivitet grunnet kulde og mørke",{"$f":"IF(C38=\"Strandet mengde emulsjon\",'5. Barriere 5'!D17&\" %\",'5. Barriere 5'!D26&\" %\")","v":{"$error":"#REF!"}},{"$f":"IF(D38=\"Strandet mengde emulsjon\",'5. Barriere 5'!H17&\" %\",'5. Barriere 5'!H26&\" %\")","v":{"$error":"#REF!"}},{"$f":"IF(E38=\"Strandet mengde emulsjon\",'5. Barriere 5'!I17&\" %\",'5. Barriere 5'!I26&\" %\")","v":{"$error":"#REF!"}},{"$f":"IF(F38=\"Strandet mengde emulsjon\",'5. Barriere 5'!J17&\" %\",'5. Barriere 5'!J26&\" %\")","v":{"$error":"#REF!"}}]
[]
[null,"Samlet effektivitet B1 - B3",{"$f":"-((('4. Barriere 3 og 4'!D11*'4. Barriere 3 og 4'!D39)/'1. Input fra oljedrift og MRA'!C31)*100)+100","v":93.297241060419239},{"$f":"-((('4. Barriere 3 og 4'!F11*'4. Barriere 3 og 4'!F39)/'1. Input fra oljedrift og MRA'!C32)*100)+100","v":96.416383701188451},{"$f":"-((('4. Barriere 3 og 4'!H11*'4. Barriere 3 og 4'!H39)/'1. Input fra oljedrift og MRA'!C33)*100)+100","v":97.937968917470528},{"$f":"-((('4. Barriere 3 og 4'!J11*'4. Barriere 3 og 4'!J39)/'1. Input fra oljedrift og MRA'!C33)*100)+100","v":96.549837925445701}]
[null,"Samlet effektivitet B1 - B4",{"$f":"-((('4. Barriere 3 og 4'!D11*'4. Barriere 3 og 4'!D65)/'1. Input fra oljedrift og MRA'!C31)*100)+100","v":98.780097872996308},{"$f":"-((('4. Barriere 3 og 4'!F11*'4. Barriere 3 og 4'!F65)/'1. Input fra oljedrift og MRA'!C32)*100)+100","v":99.362116298811543},{"$f":"-((('4. Barriere 3 og 4'!H11*'4. Barriere 3 og 4'!H65)/'1. Input fra oljedrift og MRA'!C33)*100)+100","v":99.781424705251879},{"$f":"-((('4. Barriere 3 og 4'!J11*'4. Barriere 3 og 4'!J65)/'1. Input fra oljedrift og MRA'!C33)*100)+100","v":99.461774716369533}]

{"sheet":"Par.","index":9,"n_rows":7,"n_cols":7,"rows_kept":7,"cut":false,"hidden":true,"merged":[]}
[]
[null,"Systemgruppe","Effektivitet Vinter","Effektivitet Sommer","Effektivitet vår","Effektivitet høst","Datakilde"]
[null,"A (Hs 4)",{"$f":"'2. Effektivitet'!C31*100","v":45.380737500000002},{"$f":"'2. Effektivitet'!E31*100","v":77.352770000000007},{"$f":"'2. Effektivitet'!D31*100","v":65.882043749999994},{"$f":"'2. Effektivitet'!F31*100","v":59.357792499999995},"NORA"]
[null,"B (2.5)"]
[null,"C (OSRL)"]
[null,"D (Hs 1,5)",{"$f":"'2. Effektivitet'!M31*100","v":86.594482120838478},{"$f":"'2. Effektivitet'!O31*100","v":89.689844587352624},{"$f":"'2. Effektivitet'!N31*100","v":88.054612337294856},{"$f":"'2. Effektivitet'!P31*100","v":88.499459751485674},"Trondheimsfjorden"]
[null,"E (Hs 1)",{"$f":"'2. Effektivitet'!M42*100","v":81.8},{"$f":"'2. Effektivitet'!O42*100","v":89.4},{"$f":"'2. Effektivitet'!N42*100","v":82.199999999999989},{"$f":"'2. Effektivitet'!P42*100","v":84.399999999999991},"Trondheimsfjorden"]

{"sheet":"Sys.Kapasitet","index":10,"n_rows":46,"n_cols":5,"rows_kept":46,"cut":false,"hidden":true,"merged":[]}
[]
[]
[]
[null,"Barriere 1 ",null,null,"Tidsandel med tilgang til emulsjon"]
[null,"NOFO J m/overløp (primærkonfigurasjon)",2865,2865,1]
[null,"NOFO J m/overløp (sekundærkonfigurasjon)",2149,2149,1]
[null,"NOFO J m/HiVisc (primærkonfigurasjon)",1920,1920,1]
[null,"NOFO J m/HiVisc (sekundærkonfigurasjon)",{"$f":"C7*0.75","v":1440},{"$f":"D7*0.75","v":1440},1]
[null,"MOS Sweeper (primærkonfigurasjon)",1459,1459,1]
[null,"MOS Sweeper (sekundærkonfigurasjon)",{"$f":"C9*0.75","v":1094.25},{"$f":"D9*0.75","v":1094.25},1]
[null,"NOFO Båtdispergering - Høy (primærkonfigurasjon)",693,693,1]
[null,"NOFO Båtdispergering - Høy (sekundærkonfigurasjon)",{"$f":"C11*0.75","v":519.75},{"$f":"D11*0.75","v":519.75},1]
[null,"NOFO Båtdispergering - Lav (primærkonfigurasjon)",542,542,1]
[null,"NOFO Båtdispergering - Lav (sekundærkonfigurasjon)",{"$f":"C13*0.75","v":406.5},{"$f":"D13*0.75","v":406.5},1]
[null,"NOFO Kyst HH CB4 – TF",80,80]
[null,"NOFO Kyst HH CB2 – TF",80,80]
[null,"NOFO Kyst SH – TF",80,80]
[null,"NOFO Kyst HH CB2 – TF (sekundærkonfigurasjon",60,60]
[]
[null,"Barriere 2 "]
[]
[null,"NOFO J m/overløp (primærkonfigurasjon)",2101,2101,"0.5"]
[null,"NOFO J m/overløp (sekundærkonfigurasjon)",{"$f":"C22*0.75","v":1575.75},{"$f":"D22*0.75","v":1575.75},"0.5"]
[null,"NOFO J m/HiVisc (primærkonfigurasjon)",1220,1220,"0.5"]
[null,"NOFO J m/HiVisc (sekundærkonfigurasjon)",{"$f":"C24*0.75","v":915},{"$f":"D24*0.75","v":915},"0.5"]
[null,"MOS Sweeper (primærkonfigurasjon)",1459,1459,1]
[null,"MOS Sweeper (sekundærkonfigurasjon)",{"$f":"C26*0.75","v":1094.25},{"$f":"D26*0.75","v":1094.25},1]
[null,"NOFO Båtdispergering - Høy (primærkonfigurasjon)",693,693,1]
[null,"NOFO Båtdispergering - Høy (sekundærkonfigurasjon)",{"$f":"C28*0.75","v":519.75},{"$f":"D28*0.75","v":519.75},1]
[null,"NOFO Båtdispergering - Lav (primærkonfigurasjon)",542,542,1]
[null,"NOFO Båtdispergering - Lav (sekundærkonfigurasjon)",{"$f":"C30*0.75","v":406.5},{"$f":"D30*0.75","v":406.5},1]
[]
[null,"Barriere 3 og 4 "]
[]
[null,"NOFO J m/overløp (primærkonfigurasjon)",1168,1168,"0.2"]
[null,"NOFO J m/overløp (sekundærkonfigurasjon)",{"$f":"C35*0.75","v":876},{"$f":"D35*0.75","v":876},"0.2"]
[null,"NOFO J m/HiVisc (primærkonfigurasjon)",583,583,"0.2"]
[null,"NOFO J m/HiVisc (sekundærkonfigurasjon)",{"$f":"C37*0.75","v":437.25},{"$f":"D37*0.75","v":437.25},"0.2"]
[null,"MOS Sweeper (primærkonfigurasjon)",1149,1149,"0.7"]
[null,"MOS Sweeper (sekundærkonfigurasjon)",{"$f":"C39*0.75","v":861.75},{"$f":"D39*0.75","v":861.75},"0.7"]
[null,"NOFO Båtdispergering - Høy (primærkonfigurasjon)",346,346]
[null,"NOFO Båtdispergering - Høy (sekundærkonfigurasjon)",{"$f":"C41*0.75","v":259.5},{"$f":"D41*0.75","v":259.5}]
[null,"NOFO Båtdispergering - Lav (primærkonfigurasjon)",271,271]
[null,"NOFO Båtdispergering - Lav (sekundærkonfigurasjon)",{"$f":"C43*0.75","v":203.25},{"$f":"D43*0.75","v":203.25}]
[null,"NOFO Kyst HH CB4",80,80]
[null,"NOFO Kyst HH CB2/NOFO Kyst SH",40,40]

{"sheet":"Sys.Ytelse","index":11,"n_rows":19,"n_cols":6,"rows_kept":19,"cut":false,"hidden":true,"merged":[]}
[]
[null,"Ys: En systemenhets ytelse (m3/døgn) = K * Es"]
[]
[null,null,"Vinter","Vår","Sommer","Høst"]
[null,"Systemtype","5°C - 10 m/s vind",null,"15°C - 5 m/s vind"]
[null,"NOFO J m/overløp (primærkonfigurasjon)",{"$f":"Sys.Kapasitet!$C5*(Sys.Effektivitet!C6/100)","v":1300.158129375},null,{"$f":"Sys.Kapasitet!$C5*(Sys.Effektivitet!E6/100)","v":2216.1568605000002}]
[null,"NOFO J m/overløp (sekundærkonfigurasjon)",{"$f":"Sys.Kapasitet!$C6*(Sys.Effektivitet!C7/100)","v":731.42403665625},null,{"$f":"Sys.Kapasitet!$C6*(Sys.Effektivitet!E7/100)","v":1246.7332704749999}]
[null,"NOFO J m/HiVisc (primærkonfigurasjon)",{"$f":"Sys.Kapasitet!$C7*(Sys.Effektivitet!C8/100)","v":871.31016},null,{"$f":"Sys.Kapasitet!$C7*(Sys.Effektivitet!E8/100)","v":1485.173184}]
[null,"NOFO J m/HiVisc (sekundærkonfigurasjon)",{"$f":"Sys.Kapasitet!$C8*(Sys.Effektivitet!C9/100)","v":490.111965},null,{"$f":"Sys.Kapasitet!$C8*(Sys.Effektivitet!E9/100)","v":835.40991599999995}]
[null,"MOS Sweeper (primærkonfigurasjon)",{"$f":"Sys.Kapasitet!$C9*(Sys.Effektivitet!C10/100)","v":662.10496012500005},null,{"$f":"Sys.Kapasitet!$C9*(Sys.Effektivitet!E10/100)","v":1128.5769143}]
[null,"MOS Sweeper (sekundærkonfigurasjon)",{"$f":"Sys.Kapasitet!$C10*(Sys.Effektivitet!C11/100)","v":372.43404007031251},null,{"$f":"Sys.Kapasitet!$C10*(Sys.Effektivitet!E11/100)","v":634.82451429374998}]
[null,"NOFO Båtdispergering - Høy (primærkonfigurasjon)",{"$f":"Sys.Kapasitet!$C11*(Sys.Effektivitet!C12/100)","v":314.48851087500003},null,{"$f":"Sys.Kapasitet!$C11*(Sys.Effektivitet!E12/100)","v":536.0546961}]
[null,"NOFO Båtdispergering - Høy (sekundærkonfigurasjon)",{"$f":"Sys.Kapasitet!$C12*(Sys.Effektivitet!C13/100)","v":176.89978736718751},null,{"$f":"Sys.Kapasitet!$C12*(Sys.Effektivitet!E13/100)","v":301.53076655625}]
[null,"NOFO Båtdispergering - Lav (primærkonfigurasjon)",{"$f":"Sys.Kapasitet!$C13*(Sys.Effektivitet!C14/100)","v":245.96359725000002},null,{"$f":"Sys.Kapasitet!$C13*(Sys.Effektivitet!E14/100)","v":419.25201340000001}]
[null,"NOFO Båtdispergering - Lav (sekundærkonfigurasjon)",{"$f":"Sys.Kapasitet!$C14*(Sys.Effektivitet!C15/100)","v":138.35452345312501},null,{"$f":"Sys.Kapasitet!$C14*(Sys.Effektivitet!E15/100)","v":235.82925753749998}]
[null,"NOFO Kyst HH CB4 – TF",{"$f":"Sys.Kapasitet!$C15*(Sys.Effektivitet!C16/100)","v":69.275585696670788},null,{"$f":"Sys.Kapasitet!$C15*(Sys.Effektivitet!E16/100)","v":71.751875669882111}]
[null,"NOFO Kyst HH CB2 – TF",{"$f":"Sys.Kapasitet!$C16*(Sys.Effektivitet!C17/100)","v":69.275585696670788},null,{"$f":"Sys.Kapasitet!$C16*(Sys.Effektivitet!E17/100)","v":71.751875669882111}]
[null,"NOFO Kyst SH – TF",{"$f":"Sys.Kapasitet!$C17*(Sys.Effektivitet!C18/100)","v":69.275585696670788},null,{"$f":"Sys.Kapasitet!$C17*(Sys.Effektivitet!E18/100)","v":71.751875669882111}]
[null,"OFO Kyst HH CB2 – TF (sekundærkonfigurasjon",{"$f":"Sys.Kapasitet!$C18*(Sys.Effektivitet!C19/100)","v":49.08},null,{"$f":"Sys.Kapasitet!$C18*(Sys.Effektivitet!E19/100)","v":53.64}]

{"sheet":"Sys.Effektivitet","index":12,"n_rows":19,"n_cols":7,"rows_kept":19,"cut":false,"hidden":true,"merged":[]}
[]
[]
[]
[null,"Systemtype","Vinter","Vår","Sommer","Høst"]
[null,null,"5°C - 10 m/s vind",null,"15°C - 5 m/s vind"]
[null,"NOFO J m/overløp (primærkonfigurasjon)",{"$f":"Par.!C3","v":45.380737500000002},{"$f":"Par.!E3","v":65.882043749999994},{"$f":"Par.!D3","v":77.352770000000007},{"$f":"Par.!F3","v":59.357792499999995}]
[null,"NOFO J m/overløp (sekundærkonfigurasjon)",{"$f":"(Par.!C3)*0.75","v":34.035553125},{"$f":"(Par.!E3)*0.75","v":49.411532812499999},{"$f":"(Par.!D3)*0.75","v":58.014577500000001},{"$f":"(Par.!F3)*0.75","v":44.518344374999998}]
[null,"NOFO J m/HiVisc (primærkonfigurasjon)",{"$f":"Par.!C3","v":45.380737500000002},{"$f":"Par.!E3","v":65.882043749999994},{"$f":"Par.!D3","v":77.352770000000007},{"$f":"Par.!F3","v":59.357792499999995}]
[null,"NOFO J m/HiVisc (sekundærkonfigurasjon)",{"$f":"(Par.!C3)*0.75","v":34.035553125},{"$f":"D7","v":49.411532812499999},{"$f":"(Par.!D3)*0.75","v":58.014577500000001},{"$f":"F7","v":44.518344374999998}]
[null,"MOS Sweeper (primærkonfigurasjon)",{"$f":"Par.!C3","v":45.380737500000002},{"$f":"D6","v":65.882043749999994},{"$f":"Par.!D3","v":77.352770000000007},{"$f":"F6","v":59.357792499999995}]
[null,"MOS Sweeper (sekundærkonfigurasjon)",{"$f":"(Par.!C3)*0.75","v":34.035553125},{"$f":"D9","v":49.411532812499999},{"$f":"(Par.!D3)*0.75","v":58.014577500000001},{"$f":"F9","v":44.518344374999998}]
[null,"NOFO Båtdispergering - Høy (primærkonfigurasjon)",{"$f":"Par.!C3","v":45.380737500000002},{"$f":"D10","v":65.882043749999994},{"$f":"Par.!D3","v":77.352770000000007},{"$f":"F10","v":59.357792499999995}]
[null,"NOFO Båtdispergering - Høy (sekundærkonfigurasjon)",{"$f":"(Par.!C3)*0.75","v":34.035553125},{"$f":"D11","v":49.411532812499999},{"$f":"(Par.!D3)*0.75","v":58.014577500000001},{"$f":"F11","v":44.518344374999998}]
[null,"NOFO Båtdispergering - Lav (primærkonfigurasjon)",{"$f":"Par.!C3","v":45.380737500000002},{"$f":"D12","v":65.882043749999994},{"$f":"Par.!D3","v":77.352770000000007},{"$f":"F12","v":59.357792499999995}]
[null,"NOFO Båtdispergering - Lav (sekundærkonfigurasjon)",{"$f":"(Par.!C3)*0.75","v":34.035553125},{"$f":"D13","v":49.411532812499999},{"$f":"(Par.!D3)*0.75","v":58.014577500000001},{"$f":"F13","v":44.518344374999998}]
[null,"NOFO Kyst HH CB4 – TF",{"$f":"Par.!C6","v":86.594482120838478},{"$f":"Par.!E6","v":88.054612337294856},{"$f":"Par.!D6","v":89.689844587352624},{"$f":"Par.!F6","v":88.499459751485674}]
[null,"NOFO Kyst HH CB2 – TF",{"$f":"Par.!C6","v":86.594482120838478},{"$f":"Par.!E6","v":88.054612337294856},{"$f":"Par.!D6","v":89.689844587352624},{"$f":"Par.!F6","v":88.499459751485674}]
[null,"NOFO Kyst SH – TF",{"$f":"Par.!C6","v":86.594482120838478},{"$f":"Par.!E6","v":88.054612337294856},{"$f":"Par.!D6","v":89.689844587352624},{"$f":"Par.!F6","v":88.499459751485674},"<- "]
[null,"B4",{"$f":"Par.!C7","v":81.8},{"$f":"Par.!E7","v":82.199999999999989},{"$f":"Par.!D7","v":89.4},{"$f":"Par.!F7","v":84.399999999999991}]

{"sheet":"Op.Lys.STOTTE","index":13,"n_rows":16,"n_cols":14,"rows_kept":16,"cut":false,"hidden":true,"merged":[[1,2,1,13],[9,3,9,7]]}
[]
[null,null,"Tidsandel med fravær av operasjons beregnet for beredskapsregionenes midtpunkt i nord-syd retning"]
[null,"Region","Jan","Feb","Mar","Apr","Mai","Jun","Jul","Aug","Sep","Okt","Nov","Des"]
[null,1,0.64200000000000002,0.55800000000000005,0.45800000000000002,0.34,0.222,0.13200000000000001,0.16600000000000001,0.27800000000000002,0.39800000000000002,0.51,0.60799999999999998,0.66]
[null,2,0.64,0.55600000000000005,0.45800000000000002,0.34200000000000003,0.22600000000000001,0.13800000000000001,0.17,0.28199999999999997,0.40200000000000002,0.50800000000000001,0.60599999999999998,0.66]
[null,3,0.66600000000000004,0.56599999999999995,0.45600000000000002,0.318,0.17,0,7.0000000000000007E-2,0.24399999999999999,0.38800000000000001,0.51200000000000001,0.626,0.68799999999999994]
[null,4,0.71199999999999997,0.58799999999999997,0.44800000000000001,0.27400000000000002,0,0,0,0.16400000000000001,0.36599999999999999,0.52,0.66,0.748]
[null,5,0.80400000000000005,0.62,0.436,0.184,0,0,0,0,0.32400000000000001,0.53,0.72199999999999998,0.876]
[]
[null,null,null,"Gjennomsnitt andel dagslys"]
[null,null,"Region","Vinter","Vår","Sommer","Høst","År",null,"Data fra DNVs rapport til NOFO"]
[null,null,1,{"$f":"1-((N4+C4+D4)/3)","v":0.38},{"$f":"1-((E4+F4+G4)/3)","v":0.65999999999999992},{"$f":"1-((H4+I4+J4)/3)","v":0.80799999999999994},{"$f":"1-((K4+L4+M4)/3)","v":0.4946666666666667},{"$f":"1-(SUM(C4:N4)/12)","v":0.58566666666666656}]
[null,null,2,{"$f":"1-((N5+C5+D5)/3)","v":0.3813333333333333},{"$f":"1-((E5+F5+G5)/3)","v":0.65799999999999992},{"$f":"1-((H5+I5+J5)/3)","v":0.80333333333333334},{"$f":"1-((K5+L5+M5)/3)","v":0.4946666666666667},{"$f":"1-(SUM(C5:N5)/12)","v":0.58433333333333337}]
[null,null,3,0.36,0.68533333333333335,0.89533333333333331,0.49133333333333329,0.6080000000000001]
[null,null,4,0.31733333333333336,0.7593333333333333,0.94533333333333336,0.48466666666666669,0.62666666666666671]
[null,null,5,0.23333333333333328,0.79333333333333333,1,0.47466666666666668,0.6253333333333333]

{"sheet":"Eff.Red.STOTTE","index":14,"n_rows":50,"n_cols":16,"rows_kept":50,"cut":false,"hidden":true,"merged":[]}
[]
[0,0.8,null,{"$f":"90-(9.8*A2)","v":90},null,null,null,"0,0-0,5 m Hs","0,5-1,0 m Hs","1,0-1,5 m Hs","1,5-2,0 m Hs","2,0-2,5 m Hs","2,5-3,0 m Hs","3,0-3,5 m Hs","3,5-4,0 m Hs"]
[1,0.79,null,{"$f":"90-(9.8*A3)","v":80.2}]
[2,0.74,null,70.400000000000006]
[3,0.7,null,60.599999999999994]
[4,0.65,null,50.8]
[5,0.6,null,41]
[6,0.55000000000000004,null,31.199999999999996]
[7,0.5,null,21.399999999999991]
[]
[null,"Hs"]
[null,1,{"$f":"87-(9.8*B12)","v":77.2}]
[null,2,{"$f":"87-(9.8*B13)","v":67.400000000000006}]
[null,3,57.599999999999994]
[null,4,47.8]
[null,5,38]
[]
[]
[]
[]
[]
[]
[]
[]
[]
[null,null,"reduksjon","reduksjon i %",null,"Kyst-system",null,null,null,null,"Fjord-system",null,null,"Gammelt nofo-system",null,"Kystvakt-system"]
["0,0 - 0,5",null,{"$f":"B2-B3","v":1.0000000000000009E-2},{"$f":"C27/B2","v":1.2500000000000011E-2},null,0.72,null,null,null,null,0.72,null,null,0.8,null,0.8]
["0,5 - 1",null,{"$f":"B3-B4","v":5.0000000000000044E-2},{"$f":"C28/B3","v":6.3291139240506389E-2},null,{"$f":"F27*(1-D27)","v":0.71099999999999997},null,null,null,null,{"$f":"K27*(1-D27)","v":0.71099999999999997},null,null,{"$f":"N27*(1-D27)","v":0.79},null,{"$f":"P27*(1-D27)","v":0.79}]
["1,0 - 1,5",null,4.0000000000000036E-2,5.4054054054054106E-2,null,{"$f":"F28*(1-D28)","v":0.66599999999999993},null,null,null,null,null,null,null,{"$f":"N28*(1-D28)","v":0.74},null,{"$f":"P28*(1-D28)","v":0.74}]
["1,5 - 2,0",null,4.9999999999999933E-2,7.1428571428571341E-2,null,null,null,null,null,null,null,null,null,0.7,null,0.7]
["2,0 - 2,5",null,5.0000000000000044E-2,7.6923076923076983E-2,null,null,null,null,null,null,null,null,null,0.65,null,0.65]
["2,5 - 3,0",null,4.9999999999999933E-2,8.3333333333333232E-2,null,null,null,null,null,null,null,null,null,0.6,null,0.6]
["3,0 - 3,5",null,5.0000000000000044E-2,9.0909090909090981E-2,null,null,null,null,null,null,null,null,null,{"$f":"N32*(1-D32)","v":0.55000000000000004}]
["3,5 - 4,0",null,0.5,1,null,null,null,null,null,null,null,null,null,0.5]
[]
[null,null,null,null,null,null,null,"Midlet til bruk i kalkulatoren"]
[null,null,null,null,null,null,null,null,{"$f":"(I27+I28)/2","v":0}]
[null,null,null,null,null,null,null,null,{"$f":"(I29+I30)/2","v":0}]
[null,null,null,null,null,null,null,null,{"$f":"(I31+I32)/2","v":0}]
[0.03,0.8,"0,0 - 0,5",0.9,null,null,null,null,{"$f":"(I33+I34)/2","v":0}]
[7.0000000000000007E-2,0.79,"0,5 - 1",{"$f":"D40*(1-A40)","v":0.873}]
[0.08,0.74,"1,0 - 1,5",0.81188999999999989]
[8.2000000000000003E-2,0.7,"1,5 - 2,0",0.7469387999999999]
[0.09,0.65,"2,0 - 2,5",0.68568981839999998]
[0.1,0.6,"2,5 - 3,0",0.62397773474399998]
[0.11,0.55000000000000004,"3,0 - 3,5",0.56157996126959997,null,"Midlet \"nytt\" nofosystem"]
[null,0.5,"3,5 - 4,0",0.499806165529944,null,{"$f":"(D40+D41)/2","v":0.88650000000000007}]
[null,null,null,null,null,{"$f":"(D42+D43)/2","v":0.77941439999999984}]
[null,null,null,null,null,{"$f":"(D44+D45)/2","v":0.65483377657200004}]
[null,null,null,null,null,{"$f":"(D46+D47)/2","v":0.53069306339977196}]

{"sheet":"Op.Eff.STOTTE.NOFO","index":15,"n_rows":267,"n_cols":15,"rows_kept":267,"cut":false,"hidden":true,"merged":[[24,3,24,7],[8,2,8,14],[16,2,16,14],[32,2,32,14],[40,2,40,14],[48,3,48,7],[56,2,56,14],[64,2,64,14],[72,3,72,7],[80,2,80,14],[88,2,88,14],[96,3,96,7],[104,2,104,14],[112,2,112,14],[120,3,120,7],[128,2,128,14],[136,2,136,14],[144,3,144,7],[152,2,152,14],[160,2,160,14],[168,3,168,7],[176,2,176,14],[184,2,184,14],[192,3,192,7],[200,2,200,14],[248,2,248,14],[256,2,256,14],[264,3,264,7],[208,2,208,14],[216,3,216,7],[224,2,224,14],[232,2,232,14],[240,3,240,7]]}
[]
[]
[null,null,"Hs intervall (m)",null,"0,0 - 1,0","1,0 -2,0","2,0 - 3,0","3,0 - 4,0"]
[null,null,"Opptakseffektivitet",null,0.88749999999999996,0.8,0.7,0.6,null,"Tall fra Ny_eff.xls"]
[]
[]
[null,null,"Lokasjon","Stasjon1"]
[]
[null,null,"Sesongvise frekvensfordelinger av signifikante bølgehøydeintervaller"]
[null,null,"Hs (m)",null,"Vinter",null,null,"Vår",null,null,"Sommer",null,null,"Høst"]
[null,null,"0,0 - 1,0",null,5.1899999999999995,null,null,0.282997139996086,null,null,32.3733,null,null,7.7739589912153073E-2]
[null,null,"1,0 - 2,0",null,28.11,null,null,0.51985242548196131,null,null,51.136699999999998,null,null,0.3184665848737776]
[null,null,"2,0 - 3,0",null,28.4634,null,null,0.13812287690217812,null,null,11.833300000000001,null,null,0.27726297724456656]
[null,null,"3,0 - 4,0",null,18.100000000000001,null,null,3.8136383610796368E-2,null,null,3.0667,null,null,0.16923236066704178]
[null,null,"Ʃ",{"$f":"SUM(D11:D14)","v":0},{"$f":"SUM(E11:E14)","v":79.863399999999999},0,0,0.97910882599102189,0,0,98.41,0,0,0.84270151269753901,0]
[]
[null,null,"Vektede effektiviteter (forventet effektivitet)"]
[null,null,"Hs (m)",null,"Vinter",null,null,"Vår",null,null,"Sommer",null,null,"Høst"]
[null,null,"0,0 - 1,0",null,{"$f":"$E$4*E11","v":4.6061249999999996},null,null,0.25115996174652633,null,null,28.731303749999999,null,null,6.8993886047035852E-2]
[null,null,"1,0 - 2,0",null,{"$f":"$F$4*E12","v":22.488},null,null,0.41588194038556908,null,null,40.90936,null,null,0.2547732678990221]
[null,null,"2,0 - 3,0",null,{"$f":"$G$4*E13","v":19.924379999999999},null,null,9.668601383152467E-2,null,null,8.2833100000000002,null,null,0.19408408407119657]
[null,null,"3,0 - 4,0",null,{"$f":"$H$4*E14","v":10.860000000000001},null,null,2.288183016647782E-2,null,null,1.84002,null,null,0.10153941640022507]
[null,null,"Σ",null,{"$f":"SUM(E19:E22)/100","v":0.57878505000000002},null,null,{"$f":"SUM(H19:H22)","v":0.78660974613009793},null,null,{"$f":"SUM(K19:K22)/100","v":0.79763993749999995},null,null,0.61939065441747965]
[]
[null,null,null,"Gjennomsnittlig opptakseffektivitet NOFO-system"]
[null,null,null,"Vinter","Vår","Sommer","Høst","År"]
[null,null,null,{"$f":"E23","v":0.57878505000000002},{"$f":"(F23+G23+H23)/3","v":0.26220324871003264},{"$f":"K23","v":0.79763993749999995},{"$f":"(L23+M23+N23)/3","v":0.20646355147249321},{"$f":"SUM(D23:O23)/12","v":0.23186878233729816}]
[]
[]
[]
[null,null,"Lokasjon","Stasjon2_Cutoff1_nymetode_etterGMS.xls"]
[]
[null,null,"Sesongvise frekvensfordelinger av signifikante bølgehøydeintervaller"]
[null,null,"Hs (m)",null,"Vinter",null,null,"Vår",null,null,"Sommer",null,null,"Høst"]
[null,null,"0,0 - 1,0",8.6462180667154429E-3,1.9338464016299239E-2,3.471107724469577E-2,6.9655447957307243E-2,0.17056103703247946,0.18947641775731783,0.24610155232804293,0.22550595718625027,0.10297548148526317,4.234197154917993E-2,2.4226411436790142E-2,6.4381583300648715E-3]
[null,null,"1,0 - 2,0",0.16318971001809471,0.1901651635816089,0.24157232087544922,0.41502032177735404,0.54241815216818778,0.58775740643807273,0.57067126322911632,0.55552070915970186,0.41447507608229711,0.30134997044649076,0.2392117122344358,0.15493657955066559]
[null,null,"2,0 - 3,0",0.26536800343715594,0.27505407074782795,0.29184931040194856,0.29240059421732689,0.20280430206643979,0.15931893219087953,0.14123328233677845,0.15523666188859939,0.25790435450730337,0.28316417859869186,0.29279135656172067,0.28722742586838512]
[null,null,"3,0 - 4,0",0.23679642775456397,0.21571172066576386,0.20052121160502834,0.13011143424926672,5.2715218094833032E-2,4.0292939563224828E-2,3.335092080716244E-2,4.6708901872986486E-2,0.1244475822238863,0.19002226519317056,0.21474334119656338,0.23134546088182439]
[null,null,"Ʃ",{"$f":"SUM(D35:D38)","v":0.67400035927653013},{"$f":"SUM(E35:E38)","v":0.70026941901149997},{"$f":"SUM(F35:F38)","v":0.76865392012712186},{"$f":"SUM(G35:G38)","v":0.90718779820125495},{"$f":"SUM(H35:H38)","v":0.96849870936194005},{"$f":"SUM(I35:I38)","v":0.97684569594949489},{"$f":"SUM(J35:J38)","v":0.99135701870110005},{"$f":"SUM(K35:K38)","v":0.98297223010753809},{"$f":"SUM(L35:L38)","v":0.89980249429875003},{"$f":"SUM(M35:M38)","v":0.81687838578753313},{"$f":"SUM(N35:N38)","v":0.77097282142950996},{"$f":"SUM(O35:O38)","v":0.67994762463093994}]
[]
[null,null,"Vektede effektiviteter (forventet effektivitet)"]
[null,null,"Hs (m)","Jan","Feb","Mar","Apr","Mai","Jun","Jul","Aug","Sep","Okt","Nov","Des"]
[null,null,"0,0 - 1,0",{"$f":"$E$4*D35","v":7.6735185342099548E-3},1.7162886814465574E-2,3.0806081054667495E-2,6.1819210062110178E-2,0.15137292036632552,0.16816032075961956,0.21841512769113808,0.2001365370027971,9.1390739818171057E-2,3.7578499749897187E-2,2.1500940150151249E-2,5.713865517932573E-3]
[null,null,"1,0 - 2,0",{"$f":"$F$4*D36","v":0.13055176801447577},0.15213213086528712,0.19325785670035939,0.33201625742188323,0.43393452173455027,0.47020592515045823,0.4565370105832931,0.44441656732776152,0.33158006086583769,0.24107997635719261,0.19136936978754865,0.12394926364053248]
[null,null,"2,0 - 3,0",{"$f":"$G$4*D37","v":0.18575760240600914},0.19253784952347955,0.20429451728136397,0.20468041595212882,0.14196301144650783,0.11152325253361567,9.8863297635744918E-2,0.10866566332201956,0.18053304815511234,0.1982149250190843,0.20495394959320445,0.20105919810786957]
[null,null,"3,0 - 4,0",{"$f":"$H$4*D38","v":0.14207785665273837},0.1294270323994583,0.12031272696301699,7.8066860549560024E-2,3.162913085689982E-2,2.4175763737934897E-2,2.0010552484297464E-2,2.8025341123791892E-2,7.4668549334331771E-2,0.11401335911590232,0.12884600471793803,0.13880727652909464]
[null,null,"Σ",{"$f":"SUM(D43:D46)","v":0.46606074560743321},0.49125989960269056,0.5486711819994079,0.67658274398568219,0.7588995844042834,0.77406526218162841,0.7938259883944736,0.78124410877636996,0.67817239817345287,0.59088676024207643,0.54667026424884235,0.4695296037954293]
[]
[null,null,null,"Gjennomsnittlig opptakseffektivitet NOFO-system"]
[null,null,null,"Vinter","Vår","Sommer","Høst","År"]
[null,null,null,{"$f":"(O47+D47+E47)/3","v":0.47561674966851769},{"$f":"(F47+G47+H47)/3","v":0.6613845034631245},{"$f":"(I47+J47+K47)/3","v":0.78304511978415725},{"$f":"(L47+M47+N47)/3","v":0.60524314088812392},{"$f":"SUM(D47:O47)/12","v":0.63132237845098083}]
[]
[]
[]
[null,null,"Lokasjon","Stasjon3_Cutoff1_nymetode_etterGMS.xls"]
[]
[null,null,"Sesongvise frekvensfordelinger av signifikante bølgehøydeintervaller"]
[null,null,"Hs (m)",null,"Vinter",null,null,"Vår",null,null,"Sommer",null,null,"Høst"]
[null,null,"0,0 - 1,0",4.2739064370192148E-2,6.3244508250321893E-2,9.7618551674965137E-2,0.19016274547890311,0.34495100892358727,0.36724445533130357,0.4577731705067371,0.43044535777285703,0.24479554620522342,0.14055284160871551,8.4640950978792012E-2,3.5978532996622389E-2]
[null,null,"1,0 - 2,0",0.3275326016080306,0.33157876055289831,0.40097107191107939,0.49359259401939387,0.51379122838927305,0.52409668253757014,0.45920210756788199,0.47011447891544972,0.4560937186229051,0.41756806441879218,0.39445762881128826,0.31908177753874145]
[null,null,"2,0 - 3,0",0.30495805180345736,0.30185837049161718,0.27040036173349291,0.21446271521376395,0.10688495933919347,8.0100880660299661E-2,7.1942724043030315E-2,7.9621211624000862E-2,0.18803266707855815,0.25421092999773304,0.29308607550731391,0.32413292714113656]
[null,null,"3,0 - 4,0",0.16501481329725201,0.16458861268977262,0.13338185087177243,6.2724429306164148E-2,2.556541695787827E-2,2.1523981936906515E-2,9.199949650130497E-3,1.6036553599528342E-2,7.0087430863748315E-2,0.11697194226436924,0.13648404628984581,0.17786519919909963]
[null,null,"Ʃ",{"$f":"SUM(D59:D62)","v":0.84024453107893216},{"$f":"SUM(E59:E62)","v":0.86127025198461005},{"$f":"SUM(F59:F62)","v":0.9023718361913099},{"$f":"SUM(G59:G62)","v":0.96094248401822502},{"$f":"SUM(H59:H62)","v":0.99119261360993216},{"$f":"SUM(I59:I62)","v":0.99296600046607986},{"$f":"SUM(J59:J62)","v":0.99811795176777984},{"$f":"SUM(K59:K62)","v":0.99621760191183595},{"$f":"SUM(L59:L62)","v":0.95900936277043503},{"$f":"SUM(M59:M62)","v":0.92930377828960997},{"$f":"SUM(N59:N62)","v":0.90866870158724},{"$f":"SUM(O59:O62)","v":0.85705843687560002}]
[]
[null,null,"Vektede effektiviteter (forventet effektivitet)"]
[null,null,"Hs (m)","Jan","Feb","Mar","Apr","Mai","Jun","Jul","Aug","Sep","Okt","Nov","Des"]
[null,null,"0,0 - 1,0",{"$f":"$E$4*D59","v":3.7930919628545529E-2},5.6129501072160679E-2,8.6636464611531558E-2,0.1687694366125265,0.30614402041968369,0.3259294541065319,0.40627368882472914,0.38202025502341058,0.21725604725713576,0.12474064692773501,7.5118843993677908E-2,3.1930948034502367E-2]
[null,null,"1,0 - 2,0",{"$f":"$F$4*D60","v":0.26202608128642452},0.26526300844231865,0.32077685752886353,0.3948740752155151,0.41103298271141847,0.41927734603005612,0.36736168605430564,0.3760915831323598,0.3648749748983241,0.33405445153503377,0.31556610304903066,0.25526542203099317]
[null,null,"2,0 - 3,0",{"$f":"$G$4*D61","v":0.21347063626242013},0.21130085934413201,0.18928025321344502,0.15012390064963477,7.4819471537435428E-2,5.607061646220976E-2,5.0359906830121218E-2,5.5734848136800602E-2,0.1316228669549907,0.17794765099841311,0.20516025285511974,0.22689304899879559]
[null,null,"3,0 - 4,0",{"$f":"$H$4*D62","v":9.9008887978351209E-2},9.8753167613863574E-2,8.0029110523063454E-2,3.7634657583698487E-2,1.5339250174726961E-2,1.2914389162143909E-2,5.5199697900782984E-3,9.621932159717005E-3,4.2052458518248986E-2,7.0183165358621541E-2,8.1890427773907482E-2,0.10671911951945977]
[null,null,"Σ",{"$f":"SUM(D67:D70)","v":0.61243652515574132},0.63144653647247484,0.67672268587690365,0.75140207006137483,0.80733572484326455,0.81419180576094174,0.82951525149923433,0.82346861845228791,0.75580634762869958,0.70692591481980349,0.67773562767173567,0.62080853858375085]
[]
[null,null,null,"Gjennomsnittlig opptakseffektivitet NOFO-system"]
[null,null,null,"Vinter","Vår","Sommer","Høst","År"]
[null,null,null,{"$f":"(O71+D71+E71)/3","v":0.62156386673732233},{"$f":"(F71+G71+H71)/3","v":0.74515349359384775},{"$f":"(I71+J71+K71)/3","v":0.82239189190415463},{"$f":"(L71+M71+N71)/3","v":0.71348929670674632},{"$f":"SUM(D71:O71)/12","v":0.72564963723551756}]
[]
[]
[]
[null,null,"Lokasjon","Stasjon4_Cutoff1_nymetode_etterGMS.xls"]
[]
[null,null,"Sesongvise frekvensfordelinger av signifikante bølgehøydeintervaller"]
[null,null,"Hs (m)",null,"Vinter",null,null,"Vår",null,null,"Sommer",null,null,"Høst"]
[null,null,"0,0 - 1,0",3.7307150382661796E-3,8.2570193881982418E-3,2.094559295509545E-2,5.1180176473306492E-2,0.15255019598096581,0.16847327251771876,0.22841589352475841,0.19438424211820921,7.3016941308528246E-2,2.4331366431312604E-2,1.4339827710350262E-2,2.2648724431368794E-3]
[null,null,"1,0 - 2,0",0.13406696302604748,0.16827438168315212,0.21859840942302844,0.3973185081719397,0.53554765248424363,0.5882446853118114,0.57496090111544751,0.57582533391957347,0.41616911663222883,0.27546998367020203,0.20433077975988637,0.13092312337012421]
[null,null,"2,0 - 3,0",0.26402313806004185,0.27008810597122435,0.3026816946655172,0.31110628563032261,0.22075230538376478,0.17880938382852629,0.15280247488345783,0.1636093680597801,0.27456407017216922,0.29430543771745521,0.29606124733452704,0.28168907550796457]
[null,null,"3,0 - 4,0",0.24297978595711447,0.23542657175433529,0.20638308565008687,0.14170638200265118,6.178495934467193E-2,4.265294008678356E-2,3.5412364412296234E-2,4.7650956952157139E-2,0.13222067920943367,0.20884300940263995,0.2334397821350864,0.24108147587103432]
[null,null,"Ʃ",{"$f":"SUM(D83:D86)","v":0.64480060208146994},{"$f":"SUM(E83:E86)","v":0.68204607879691004},{"$f":"SUM(F83:F86)","v":0.74860878269372799},{"$f":"SUM(G83:G86)","v":0.9013113522782199},{"$f":"SUM(H83:H86)","v":0.97063511319364615},{"$f":"SUM(I83:I86)","v":0.97818028174484006},{"$f":"SUM(J83:J86)","v":0.99159163393595995},{"$f":"SUM(K83:K86)","v":0.98146990104971998},{"$f":"SUM(L83:L86)","v":0.89597080732236001},{"$f":"SUM(M83:M86)","v":0.80294979722160975},{"$f":"SUM(N83:N86)","v":0.74817163693985012},{"$f":"SUM(O83:O86)","v":0.65595854719225999}]
[]
[null,null,"Vektede effektiviteter (forventet effektivitet)"]
[null,null,"Hs (m)","Jan","Feb","Mar","Apr","Mai","Jun","Jul","Aug","Sep","Okt","Nov","Des"]
[null,null,"0,0 - 1,0",{"$f":"$E$4*D83","v":3.3110095964612343E-3},7.3281047070259389E-3,1.8589213747647212E-2,4.5422406620059509E-2,0.13538829893310714,0.14952002935947539,0.20271910550322308,0.17251601487991067,6.4802535411318821E-2,2.1594087707789936E-2,1.2726597092935858E-2,2.0100742932839806E-3]
[null,null,"1,0 - 2,0",{"$f":"$F$4*D84","v":0.107253570420838},0.1346195053465217,0.17487872753842276,0.31785480653755177,0.42843812198739495,0.47059574824944916,0.45996872089235802,0.46066026713565877,0.33293529330578309,0.22037598693616164,0.1634646238079091,0.10473849869609937]
[null,null,"2,0 - 3,0",{"$f":"$G$4*D85","v":0.18481619664202928},0.18906167417985703,0.21187718626586202,0.21777439994122583,0.15452661376863533,0.12516656867996839,0.10696173241842047,0.11452655764184606,0.19219484912051843,0.20601380640221864,0.20724287313416892,0.1971823528555752]
[null,null,"3,0 - 4,0",{"$f":"$H$4*D86","v":0.14578787157426867},0.14125594305260117,0.12382985139005212,8.5023829201590698E-2,3.7070975606803155E-2,2.5591764052070136E-2,2.1247418647377739E-2,2.8590574171294281E-2,7.9332407525660203E-2,0.12530580564158397,0.14006386928105183,0.14464888552262059]
[null,null,"Σ",{"$f":"SUM(D91:D94)","v":0.44116864823359714},0.47226522728600584,0.52917497894198406,0.66607544230042781,0.75542401029594053,0.77087411034096298,0.79089697746137932,0.77629341382870976,0.66926508536328055,0.57328968668775426,0.52349796331606568,0.44857981136757918]
[]
[null,null,null,"Gjennomsnittlig opptakseffektivitet NOFO-system"]
[null,null,null,"Vinter","Vår","Sommer","Høst","År"]
[null,null,null,{"$f":"(O95+D95+E95)/3","v":0.45400456229572739},{"$f":"(F95+G95+H95)/3","v":0.65022481051278413},{"$f":"(I95+J95+K95)/3","v":0.77935483387701732},{"$f":"(L95+M95+N95)/3","v":0.58868424512236683},{"$f":"SUM(D95:O95)/12","v":0.61806711295197403}]
[]
[]
[]
[null,null,"Lokasjon","Stasjon5_Cutoff1_nymetode_etterGMS.xls"]
[]
[null,null,"Sesongvise frekvensfordelinger av signifikante bølgehøydeintervaller"]
[null,null,"Hs (m)",null,"Vinter",null,null,"Vår",null,null,"Sommer",null,null,"Høst"]
[null,null,"0,0 - 1,0",2.6270071953189835E-2,4.4494321071968462E-2,7.2414282638963198E-2,0.16519266381784714,0.32821402236986952,0.3392050297105676,0.40162703090946689,0.39604333009473341,0.20739777974935922,0.10190483578749594,6.3487277674774703E-2,3.4106988233581999E-2]
[null,null,"1,0 - 2,0",0.2689990888358737,0.27427566850622881,0.34122621343219028,0.46311807308209929,0.49643655525276731,0.51500213716453713,0.48932452693350814,0.46464367364327919,0.43285436703882446,0.38526375353924136,0.34856965236599208,0.25754803563102124]
[null,null,"2,0 - 3,0",0.2995763579581891,0.2891644724647654,0.2866338051079716,0.23230621042329291,0.12562104123349854,0.10849515197066156,8.953433972942143E-2,0.10434548922908488,0.20866020348710154,0.2678155943572284,0.28714099114265096,0.30711565020855142]
[null,null,"3,0 - 4,0",0.18552276420717734,0.18947514388611741,0.15839489546449295,8.8009226203275615E-2,3.3745742195844607E-2,2.5101959677903674E-2,1.6339192032243457E-2,2.6636106414557492E-2,9.1005772675269769E-2,0.13614265106460133,0.16453539961591238,0.19469837097728535]
[null,null,"Ʃ",{"$f":"SUM(D107:D110)","v":0.78036828295442984},{"$f":"SUM(E107:E110)","v":0.79740960592908006},{"$f":"SUM(F107:F110)","v":0.85866919664361796},{"$f":"SUM(G107:G110)","v":0.9486261735265149},{"$f":"SUM(H107:H110)","v":0.9840173610519799},{"$f":"SUM(I107:I110)","v":0.98780427852367003},{"$f":"SUM(J107:J110)","v":0.99682508960463989},{"$f":"SUM(K107:K110)","v":0.99166859938165497},{"$f":"SUM(L107:L110)","v":0.93991812295055499},{"$f":"SUM(M107:M110)","v":0.89112683474856702},{"$f":"SUM(N107:N110)","v":0.86373332079933007},{"$f":"SUM(O107:O110)","v":0.79346904505044002}]
[]
[null,null,"Vektede effektiviteter (forventet effektivitet)"]
[null,null,"Hs (m)","Jan","Feb","Mar","Apr","Mai","Jun","Jul","Aug","Sep","Okt","Nov","Des"]
[null,null,"0,0 - 1,0",{"$f":"$E$4*D107","v":2.3314688858455977E-2},3.9488709951372006E-2,6.4267675842079833E-2,0.14660848913833932,0.29128994485325921,0.30104446386812872,0.35644398993215182,0.35148845545907587,0.18406552952755631,9.0440541761402649E-2,5.6344958936362544E-2,3.0269952057304022E-2]
[null,null,"1,0 - 2,0",{"$f":"$F$4*D108","v":0.21519927106869896},0.21942053480498305,0.27298097074575223,0.37049445846567947,0.39714924420221387,0.41200170973162975,0.39145962154680652,0.37171493891462337,0.34628349363105959,0.30821100283139313,0.27885572189279367,0.20603842850481702]
[null,null,"2,0 - 3,0",{"$f":"$G$4*D109","v":0.20970345057073236},0.20241513072533576,0.20064366357558011,0.16261434729630503,8.7934728863448969E-2,7.5946606379463086E-2,6.2674037810594996E-2,7.3041842460359413E-2,0.14606214244097107,0.18747091605005986,0.20099869379985566,0.21498095514598597]
[null,null,"3,0 - 4,0",{"$f":"$H$4*D110","v":0.1113136585243064},0.11368508633167045,9.5036937278695763E-2,5.280553572196537E-2,2.0247445317506763E-2,1.5061175806742204E-2,9.803515219346073E-3,1.5981663848734496E-2,5.4603463605161863E-2,8.1685590638760797E-2,9.8721239769547428E-2,0.1168190225863712]
[null,null,"Σ",{"$f":"SUM(D115:D118)","v":0.55953106902219374},0.57500946181336121,0.63292924744210788,0.73252283062228918,0.79662136323642885,0.80405395578596361,0.82038116450889942,0.81222690068279313,0.7310146292047488,0.66780805128161647,0.63492061439855929,0.56810835829447826]
[]
[null,null,null,"Gjennomsnittlig opptakseffektivitet NOFO-system"]
[null,null,null,"Vinter","Vår","Sommer","Høst","År"]
[null,null,null,{"$f":"(O119+D119+E119)/3","v":0.56754962971001111},{"$f":"(F119+G119+H119)/3","v":0.72069114710027538},{"$f":"(I119+J119+K119)/3","v":0.81222067365921868},{"$f":"(L119+M119+N119)/3","v":0.67791443162830822},{"$f":"SUM(D119:O119)/12","v":0.69459397052445337}]
[]
[]
[]
[null,null,"Lokasjon","Stasjon6_Cutoff1_nymetode_etterGMS.xls"]
[]
[null,null,"Sesongvise frekvensfordelinger av signifikante bølgehøydeintervaller"]
[null,null,"Hs (m)",null,"Vinter",null,null,"Vår",null,null,"Sommer",null,null,"Høst"]
[null,null,"0,0 - 1,0",9.2399884560373333E-2,0.11170089052031934,0.17124205832680844,0.32949338115820526,0.53037777377652517,0.56760645676566501,0.59383499589418876,0.57069350276371389,0.33709207801444929,0.22918804567108916,0.17035433894289584,0.11270085245793433]
[null,null,"1,0 - 2,0",0.35250756584457088,0.34699055036434623,0.38307466313763222,0.43210906525930942,0.36863872709800849,0.34799681473774857,0.3438042557069847,0.3458334673104338,0.40428539595566365,0.39532910984372827,0.38922628252675356,0.33650630231277384]
[null,null,"2,0 - 3,0",0.27296519387114243,0.27245151104564863,0.24530321029903254,0.15937477232943764,7.5763549384462447E-2,6.4148934291539714E-2,5.4930117578254507E-2,6.7428820526989355E-2,0.16587731484649784,0.21775293961610967,0.2515023998709367,0.28291224603466836]
[null,null,"3,0 - 4,0",0.14497609995147334,0.14536825891467586,0.12332220861278975,5.2776927464567629E-2,1.8081832410683913E-2,1.5414175865186716E-2,6.305567992812084E-3,1.1730550685864937E-2,6.0322673893209118E-2,9.4775341620642981E-2,0.11066811275323893,0.14736268089280749]
[null,null,"Ʃ",{"$f":"SUM(D131:D134)","v":0.86284874422755997},{"$f":"SUM(E131:E134)","v":0.87651121084499006},{"$f":"SUM(F131:F134)","v":0.92294214037626299},{"$f":"SUM(G131:G134)","v":0.9737541462115199},{"$f":"SUM(H131:H134)","v":0.99286188266968001},{"$f":"SUM(I131:I134)","v":0.99516638166013993},{"$f":"SUM(J131:J134)","v":0.99887493717224007},{"$f":"SUM(K131:K134)","v":0.99568634128700195},{"$f":"SUM(L131:L134)","v":0.96757746270981981},{"$f":"SUM(M131:M134)","v":0.93704543675157004},{"$f":"SUM(N131:N134)","v":0.92175113409382503},{"$f":"SUM(O131:O134)","v":0.87948208169818398}]
[]
[null,null,"Vektede effektiviteter (forventet effektivitet)"]
[null,null,"Hs (m)","Jan","Feb","Mar","Apr","Mai","Jun","Jul","Aug","Sep","Okt","Nov","Des"]
[null,null,"0,0 - 1,0",{"$f":"$E$4*D131","v":8.2004897547331326E-2},9.9134540336783414E-2,0.1519773267650425,0.29242537577790717,0.47071027422666606,0.50375073037952767,0.52702855885609246,0.50649048370279603,0.29916921923782375,0.20340439053309162,0.15118947581182005,0.10002200655641671]
[null,null,"1,0 - 2,0",{"$f":"$F$4*D132","v":0.2820060526756567},0.27759244029147701,0.30645973051010578,0.34568725220744756,0.29491098167840679,0.27839745179019887,0.27504340456558779,0.27666677384834704,0.32342831676453093,0.31626328787498265,0.31138102602140288,0.2692050418502191]
[null,null,"2,0 - 3,0",{"$f":"$G$4*D133","v":0.19107563570979968},0.19071605773195402,0.17171224720932277,0.11156234063060634,5.3034484569123713E-2,4.4904254004077798E-2,3.8451082304778152E-2,4.7200174368892546E-2,0.11611412039254848,0.15242705773127677,0.17605167990965567,0.19803857222426785]
[null,null,"3,0 - 4,0",{"$f":"$H$4*D134","v":8.6985659970884005E-2},8.7220955348805515E-2,7.3993325167673846E-2,3.1666156478740576E-2,1.0849099446410347E-2,9.24850551911203E-3,3.7833407956872501E-3,7.0383304115189619E-3,3.6193604335925472E-2,5.6865204972385786E-2,6.6400867651943349E-2,8.8417608535684492E-2]
[null,null,"Σ",{"$f":"SUM(D139:D142)","v":0.64207224590367173},0.65466399370901995,0.70414262965214491,0.78134112509470166,0.82950483992060686,0.83630094169291636,0.84430638652214551,0.83739576233155455,0.77490526073082866,0.72895994111173679,0.70502304939482185,0.65568322916658817]
[]
[null,null,null,"Gjennomsnittlig opptakseffektivitet NOFO-system"]
[null,null,null,"Vinter","Vår","Sommer","Høst","År"]
[null,null,null,{"$f":"(O143+D143+E143)/3","v":0.65080648959309328},{"$f":"(F143+G143+H143)/3","v":0.77166286488915115},{"$f":"(I143+J143+K143)/3","v":0.83933436351553892},{"$f":"(L143+M143+N143)/3","v":0.7362960837457958},{"$f":"SUM(D143:O143)/12","v":0.74952495043589462}]
[]
[]
[]
[null,null,"Lokasjon","Stasjon7_Cutoff1_nymetode_etterGMS.xls"]
[]
[null,null,"Sesongvise frekvensfordelinger av signifikante bølgehøydeintervaller"]
[null,null,"Hs (m)",null,"Vinter",null,null,"Vår",null,null,"Sommer",null,null,"Høst"]
[null,null,"0,0 - 1,0",1.0964134547745623E-3,5.4811753856671037E-3,1.5335275635261793E-2,4.8100543370518237E-2,0.14729895343568722,0.158770529058301,0.21808980437953937,0.18895643738249193,6.9256538294970013E-2,1.986195375392965E-2,7.7362861200688596E-3,2.3951220879878058E-3]
[null,null,"1,0 - 2,0",0.12536408362410148,0.15741854450159237,0.21317737368479156,0.39421512186212471,0.54155632719486346,0.59842024110552727,0.59435771608894572,0.58406326926075203,0.41450419420285972,0.26654176691063869,0.19779982620916797,0.13179574637148223]
[null,null,"2,0 - 3,0",0.27679829498666941,0.27503795414352045,0.31178202658294968,0.31984307656434097,0.22204289092826346,0.18126178688288178,0.14600236890814902,0.16732451911573584,0.29042977695467292,0.31261897980368242,0.30426054078838155,0.28109091541511405]
[null,null,"3,0 - 4,0",0.24107520100774468,0.24203232525146998,0.21839500750538698,0.14198954193865601,6.2380863673825913E-2,4.3506932370264997E-2,3.4962920749206032E-2,4.3787607349320218E-2,0.13046397089493234,0.21041417816096936,0.24135679282806155,0.24996812683984609]
[null,null,"Ʃ",{"$f":"SUM(D155:D158)","v":0.6443339930732902},{"$f":"SUM(E155:E158)","v":0.67996999928224988},{"$f":"SUM(F155:F158)","v":0.75868968340839005},{"$f":"SUM(G155:G158)","v":0.90414828373563993},{"$f":"SUM(H155:H158)","v":0.97327903523264003},{"$f":"SUM(I155:I158)","v":0.98195948941697508},{"$f":"SUM(J155:J158)","v":0.99341281012584015},{"$f":"SUM(K155:K158)","v":0.98413183310829999},{"$f":"SUM(L155:L158)","v":0.90465448034743501},{"$f":"SUM(M155:M158)","v":0.80943687862922009},{"$f":"SUM(N155:N158)","v":0.7511534459456799},{"$f":"SUM(O155:O158)","v":0.66524991071443018}]
[]
[null,null,"Vektede effektiviteter (forventet effektivitet)"]
[null,null,"Hs (m)","Jan","Feb","Mar","Apr","Mai","Jun","Jul","Aug","Sep","Okt","Nov","Des"]
[null,null,"0,0 - 1,0",{"$f":"$E$4*D155","v":9.7306694111242396E-4},4.8645431547795544E-3,1.3610057126294841E-2,4.2689232241334932E-2,0.13072782117417239,0.14090884453924213,0.19355470138684119,0.16769883817696157,6.1465177736785885E-2,1.7627483956612563E-2,6.8659539315611123E-3,2.1256708530891775E-3]
[null,null,"1,0 - 2,0",{"$f":"$F$4*D156","v":0.1002912668992812},0.12593483560127391,0.17054189894783325,0.3153720974896998,0.43324506175589078,0.47873619288442182,0.47548617287115658,0.46725061540860163,0.3316033553622878,0.21323341352851097,0.15823986096733439,0.10543659709718578]
[null,null,"2,0 - 3,0",{"$f":"$G$4*D157","v":0.19375880649066857},0.1925265679004643,0.21824741860806476,0.22389015359503867,0.15543002364978442,0.12688325081801724,0.1022016582357043,0.11712716338101509,0.20330084386827105,0.21883328586257766,0.21298237855186708,0.19676364079057981]
[null,null,"3,0 - 4,0",{"$f":"$H$4*D158","v":0.14464512060464679},0.14521939515088197,0.13103700450323219,8.5193725163193609E-2,3.7428518204295547E-2,2.6104159422158997E-2,2.0977752449523619E-2,2.6272564409592129E-2,7.8278382536959401E-2,0.1262485068965816,0.14481407569683694,0.14998087610390765]
[null,null,"Σ",{"$f":"SUM(D163:D166)","v":0.43966826093570899},0.46854534180739971,0.53343637918542508,0.66714520848926695,0.75683142478414323,0.77263244766384021,0.79222028494322561,0.77834918137617037,0.67464775950430411,0.5759426902442828,0.52290226914759952,0.45430678484476239]
[]
[null,null,null,"Gjennomsnittlig opptakseffektivitet NOFO-system"]
[null,null,null,"Vinter","Vår","Sommer","Høst","År"]
[null,null,null,{"$f":"(O167+D167+E167)/3","v":0.45417346252929036},{"$f":"(F167+G167+H167)/3","v":0.65247100415294512},{"$f":"(I167+J167+K167)/3","v":0.78106730466107877},{"$f":"(L167+M167+N167)/3","v":0.59116423963206211},{"$f":"SUM(D167:O167)/12","v":0.61971900274384406}]
[]
[]
[]
[null,null,"Lokasjon","Stasjon8_Cutoff1_nymetode_etterGMS.xls"]
[]
[null,null,"Sesongvise frekvensfordelinger av signifikante bølgehøydeintervaller"]
[null,null,"Hs (m)",null,"Vinter",null,null,"Vår",null,null,"Sommer",null,null,"Høst"]
[null,null,"0,0 - 1,0",4.6019583118259606E-2,6.1737277156769105E-2,0.10313340279966238,0.22496744552983092,0.42706089260701818,0.45721211528080968,0.50495388541331288,0.48548949023340721,0.25309501205161983,0.14033479662975024,8.9051558021949653E-2,5.8484285818937033E-2]
[null,null,"1,0 - 2,0",0.28258861275597824,0.27864004500571377,0.34054663704969718,0.45118314185148573,0.421951248573947,0.41743370590243117,0.39993360563947039,0.39199063619571184,0.41351991107067887,0.37586705648688906,0.35464951679762879,0.27523220798768022]
[null,null,"2,0 - 3,0",0.27200941422070207,0.28799750462842799,0.26625464981711033,0.19503235032235725,0.10744082123108351,9.3729045423791582E-2,7.8321025352450543E-2,9.1091599481996188E-2,0.19650349757249963,0.2484593162822426,0.2657176798270855,0.27792063649684329]
[null,null,"3,0 - 4,0",0.18742166213735997,0.17171644830918911,0.15701214671111716,7.9660903239431202E-2,3.1503484089611303E-2,2.3293705169887678E-2,1.4150917712059169E-2,2.3862702479404772E-2,8.2625222994711742E-2,0.13315133357118997,0.15330396458977613,0.19199728500589944]
[null,null,"Ʃ",{"$f":"SUM(D179:D182)","v":0.78803927223229986},{"$f":"SUM(E179:E182)","v":0.80009127510009992},{"$f":"SUM(F179:F182)","v":0.86694683637758707},{"$f":"SUM(G179:G182)","v":0.95084384094310503},{"$f":"SUM(H179:H182)","v":0.98795644650166015},{"$f":"SUM(I179:I182)","v":0.99166857177692014},{"$f":"SUM(J179:J182)","v":0.997359434117293},{"$f":"SUM(K179:K182)","v":0.99243442839051998},{"$f":"SUM(L179:L182)","v":0.94574364368951003},{"$f":"SUM(M179:M182)","v":0.89781250297007187},{"$f":"SUM(N179:N182)","v":0.86272271923644006},{"$f":"SUM(O179:O182)","v":0.80363441530935997}]
[]
[null,null,"Vektede effektiviteter (forventet effektivitet)"]
[null,null,"Hs (m)","Jan","Feb","Mar","Apr","Mai","Jun","Jul","Aug","Sep","Okt","Nov","Des"]
[null,null,"0,0 - 1,0",{"$f":"$E$4*D179","v":4.0842380017455396E-2},5.4791833476632579E-2,9.1530894984700351E-2,0.19965860790772494,0.3790165421887286,0.40577575231171858,0.44814657330431518,0.43087192258214885,0.22462182319581259,0.12454713200890333,7.903325774448032E-2,5.1904803664306616E-2]
[null,null,"1,0 - 2,0",{"$f":"$F$4*D180","v":0.2260708902047826},0.22291203600457102,0.27243730963975776,0.36094651348118861,0.33756099885915763,0.33394696472194496,0.31994688451157632,0.31359250895656948,0.3308159288565431,0.30069364518951125,0.28371961343810304,0.2201857663901442]
[null,null,"2,0 - 3,0",{"$f":"$G$4*D181","v":0.19040658995449145},0.20159825323989958,0.18637825487197723,0.13652264522565005,7.5208574861758443E-2,6.5610331796654098E-2,5.4824717746715379E-2,6.3764119637397323E-2,0.13755244830074972,0.17392152139756981,0.18600237587895985,0.1945444455477903]
[null,null,"3,0 - 4,0",{"$f":"$H$4*D182","v":0.11245299728241598},0.10302986898551346,9.4207288026670291E-2,4.7796541943658719E-2,1.8902090453766781E-2,1.3976223101932606E-2,8.4905506272355009E-3,1.4317621487642863E-2,4.9575133796827042E-2,7.9890800142713977E-2,9.1982378753865682E-2,0.11519837100353966]
[null,null,"Σ",{"$f":"SUM(D187:D190)","v":0.56977285745914541},0.58233199170661665,0.64455374752310568,0.74492430855822234,0.81068820636341155,0.81930927193225023,0.83140872618984241,0.82254617266375851,0.74256533414993253,0.67905309873869835,0.64073762581540894,0.58183338660578077]
[]
[null,null,null,"Gjennomsnittlig opptakseffektivitet NOFO-system"]
[null,null,null,"Vinter","Vår","Sommer","Høst","År"]
[null,null,null,{"$f":"(O191+D191+E191)/3","v":0.57797941192384761},{"$f":"(F191+G191+H191)/3","v":0.73338875414824656},{"$f":"(I191+J191+K191)/3","v":0.82442139026195038},{"$f":"(L191+M191+N191)/3","v":0.68745201956801327},{"$f":"SUM(D191:O191)/12","v":0.70581039397551448}]
[]
[]
[]
[null,null,"Lokasjon","Stasjon9_Cutoff1_nymetode_etterGMS.xls"]
[]
[null,null,"Sesongvise frekvensfordelinger av signifikante bølgehøydeintervaller"]
[null,null,"Hs (m)",null,"Vinter",null,null,"Vår",null,null,"Sommer",null,null,"Høst"]
[null,null,"0,0 - 1,0",8.6518400095819153E-2,9.7658795482594499E-2,0.15318906218623385,0.31227539854840691,0.52189863889450794,0.57118168902614408,0.61253292627046663,0.56666807251357199,0.32741780088343586,0.20017903115686325,0.15210997185906178,0.10688400734988218]
[null,null,"1,0 - 2,0",0.30387949480175291,0.32314906311451325,0.36358637822619322,0.42746329731847849,0.36072058984091604,0.33175828965794507,0.31439742451663533,0.33407242297522899,0.4057271724293865,0.37781280957798463,0.36615788327270804,0.31725874599515558]
[null,null,"2,0 - 3,0",0.27720678987020897,0.26948041819128732,0.25071453373310476,0.16810841331496121,8.7247071123691539E-2,7.0844620297201261E-2,5.8617686899759186E-2,7.6764065813282378E-2,0.1670010128428541,0.23023877727998193,0.24521224586947588,0.26434963933850947]
[null,null,"3,0 - 4,0",0.15981769361904691,0.14214710033419495,0.1299652894751431,6.104720821673331E-2,2.1769149799924534E-2,2.0769116255279708E-2,1.2485355358458941E-2,1.7130711986772688E-2,6.0548000613443537E-2,0.10938409127319422,0.12694814836125429,0.14923417303786576]
[null,null,"Ʃ",{"$f":"SUM(D203:D206)","v":0.82742237838682797},{"$f":"SUM(E203:E206)","v":0.83243537712259008},{"$f":"SUM(F203:F206)","v":0.89745526362067496},{"$f":"SUM(G203:G206)","v":0.9688943173985799},{"$f":"SUM(H203:H206)","v":0.99163544965904005},{"$f":"SUM(I203:I206)","v":0.9945537152365701},{"$f":"SUM(J203:J206)","v":0.99803339304532013},{"$f":"SUM(K203:K206)","v":0.99463527328885615},{"$f":"SUM(L203:L206)","v":0.96069398676911999},{"$f":"SUM(M203:M206)","v":0.91761470928802402},{"$f":"SUM(N203:N206)","v":0.89042824936249998},{"$f":"SUM(O203:O206)","v":0.83772656572141302}]
[]
[null,null,"Vektede effektiviteter (forventet effektivitet)"]
[null,null,"Hs (m)","Jan","Feb","Mar","Apr","Mai","Jun","Jul","Aug","Sep","Okt","Nov","Des"]
[null,null,"0,0 - 1,0",{"$f":"$E$4*D203","v":7.6785080085039495E-2},8.6672180990802608E-2,0.13595529269028253,0.2771444162117111,0.46318504201887578,0.50692374901070281,0.54362297206503907,0.50291791435579514,0.29058329828404933,0.17765889015171613,0.13499760002491731,9.485955652302043E-2]
[null,null,"1,0 - 2,0",{"$f":"$F$4*D204","v":0.24310359584140234},0.25851925049161062,0.29086910258095461,0.34197063785478282,0.28857647187273283,0.26540663172635609,0.25151793961330826,0.26725793838018319,0.3245817379435092,0.30225024766238773,0.29292630661816643,0.25380699679612445]
[null,null,"2,0 - 3,0",{"$f":"$G$4*D205","v":0.19404475290914627},0.18863629273390112,0.17550017361317333,0.11767588932047283,6.107294978658407E-2,4.9591234208040881E-2,4.1032380829831426E-2,5.3734846069297661E-2,0.11690070898999785,0.16116714409598734,0.1716485721086331,0.18504474753695663]
[null,null,"3,0 - 4,0",{"$f":"$H$4*D206","v":9.5890616171428147E-2},8.5288260200516969E-2,7.7979173685085862E-2,3.6628324930039986E-2,1.3061489879954721E-2,1.2461469753167824E-2,7.4912132150753647E-3,1.0278427192063613E-2,3.6328800368066121E-2,6.5630454763916532E-2,7.6168889016752575E-2,8.9540503822719456E-2]
[null,null,"Σ",{"$f":"SUM(D211:D214)","v":0.60982404500701626},0.61911598441683124,0.68030374256949644,0.77341926831700669,0.82589595355814738,0.83438308469826772,0.84366450572325413,0.83418912599733963,0.76839454558562237,0.70670673667400763,0.67574136776846949,0.62325180467882102]
[]
[null,null,null,"Gjennomsnittlig opptakseffektivitet NOFO-system"]
[null,null,null,"Vinter","Vår","Sommer","Høst","År"]
[null,null,null,{"$f":"(O215+D215+E215)/3","v":0.61739727803422284},{"$f":"(F215+G215+H215)/3","v":0.7598729881482168},{"$f":"(I215+J215+K215)/3","v":0.83741223880628712},{"$f":"(L215+M215+N215)/3","v":0.71694755000936639},{"$f":"SUM(D215:O215)/12","v":0.73290751374952334}]
[]
[]
[]
[null,null,"Lokasjon","Stasjon10_Cutoff1_nymetode_etterGMS.xls"]
[]
[null,null,"Sesongvise frekvensfordelinger av signifikante bølgehøydeintervaller"]
[null,null,"Hs (m)",null,"Vinter",null,null,"Vår",null,null,"Sommer",null,null,"Høst"]
[null,null,"0,0 - 1,0",0.20277335666946686,0.21299144731138439,0.29581945009398364,0.4999557279537874,0.6897156269073107,0.72334680548088903,0.73818362003078386,0.70312765833077984,0.49484969511486965,0.37343835710282586,0.30513434752088625,0.23514339322536743]
[null,null,"1,0 - 2,0",0.3439539226010988,0.36157438921365342,0.3626565671175877,0.33466443557913689,0.23598844977295227,0.20647010210096445,0.21160112136944095,0.22923041159910229,0.32283389374010085,0.32710838002978126,0.36203624914355886,0.34628740535199976]
[null,null,"2,0 - 3,0",0.2399719070776466,0.21112327799013203,0.2000805992117527,0.1078733916568457,5.3886026077419304E-2,5.2879333110457748E-2,4.1009498820178424E-2,5.2502945204932372E-2,0.11777971059548804,0.16951253943239408,0.18741371386279446,0.21735666938732445]
[null,null,"3,0 - 4,0",0.1126296848913078,0.11346782888784017,8.5114286282665957E-2,4.1728991957370121E-2,1.5278362392577691E-2,1.5189908561668707E-2,8.5253810350968701E-3,1.2405874360585458E-2,4.0820288502781327E-2,7.5198529490065849E-2,8.794018479231043E-2,0.10518674061045832]
[null,null,"Ʃ",{"$f":"SUM(D227:D230)","v":0.89932887123951999},{"$f":"SUM(E227:E230)","v":0.89915694340301},{"$f":"SUM(F227:F230)","v":0.94367090270598997},{"$f":"SUM(G227:G230)","v":0.98422254714714008},{"$f":"SUM(H227:H230)","v":0.99486846515026006},{"$f":"SUM(I227:I230)","v":0.99788614925397989},{"$f":"SUM(J227:J230)","v":0.99931962125550022},{"$f":"SUM(K227:K230)","v":0.99726688949539999},{"$f":"SUM(L227:L230)","v":0.97628358795323988},{"$f":"SUM(M227:M230)","v":0.94525780605506704},{"$f":"SUM(N227:N230)","v":0.94252449531955007},{"$f":"SUM(O227:O230)","v":0.90397420857514998}]
[]
[null,null,"Vektede effektiviteter (forventet effektivitet)"]
[null,null,"Hs (m)","Jan","Feb","Mar","Apr","Mai","Jun","Jul","Aug","Sep","Okt","Nov","Des"]
[null,null,"0,0 - 1,0",{"$f":"$E$4*D227","v":0.17996135404415184},0.18902990948885365,0.26253976195841044,0.44371070855898631,0.61212261888023822,0.64197028986428895,0.65513796277732061,0.62402579676856706,0.4391791044144468,0.33142654192875792,0.27080673342478656,0.20868976148751359]
[null,null,"1,0 - 2,0",{"$f":"$F$4*D228","v":0.27516313808087906},0.28925951137092276,0.29012525369407016,0.26773154846330954,0.18879075981836183,0.16517608168077158,0.16928089709555277,0.18338432927928183,0.25826711499208072,0.26168670402382505,0.28962899931484709,0.27702992428159984]
[null,null,"2,0 - 3,0",{"$f":"$G$4*D229","v":0.16798033495435261},0.14778629459309242,0.14005641944822689,7.5511374159791991E-2,3.7720218254193513E-2,3.7015533177320419E-2,2.8706649174124896E-2,3.6752061643452655E-2,8.2445797416841632E-2,0.11865877760267585,0.13118959970395611,0.15214966857112711]
[null,null,"3,0 - 4,0",{"$f":"$H$4*D230","v":6.7577810934784682E-2},6.8080697332704096E-2,5.1068571769599572E-2,2.5037395174422071E-2,9.1670174355466139E-3,9.1139451370012229E-3,5.1152286210581219E-3,7.4435246163512747E-3,2.4492173101668794E-2,4.5119117694039507E-2,5.2764110875386259E-2,6.3112044366274989E-2]
[null,null,"Σ",{"$f":"SUM(D235:D238)","v":0.69068263801416818},0.69415641278557294,0.74379000687030705,0.81199102635650988,0.84780061438834009,0.85327584985938221,0.85824073766805653,0.85160571230765281,0.80438418992503802,0.75689114124929835,0.74438944331897594,0.70098139870651544]
[]
[null,null,null,"Gjennomsnittlig opptakseffektivitet NOFO-system"]
[null,null,null,"Vinter","Vår","Sommer","Høst","År"]
[null,null,null,{"$f":"(O239+D239+E239)/3","v":0.69527348316875226},{"$f":"(F239+G239+H239)/3","v":0.80119388253838564},{"$f":"(I239+J239+K239)/3","v":0.85437409994503055},{"$f":"(L239+M239+N239)/3","v":0.7685549248311041},{"$f":"SUM(D239:O239)/12","v":0.77984909762081811}]
[]
[]
[]
[null,null,"Lokasjon","Stasjon11_Cutoff1_nymetode_etterGMS.xls"]
[]
[null,null,"Sesongvise frekvensfordelinger av signifikante bølgehøydeintervaller"]
[null,null,"Hs (m)",null,"Vinter",null,null,"Vår",null,null,"Sommer",null,null,"Høst"]
[null,null,"0,0 - 1,0",1.0006244340939444E-2,2.0661950098036039E-2,3.2230871656647835E-2,9.6544210269360942E-2,0.23850258612128172,0.23893437951555338,0.30857621953610725,0.29751821982893684,0.1284902540029286,4.9404620875669436E-2,2.9887437587895704E-2,2.2695910321326545E-2]
[null,null,"1,0 - 2,0",0.21289810671220702,0.22463298853382266,0.30435905849412537,0.46537279848592938,0.52619238787681799,0.55885388244418399,0.55915614290028626,0.52363120169657962,0.45722833683509828,0.3540474905266221,0.31217537118085192,0.21503649622486221]
[null,null,"2,0 - 3,0",0.29282254856639617,0.29710189683720589,0.30744325240161691,0.26484636017236385,0.17156776006202701,0.15922906796956768,0.10986615656954693,0.14109047981857883,0.25933695692079745,0.2996222406240181,0.29533666288082894,0.30991483624015137]
[null,null,"3,0 - 4,0",0.23110301289207735,0.21404277306419539,0.19478109239679003,0.11068653425230589,4.6453967774695265E-2,3.5816474470914829E-2,1.8239257779657677E-2,3.0498532935990808E-2,9.8136521993205661E-2,0.16561881509762832,0.19597861968385827,0.21215045226272997]
[null,null,"Ʃ",{"$f":"SUM(D251:D254)","v":0.74682991251162001},{"$f":"SUM(E251:E254)","v":0.75643960853325998},{"$f":"SUM(F251:F254)","v":0.83881427494918026},{"$f":"SUM(G251:G254)","v":0.93744990317996002},{"$f":"SUM(H251:H254)","v":0.98271670183482196},{"$f":"SUM(I251:I254)","v":0.99283380440021995},{"$f":"SUM(J251:J254)","v":0.99583777678559804},{"$f":"SUM(K251:K254)","v":0.99273843428008601},{"$f":"SUM(L251:L254)","v":0.94319206975203007},{"$f":"SUM(M251:M254)","v":0.86869316712393796},{"$f":"SUM(N251:N254)","v":0.83337809133343477},{"$f":"SUM(O251:O254)","v":0.75979769504907013}]
[]
[null,null,"Vektede effektiviteter (forventet effektivitet)"]
[null,null,"Hs (m)","Jan","Feb","Mar","Apr","Mai","Jun","Jul","Aug","Sep","Okt","Nov","Des"]
[null,null,"0,0 - 1,0",{"$f":"$E$4*D251","v":8.8805418525837558E-3},1.8337480712006984E-2,2.8604898595274951E-2,8.5682986614057835E-2,0.21167104518263752,0.2120542618200536,0.27386139483829519,0.26404742009818144,0.11403510042759912,4.3846601027156623E-2,2.6525100859257435E-2,2.0142620410177309E-2]
[null,null,"1,0 - 2,0",{"$f":"$F$4*D252","v":0.17031848536976563},0.17970639082705814,0.24348724679530032,0.37229823878874352,0.4209539103014544,0.44708310595534723,0.44732491432022903,0.41890496135726374,0.36578266946807864,0.28323799242129771,0.24974029694468156,0.17202919697988978]
[null,null,"2,0 - 3,0",{"$f":"$G$4*D253","v":0.20497578399647731},0.2079713277860441,0.21521027668113182,0.18539245212065469,0.1200974320434189,0.11146034757869737,7.6906309598682845E-2,9.8763335873005176E-2,0.18153586984455819,0.20973556843681265,0.20673566401658025,0.21694038536810595]
[null,null,"3,0 - 4,0",{"$f":"$H$4*D254","v":0.13866180773524642},0.12842566383851722,0.11686865543807401,6.6411920551383535E-2,2.7872380664817158E-2,2.1489884682548897E-2,1.0943554667794606E-2,1.8299119761594485E-2,5.8881913195923397E-2,9.9371289058576992E-2,0.11758717181031496,0.12729027135763799]
[null,null,"Σ",{"$f":"SUM(D259:D262)","v":0.52283661895407307},0.53444086316362638,0.60417107750978105,0.70978559807483954,0.78059476819232798,0.79208760003664713,0.80903617342500167,0.80001483709004484,0.72023555293615937,0.63619145094384388,0.60058823363083425,0.5364024741158111]
[]
[null,null,null,"Gjennomsnittlig opptakseffektivitet NOFO-system"]
[null,null,null,"Vinter","Vår","Sommer","Høst","År"]
[null,null,null,{"$f":"(O263+D263+E263)/3","v":0.53122665207783681},{"$f":"(F263+G263+H263)/3","v":0.69818381459231615},{"$f":"(I263+J263+K263)/3","v":0.80037953685056451},{"$f":"(L263+M263+N263)/3","v":0.65233841250361246},{"$f":"SUM(D263:O263)/12","v":0.67053210400608254}]

{"sheet":"Op.Eff.STOTTE.NOFO.V2","index":16,"n_rows":651,"n_cols":15,"rows_kept":651,"cut":false,"hidden":true,"merged":[[96,3,96,7],[8,2,8,14],[16,2,16,14],[24,3,24,7],[32,2,32,14],[40,2,40,14],[48,3,48,7],[56,2,56,14],[64,2,64,14],[72,3,72,7],[80,2,80,14],[88,2,88,14],[24,9,24,13],[192,3,192,7],[104,2,104,14],[112,2,112,14],[120,3,120,7],[128,2,128,14],[136,2,136,14],[144,3,144,7],[152,2,152,14],[160,2,160,14],[168,3,168,7],[176,2,176,14],[184,2,184,14],[288,3,288,7],[200,2,200,14],[208,2,208,14],[216,3,216,7],[224,2,224,14],[232,2,232,14],[240,3,240,7],[248,2,248,14],[256,2,256,14],[264,3,264,7],[272,2,272,14],[280,2,280,14],[384,3,384,7],[296,2,296,14],[304,2,304,14],[312,3,312,7],[320,2,320,14],[328,2,328,14],[336,3,336,7],[344,2,344,14],[352,2,352,14],[360,3,360,7],[368,2,368,14],[376,2,376,14],[480,3,480,7],[392,2,392,14],[400,2,400,14],[408,3,408,7],[416,2,416,14],[424,2,424,14],[432,3,432,7],[440,2,440,14],[448,2,448,14],[456,3,456,7],[464,2,464,14],[472,2,472,14],[576,3,576,7],[488,2,488,14],[496,2,496,14],[504,3,504,7],[512,2,512,14],[520,2,520,14],[528,3,528,7],[536,2,536,14],[544,2,544,14],[552,3,552,7],[560,2,560,14],[568,2,568,14],[632,2,632,14],[640,2,640,14],[648,3,648,7],[584,2,584,14],[592,2,592,14],[600,3,600,7],[608,2,608,14],[616,2,616,14],[624,3,624,7]]}
[]
[]
[null,null,"Hs intervall (m)",null,"0,0 - 1,0","1,0 -2,0","2,0 - 3,0","3,0 - 4,0"]
[null,null,"Opptakseffektivitet",null,0.88749999999999996,0.8,0.7,0.6]
[]
[]
[null,null,"Lokasjon",1]
[]
[null,null,"Sesongvise frekvensfordelinger av signifikante bølgehøydeintervaller"]
[null,null,"Hs (m)",null,"Vinter",null,null,"Vår",null,null,"Sommer",null,null,"Høst"]
[null,null,"0,0 - 1,0",null,5.1899999999999995E-2,0,0,0.16153400000000001,0,0,0.32373299999999999,0,0,0.1052]
[null,null,"1,0 - 2,0",null,0.28110000000000002,0,0,0.48503299999999994,0,0,0.51136700000000002,0,0,0.36703400000000003]
[null,null,"2,0 - 3,0",null,0.284634,0,0,0.22570000000000001,0,0,0.11833300000000001,0,0,0.27706699999999995]
[null,null,"3,0 - 4,0",null,0.18100000000000002,0,0,8.693300000000001E-2,0,0,3.0667E-2,0,0,0.146866]
[null,null,"Ʃ",null,{"$f":"SUM(E11:E14)","v":0.79863400000000007},null,null,0.95919999999999994,null,null,0.98409999999999997,null,null,0.89616699999999994]
[]
[null,null,"Vektede effektiviteter (forventet effektivitet)"]
[null,null,"Hs (m)",null,"Vinter",null,null,"Vår",null,null,"Sommer",null,null,"Høst"]
[null,null,"0,0 - 1,0",null,{"$f":"$E$4*E11","v":4.6061249999999991E-2},null,null,0.14336142500000001,null,null,0.28731303749999998,null,null,9.3365000000000004E-2]
[null,null,"1,0 - 2,0",null,{"$f":"$F$4*E12","v":0.22488000000000002},null,null,0.38802639999999999,null,null,0.40909360000000006,null,null,0.29362720000000003]
[null,null,"2,0 - 3,0",null,{"$f":"$G$4*E13","v":0.1992438},null,null,0.15798999999999999,null,null,8.2833100000000007E-2,null,null,0.19394689999999995]
[null,null,"3,0 - 4,0",null,{"$f":"$H$4*E14","v":0.10860000000000002},null,null,{"$f":"$H$4*H14","v":5.2159800000000006E-2},null,null,1.8400199999999999E-2,null,null,8.8119599999999992E-2]
[null,null,"Σ",null,{"$f":"SUM(E19:E22)","v":0.57878505000000002},null,null,{"$f":"SUM(H19:H22)","v":0.74153762499999998},null,null,{"$f":"SUM(K19:K22)","v":0.79763993749999995},null,null,{"$f":"SUM(N19:N22)","v":0.6690586999999999}]
[]
[null,null,null,"Gjennomsnittlig opptakseffektivitet Gruppe A system",null,null,null,null,null,"Optimal ytelse hensyntatt sikt HH Kyst m3/d)"]
[null,null,null,"Vinter","Vår","Sommer","Høst","År",null,"Vinter","Vår","Sommer","Høst","År"]
[null,null,null,{"$f":"E23","v":0.57878505000000002},{"$f":"H23","v":0.74153762499999998},{"$f":"K23","v":0.79763993749999995},{"$f":"N23","v":0.6690586999999999},{"$f":"SUM(D23:O23)/4","v":0.69675532812499996},null,49,141,154,90,{"$f":"(M27+L27+K27+J27)/4","v":108.5}]
[]
[]
[]
[null,null,"Lokasjon",2]
[]
[null,null,"Sesongvise frekvensfordelinger av signifikante bølgehøydeintervaller"]
[null,null,"Hs (m)",null,"Vinter",null,null,"Vår",null,null,"Sommer",null,null,"Høst"]
[null,null,"0,0 - 1,0",null,0.24850000000000003,0,0,0.4783,0,0,0.56640000000000001,0,0,0.295767]
[null,null,"1,0 - 2,0",null,0.34483400000000003,0,0,0.38339999999999996,0,0,0.37430000000000002,0,0,0.4128]
[null,null,"2,0 - 3,0",null,0.2036,0,0,0.1026,0,0,4.4767000000000001E-2,0,0,0.19833300000000001]
[null,null,"3,0 - 4,0",null,0.11539999999999999,0,0,2.7466000000000001E-2,0,0,1.1699999999999999E-2,0,0,6.8267000000000008E-2]
[null,null,"Ʃ",{"$f":"SUM(D35:D38)","v":0},{"$f":"SUM(E35:E38)","v":0.91233399999999998},0,0,0.99176599999999993,0,0,0.99716700000000014,0,0,0.9751669999999999,0]
[]
[null,null,"Vektede effektiviteter (forventet effektivitet)"]
[null,null,"Hs (m)",null,"Vinter",null,null,"Vår",null,null,"Sommer",null,null,"Høst"]
[null,null,"0,0 - 1,0",{"$f":"$E$4*D35","v":0},0.22054375000000001,0,0,0.42449124999999999,0,0,0.50268000000000002,0,0,0.26249321249999996,0]
[null,null,"1,0 - 2,0",{"$f":"$F$4*D36","v":0},0.27586720000000003,0,0,0.30671999999999999,0,0,0.29944000000000004,0,0,0.33024000000000003,0]
[null,null,"2,0 - 3,0",{"$f":"$G$4*D37","v":0},0.14251999999999998,0,0,7.1819999999999995E-2,0,0,3.1336900000000001E-2,0,0,0.13883309999999999,0]
[null,null,"3,0 - 4,0",{"$f":"$H$4*D38","v":0},6.9239999999999996E-2,0,0,1.64796E-2,0,0,7.0199999999999993E-3,0,0,4.0960200000000002E-2,0]
[null,null,"Σ",null,{"$f":"SUM(E43:E46)","v":0.70817094999999997},null,null,{"$f":"SUM(H43:H46)","v":0.81951085000000001},null,null,{"$f":"SUM(K43:K46)","v":0.84047690000000008},null,null,{"$f":"SUM(N43:N46)","v":0.77252651250000004}]
[]
[null,null,null,"Gjennomsnittlig opptakseffektivitet Gruppe A system"]
[null,null,null,"Vinter","Vår","Sommer","Høst","År"]
[null,null,null,{"$f":"E47","v":0.70817094999999997},{"$f":"H47","v":0.81951085000000001},{"$f":"K47","v":0.84047690000000008},{"$f":"N47","v":0.77252651250000004},{"$f":"SUM(D47:O47)/4","v":0.78517130312500005}]
[]
[]
[]
[null,null,"Lokasjon",3]
[]
[null,null,"Sesongvise frekvensfordelinger av signifikante bølgehøydeintervaller"]
[null,null,"Hs (m)",null,"Vinter",null,null,"Vår",null,null,"Sommer",null,null,"Høst"]
[null,null,"0,0 - 1,0",null,1.5634000000000002E-2,0,0,8.3100000000000007E-2,0,0,0.2366,0,0,4.2967000000000005E-2]
[null,null,"1,0 - 2,0",null,0.19086700000000001,0,0,0.42013300000000003,0,0,0.55233299999999996,0,0,0.319467]
[null,null,"2,0 - 3,0",null,0.26236600000000004,0,0,0.29436700000000005,0,0,0.15186599999999997,0,0,0.28970000000000001]
[null,null,"3,0 - 4,0",null,0.21823300000000004,0,0,0.12543299999999999,0,0,3.8167E-2,0,0,0.1696]
[null,null,"Ʃ",{"$f":"SUM(D59:D62)","v":0},{"$f":"SUM(E59:E62)","v":0.68710000000000004},0,0,0.9230330000000001,0,0,0.97896599999999989,0,0,0.82173399999999996,0]
[]
[null,null,"Vektede effektiviteter (forventet effektivitet)"]
[null,null,"Hs (m)",null,"Vinter",null,null,"Vår",null,null,"Sommer",null,null,"Høst"]
[null,null,"0,0 - 1,0",{"$f":"$E$4*D59","v":0},1.3875175000000002E-2,0,0,7.3751250000000004E-2,0,0,0.20998249999999999,0,0,3.8133212499999999E-2,0]
[null,null,"1,0 - 2,0",{"$f":"$F$4*D60","v":0},0.15269360000000001,0,0,0.33610640000000003,0,0,0.44186639999999999,0,0,0.25557360000000001,0]
[null,null,"2,0 - 3,0",{"$f":"$G$4*D61","v":0},0.18365620000000002,0,0,0.20605690000000002,0,0,0.10630619999999998,0,0,0.20279,0]
[null,null,"3,0 - 4,0",{"$f":"$H$4*D62","v":0},0.13093980000000002,0,0,7.5259799999999988E-2,0,0,2.2900199999999999E-2,0,0,0.10176,0]
[null,null,"Σ",null,{"$f":"SUM(E67:E70)","v":0.4811647750000001},null,null,{"$f":"SUM(H67:H70)","v":0.69117435000000005},null,null,{"$f":"SUM(K67:K70)","v":0.78105530000000001},null,null,{"$f":"SUM(N67:N70)","v":0.59825681249999996}]
[]
[null,null,null,"Gjennomsnittlig opptakseffektivitet Gruppe A system"]
[null,null,null,"Vinter","Vår","Sommer","Høst","År"]
[null,null,null,{"$f":"E71","v":0.4811647750000001},{"$f":"H71","v":0.69117435000000005},{"$f":"K71","v":0.78105530000000001},{"$f":"N71","v":0.59825681249999996},{"$f":"SUM(D71:O71)/4","v":0.63791280937500006}]
[]
[]
[]
[null,null,"Lokasjon",4]
[]
[null,null,"Sesongvise frekvensfordelinger av signifikante bølgehøydeintervaller"]
[null,null,"Hs (m)",null,"Vinter",null,null,"Vår",null,null,"Sommer",null,null,"Høst"]
[null,null,"0,0 - 1,0",null,8.9533000000000001E-2,0,0,0.24009999999999998,0,0,0.38500000000000001,0,0,0.138433]
[null,null,"1,0 - 2,0",null,0.28513300000000003,0,0,0.432033,0,0,0.45926699999999998,0,0,0.360767]
[null,null,"2,0 - 3,0",null,0.25413400000000003,0,0,0.21653399999999998,0,0,0.12003300000000001,0,0,0.26726700000000003]
[null,null,"3,0 - 4,0",null,0.168433,0,0,7.7767000000000003E-2,0,0,2.3834000000000001E-2,0,0,0.14473299999999997]
[null,null,"Ʃ",{"$f":"SUM(D83:D86)","v":0},{"$f":"SUM(E83:E86)","v":0.79723300000000008},0,0,0.96643400000000002,0,0,0.98813400000000007,0,0,0.91120000000000001,0]
[]
[null,null,"Vektede effektiviteter (forventet effektivitet)"]
[null,null,"Hs (m)",null,"Vinter",null,null,"Vår",null,null,"Sommer",null,null,"Høst"]
[null,null,"0,0 - 1,0",{"$f":"$E$4*D83","v":0},7.9460537499999997E-2,0,0,0.21308874999999997,0,0,0.34168749999999998,0,0,0.1228592875,0]
[null,null,"1,0 - 2,0",{"$f":"$F$4*D84","v":0},0.22810640000000004,0,0,0.3456264,0,0,0.36741360000000001,0,0,0.28861360000000003,0]
[null,null,"2,0 - 3,0",{"$f":"$G$4*D85","v":0},0.17789380000000002,0,0,0.15157379999999998,0,0,8.4023100000000003E-2,0,0,0.1870869,0]
[null,null,"3,0 - 4,0",{"$f":"$H$4*D86","v":0},0.10105979999999999,0,0,4.6660199999999999E-2,0,0,1.43004E-2,0,0,8.6839799999999981E-2,0]
[null,null,"Σ",null,{"$f":"SUM(E91:E94)","v":0.58652053750000011},null,null,{"$f":"SUM(H91:H94)","v":0.75694914999999996},null,null,{"$f":"SUM(K91:K94)","v":0.80742460000000005},null,null,{"$f":"SUM(N91:N94)","v":0.68539958749999996}]
[]
[null,null,null,"Gjennomsnittlig opptakseffektivitet Gruppe A system"]
[null,null,null,"Vinter","Vår","Sommer","Høst","År"]
[null,null,null,{"$f":"E95","v":0.58652053750000011},{"$f":"H95","v":0.75694914999999996},{"$f":"K95","v":0.80742460000000005},{"$f":"N95","v":0.68539958749999996},{"$f":"SUM(D95:O95)/4","v":0.70907346874999999}]
[]
[]
[]
[null,null,"Lokasjon",5]
[]
[null,null,"Sesongvise frekvensfordelinger av signifikante bølgehøydeintervaller"]
[null,null,"Hs (m)",null,"Vinter",null,null,"Vår",null,null,"Sommer",null,null,"Høst"]
[null,null,"0,0 - 1,0",null,1.1465999999999999E-2,0,0,7.0066000000000003E-2,0,0,0.20506600000000003,0,0,3.9333E-2]
[null,null,"1,0 - 2,0",null,0.16776600000000003,0,0,0.39513300000000001,0,0,0.558033,0,0,0.287466]
[null,null,"2,0 - 3,0",null,0.24896700000000002,0,0,0.307533,0,0,0.173067,0,0,0.29666700000000001]
[null,null,"3,0 - 4,0",null,0.234234,0,0,0.14000000000000001,0,0,4.1833000000000002E-2,0,0,0.181834]
[null,null,"Ʃ",{"$f":"SUM(D107:D110)","v":0},{"$f":"SUM(E107:E110)","v":0.66243300000000005},0,0,0.91273199999999999,0,0,0.97799899999999995,0,0,0.80530000000000013,0]
[]
[null,null,"Vektede effektiviteter (forventet effektivitet)"]
[null,null,"Hs (m)",null,"Vinter",null,null,"Vår",null,null,"Sommer",null,null,"Høst"]
[null,null,"0,0 - 1,0",{"$f":"$E$4*D107","v":0},1.0176074999999998E-2,0,0,6.2183574999999998E-2,0,0,0.18199607500000001,0,0,3.4908037499999996E-2,0]
[null,null,"1,0 - 2,0",{"$f":"$F$4*D108","v":0},0.13421280000000002,0,0,0.31610640000000001,0,0,0.4464264,0,0,0.2299728,0]
[null,null,"2,0 - 3,0",{"$f":"$G$4*D109","v":0},0.17427690000000001,0,0,0.2152731,0,0,0.12114689999999999,0,0,0.20766689999999999,0]
[null,null,"3,0 - 4,0",{"$f":"$H$4*D110","v":0},0.14054039999999998,0,0,8.4000000000000005E-2,0,0,2.5099800000000002E-2,0,0,0.1091004,0]
[null,null,"Σ",null,{"$f":"SUM(E115:E118)","v":0.45920617500000005},null,null,{"$f":"SUM(H115:H118)","v":0.67756307500000001},null,null,{"$f":"SUM(K115:K118)","v":0.77466917499999999},null,null,{"$f":"SUM(N115:N118)","v":0.5816481375}]
[]
[null,null,null,"Gjennomsnittlig opptakseffektivitet Gruppe A system"]
[null,null,null,"Vinter","Vår","Sommer","Høst","År"]
[null,null,null,{"$f":"E119","v":0.45920617500000005},{"$f":"H119","v":0.67756307500000001},{"$f":"K119","v":0.77466917499999999},{"$f":"N119","v":0.5816481375},{"$f":"SUM(D119:O119)/4","v":0.62327164062500007}]
[]
[]
[]
[null,null,"Lokasjon",6]
[]
[null,null,"Sesongvise frekvensfordelinger av signifikante bølgehøydeintervaller"]
[null,null,"Hs (m)",null,"Vinter",null,null,"Vår",null,null,"Sommer",null,null,"Høst"]
[null,null,"0,0 - 1,0",null,0.11913299999999999,0,0,0.30013299999999998,0,0,0.484767,0,0,0.206867]
[null,null,"1,0 - 2,0",null,0.31746600000000003,0,0,0.40996700000000003,0,0,0.39980000000000004,0,0,0.38670000000000004]
[null,null,"2,0 - 3,0",null,0.25406600000000001,0,0,0.19060000000000002,0,0,8.929999999999999E-2,0,0,0.226634]
[null,null,"3,0 - 4,0",null,0.16509999999999997,0,0,6.6133000000000011E-2,0,0,1.9E-2,0,0,0.10863300000000001]
[null,null,"Ʃ",{"$f":"SUM(D131:D134)","v":0},{"$f":"SUM(E131:E134)","v":0.85576500000000011},0,0,0.96683299999999994,0,0,0.99286700000000006,0,0,0.92883400000000005,0]
[]
[null,null,"Vektede effektiviteter (forventet effektivitet)"]
[null,null,"Hs (m)",null,"Vinter",null,null,"Vår",null,null,"Sommer",null,null,"Høst"]
[null,null,"0,0 - 1,0",{"$f":"$E$4*D131","v":0},0.10573053749999999,0,0,0.26636803749999999,0,0,0.4302307125,0,0,0.1835944625,0]
[null,null,"1,0 - 2,0",{"$f":"$F$4*D132","v":0},0.25397280000000005,0,0,0.32797360000000003,0,0,0.31984000000000007,0,0,0.30936000000000008,0]
[null,null,"2,0 - 3,0",{"$f":"$G$4*D133","v":0},0.17784620000000001,0,0,0.13342000000000001,0,0,6.2509999999999996E-2,0,0,0.1586438,0]
[null,null,"3,0 - 4,0",{"$f":"$H$4*D134","v":0},9.9059999999999981E-2,0,0,3.9679800000000008E-2,0,0,1.1399999999999999E-2,0,0,6.5179799999999996E-2,0]
[null,null,"Σ",null,{"$f":"SUM(E139:E142)","v":0.63660953750000004},null,null,{"$f":"SUM(H139:H142)","v":0.76744143750000005},null,null,{"$f":"SUM(K139:K142)","v":0.82398071250000005},null,null,{"$f":"SUM(N139:N142)","v":0.71677806250000009}]
[]
[null,null,null,"Gjennomsnittlig opptakseffektivitet Gruppe A system"]
[null,null,null,"Vinter","Vår","Sommer","Høst","År"]
[null,null,null,{"$f":"E143","v":0.63660953750000004},{"$f":"H143","v":0.76744143750000005},{"$f":"K143","v":0.82398071250000005},{"$f":"N143","v":0.71677806250000009},{"$f":"SUM(D143:O143)/4","v":0.73620243750000003}]
[]
[]
[]
[null,null,"Lokasjon",7]
[]
[null,null,"Sesongvise frekvensfordelinger av signifikante bølgehøydeintervaller"]
[null,null,"Hs (m)",null,"Vinter",null,null,"Vår",null,null,"Sommer",null,null,"Høst"]
[null,null,"0,0 - 1,0",null,1.0866000000000001E-2,0,0,6.3632999999999995E-2,0,0,0.19060000000000002,0,0,5.04E-2]
[null,null,"1,0 - 2,0",null,0.16390000000000002,0,0,0.39149999999999996,0,0,0.55666599999999999,0,0,0.27140000000000003]
[null,null,"2,0 - 3,0",null,0.24629999999999999,0,0,0.31293300000000002,0,0,0.18183299999999999,0,0,0.285167]
[null,null,"3,0 - 4,0",null,0.2316,0,0,0.13913300000000001,0,0,4.8733000000000005E-2,0,0,0.19456700000000002]
[null,null,"Ʃ",{"$f":"SUM(D155:D158)","v":0},{"$f":"SUM(E155:E158)","v":0.65266600000000008},0,0,0.90719899999999987,0,0,0.97783200000000003,0,0,0.80153400000000008,0]
[]
[null,null,"Vektede effektiviteter (forventet effektivitet)"]
[null,null,"Hs (m)",null,"Vinter",null,null,"Vår",null,null,"Sommer",null,null,"Høst"]
[null,null,"0,0 - 1,0",{"$f":"$E$4*D155","v":0},9.6435749999999997E-3,0,0,5.6474287499999991E-2,0,0,0.16915750000000002,0,0,4.4729999999999999E-2,0]
[null,null,"1,0 - 2,0",{"$f":"$F$4*D156","v":0},0.13112000000000001,0,0,0.31319999999999998,0,0,0.44533280000000003,0,0,0.21712000000000004,0]
[null,null,"2,0 - 3,0",{"$f":"$G$4*D157","v":0},0.17240999999999998,0,0,0.2190531,0,0,0.12728309999999998,0,0,0.19961689999999999,0]
[null,null,"3,0 - 4,0",{"$f":"$H$4*D158","v":0},0.13896,0,0,8.3479800000000007E-2,0,0,2.9239800000000003E-2,0,0,0.1167402,0]
[null,null,"Σ",null,{"$f":"SUM(E163:E166)","v":0.45213357499999995},null,null,{"$f":"SUM(H163:H166)","v":0.67220718749999997},null,null,{"$f":"SUM(K163:K166)","v":0.77101320000000007},null,null,{"$f":"SUM(N163:N166)","v":0.57820709999999997}]
[]
[null,null,null,"Gjennomsnittlig opptakseffektivitet Gruppe A system"]
[null,null,null,"Vinter","Vår","Sommer","Høst","År"]
[null,null,null,{"$f":"E167","v":0.45213357499999995},{"$f":"H167","v":0.67220718749999997},{"$f":"K167","v":0.77101320000000007},{"$f":"N167","v":0.57820709999999997},{"$f":"SUM(D167:O167)/4","v":0.61839026562499999}]
[]
[]
[]
[null,null,"Lokasjon",8]
[]
[null,null,"Sesongvise frekvensfordelinger av signifikante bølgehøydeintervaller"]
[null,null,"Hs (m)",null,"Vinter",null,null,"Vår",null,null,"Sommer",null,null,"Høst"]
[null,null,"0,0 - 1,0",null,1.3833E-2,0,0,6.7632999999999999E-2,0,0,0.20233299999999999,0,0,5.8666999999999997E-2]
[null,null,"1,0 - 2,0",null,0.16816700000000001,0,0,0.398866,0,0,0.54596699999999998,0,0,0.27160000000000001]
[null,null,"2,0 - 3,0",null,0.25206600000000001,0,0,0.30076700000000001,0,0,0.17616600000000002,0,0,0.27979999999999999]
[null,null,"3,0 - 4,0",null,0.23026600000000003,0,0,0.13746700000000001,0,0,5.3633E-2,0,0,0.200734]
[null,null,"Ʃ",{"$f":"SUM(D179:D182)","v":0},{"$f":"SUM(E179:E182)","v":0.66433200000000014},0,0,0.90473300000000001,0,0,0.97809900000000005,0,0,0.81080099999999988,0]
[]
[null,null,"Vektede effektiviteter (forventet effektivitet)"]
[null,null,"Hs (m)",null,"Vinter",null,null,"Vår",null,null,"Sommer",null,null,"Høst"]
[null,null,"0,0 - 1,0",{"$f":"$E$4*D179","v":0},1.2276787499999999E-2,0,0,6.0024287499999995E-2,0,0,0.17957053749999999,0,0,5.2066962499999994E-2,0]
[null,null,"1,0 - 2,0",{"$f":"$F$4*D180","v":0},0.1345336,0,0,0.31909280000000001,0,0,0.43677359999999998,0,0,0.21728000000000003,0]
[null,null,"2,0 - 3,0",{"$f":"$G$4*D181","v":0},0.1764462,0,0,0.2105369,0,0,0.1233162,0,0,0.19585999999999998,0]
[null,null,"3,0 - 4,0",{"$f":"$H$4*D182","v":0},0.13815960000000002,0,0,8.2480200000000004E-2,0,0,3.2179800000000001E-2,0,0,0.12044039999999999,0]
[null,null,"Σ",null,{"$f":"SUM(E187:E190)","v":0.46141618750000002},null,null,{"$f":"SUM(H187:H190)","v":0.67213418749999998},null,null,{"$f":"SUM(K187:K190)","v":0.77184013749999991},null,null,{"$f":"SUM(N187:N190)","v":0.58564736249999994}]
[]
[null,null,null,"Gjennomsnittlig opptakseffektivitet Gruppe A system"]
[null,null,null,"Vinter","Vår","Sommer","Høst","År"]
[null,null,null,{"$f":"E191","v":0.46141618750000002},{"$f":"H191","v":0.67213418749999998},{"$f":"K191","v":0.77184013749999991},{"$f":"N191","v":0.58564736249999994},{"$f":"SUM(D191:O191)/4","v":0.62275946874999999}]
[]
[]
[]
[null,null,"Lokasjon",9]
[]
[null,null,"Sesongvise frekvensfordelinger av signifikante bølgehøydeintervaller"]
[null,null,"Hs (m)",null,"Vinter",null,null,"Vår",null,null,"Sommer",null,null,"Høst"]
[null,null,"0,0 - 1,0",null,1.7233000000000002E-2,null,null,6.9732999999999989E-2,null,null,0.21216699999999999,null,null,6.13E-2]
[null,null,"1,0 - 2,0",null,0.16489999999999999,null,null,0.39136599999999999,null,null,0.53583299999999989,null,null,0.27333399999999997]
[null,null,"2,0 - 3,0",null,0.25883400000000001,null,null,0.29416700000000001,null,null,0.17586599999999999,null,null,0.28756699999999996]
[null,null,"3,0 - 4,0",null,0.21933300000000003,null,null,0.142433,null,null,5.2565999999999995E-2,null,null,0.19350000000000001]
[null,null,"Ʃ",{"$f":"SUM(D203:D206)","v":0},{"$f":"SUM(E203:E206)","v":0.6603},0,0,0.89769900000000002,0,0,0.97643199999999986,0,0,0.81570100000000001,0]
[]
[null,null,"Vektede effektiviteter (forventet effektivitet)"]
[null,null,"Hs (m)",null,"Vinter",null,null,"Vår",null,null,"Sommer",null,null,"Høst"]
[null,null,"0,0 - 1,0",{"$f":"$E$4*D203","v":0},1.5294287500000002E-2,0,0,6.1888037499999986E-2,0,0,0.18829821249999998,0,0,5.4403750000000001E-2,0]
[null,null,"1,0 - 2,0",{"$f":"$F$4*D204","v":0},0.13192000000000001,0,0,0.3130928,0,0,0.42866639999999995,0,0,0.21866719999999998,0]
[null,null,"2,0 - 3,0",{"$f":"$G$4*D205","v":0},0.18118380000000001,0,0,0.20591689999999999,0,0,0.12310619999999999,0,0,0.20129689999999997,0]
[null,null,"3,0 - 4,0",{"$f":"$H$4*D206","v":0},0.13159980000000002,0,0,8.5459800000000002E-2,0,0,3.1539599999999994E-2,0,0,0.11609999999999999,0]
[null,null,"Σ",null,{"$f":"SUM(E211:E214)","v":0.45999788750000004},null,null,{"$f":"SUM(H211:H214)","v":0.66635753749999993},null,null,{"$f":"SUM(K211:K214)","v":0.77161041249999984},null,null,{"$f":"SUM(N211:N214)","v":0.59046784999999991}]
[]
[null,null,null,"Gjennomsnittlig opptakseffektivitet Gruppe A system"]
[null,null,null,"Vinter","Vår","Sommer","Høst","År"]
[null,null,null,{"$f":"E215","v":0.45999788750000004},{"$f":"H215","v":0.66635753749999993},{"$f":"K215","v":0.77161041249999984},{"$f":"N215","v":0.59046784999999991},{"$f":"SUM(D215:O215)/4","v":0.62210842187499993}]
[]
[]
[]
[null,null,"Lokasjon",10]
[]
[null,null,"Sesongvise frekvensfordelinger av signifikante bølgehøydeintervaller"]
[null,null,"Hs (m)",null,"Vinter",null,null,"Vår",null,null,"Sommer",null,null,"Høst"]
[null,null,"0,0 - 1,0",null,8.3000000000000001E-3,null,null,4.8066999999999999E-2,null,null,0.166966,null,null,3.6267000000000001E-2]
[null,null,"1,0 - 2,0",null,0.126,null,null,0.34936600000000001,null,null,0.55946699999999994,null,null,0.25079999999999997]
[null,null,"2,0 - 3,0",null,0.24253300000000003,null,null,0.31240000000000001,null,null,0.18436700000000003,null,null,0.28649999999999998]
[null,null,"3,0 - 4,0",null,0.22873399999999999,null,null,0.1598,null,null,6.5500000000000003E-2,null,null,0.20780000000000001]
[null,null,"Ʃ",{"$f":"SUM(D227:D230)","v":0},{"$f":"SUM(E227:E230)","v":0.60556699999999997},0,0,0.8696330000000001,0,0,0.97629999999999995,0,0,0.78136699999999992,0]
[]
[null,null,"Vektede effektiviteter (forventet effektivitet)"]
[null,null,"Hs (m)",null,"Vinter",null,null,"Vår",null,null,"Sommer",null,null,"Høst"]
[null,null,"0,0 - 1,0",{"$f":"$E$4*D227","v":0},7.3662499999999995E-3,0,0,4.2659462499999995E-2,0,0,0.148182325,0,0,3.2186962499999999E-2,0]
[null,null,"1,0 - 2,0",{"$f":"$F$4*D228","v":0},0.1008,0,0,0.27949280000000004,0,0,0.44757359999999996,0,0,0.20063999999999999,0]
[null,null,"2,0 - 3,0",{"$f":"$G$4*D229","v":0},0.16977310000000001,0,0,0.21867999999999999,0,0,0.1290569,0,0,0.20054999999999998,0]
[null,null,"3,0 - 4,0",{"$f":"$H$4*D230","v":0},0.13724039999999998,0,0,9.5879999999999993E-2,0,0,3.9300000000000002E-2,0,0,0.12468,0]
[null,null,"Σ",null,{"$f":"SUM(E235:E238)","v":0.41517975000000001},null,null,{"$f":"SUM(H235:H238)","v":0.63671226250000001},null,null,{"$f":"SUM(K235:K238)","v":0.764112825},null,null,{"$f":"SUM(N235:N238)","v":0.55805696249999992}]
[]
[null,null,null,"Gjennomsnittlig opptakseffektivitet Gruppe A system"]
[null,null,null,"Vinter","Vår","Sommer","Høst","År"]
[null,null,null,{"$f":"E239","v":0.41517975000000001},{"$f":"H239","v":0.63671226250000001},{"$f":"K239","v":0.764112825},{"$f":"N239","v":0.55805696249999992},{"$f":"SUM(D239:O239)/4","v":0.59351544999999994}]
[]
[]
[]
[null,null,"Lokasjon",11]
[]
[null,null,"Sesongvise frekvensfordelinger av signifikante bølgehøydeintervaller"]
[null,null,"Hs (m)",null,"Vinter",null,null,"Vår",null,null,"Sommer",null,null,"Høst"]
[null,null,"0,0 - 1,0",null,1.6434000000000001E-2,null,null,7.5133000000000005E-2,null,null,0.22340000000000004,null,null,5.7965999999999997E-2]
[null,null,"1,0 - 2,0",null,0.173433,null,null,0.37933300000000003,null,null,0.52476699999999998,null,null,0.28789999999999999]
[null,null,"2,0 - 3,0",null,0.24756599999999998,null,null,0.28653299999999998,null,null,0.173266,null,null,0.28353299999999998]
[null,null,"3,0 - 4,0",null,0.21196599999999999,null,null,0.14683399999999999,null,null,5.6934000000000005E-2,null,null,0.18890000000000001]
[null,null,"Ʃ",{"$f":"SUM(D251:D254)","v":0},{"$f":"SUM(E251:E254)","v":0.64939899999999995},0,0,0.88783299999999998,0,0,0.9783670000000001,0,0,0.81829900000000011,0]
[]
[null,null,"Vektede effektiviteter (forventet effektivitet)"]
[null,null,"Hs (m)",null,"Vinter",null,null,"Vår",null,null,"Sommer",null,null,"Høst"]
[null,null,"0,0 - 1,0",{"$f":"$E$4*D251","v":0},1.4585175000000001E-2,0,0,6.6680537499999998E-2,0,0,0.19826750000000004,0,0,5.1444824999999993E-2,0]
[null,null,"1,0 - 2,0",{"$f":"$F$4*D252","v":0},0.13874640000000002,0,0,0.30346640000000003,0,0,0.41981360000000001,0,0,0.23032,0]
[null,null,"2,0 - 3,0",{"$f":"$G$4*D253","v":0},0.17329619999999998,0,0,0.20057309999999998,0,0,0.1212862,0,0,0.19847309999999999,0]
[null,null,"3,0 - 4,0",{"$f":"$H$4*D254","v":0},0.12717959999999998,0,0,8.8100399999999995E-2,0,0,3.41604E-2,0,0,0.11334,0]
[null,null,"Σ",null,{"$f":"SUM(E259:E262)","v":0.45380737500000001},null,null,{"$f":"SUM(H259:H262)","v":0.65882043749999997},null,null,{"$f":"SUM(K259:K262)","v":0.77352770000000004},null,null,{"$f":"SUM(N259:N262)","v":0.59357792499999995}]
[]
[null,null,null,"Gjennomsnittlig opptakseffektivitet Gruppe A system"]
[null,null,null,"Vinter","Vår","Sommer","Høst","År"]
[null,null,null,{"$f":"E263","v":0.45380737500000001},{"$f":"H263","v":0.65882043749999997},{"$f":"K263","v":0.77352770000000004},{"$f":"N263","v":0.59357792499999995},{"$f":"SUM(D263:O263)/4","v":0.61993335937500005}]
[]
[]
[]
[null,null,"Lokasjon",12]
[]
[null,null,"Sesongvise frekvensfordelinger av signifikante bølgehøydeintervaller"]
[null,null,"Hs (m)",null,"Vinter",null,null,"Vår",null,null,"Sommer",null,null,"Høst"]
[null,null,"0,0 - 1,0",null,6.5567E-2,null,null,0.23269999999999999,null,null,0.46389999999999998,null,null,0.15786700000000001]
[null,null,"1,0 - 2,0",null,0.29926700000000001,null,null,0.411134,null,null,0.40976599999999996,null,null,0.37586600000000003]
[null,null,"2,0 - 3,0",null,0.25923299999999999,null,null,0.21266599999999999,null,null,0.10523400000000001,null,null,0.24170000000000003]
[null,null,"3,0 - 4,0",null,0.19573300000000005,null,null,9.1933000000000001E-2,null,null,1.7465999999999999E-2,null,null,0.14013300000000001]
[null,null,"Ʃ",{"$f":"SUM(D275:D278)","v":0},{"$f":"SUM(E275:E278)","v":0.81979999999999997},0,0,0.94843300000000008,0,0,0.99636599999999997,0,0,0.9155660000000001,0]
[]
[null,null,"Vektede effektiviteter (forventet effektivitet)"]
[null,null,"Hs (m)",null,"Vinter",null,null,"Vår",null,null,"Sommer",null,null,"Høst"]
[null,null,"0,0 - 1,0",{"$f":"$E$4*D275","v":0},5.8190712499999998E-2,0,0,0.20652124999999999,0,0,0.41171124999999997,0,0,0.14010696249999999,0]
[null,null,"1,0 - 2,0",{"$f":"$F$4*D276","v":0},0.2394136,0,0,0.32890720000000001,0,0,0.32781280000000002,0,0,0.30069280000000004,0]
[null,null,"2,0 - 3,0",{"$f":"$G$4*D277","v":0},0.18146309999999999,0,0,0.14886619999999998,0,0,7.3663800000000001E-2,0,0,0.16919000000000001,0]
[null,null,"3,0 - 4,0",{"$f":"$H$4*D278","v":0},0.11743980000000002,0,0,5.5159800000000002E-2,0,0,1.0479599999999999E-2,0,0,8.4079799999999996E-2,0]
[null,null,"Σ",null,{"$f":"SUM(E283:E286)","v":0.59650721250000005},null,null,{"$f":"SUM(H283:H286)","v":0.73945444999999987},null,null,{"$f":"SUM(K283:K286)","v":0.82366745000000008},null,null,{"$f":"SUM(N283:N286)","v":0.69406956250000007}]
[]
[null,null,null,"Gjennomsnittlig opptakseffektivitet Gruppe A system"]
[null,null,null,"Vinter","Vår","Sommer","Høst","År"]
[null,null,null,{"$f":"E287","v":0.59650721250000005},{"$f":"H287","v":0.73945444999999987},{"$f":"K287","v":0.82366745000000008},{"$f":"N287","v":0.69406956250000007},{"$f":"SUM(D287:O287)/4","v":0.7134246687500001}]
[]
[]
[]
[null,null,"Lokasjon",13]
[]
[null,null,"Sesongvise frekvensfordelinger av signifikante bølgehøydeintervaller"]
[null,null,"Hs (m)",null,"Vinter",null,null,"Vår",null,null,"Sommer",null,null,"Høst"]
[null,null,"0,0 - 1,0",null,2.5330000000000001E-3,null,null,2.7400000000000001E-2,null,null,0.12366700000000001,null,null,1.8799999999999997E-2]
[null,null,"1,0 - 2,0",null,9.8533000000000009E-2,null,null,0.32353300000000007,null,null,0.56783299999999992,null,null,0.2291]
[null,null,"2,0 - 3,0",null,0.22736699999999999,null,null,0.30913299999999999,null,null,0.20513300000000001,null,null,0.29106700000000002]
[null,null,"3,0 - 4,0",null,0.21820000000000001,null,null,0.18173400000000001,null,null,7.7832999999999999E-2,null,null,0.21380000000000002]
[null,null,"Ʃ",{"$f":"SUM(D299:D302)","v":0},{"$f":"SUM(E299:E302)","v":0.54663299999999992},0,0,0.8418000000000001,0,0,0.97446599999999994,0,0,0.75276699999999996,0]
[]
[null,null,"Vektede effektiviteter (forventet effektivitet)"]
[null,null,"Hs (m)",null,"Vinter",null,null,"Vår",null,null,"Sommer",null,null,"Høst"]
[null,null,"0,0 - 1,0",{"$f":"$E$4*D299","v":0},2.2480374999999998E-3,0,0,2.4317499999999999E-2,0,0,0.10975446250000001,0,0,1.6684999999999998E-2,0]
[null,null,"1,0 - 2,0",{"$f":"$F$4*D300","v":0},7.8826400000000019E-2,0,0,0.25882640000000007,0,0,0.45426639999999996,0,0,0.18328,0]
[null,null,"2,0 - 3,0",{"$f":"$G$4*D301","v":0},0.15915689999999999,0,0,0.21639309999999998,0,0,0.1435931,0,0,0.20374690000000001,0]
[null,null,"3,0 - 4,0",{"$f":"$H$4*D302","v":0},0.13092000000000001,0,0,0.1090404,0,0,4.66998E-2,0,0,0.12828000000000001,0]
[null,null,"Σ",null,{"$f":"SUM(E307:E310)","v":0.37115133750000001},null,null,{"$f":"SUM(H307:H310)","v":0.60857740000000005},null,null,{"$f":"SUM(K307:K310)","v":0.75431376249999993},null,null,{"$f":"SUM(N307:N310)","v":0.53199189999999996}]
[]
[null,null,null,"Gjennomsnittlig opptakseffektivitet Gruppe A system"]
[null,null,null,"Vinter","Vår","Sommer","Høst","År"]
[null,null,null,{"$f":"E311","v":0.37115133750000001},{"$f":"H311","v":0.60857740000000005},{"$f":"K311","v":0.75431376249999993},{"$f":"N311","v":0.53199189999999996},{"$f":"SUM(D311:O311)/4","v":0.56650860000000003}]
[]
[]
[]
[null,null,"Lokasjon",14]
[]
[null,null,"Sesongvise frekvensfordelinger av signifikante bølgehøydeintervaller"]
[null,null,"Hs (m)",null,"Vinter",null,null,"Vår",null,null,"Sommer",null,null,"Høst"]
[null,null,"0,0 - 1,0",null,2.9933000000000001E-2,null,null,0.15770000000000001,null,null,0.39160000000000006,null,null,0.118834]
[null,null,"1,0 - 2,0",null,0.27050000000000002,null,null,0.42036699999999994,null,null,0.48570000000000002,null,null,0.36633300000000008]
[null,null,"2,0 - 3,0",null,0.27003299999999997,null,null,0.22549999999999998,null,null,9.1366000000000003E-2,null,null,0.25693300000000002]
[null,null,"3,0 - 4,0",null,0.210533,null,null,0.1216,null,null,2.7633999999999999E-2,null,null,0.1462]
[null,null,"Ʃ",{"$f":"SUM(D323:D326)","v":0},{"$f":"SUM(E323:E326)","v":0.78099899999999989},0,0,0.92516699999999996,0,0,0.99630000000000007,0,0,0.88830000000000009,0]
[]
[null,null,"Vektede effektiviteter (forventet effektivitet)"]
[null,null,"Hs (m)",null,"Vinter",null,null,"Vår",null,null,"Sommer",null,null,"Høst"]
[null,null,"0,0 - 1,0",{"$f":"$E$4*D323","v":0},2.65655375E-2,0,0,0.13995874999999999,0,0,0.34754500000000005,0,0,0.10546517499999999,0]
[null,null,"1,0 - 2,0",{"$f":"$F$4*D324","v":0},0.21640000000000004,0,0,0.33629359999999997,0,0,0.38856000000000002,0,0,0.29306640000000006,0]
[null,null,"2,0 - 3,0",{"$f":"$G$4*D325","v":0},0.18902309999999997,0,0,0.15784999999999996,0,0,6.3956200000000005E-2,0,0,0.17985310000000002,0]
[null,null,"3,0 - 4,0",{"$f":"$H$4*D326","v":0},0.12631979999999998,0,0,7.2959999999999997E-2,0,0,1.6580399999999999E-2,0,0,8.7719999999999992E-2,0]
[null,null,"Σ",null,{"$f":"SUM(E331:E334)","v":0.55830843750000003},null,null,{"$f":"SUM(H331:H334)","v":0.70706234999999995},null,null,{"$f":"SUM(K331:K334)","v":0.81664160000000008},null,null,{"$f":"SUM(N331:N334)","v":0.66610467500000003}]
[]
[null,null,null,"Gjennomsnittlig opptakseffektivitet Gruppe A system"]
[null,null,null,"Vinter","Vår","Sommer","Høst","År"]
[null,null,null,{"$f":"E335","v":0.55830843750000003},{"$f":"H335","v":0.70706234999999995},{"$f":"K335","v":0.81664160000000008},{"$f":"N335","v":0.66610467500000003},{"$f":"SUM(D335:O335)/4","v":0.687029265625}]
[]
[]
[]
[null,null,"Lokasjon",15]
[]
[null,null,"Sesongvise frekvensfordelinger av signifikante bølgehøydeintervaller"]
[null,null,"Hs (m)",null,"Vinter",null,null,"Vår",null,null,"Sommer",null,null,"Høst"]
[null,null,"0,0 - 1,0",null,1.067E-3,null,null,2.9700000000000001E-2,null,null,0.1452,null,null,2.6667E-2]
[null,null,"1,0 - 2,0",null,0.114466,null,null,0.35813299999999998,null,null,0.57409999999999994,null,null,0.2671]
[null,null,"2,0 - 3,0",null,0.241733,null,null,0.26803300000000002,null,null,0.20043399999999997,null,null,0.29210000000000003]
[null,null,"3,0 - 4,0",null,0.221134,null,null,0.1613,null,null,5.7433999999999992E-2,null,null,0.19519999999999998]
[null,null,"Ʃ",{"$f":"SUM(D347:D350)","v":0},{"$f":"SUM(E347:E350)","v":0.57840000000000003},0,0,0.81716600000000006,0,0,0.97716799999999993,0,0,0.78106699999999996,0]
[]
[null,null,"Vektede effektiviteter (forventet effektivitet)"]
[null,null,"Hs (m)",null,"Vinter",null,null,"Vår",null,null,"Sommer",null,null,"Høst"]
[null,null,"0,0 - 1,0",{"$f":"$E$4*D347","v":0},9.4696249999999993E-4,0,0,2.635875E-2,0,0,0.12886499999999998,0,0,2.3666962499999999E-2,0]
[null,null,"1,0 - 2,0",{"$f":"$F$4*D348","v":0},9.157280000000001E-2,0,0,0.28650639999999999,0,0,0.45927999999999997,0,0,0.21368000000000001,0]
[null,null,"2,0 - 3,0",{"$f":"$G$4*D349","v":0},0.16921310000000001,0,0,0.18762310000000001,0,0,0.14030379999999998,0,0,0.20447000000000001,0]
[null,null,"3,0 - 4,0",{"$f":"$H$4*D350","v":0},0.1326804,0,0,9.6779999999999991E-2,0,0,3.4460399999999995E-2,0,0,0.11711999999999999,0]
[null,null,"Σ",null,{"$f":"SUM(E355:E358)","v":0.39441326249999997},null,null,{"$f":"SUM(H355:H358)","v":0.59726824999999995},null,null,{"$f":"SUM(K355:K358)","v":0.76290919999999984},null,null,{"$f":"SUM(N355:N358)","v":0.55893696250000002}]
[]
[null,null,null,"Gjennomsnittlig opptakseffektivitet Gruppe A system"]
[null,null,null,"Vinter","Vår","Sommer","Høst","År"]
[null,null,null,{"$f":"E359","v":0.39441326249999997},{"$f":"H359","v":0.59726824999999995},{"$f":"K359","v":0.76290919999999984},{"$f":"N359","v":0.55893696250000002},{"$f":"SUM(D359:O359)/4","v":0.57838191874999989}]
[]
[]
[]
[null,null,"Lokasjon",16]
[]
[null,null,"Sesongvise frekvensfordelinger av signifikante bølgehøydeintervaller"]
[null,null,"Hs (m)",null,"Vinter",null,null,"Vår",null,null,"Sommer",null,null,"Høst"]
[null,null,"0,0 - 1,0",null,3.1669999999999997E-3,null,null,5.0799999999999998E-2,null,null,0.18676699999999996,null,null,2.6667E-2]
[null,null,"1,0 - 2,0",null,0.14216699999999999,null,null,0.37230000000000002,null,null,0.58340000000000003,null,null,0.2671]
[null,null,"2,0 - 3,0",null,0.26833399999999996,null,null,0.27116699999999999,null,null,0.1691,null,null,0.29210000000000003]
[null,null,"3,0 - 4,0",null,0.23106599999999999,null,null,0.15049999999999999,null,null,4.5100000000000001E-2,null,null,0.19519999999999998]
[null,null,"Ʃ",{"$f":"SUM(D371:D374)","v":0},{"$f":"SUM(E371:E374)","v":0.64473399999999992},0,0,0.84476699999999993,0,0,0.9843670000000001,0,0,0.78106699999999996,0]
[]
[null,null,"Vektede effektiviteter (forventet effektivitet)"]
[null,null,"Hs (m)",null,"Vinter",null,null,"Vår",null,null,"Sommer",null,null,"Høst"]
[null,null,"0,0 - 1,0",{"$f":"$E$4*D371","v":0},2.8107124999999997E-3,0,0,4.5084999999999993E-2,0,0,0.16575571249999996,0,0,2.3666962499999999E-2,0]
[null,null,"1,0 - 2,0",{"$f":"$F$4*D372","v":0},0.11373359999999999,0,0,0.29784000000000005,0,0,0.46672000000000002,0,0,0.21368000000000001,0]
[null,null,"2,0 - 3,0",{"$f":"$G$4*D373","v":0},0.18783379999999997,0,0,0.18981689999999998,0,0,0.11836999999999999,0,0,0.20447000000000001,0]
[null,null,"3,0 - 4,0",{"$f":"$H$4*D374","v":0},0.1386396,0,0,9.0299999999999991E-2,0,0,2.7060000000000001E-2,0,0,0.11711999999999999,0]
[null,null,"Σ",null,{"$f":"SUM(E379:E382)","v":0.44301771249999999},null,null,{"$f":"SUM(H379:H382)","v":0.62304190000000004},null,null,{"$f":"SUM(K379:K382)","v":0.77790571249999996},null,null,{"$f":"SUM(N379:N382)","v":0.55893696250000002}]
[]
[null,null,null,"Gjennomsnittlig opptakseffektivitet Gruppe A system"]
[null,null,null,"Vinter","Vår","Sommer","Høst","År"]
[null,null,null,{"$f":"E383","v":0.44301771249999999},{"$f":"H383","v":0.62304190000000004},{"$f":"K383","v":0.77790571249999996},{"$f":"N383","v":0.55893696250000002},{"$f":"SUM(D383:O383)/4","v":0.60072557187499998}]
[]
[]
[]
[null,null,"Lokasjon",17]
[]
[null,null,"Sesongvise frekvensfordelinger av signifikante bølgehøydeintervaller"]
[null,null,"Hs (m)",null,"Vinter",null,null,"Vår",null,null,"Sommer",null,null,"Høst"]
[null,null,"0,0 - 1,0",null,4.0000000000000002E-4,null,null,2.8732999999999998E-2,null,null,0.14530000000000001,null,null,1.9599999999999999E-2]
[null,null,"1,0 - 2,0",null,0.1002,null,null,0.34246699999999997,null,null,0.59043400000000001,null,null,0.28146599999999999]
[null,null,"2,0 - 3,0",null,0.26170000000000004,null,null,0.29100000000000004,null,null,0.187634,null,null,0.30043300000000001]
[null,null,"3,0 - 4,0",null,0.25166699999999997,null,null,0.17196700000000001,null,null,5.8166999999999996E-2,null,null,0.20276600000000003]
[null,null,"Ʃ",{"$f":"SUM(D395:D398)","v":0},{"$f":"SUM(E395:E398)","v":0.61396700000000004},0,0,0.83416699999999999,0,0,0.98153499999999994,0,0,0.80426500000000001,0]
[]
[null,null,"Vektede effektiviteter (forventet effektivitet)"]
[null,null,"Hs (m)",null,"Vinter",null,null,"Vår",null,null,"Sommer",null,null,"Høst"]
[null,null,"0,0 - 1,0",{"$f":"$E$4*D395","v":0},3.5500000000000001E-4,0,0,2.5500537499999996E-2,0,0,0.12895375000000001,0,0,1.7394999999999997E-2,0]
[null,null,"1,0 - 2,0",{"$f":"$F$4*D396","v":0},8.0160000000000009E-2,0,0,0.27397359999999998,0,0,0.47234720000000002,0,0,0.22517280000000001,0]
[null,null,"2,0 - 3,0",{"$f":"$G$4*D397","v":0},0.18319000000000002,0,0,0.20370000000000002,0,0,0.13134379999999998,0,0,0.21030309999999999,0]
[null,null,"3,0 - 4,0",{"$f":"$H$4*D398","v":0},0.15100019999999997,0,0,0.1031802,0,0,3.4900199999999999E-2,0,0,0.12165960000000001,0]
[null,null,"Σ",null,{"$f":"SUM(E403:E406)","v":0.4147052},null,null,{"$f":"SUM(H403:H406)","v":0.60635433750000001},null,null,{"$f":"SUM(K403:K406)","v":0.76754495000000011},null,null,{"$f":"SUM(N403:N406)","v":0.57453049999999994}]
[]
[null,null,null,"Gjennomsnittlig opptakseffektivitet Gruppe A system"]
[null,null,null,"Vinter","Vår","Sommer","Høst","År"]
[null,null,null,{"$f":"E407","v":0.4147052},{"$f":"H407","v":0.60635433750000001},{"$f":"K407","v":0.76754495000000011},{"$f":"N407","v":0.57453049999999994},{"$f":"SUM(D407:O407)/4","v":0.59078374687500002}]
[]
[]
[]
[null,null,"Lokasjon",18]
[]
[null,null,"Sesongvise frekvensfordelinger av signifikante bølgehøydeintervaller"]
[null,null,"Hs (m)",null,"Vinter",null,null,"Vår",null,null,"Sommer",null,null,"Høst"]
[null,null,"0,0 - 1,0",null,2.2669999999999999E-3,null,null,4.7400000000000005E-2,null,null,0.17063300000000001,null,null,2.4367E-2]
[null,null,"1,0 - 2,0",null,0.13603400000000002,null,null,0.34856699999999996,null,null,0.5763330000000001,null,null,0.30990000000000001]
[null,null,"2,0 - 3,0",null,0.25686700000000001,null,null,0.2908,null,null,0.1802,null,null,0.297234]
[null,null,"3,0 - 4,0",null,0.25616700000000003,null,null,0.17093400000000003,null,null,5.6233000000000005E-2,null,null,0.19556600000000002]
[null,null,"Ʃ",{"$f":"SUM(D419:D422)","v":0},{"$f":"SUM(E419:E422)","v":0.651335},0,0,0.85770099999999994,0,0,0.98339900000000013,0,0,0.827067,0]
[]
[null,null,"Vektede effektiviteter (forventet effektivitet)"]
[null,null,"Hs (m)",null,"Vinter",null,null,"Vår",null,null,"Sommer",null,null,"Høst"]
[null,null,"0,0 - 1,0",{"$f":"$E$4*D419","v":0},2.0119624999999997E-3,null,null,{"$f":"$E$4*H419","v":4.2067500000000001E-2},null,null,{"$f":"$E$4*K419","v":0.1514367875},null,null,{"$f":"$E$4*N419","v":2.1625712499999998E-2},0]
[null,null,"1,0 - 2,0",{"$f":"$F$4*D420","v":0},{"$f":"$E$4*E420","v":0.12073017500000001},null,null,0.30935321249999997,null,null,0.5114955375000001,null,null,0.27503624999999998,0]
[null,null,"2,0 - 3,0",{"$f":"$G$4*D421","v":0},{"$f":"$E$4*E421","v":0.2279694625},null,null,0.25808500000000001,null,null,0.1599275,null,null,0.26379517499999999,0]
[null,null,"3,0 - 4,0",{"$f":"$H$4*D422","v":0},{"$f":"$E$4*E422","v":0.22734821250000001},null,null,0.15170392500000002,null,null,4.9906787500000001E-2,null,null,0.17356482500000001,0]
[null,null,"Σ",null,{"$f":"SUM(E427:E430)","v":0.57805981250000005},null,null,{"$f":"SUM(H427:H430)","v":0.76120963749999992},null,null,{"$f":"SUM(K427:K430)","v":0.87276661250000009},null,null,{"$f":"SUM(N427:N430)","v":0.73402196250000007}]
[]
[null,null,null,"Gjennomsnittlig opptakseffektivitet Gruppe A system"]
[null,null,null,"Vinter","Vår","Sommer","Høst","År"]
[null,null,null,{"$f":"E431","v":0.57805981250000005},{"$f":"H431","v":0.76120963749999992},{"$f":"K431","v":0.87276661250000009},{"$f":"N431","v":0.73402196250000007},{"$f":"SUM(D431:O431)/4","v":0.73651450625000003}]
[]
[]
[]
[null,null,"Lokasjon",19]
[]
[null,null,"Sesongvise frekvensfordelinger av signifikante bølgehøydeintervaller"]
[null,null,"Hs (m)",null,"Vinter",null,null,"Vår",null,null,"Sommer",null,null,"Høst"]
[null,null,"0,0 - 1,0",null,8.1233E-2,null,null,0.18686600000000003,null,null,0.3962,null,null,0.18373299999999998]
[null,null,"1,0 - 2,0",null,0.38303300000000001,null,null,0.45413300000000001,null,null,0.5109999999999999,null,null,0.44406699999999999]
[null,null,"2,0 - 3,0",null,0.28473299999999996,null,null,0.21453299999999997,null,null,7.5834000000000013E-2,null,null,0.24643300000000001]
[null,null,"3,0 - 4,0",null,0.138733,null,null,8.6066000000000004E-2,null,null,1.4567000000000002E-2,null,null,7.8167000000000014E-2]
[null,null,"Ʃ",{"$f":"SUM(D443:D446)","v":0},{"$f":"SUM(E443:E446)","v":0.88773199999999997},0,0,0.94159800000000005,0,0,0.99760099999999996,0,0,0.95239999999999991,0]
[]
[null,null,"Vektede effektiviteter (forventet effektivitet)"]
[null,null,"Hs (m)",null,"Vinter",null,null,"Vår",null,null,"Sommer",null,null,"Høst"]
[null,null,"0,0 - 1,0",{"$f":"$E$4*D443","v":0},7.2094287499999993E-2,0,0,0.16584357500000002,0,0,0.35162749999999998,0,0,0.16306303749999998,0]
[null,null,"1,0 - 2,0",{"$f":"$F$4*D444","v":0},0.30642640000000004,0,0,0.36330640000000003,0,0,0.40879999999999994,0,0,0.3552536,0]
[null,null,"2,0 - 3,0",{"$f":"$G$4*D445","v":0},0.19931309999999997,0,0,0.15017309999999998,0,0,5.3083800000000007E-2,0,0,0.17250309999999999,0]
[null,null,"3,0 - 4,0",{"$f":"$H$4*D446","v":0},8.3239799999999989E-2,0,0,5.1639600000000001E-2,0,0,8.7402000000000001E-3,0,0,4.690020000000001E-2,0]
[null,null,"Σ",null,{"$f":"SUM(E451:E454)","v":0.66107358749999989},null,null,{"$f":"SUM(H451:H454)","v":0.73096267500000001},null,null,{"$f":"SUM(K451:K454)","v":0.82225149999999991},null,null,{"$f":"SUM(N451:N454)","v":0.73771993750000009}]
[]
[null,null,null,"Gjennomsnittlig opptakseffektivitet Gruppe A system"]
[null,null,null,"Vinter","Vår","Sommer","Høst","År"]
[null,null,null,{"$f":"E455","v":0.66107358749999989},{"$f":"H455","v":0.73096267500000001},{"$f":"K455","v":0.82225149999999991},{"$f":"N455","v":0.73771993750000009},{"$f":"SUM(D455:O455)/4","v":0.73800192499999995}]
[]
[]
[]
[null,null,"Lokasjon",20]
[]
[null,null,"Sesongvise frekvensfordelinger av signifikante bølgehøydeintervaller"]
[null,null,"Hs (m)",null,"Vinter",null,null,"Vår",null,null,"Sommer",null,null,"Høst"]
[null,null,"0,0 - 1,0",null,0.13830000000000001,null,null,0.28476600000000002,null,null,0.48829999999999996,null,null,0.24546700000000002]
[null,null,"1,0 - 2,0",null,0.54339999999999999,null,null,0.48426699999999995,null,null,0.41653300000000004,null,null,0.50769999999999993]
[null,null,"2,0 - 3,0",null,0.21100000000000002,null,null,0.16259999999999997,null,null,7.3434000000000013E-2,null,null,0.17456600000000003]
[null,null,"3,0 - 4,0",null,6.3500000000000001E-2,null,null,4.7766999999999997E-2,null,null,1.7932999999999998E-2,null,null,4.4866999999999997E-2]
[null,null,"Ʃ",{"$f":"SUM(D467:D470)","v":0},{"$f":"SUM(E467:E470)","v":0.95620000000000005},0,0,0.97939999999999994,0,0,0.99619999999999997,0,0,0.97259999999999991,0]
[]
[null,null,"Vektede effektiviteter (forventet effektivitet)"]
[null,null,"Hs (m)",null,"Vinter",null,null,"Vår",null,null,"Sommer",null,null,"Høst"]
[null,null,"0,0 - 1,0",{"$f":"$E$4*D467","v":0},0.12274125,0,0,0.25272982500000002,0,0,0.43336624999999995,0,0,0.2178519625,0]
[null,null,"1,0 - 2,0",{"$f":"$F$4*D468","v":0},0.43472,0,0,0.38741359999999997,0,0,0.33322640000000003,0,0,0.40615999999999997,0]
[null,null,"2,0 - 3,0",{"$f":"$G$4*D469","v":0},0.1477,0,0,0.11381999999999996,0,0,5.1403800000000006E-2,0,0,0.1221962,0]
[null,null,"3,0 - 4,0",{"$f":"$H$4*D470","v":0},3.8100000000000002E-2,0,0,2.8660199999999997E-2,0,0,1.0759799999999998E-2,0,0,2.6920199999999998E-2,0]
[null,null,"Σ",null,{"$f":"SUM(E475:E478)","v":0.74326124999999998},null,null,{"$f":"SUM(H475:H478)","v":0.78262362499999993},null,null,{"$f":"SUM(K475:K478)","v":0.82875624999999997},null,null,{"$f":"SUM(N475:N478)","v":0.77312836249999994}]
[]
[null,null,null,"Gjennomsnittlig opptakseffektivitet Gruppe A system"]
[null,null,null,"Vinter","Vår","Sommer","Høst","År"]
[null,null,null,{"$f":"E479","v":0.74326124999999998},{"$f":"H479","v":0.78262362499999993},{"$f":"K479","v":0.82875624999999997},{"$f":"N479","v":0.77312836249999994},{"$f":"SUM(D479:O479)/4","v":0.78194237187500004}]
[]
[]
[]
[null,null,"Lokasjon",21]
[]
[null,null,"Sesongvise frekvensfordelinger av signifikante bølgehøydeintervaller"]
[null,null,"Hs (m)",null,"Vinter",null,null,"Vår",null,null,"Sommer",null,null,"Høst"]
[null,null,"0,0 - 1,0",null,8.6500000000000007E-2,null,null,0.24059999999999998,null,null,0.45916699999999999,null,null,0.20739999999999997]
[null,null,"1,0 - 2,0",null,0.52096599999999993,null,null,0.49466700000000002,null,null,0.44730000000000003,null,null,0.51256699999999999]
[null,null,"2,0 - 3,0",null,0.25319999999999998,null,null,0.18246700000000002,null,null,7.6367000000000004E-2,null,null,0.19133399999999998]
[null,null,"3,0 - 4,0",null,8.6099999999999996E-2,null,null,5.7699999999999994E-2,null,null,1.3367E-2,null,null,5.8499999999999996E-2]
[null,null,"Ʃ",{"$f":"SUM(D491:D494)","v":0},{"$f":"SUM(E491:E494)","v":0.94676599999999989},0,0,0.97543400000000002,0,0,0.996201,0,0,0.96980100000000002,0]
[]
[null,null,"Vektede effektiviteter (forventet effektivitet)"]
[null,null,"Hs (m)",null,"Vinter",null,null,"Vår",null,null,"Sommer",null,null,"Høst"]
[null,null,"0,0 - 1,0",{"$f":"$E$4*D491","v":0},7.6768749999999997E-2,0,0,0.21353249999999996,0,0,0.40751071249999998,0,0,0.18406749999999997,0]
[null,null,"1,0 - 2,0",{"$f":"$F$4*D492","v":0},0.41677279999999994,0,0,0.39573360000000002,0,0,0.35784000000000005,0,0,0.41005360000000002,0]
[null,null,"2,0 - 3,0",{"$f":"$G$4*D493","v":0},0.17723999999999998,0,0,0.1277269,0,0,5.3456900000000002E-2,0,0,0.13393379999999996,0]
[null,null,"3,0 - 4,0",{"$f":"$H$4*D494","v":0},5.1659999999999998E-2,0,0,3.4619999999999998E-2,0,0,8.0201999999999999E-3,0,0,3.5099999999999999E-2,0]
[null,null,"Σ",null,{"$f":"SUM(E499:E502)","v":0.72244154999999999},null,null,{"$f":"SUM(H499:H502)","v":0.77161299999999988},null,null,{"$f":"SUM(K499:K502)","v":0.82682781250000015},null,null,{"$f":"SUM(N499:N502)","v":0.76315489999999997}]
[]
[null,null,null,"Gjennomsnittlig opptakseffektivitet Gruppe A system"]
[null,null,null,"Vinter","Vår","Sommer","Høst","År"]
[null,null,null,{"$f":"E503","v":0.72244154999999999},{"$f":"H503","v":0.77161299999999988},{"$f":"K503","v":0.82682781250000015},{"$f":"N503","v":0.76315489999999997},{"$f":"SUM(D503:O503)/4","v":0.77100931562499997}]
[]
[]
[]
[null,null,"Lokasjon",22]
[]
[null,null,"Sesongvise frekvensfordelinger av signifikante bølgehøydeintervaller"]
[null,null,"Hs (m)",null,"Vinter",null,null,"Vår",null,null,"Sommer",null,null,"Høst"]
[null,null,"0,0 - 1,0",null,2.4466000000000002E-2,null,null,0.12603299999999998,null,null,0.30940000000000001,null,null,8.4334000000000006E-2]
[null,null,"1,0 - 2,0",null,0.332067,null,null,0.44443300000000002,null,null,0.56000000000000005,null,null,0.43906699999999999]
[null,null,"2,0 - 3,0",null,0.33653300000000003,null,null,0.25073400000000001,null,null,9.6300000000000011E-2,null,null,0.29549999999999998]
[null,null,"3,0 - 4,0",null,0.16310000000000002,null,null,9.7133999999999998E-2,null,null,2.69E-2,null,null,0.1157]
[null,null,"Ʃ",{"$f":"SUM(D515:D518)","v":0},{"$f":"SUM(E515:E518)","v":0.85616599999999998},0,0,0.91833399999999998,0,0,0.99260000000000015,0,0,0.93460100000000002,0]
[]
[null,null,"Vektede effektiviteter (forventet effektivitet)"]
[null,null,"Hs (m)",null,"Vinter",null,null,"Vår",null,null,"Sommer",null,null,"Høst"]
[null,null,"0,0 - 1,0",{"$f":"$E$4*D515","v":0},2.1713574999999999E-2,0,0,0.11185428749999997,0,0,0.27459250000000002,0,0,7.4846425000000008E-2,0]
[null,null,"1,0 - 2,0",{"$f":"$F$4*D516","v":0},0.26565359999999999,0,0,0.35554640000000004,0,0,0.44800000000000006,0,0,0.3512536,0]
[null,null,"2,0 - 3,0",{"$f":"$G$4*D517","v":0},0.23557310000000001,0,0,0.1755138,0,0,6.7409999999999998E-2,0,0,0.20684999999999998,0]
[null,null,"3,0 - 4,0",{"$f":"$H$4*D518","v":0},9.7860000000000016E-2,0,0,5.8280399999999996E-2,0,0,1.6139999999999998E-2,0,0,6.9419999999999996E-2,0]
[null,null,"Σ",null,{"$f":"SUM(E523:E526)","v":0.62080027500000001},null,null,{"$f":"SUM(H523:H526)","v":0.70119488750000003},null,null,{"$f":"SUM(K523:K526)","v":0.8061425000000001},null,null,{"$f":"SUM(N523:N526)","v":0.70237002500000001}]
[]
[null,null,null,"Gjennomsnittlig opptakseffektivitet Gruppe A system"]
[null,null,null,"Vinter","Vår","Sommer","Høst","År"]
[null,null,null,{"$f":"E527","v":0.62080027500000001},{"$f":"H527","v":0.70119488750000003},{"$f":"K527","v":0.8061425000000001},{"$f":"N527","v":0.70237002500000001},{"$f":"SUM(D527:O527)/4","v":0.70762692187499998}]
[]
[]
[]
[null,null,"Lokasjon",23]
[]
[null,null,"Sesongvise frekvensfordelinger av signifikante bølgehøydeintervaller"]
[null,null,"Hs (m)",null,"Vinter",null,null,"Vår",null,null,"Sommer",null,null,"Høst"]
[null,null,"0,0 - 1,0",null,2.8000000000000004E-3,null,null,5.5333000000000007E-2,null,null,0.207533,null,null,3.3500000000000002E-2]
[null,null,"1,0 - 2,0",null,0.20386700000000002,null,null,0.39020000000000005,null,null,0.59046699999999996,null,null,0.35633300000000001]
[null,null,"2,0 - 3,0",null,0.33260000000000006,null,null,0.309867,null,null,0.15206700000000001,null,null,0.33336700000000002]
[null,null,"3,0 - 4,0",null,0.214667,null,null,0.13886700000000002,null,null,4.0633999999999997E-2,null,null,0.16623299999999999]
[null,null,"Ʃ",{"$f":"SUM(D539:D542)","v":0},{"$f":"SUM(E539:E542)","v":0.7539340000000001},0,0,0.89426700000000015,0,0,0.99070099999999994,0,0,0.88943300000000003,0]
[]
[null,null,"Vektede effektiviteter (forventet effektivitet)"]
[null,null,"Hs (m)",null,"Vinter",null,null,"Vår",null,null,"Sommer",null,null,"Høst"]
[null,null,"0,0 - 1,0",{"$f":"$E$4*D539","v":0},2.4850000000000002E-3,0,0,4.9108037500000007E-2,0,0,0.1841855375,0,0,2.9731250000000001E-2,0]
[null,null,"1,0 - 2,0",{"$f":"$F$4*D540","v":0},0.16309360000000003,0,0,0.31216000000000005,0,0,0.4723736,0,0,0.2850664,0]
[null,null,"2,0 - 3,0",{"$f":"$G$4*D541","v":0},0.23282000000000003,0,0,0.21690689999999999,0,0,0.1064469,0,0,0.23335690000000001,0]
[null,null,"3,0 - 4,0",{"$f":"$H$4*D542","v":0},0.1288002,0,0,8.3320200000000011E-2,0,0,2.4380399999999997E-2,0,0,9.973979999999999E-2,0]
[null,null,"Σ",null,{"$f":"SUM(E547:E550)","v":0.52719880000000008},null,null,{"$f":"SUM(H547:H550)","v":0.6614951375},null,null,{"$f":"SUM(K547:K550)","v":0.78738643749999992},null,null,{"$f":"SUM(N547:N550)","v":0.64789435000000006}]
[]
[null,null,null,"Gjennomsnittlig opptakseffektivitet Gruppe A system"]
[null,null,null,"Vinter","Vår","Sommer","Høst","År"]
[null,null,null,{"$f":"E551","v":0.52719880000000008},{"$f":"H551","v":0.6614951375},{"$f":"K551","v":0.78738643749999992},{"$f":"N551","v":0.64789435000000006},{"$f":"SUM(D551:O551)/4","v":0.65599368125000002}]
[]
[]
[]
[null,null,"Lokasjon",24]
[]
[null,null,"Sesongvise frekvensfordelinger av signifikante bølgehøydeintervaller"]
[null,null,"Hs (m)",null,"Vinter",null,null,"Vår",null,null,"Sommer",null,null,"Høst"]
[null,null,"0,0 - 1,0",null,8.4330000000000013E-3,null,null,7.5333999999999998E-2,null,null,0.22086600000000001,null,null,4.7699999999999992E-2]
[null,null,"1,0 - 2,0",null,0.26353300000000002,null,null,0.42903399999999997,null,null,0.60083300000000006,null,null,0.39730000000000004]
[null,null,"2,0 - 3,0",null,0.34376699999999999,null,null,0.28646699999999997,null,null,0.13233300000000001,null,null,0.322766]
[null,null,"3,0 - 4,0",null,0.19633400000000001,null,null,0.118766,null,null,3.5834000000000005E-2,null,null,0.150533]
[null,null,"Ʃ",{"$f":"SUM(D563:D566)","v":0},{"$f":"SUM(E563:E566)","v":0.81206700000000009},0,0,0.90960099999999999,0,0,0.98986600000000013,0,0,0.91829900000000009,0]
[]
[null,null,"Vektede effektiviteter (forventet effektivitet)"]
[null,null,"Hs (m)",null,"Vinter",null,null,"Vår",null,null,"Sommer",null,null,"Høst"]
[null,null,"0,0 - 1,0",{"$f":"$E$4*D563","v":0},7.4842875000000007E-3,0,0,6.6858925E-2,0,0,0.196018575,0,0,4.2333749999999989E-2,0]
[null,null,"1,0 - 2,0",{"$f":"$F$4*D564","v":0},0.21082640000000002,0,0,0.34322720000000001,0,0,0.48066640000000005,0,0,0.31784000000000007,0]
[null,null,"2,0 - 3,0",{"$f":"$G$4*D565","v":0},0.24063689999999999,0,0,0.20052689999999998,0,0,9.2633099999999996E-2,0,0,0.22593619999999998,0]
[null,null,"3,0 - 4,0",{"$f":"$H$4*D566","v":0},0.1178004,0,0,7.1259599999999992E-2,0,0,2.1500400000000003E-2,0,0,9.0319799999999992E-2,0]
[null,null,"Σ",null,{"$f":"SUM(E571:E574)","v":0.5767479875},null,null,{"$f":"SUM(H571:H574)","v":0.68187262500000001},null,null,{"$f":"SUM(K571:K574)","v":0.79081847500000002},null,null,{"$f":"SUM(N571:N574)","v":0.67642974999999994}]
[]
[null,null,null,"Gjennomsnittlig opptakseffektivitet Gruppe A system"]
[null,null,null,"Vinter","Vår","Sommer","Høst","År"]
[null,null,null,{"$f":"E575","v":0.5767479875},{"$f":"H575","v":0.68187262500000001},{"$f":"K575","v":0.79081847500000002},{"$f":"N575","v":0.67642974999999994},{"$f":"SUM(D575:O575)/4","v":0.68146720937500005}]
[]
[]
[]
[null,null,"Lokasjon",25]
[]
[null,null,"Sesongvise frekvensfordelinger av signifikante bølgehøydeintervaller"]
[null,null,"Hs (m)",null,"Vinter",null,null,"Vår",null,null,"Sommer",null,null,"Høst"]
[null,null,"0,0 - 1,0",null,5.633E-3,null,null,5.6867000000000001E-2,null,null,0.20776699999999998,null,null,3.3833000000000002E-2]
[null,null,"1,0 - 2,0",null,0.20363299999999998,null,null,0.41383400000000004,null,null,0.584067,null,null,0.35926699999999995]
[null,null,"2,0 - 3,0",null,0.34473299999999996,null,null,0.29010000000000002,null,null,0.155866,null,null,0.33053300000000002]
[null,null,"3,0 - 4,0",null,0.21406700000000001,null,null,0.14666699999999999,null,null,4.0266999999999997E-2,null,null,0.16796700000000001]
[null,null,"Ʃ",{"$f":"SUM(D587:D590)","v":0},{"$f":"SUM(E587:E590)","v":0.76806599999999992},0,0,0.90746800000000005,0,0,0.98796700000000004,0,0,0.89159999999999995,0]
[]
[null,null,"Vektede effektiviteter (forventet effektivitet)"]
[null,null,"Hs (m)",null,"Vinter",null,null,"Vår",null,null,"Sommer",null,null,"Høst"]
[null,null,"0,0 - 1,0",{"$f":"$E$4*D587","v":0},4.9992874999999996E-3,0,0,5.0469462499999999E-2,0,0,0.18439321249999996,0,0,3.0026787499999999E-2,0]
[null,null,"1,0 - 2,0",{"$f":"$F$4*D588","v":0},0.16290640000000001,0,0,0.33106720000000006,0,0,0.46725360000000005,0,0,0.28741359999999999,0]
[null,null,"2,0 - 3,0",{"$f":"$G$4*D589","v":0},0.24131309999999995,0,0,0.20307,0,0,0.1091062,0,0,0.2313731,0]
[null,null,"3,0 - 4,0",{"$f":"$H$4*D590","v":0},0.1284402,0,0,8.8000199999999987E-2,0,0,2.4160199999999996E-2,0,0,0.1007802,0]
[null,null,"Σ",null,{"$f":"SUM(E595:E598)","v":0.53765898749999996},null,null,{"$f":"SUM(H595:H598)","v":0.67260686250000001},null,null,{"$f":"SUM(K595:K598)","v":0.78491321250000001},null,null,{"$f":"SUM(N595:N598)","v":0.64959368749999991}]
[]
[null,null,null,"Gjennomsnittlig opptakseffektivitet Gruppe A system"]
[null,null,null,"Vinter","Vår","Sommer","Høst","År"]
[null,null,null,{"$f":"E599","v":0.53765898749999996},{"$f":"H599","v":0.67260686250000001},{"$f":"K599","v":0.78491321250000001},{"$f":"N599","v":0.64959368749999991},{"$f":"SUM(D599:O599)/4","v":0.66119318749999989}]
[]
[]
[]
[null,null,"Lokasjon",26]
[]
[null,null,"Sesongvise frekvensfordelinger av signifikante bølgehøydeintervaller"]
[null,null,"Hs (m)",null,"Vinter",null,null,"Vår",null,null,"Sommer",null,null,"Høst"]
[null,null,"0,0 - 1,0",null,8.8000000000000005E-3,null,null,6.9866999999999999E-2,null,null,0.21246600000000002,null,null,4.0967000000000003E-2]
[null,null,"1,0 - 2,0",null,0.226467,null,null,0.42409999999999998,null,null,0.58709999999999996,null,null,0.373033]
[null,null,"2,0 - 3,0",null,0.346167,null,null,0.28633400000000003,null,null,0.14929999999999999,null,null,0.33596599999999993]
[null,null,"3,0 - 4,0",null,0.204767,null,null,0.13206699999999999,null,null,3.9900000000000005E-2,null,null,0.15176700000000001]
[null,null,"Ʃ",{"$f":"SUM(D611:D614)","v":0},{"$f":"SUM(E611:E614)","v":0.78620100000000004},0,0,0.91236800000000007,0,0,0.98876600000000003,0,0,0.9017329999999999,0]
[]
[null,null,"Vektede effektiviteter (forventet effektivitet)"]
[null,null,"Hs (m)",null,"Vinter",null,null,"Vår",null,null,"Sommer",null,null,"Høst"]
[null,null,"0,0 - 1,0",{"$f":"$E$4*D611","v":0},7.8100000000000001E-3,0,0,6.2006962499999999E-2,0,0,0.18856357500000001,0,0,3.6358212500000001E-2,0]
[null,null,"1,0 - 2,0",{"$f":"$F$4*D612","v":0},0.18117360000000002,0,0,0.33928000000000003,0,0,0.46967999999999999,0,0,0.29842640000000004,0]
[null,null,"2,0 - 3,0",{"$f":"$G$4*D613","v":0},0.24231689999999997,0,0,0.20043380000000002,0,0,0.10450999999999999,0,0,0.23517619999999995,0]
[null,null,"3,0 - 4,0",{"$f":"$H$4*D614","v":0},0.1228602,0,0,7.9240199999999997E-2,0,0,2.3940000000000003E-2,0,0,9.1060200000000008E-2,0]
[null,null,"Σ",null,{"$f":"SUM(E619:E622)","v":0.55416069999999995},null,null,{"$f":"SUM(H619:H622)","v":0.68096096250000004},null,null,{"$f":"SUM(K619:K622)","v":0.78669357499999992},null,null,{"$f":"SUM(N619:N622)","v":0.6610210125}]
[]
[null,null,null,"Gjennomsnittlig opptakseffektivitet Gruppe A system"]
[null,null,null,"Vinter","Vår","Sommer","Høst","År"]
[null,null,null,{"$f":"E623","v":0.55416069999999995},{"$f":"H623","v":0.68096096250000004},{"$f":"K623","v":0.78669357499999992},{"$f":"N623","v":0.6610210125},{"$f":"SUM(D623:O623)/4","v":0.67070906250000006}]
[]
[]
[]
[null,null,"Lokasjon",27]
[]
[null,null,"Sesongvise frekvensfordelinger av signifikante bølgehøydeintervaller"]
[null,null,"Hs (m)",null,"Vinter",null,null,"Vår",null,null,"Sommer",null,null,"Høst"]
[null,null,"0,0 - 1,0",null,2.2669999999999999E-3,null,null,4.0165999999999993E-2,null,null,0.18676700000000002,null,null,2.1833000000000002E-2]
[null,null,"1,0 - 2,0",null,0.142433,null,null,0.40196700000000002,null,null,0.60883399999999999,null,null,0.29683300000000001]
[null,null,"2,0 - 3,0",null,0.30776600000000004,null,null,0.2913,null,null,0.15780000000000002,null,null,0.355767]
[null,null,"3,0 - 4,0",null,0.24706700000000001,null,null,0.159133,null,null,3.8365999999999997E-2,null,null,0.18606700000000001]
[null,null,"Ʃ",{"$f":"SUM(D635:D638)","v":0},{"$f":"SUM(E635:E638)","v":0.69953300000000007},0,0,0.89256599999999997,0,0,0.99176700000000007,0,0,0.86050000000000004,0]
[]
[null,null,"Vektede effektiviteter (forventet effektivitet)"]
[null,null,"Hs (m)",null,"Vinter",null,null,"Vår",null,null,"Sommer",null,null,"Høst"]
[null,null,"0,0 - 1,0",{"$f":"$E$4*D635","v":0},2.0119624999999997E-3,0,0,3.5647324999999994E-2,0,0,0.16575571250000001,0,0,1.9376787499999999E-2,0]
[null,null,"1,0 - 2,0",{"$f":"$F$4*D636","v":0},0.1139464,0,0,0.32157360000000001,0,0,0.48706720000000003,0,0,0.23746640000000002,0]
[null,null,"2,0 - 3,0",{"$f":"$G$4*D637","v":0},0.21543620000000002,0,0,0.20390999999999998,0,0,0.11046,0,0,0.24903689999999998,0]
[null,null,"3,0 - 4,0",{"$f":"$H$4*D638","v":0},0.14824019999999999,0,0,9.547979999999999E-2,0,0,2.3019599999999998E-2,0,0,0.11164020000000001,0]
[null,null,"Σ",null,{"$f":"SUM(E643:E646)","v":0.47963476250000003},null,null,{"$f":"SUM(H643:H646)","v":0.65661072500000006},null,null,{"$f":"SUM(K643:K646)","v":0.78630251250000005},null,null,{"$f":"SUM(N643:N646)","v":0.61752028749999999}]
[]
[null,null,null,"Gjennomsnittlig opptakseffektivitet Gruppe A system"]
[null,null,null,"Vinter","Vår","Sommer","Høst","År"]
[null,null,null,{"$f":"E647","v":0.47963476250000003},{"$f":"H647","v":0.65661072500000006},{"$f":"K647","v":0.78630251250000005},{"$f":"N647","v":0.61752028749999999},{"$f":"SUM(D647:O647)/4","v":0.63501707187500001}]

{"sheet":"Op.Eff.STOTTE.KYSTVAKT.V2","index":17,"n_rows":651,"n_cols":15,"rows_kept":651,"cut":false,"hidden":true,"merged":[[96,3,96,7],[8,2,8,14],[16,2,16,14],[24,3,24,7],[32,2,32,14],[40,2,40,14],[48,3,48,7],[56,2,56,14],[64,2,64,14],[72,3,72,7],[80,2,80,14],[88,2,88,14],[192,3,192,7],[104,2,104,14],[112,2,112,14],[120,3,120,7],[128,2,128,14],[136,2,136,14],[144,3,144,7],[152,2,152,14],[160,2,160,14],[168,3,168,7],[176,2,176,14],[184,2,184,14],[288,3,288,7],[200,2,200,14],[208,2,208,14],[216,3,216,7],[224,2,224,14],[232,2,232,14],[240,3,240,7],[248,2,248,14],[256,2,256,14],[264,3,264,7],[272,2,272,14],[280,2,280,14],[384,3,384,7],[296,2,296,14],[304,2,304,14],[312,3,312,7],[320,2,320,14],[328,2,328,14],[336,3,336,7],[344,2,344,14],[352,2,352,14],[360,3,360,7],[368,2,368,14],[376,2,376,14],[480,3,480,7],[392,2,392,14],[400,2,400,14],[408,3,408,7],[416,2,416,14],[424,2,424,14],[432,3,432,7],[440,2,440,14],[448,2,448,14],[456,3,456,7],[464,2,464,14],[472,2,472,14],[576,3,576,7],[488,2,488,14],[496,2,496,14],[504,3,504,7],[512,2,512,14],[520,2,520,14],[528,3,528,7],[536,2,536,14],[544,2,544,14],[552,3,552,7],[560,2,560,14],[568,2,568,14],[632,2,632,14],[640,2,640,14],[648,3,648,7],[584,2,584,14],[592,2,592,14],[600,3,600,7],[608,2,608,14],[616,2,616,14],[624,3,624,7]]}
[]
[]
[null,null,"Hs intervall (m)",null,"0,0 - 1,0","1,0 -2,0","2,0 - 2.5"]
[null,null,"Opptakseffektivitet",null,0.88749999999999996,0.8,0.72499999999999998]
[]
[]
[null,null,"Lokasjon",1]
[]
[null,null,"Sesongvise frekvensfordelinger av signifikante bølgehøydeintervaller"]
[null,null,"Hs (m)",null,"Vinter",null,null,"Vår",null,null,"Sommer",null,null,"Høst"]
[null,null,"0,0 - 1,0",null,5.1899999999999995E-2,null,null,0.16153400000000001,null,null,0.32373299999999999,null,null,0.1052]
[null,null,"1,0 - 2,0",null,0.28110000000000002,null,null,0.48503299999999994,null,null,0.51136700000000002,null,null,0.36703400000000003]
[null,null,"2,0 - 3,0",null,0.15356700000000001,null,null,0.14336699999999999,null,null,7.6999999999999999E-2,null,null,0.15869999999999998]
[null,null,"3,0 - 4,0",null,0,null,null,0,null,null,0,null,null,0]
[null,null,"Ʃ",null,{"$f":"SUM(E11:E14)","v":0.48656700000000003},null,null,0.78993399999999991,null,null,0.91209999999999991,null,null,0.63093399999999999]
[]
[null,null,"Vektede effektiviteter (forventet effektivitet)"]
[null,null,"Hs (m)",null,"Vinter",null,null,"Vår",null,null,"Sommer",null,null,"Høst"]
[null,null,"0,0 - 1,0",null,{"$f":"$E$4*E11","v":4.6061249999999991E-2},null,null,0.14336142500000001,null,null,0.28731303749999998,null,null,9.3365000000000004E-2]
[null,null,"1,0 - 2,0",null,{"$f":"$F$4*E12","v":0.22488000000000002},null,null,0.38802639999999999,null,null,0.40909360000000006,null,null,0.29362720000000003]
[null,null,"2,0 - 3,0",null,{"$f":"$G$4*E13","v":0.11133607500000001},null,null,0.10394107499999999,null,null,5.5825E-2,null,null,0.11505749999999998]
[null,null,"3,0 - 4,0",null,{"$f":"$H$4*E14","v":0},null,null,{"$f":"$H$4*H14","v":0},null,null,0,null,null,0]
[null,null,"Σ",null,{"$f":"SUM(E19:E22)","v":0.382277325},null,null,{"$f":"SUM(H19:H22)","v":0.63532889999999997},null,null,{"$f":"SUM(K19:K22)","v":0.75223163749999999},null,null,{"$f":"SUM(N19:N22)","v":0.50204969999999993}]
[]
[null,null,null,"Gjennomsnittlig opptakseffektivitet Gruppe 2 system"]
[null,null,null,"Vinter","Vår","Sommer","Høst","År"]
[null,null,null,{"$f":"E23","v":0.382277325},{"$f":"H23","v":0.63532889999999997},{"$f":"K23","v":0.75223163749999999},{"$f":"N23","v":0.50204969999999993},{"$f":"SUM(D23:O23)/4","v":0.56797189062499998}]
[]
[]
[]
[null,null,"Lokasjon",2]
[]
[null,null,"Sesongvise frekvensfordelinger av signifikante bølgehøydeintervaller"]
[null,null,"Hs (m)",null,"Vinter",null,null,"Vår",null,null,"Sommer",null,null,"Høst"]
[null,null,"0,0 - 1,0",null,0.24850000000000003,null,null,0.4783,null,null,0.56640000000000001,null,null,0.295767]
[null,null,"1,0 - 2,0",null,0.34483400000000003,null,null,0.38339999999999996,null,null,0.37430000000000002,null,null,0.4128]
[null,null,"2,0 - 3,0",null,0.12106699999999999,null,null,6.5599999999999992E-2,null,null,3.1300000000000001E-2,null,null,0.1188]
[null,null,"3,0 - 4,0",null,0,null,null,0,null,null,0,null,null,0]
[null,null,"Ʃ",{"$f":"SUM(D35:D38)","v":0},{"$f":"SUM(E35:E38)","v":0.71440100000000006},0,0,0.9272999999999999,0,0,0.97200000000000009,0,0,0.82736699999999996,0]
[]
[null,null,"Vektede effektiviteter (forventet effektivitet)"]
[null,null,"Hs (m)",null,"Vinter",null,null,"Vår",null,null,"Sommer",null,null,"Høst"]
[null,null,"0,0 - 1,0",{"$f":"$E$4*D35","v":0},0.22054375000000001,0,0,0.42449124999999999,0,0,0.50268000000000002,0,0,0.26249321249999996,0]
[null,null,"1,0 - 2,0",{"$f":"$F$4*D36","v":0},0.27586720000000003,0,0,0.30671999999999999,0,0,0.29944000000000004,0,0,0.33024000000000003,0]
[null,null,"2,0 - 3,0",{"$f":"$G$4*D37","v":0},8.7773574999999993E-2,0,0,4.7559999999999991E-2,0,0,2.2692500000000001E-2,0,0,8.6129999999999998E-2,0]
[null,null,"3,0 - 4,0",{"$f":"$H$4*D38","v":0},0,0,0,0,0,0,0,0,0,0,0]
[null,null,"Σ",null,{"$f":"SUM(E43:E46)","v":0.58418452499999995},null,null,{"$f":"SUM(H43:H46)","v":0.77877124999999991},null,null,{"$f":"SUM(K43:K46)","v":0.82481250000000006},null,null,{"$f":"SUM(N43:N46)","v":0.67886321250000004}]
[]
[null,null,null,"Gjennomsnittlig opptakseffektivitet Gruppe 2 system"]
[null,null,null,"Vinter","Vår","Sommer","Høst","År"]
[null,null,null,{"$f":"E47","v":0.58418452499999995},{"$f":"H47","v":0.77877124999999991},{"$f":"K47","v":0.82481250000000006},{"$f":"N47","v":0.67886321250000004},{"$f":"SUM(D47:O47)/4","v":0.71665787187499996}]
[]
[]
[]
[null,null,"Lokasjon",3]
[]
[null,null,"Sesongvise frekvensfordelinger av signifikante bølgehøydeintervaller"]
[null,null,"Hs (m)",null,"Vinter",null,null,"Vår",null,null,"Sommer",null,null,"Høst"]
[null,null,"0,0 - 1,0",null,1.5634000000000002E-2,null,null,8.3100000000000007E-2,null,null,0.2366,null,null,4.2967000000000005E-2]
[null,null,"1,0 - 2,0",null,0.19086700000000001,null,null,0.42013300000000003,null,null,0.55233299999999996,null,null,0.319467]
[null,null,"2,0 - 3,0",null,0.129633,null,null,0.17510000000000001,null,null,9.9932999999999994E-2,null,null,0.159467]
[null,null,"3,0 - 4,0",null,0,null,null,0,null,null,0,null,null,0]
[null,null,"Ʃ",{"$f":"SUM(D59:D62)","v":0},{"$f":"SUM(E59:E62)","v":0.33613400000000004},0,0,0.67833300000000007,0,0,0.88886599999999993,0,0,0.52190100000000006,0]
[]
[null,null,"Vektede effektiviteter (forventet effektivitet)"]
[null,null,"Hs (m)",null,"Vinter",null,null,"Vår",null,null,"Sommer",null,null,"Høst"]
[null,null,"0,0 - 1,0",{"$f":"$E$4*D59","v":0},1.3875175000000002E-2,0,0,7.3751250000000004E-2,0,0,0.20998249999999999,0,0,3.8133212499999999E-2,0]
[null,null,"1,0 - 2,0",{"$f":"$F$4*D60","v":0},0.15269360000000001,0,0,0.33610640000000003,0,0,0.44186639999999999,0,0,0.25557360000000001,0]
[null,null,"2,0 - 3,0",{"$f":"$G$4*D61","v":0},9.3983924999999996E-2,0,0,0.12694749999999999,0,0,7.2451425E-2,0,0,0.115613575,0]
[null,null,"3,0 - 4,0",{"$f":"$H$4*D62","v":0},0,0,0,0,0,0,0,0,0,0,0]
[null,null,"Σ",null,{"$f":"SUM(E67:E70)","v":0.26055269999999997},null,null,{"$f":"SUM(H67:H70)","v":0.53680514999999995},null,null,{"$f":"SUM(K67:K70)","v":0.72430032499999997},null,null,{"$f":"SUM(N67:N70)","v":0.40932038749999999}]
[]
[null,null,null,"Gjennomsnittlig opptakseffektivitet Gruppe 2 system"]
[null,null,null,"Vinter","Vår","Sommer","Høst","År"]
[null,null,null,{"$f":"E71","v":0.26055269999999997},{"$f":"H71","v":0.53680514999999995},{"$f":"K71","v":0.72430032499999997},{"$f":"N71","v":0.40932038749999999},{"$f":"SUM(D71:O71)/4","v":0.48274464062499994}]
[]
[]
[]
[null,null,"Lokasjon",4]
[]
[null,null,"Sesongvise frekvensfordelinger av signifikante bølgehøydeintervaller"]
[null,null,"Hs (m)",null,"Vinter",null,null,"Vår",null,null,"Sommer",null,null,"Høst"]
[null,null,"0,0 - 1,0",null,8.9533000000000001E-2,null,null,0.24009999999999998,null,null,0.38500000000000001,null,null,0.138433]
[null,null,"1,0 - 2,0",null,0.28513300000000003,null,null,0.432033,null,null,0.45926699999999998,null,null,0.360767]
[null,null,"2,0 - 3,0",null,0.138267,null,null,0.13366700000000001,null,null,8.5233000000000003E-2,null,null,0.14910000000000001]
[null,null,"3,0 - 4,0",null,0,null,null,0,null,null,0,null,null,0]
[null,null,"Ʃ",{"$f":"SUM(D83:D86)","v":0},{"$f":"SUM(E83:E86)","v":0.51293300000000008},0,0,0.80579999999999996,0,0,0.92949999999999999,0,0,0.64829999999999999,0]
[]
[null,null,"Vektede effektiviteter (forventet effektivitet)"]
[null,null,"Hs (m)",null,"Vinter",null,null,"Vår",null,null,"Sommer",null,null,"Høst"]
[null,null,"0,0 - 1,0",{"$f":"$E$4*D83","v":0},7.9460537499999997E-2,0,0,0.21308874999999997,0,0,0.34168749999999998,0,0,0.1228592875,0]
[null,null,"1,0 - 2,0",{"$f":"$F$4*D84","v":0},0.22810640000000004,0,0,0.3456264,0,0,0.36741360000000001,0,0,0.28861360000000003,0]
[null,null,"2,0 - 3,0",{"$f":"$G$4*D85","v":0},0.100243575,0,0,9.6908574999999997E-2,0,0,6.1793925E-2,0,0,0.1080975,0]
[null,null,"3,0 - 4,0",{"$f":"$H$4*D86","v":0},0,0,0,0,0,0,0,0,0,0,0]
[null,null,"Σ",null,{"$f":"SUM(E91:E94)","v":0.4078105125},null,null,{"$f":"SUM(H91:H94)","v":0.65562372499999988},null,null,{"$f":"SUM(K91:K94)","v":0.77089502500000007},null,null,{"$f":"SUM(N91:N94)","v":0.51957038749999995}]
[]
[null,null,null,"Gjennomsnittlig opptakseffektivitet Gruppe 2 system"]
[null,null,null,"Vinter","Vår","Sommer","Høst","År"]
[null,null,null,{"$f":"E95","v":0.4078105125},{"$f":"H95","v":0.65562372499999988},{"$f":"K95","v":0.77089502500000007},{"$f":"N95","v":0.51957038749999995},{"$f":"SUM(D95:O95)/4","v":0.58847491249999995}]
[]
[]
[]
[null,null,"Lokasjon",5]
[]
[null,null,"Sesongvise frekvensfordelinger av signifikante bølgehøydeintervaller"]
[null,null,"Hs (m)",null,"Vinter",null,null,"Vår",null,null,"Sommer",null,null,"Høst"]
[null,null,"0,0 - 1,0",null,1.1465999999999999E-2,null,null,7.0066000000000003E-2,null,null,0.20506600000000003,null,null,3.9333E-2]
[null,null,"1,0 - 2,0",null,0.16776600000000003,null,null,0.39513300000000001,null,null,0.558033,null,null,0.287466]
[null,null,"2,0 - 3,0",null,0.1246,null,null,0.1832,null,null,0.113167,null,null,0.15296699999999999]
[null,null,"3,0 - 4,0",null,0,null,null,0,null,null,0,null,null,0]
[null,null,"Ʃ",{"$f":"SUM(D107:D110)","v":0},{"$f":"SUM(E107:E110)","v":0.30383200000000005},0,0,0.64839900000000006,0,0,0.87626599999999999,0,0,0.47976600000000003,0]
[]
[null,null,"Vektede effektiviteter (forventet effektivitet)"]
[null,null,"Hs (m)",null,"Vinter",null,null,"Vår",null,null,"Sommer",null,null,"Høst"]
[null,null,"0,0 - 1,0",{"$f":"$E$4*D107","v":0},1.0176074999999998E-2,0,0,6.2183574999999998E-2,0,0,0.18199607500000001,0,0,3.4908037499999996E-2,0]
[null,null,"1,0 - 2,0",{"$f":"$F$4*D108","v":0},0.13421280000000002,0,0,0.31610640000000001,0,0,0.4464264,0,0,0.2299728,0]
[null,null,"2,0 - 3,0",{"$f":"$G$4*D109","v":0},9.0334999999999999E-2,0,0,0.13281999999999999,0,0,8.2046074999999996E-2,0,0,0.11090107499999999,0]
[null,null,"3,0 - 4,0",{"$f":"$H$4*D110","v":0},0,0,0,0,0,0,0,0,0,0,0]
[null,null,"Σ",null,{"$f":"SUM(E115:E118)","v":0.23472387500000003},null,null,{"$f":"SUM(H115:H118)","v":0.51110997499999999},null,null,{"$f":"SUM(K115:K118)","v":0.71046855000000009},null,null,{"$f":"SUM(N115:N118)","v":0.37578191250000004}]
[]
[null,null,null,"Gjennomsnittlig opptakseffektivitet Gruppe 2 system"]
[null,null,null,"Vinter","Vår","Sommer","Høst","År"]
[null,null,null,{"$f":"E119","v":0.23472387500000003},{"$f":"H119","v":0.51110997499999999},{"$f":"K119","v":0.71046855000000009},{"$f":"N119","v":0.37578191250000004},{"$f":"SUM(D119:O119)/4","v":0.45802107812500004}]
[]
[]
[]
[null,null,"Lokasjon",6]
[]
[null,null,"Sesongvise frekvensfordelinger av signifikante bølgehøydeintervaller"]
[null,null,"Hs (m)",null,"Vinter",null,null,"Vår",null,null,"Sommer",null,null,"Høst"]
[null,null,"0,0 - 1,0",null,0.11913299999999999,null,null,0.30013299999999998,null,null,0.484767,null,null,0.206867]
[null,null,"1,0 - 2,0",null,0.31746600000000003,null,null,0.40996700000000003,null,null,0.39980000000000004,null,null,0.38670000000000004]
[null,null,"2,0 - 3,0",null,0.15123300000000001,null,null,0.1182,null,null,6.5000000000000002E-2,null,null,0.12806699999999999]
[null,null,"3,0 - 4,0",null,0,null,null,0,null,null,0,null,null,0]
[null,null,"Ʃ",{"$f":"SUM(D131:D134)","v":0},{"$f":"SUM(E131:E134)","v":0.58783200000000002},0,0,0.82829999999999993,0,0,0.94956700000000005,0,0,0.72163400000000011,0]
[]
[null,null,"Vektede effektiviteter (forventet effektivitet)"]
[null,null,"Hs (m)",null,"Vinter",null,null,"Vår",null,null,"Sommer",null,null,"Høst"]
[null,null,"0,0 - 1,0",{"$f":"$E$4*D131","v":0},0.10573053749999999,0,0,0.26636803749999999,0,0,0.4302307125,0,0,0.1835944625,0]
[null,null,"1,0 - 2,0",{"$f":"$F$4*D132","v":0},0.25397280000000005,0,0,0.32797360000000003,0,0,0.31984000000000007,0,0,0.30936000000000008,0]
[null,null,"2,0 - 3,0",{"$f":"$G$4*D133","v":0},0.109643925,0,0,8.5694999999999993E-2,0,0,4.7125E-2,0,0,9.2848574999999989E-2,0]
[null,null,"3,0 - 4,0",{"$f":"$H$4*D134","v":0},0,0,0,0,0,0,0,0,0,0,0]
[null,null,"Σ",null,{"$f":"SUM(E139:E142)","v":0.46934726250000003},null,null,{"$f":"SUM(H139:H142)","v":0.68003663749999999},null,null,{"$f":"SUM(K139:K142)","v":0.7971957125000001},null,null,{"$f":"SUM(N139:N142)","v":0.58580303750000007}]
[]
[null,null,null,"Gjennomsnittlig opptakseffektivitet Gruppe 2 system"]
[null,null,null,"Vinter","Vår","Sommer","Høst","År"]
[null,null,null,{"$f":"E143","v":0.46934726250000003},{"$f":"H143","v":0.68003663749999999},{"$f":"K143","v":0.7971957125000001},{"$f":"N143","v":0.58580303750000007},{"$f":"SUM(D143:O143)/4","v":0.63309566250000016}]
[]
[]
[]
[null,null,"Lokasjon",7]
[]
[null,null,"Sesongvise frekvensfordelinger av signifikante bølgehøydeintervaller"]
[null,null,"Hs (m)",null,"Vinter",null,null,"Vår",null,null,"Sommer",null,null,"Høst"]
[null,null,"0,0 - 1,0",null,1.0866000000000001E-2,null,null,6.3632999999999995E-2,null,null,0.19060000000000002,null,null,5.04E-2]
[null,null,"1,0 - 2,0",null,0.16390000000000002,null,null,0.39149999999999996,null,null,0.55666599999999999,null,null,0.27140000000000003]
[null,null,"2,0 - 3,0",null,0.1229,null,null,0.18143300000000001,null,null,0.12179999999999999,null,null,0.146867]
[null,null,"3,0 - 4,0",null,0,null,null,0,null,null,0,null,null,0]
[null,null,"Ʃ",{"$f":"SUM(D155:D158)","v":0},{"$f":"SUM(E155:E158)","v":0.29766600000000004},0,0,0.63656599999999997,0,0,0.86906600000000001,0,0,0.46866700000000006,0]
[]
[null,null,"Vektede effektiviteter (forventet effektivitet)"]
[null,null,"Hs (m)",null,"Vinter",null,null,"Vår",null,null,"Sommer",null,null,"Høst"]
[null,null,"0,0 - 1,0",{"$f":"$E$4*D155","v":0},9.6435749999999997E-3,0,0,5.6474287499999991E-2,0,0,0.16915750000000002,0,0,4.4729999999999999E-2,0]
[null,null,"1,0 - 2,0",{"$f":"$F$4*D156","v":0},0.13112000000000001,0,0,0.31319999999999998,0,0,0.44533280000000003,0,0,0.21712000000000004,0]
[null,null,"2,0 - 3,0",{"$f":"$G$4*D157","v":0},8.9102499999999987E-2,0,0,0.131538925,0,0,8.8304999999999995E-2,0,0,0.10647857499999999,0]
[null,null,"3,0 - 4,0",{"$f":"$H$4*D158","v":0},0,0,0,0,0,0,0,0,0,0,0]
[null,null,"Σ",null,{"$f":"SUM(E163:E166)","v":0.229866075},null,null,{"$f":"SUM(H163:H166)","v":0.50121321249999995},null,null,{"$f":"SUM(K163:K166)","v":0.70279530000000001},null,null,{"$f":"SUM(N163:N166)","v":0.36832857500000005}]
[]
[null,null,null,"Gjennomsnittlig opptakseffektivitet Gruppe 2 system"]
[null,null,null,"Vinter","Vår","Sommer","Høst","År"]
[null,null,null,{"$f":"E167","v":0.229866075},{"$f":"H167","v":0.50121321249999995},{"$f":"K167","v":0.70279530000000001},{"$f":"N167","v":0.36832857500000005},{"$f":"SUM(D167:O167)/4","v":0.45055079062500003}]
[]
[]
[]
[null,null,"Lokasjon",8]
[]
[null,null,"Sesongvise frekvensfordelinger av signifikante bølgehøydeintervaller"]
[null,null,"Hs (m)",null,"Vinter",null,null,"Vår",null,null,"Sommer",null,null,"Høst"]
[null,null,"0,0 - 1,0",null,1.3833E-2,null,null,6.7632999999999999E-2,null,null,0.20233299999999999,null,null,5.8666999999999997E-2]
[null,null,"1,0 - 2,0",null,0.16816700000000001,null,null,0.398866,null,null,0.54596699999999998,null,null,0.27160000000000001]
[null,null,"2,0 - 3,0",null,0.12993299999999999,null,null,0.1759,null,null,0.11353300000000001,null,null,0.15096699999999999]
[null,null,"3,0 - 4,0",null,0,null,null,0,null,null,0,null,null,0]
[null,null,"Ʃ",{"$f":"SUM(D179:D182)","v":0},{"$f":"SUM(E179:E182)","v":0.31193300000000002},0,0,0.64239899999999994,0,0,0.86183299999999996,0,0,0.48123399999999994,0]
[]
[null,null,"Vektede effektiviteter (forventet effektivitet)"]
[null,null,"Hs (m)",null,"Vinter",null,null,"Vår",null,null,"Sommer",null,null,"Høst"]
[null,null,"0,0 - 1,0",{"$f":"$E$4*D179","v":0},1.2276787499999999E-2,0,0,6.0024287499999995E-2,0,0,0.17957053749999999,0,0,5.2066962499999994E-2,0]
[null,null,"1,0 - 2,0",{"$f":"$F$4*D180","v":0},0.1345336,0,0,0.31909280000000001,0,0,0.43677359999999998,0,0,0.21728000000000003,0]
[null,null,"2,0 - 3,0",{"$f":"$G$4*D181","v":0},9.4201424999999991E-2,0,0,0.12752749999999999,0,0,8.2311425000000008E-2,0,0,0.10945107499999999,0]
[null,null,"3,0 - 4,0",{"$f":"$H$4*D182","v":0},0,0,0,0,0,0,0,0,0,0,0]
[null,null,"Σ",null,{"$f":"SUM(E187:E190)","v":0.24101181249999998},null,null,{"$f":"SUM(H187:H190)","v":0.50664458749999997},null,null,{"$f":"SUM(K187:K190)","v":0.69865556249999994},null,null,{"$f":"SUM(N187:N190)","v":0.37879803750000002}]
[]
[null,null,null,"Gjennomsnittlig opptakseffektivitet Gruppe 2 system"]
[null,null,null,"Vinter","Vår","Sommer","Høst","År"]
[null,null,null,{"$f":"E191","v":0.24101181249999998},{"$f":"H191","v":0.50664458749999997},{"$f":"K191","v":0.69865556249999994},{"$f":"N191","v":0.37879803750000002},{"$f":"SUM(D191:O191)/4","v":0.45627749999999995}]
[]
[]
[]
[null,null,"Lokasjon",9]
[]
[null,null,"Sesongvise frekvensfordelinger av signifikante bølgehøydeintervaller"]
[null,null,"Hs (m)",null,"Vinter",null,null,"Vår",null,null,"Sommer",null,null,"Høst"]
[null,null,"0,0 - 1,0",null,1.7233000000000002E-2,null,null,6.9732999999999989E-2,null,null,0.21216699999999999,null,null,6.13E-2]
[null,null,"1,0 - 2,0",null,0.16489999999999999,null,null,0.39136599999999999,null,null,0.53583299999999989,null,null,0.27333399999999997]
[null,null,"2,0 - 3,0",null,0.13106699999999999,null,null,0.17149999999999999,null,null,0.113733,null,null,0.151367]
[null,null,"3,0 - 4,0",null,0,null,null,0,null,null,0,null,null,0]
[null,null,"Ʃ",{"$f":"SUM(D203:D206)","v":0},{"$f":"SUM(E203:E206)","v":0.31319999999999998},0,0,0.63259899999999991,0,0,0.86173299999999986,0,0,0.48600100000000002,0]
[]
[null,null,"Vektede effektiviteter (forventet effektivitet)"]
[null,null,"Hs (m)",null,"Vinter",null,null,"Vår",null,null,"Sommer",null,null,"Høst"]
[null,null,"0,0 - 1,0",{"$f":"$E$4*D203","v":0},1.5294287500000002E-2,0,0,6.1888037499999986E-2,0,0,0.18829821249999998,0,0,5.4403750000000001E-2,0]
[null,null,"1,0 - 2,0",{"$f":"$F$4*D204","v":0},0.13192000000000001,0,0,0.3130928,0,0,0.42866639999999995,0,0,0.21866719999999998,0]
[null,null,"2,0 - 3,0",{"$f":"$G$4*D205","v":0},9.5023574999999985E-2,0,0,0.12433749999999999,0,0,8.2456425E-2,0,0,0.10974107499999999,0]
[null,null,"3,0 - 4,0",{"$f":"$H$4*D206","v":0},0,0,0,0,0,0,0,0,0,0,0]
[null,null,"Σ",null,{"$f":"SUM(E211:E214)","v":0.24223786250000001},null,null,{"$f":"SUM(H211:H214)","v":0.49931833749999999},null,null,{"$f":"SUM(K211:K214)","v":0.69942103749999984},null,null,{"$f":"SUM(N211:N214)","v":0.382812025}]
[]
[null,null,null,"Gjennomsnittlig opptakseffektivitet Gruppe 2 system"]
[null,null,null,"Vinter","Vår","Sommer","Høst","År"]
[null,null,null,{"$f":"E215","v":0.24223786250000001},{"$f":"H215","v":0.49931833749999999},{"$f":"K215","v":0.69942103749999984},{"$f":"N215","v":0.382812025},{"$f":"SUM(D215:O215)/4","v":0.45594731562499996}]
[]
[]
[]
[null,null,"Lokasjon",10]
[]
[null,null,"Sesongvise frekvensfordelinger av signifikante bølgehøydeintervaller"]
[null,null,"Hs (m)",null,"Vinter",null,null,"Vår",null,null,"Sommer",null,null,"Høst"]
[null,null,"0,0 - 1,0",null,8.3000000000000001E-3,null,null,4.8066999999999999E-2,null,null,0.166966,null,null,3.6267000000000001E-2]
[null,null,"1,0 - 2,0",null,0.126,null,null,0.34936600000000001,null,null,0.55946699999999994,null,null,0.25079999999999997]
[null,null,"2,0 - 3,0",null,0.11900000000000001,null,null,0.18273299999999998,null,null,0.11666700000000001,null,null,0.15140000000000001]
[null,null,"3,0 - 4,0",null,0,null,null,0,null,null,0,null,null,0]
[null,null,"Ʃ",{"$f":"SUM(D227:D230)","v":0},{"$f":"SUM(E227:E230)","v":0.25330000000000003},0,0,0.58016599999999996,0,0,0.84309999999999985,0,0,0.43846699999999994,0]
[]
[null,null,"Vektede effektiviteter (forventet effektivitet)"]
[null,null,"Hs (m)",null,"Vinter",null,null,"Vår",null,null,"Sommer",null,null,"Høst"]
[null,null,"0,0 - 1,0",{"$f":"$E$4*D227","v":0},7.3662499999999995E-3,0,0,4.2659462499999995E-2,0,0,0.148182325,0,0,3.2186962499999999E-2,0]
[null,null,"1,0 - 2,0",{"$f":"$F$4*D228","v":0},0.1008,0,0,0.27949280000000004,0,0,0.44757359999999996,0,0,0.20063999999999999,0]
[null,null,"2,0 - 3,0",{"$f":"$G$4*D229","v":0},8.6275000000000004E-2,0,0,0.13248142499999999,0,0,8.4583575000000008E-2,0,0,0.109765,0]
[null,null,"3,0 - 4,0",{"$f":"$H$4*D230","v":0},0,0,0,0,0,0,0,0,0,0,0]
[null,null,"Σ",null,{"$f":"SUM(E235:E238)","v":0.19444125000000001},null,null,{"$f":"SUM(H235:H238)","v":0.45463368750000005},null,null,{"$f":"SUM(K235:K238)","v":0.68033949999999999},null,null,{"$f":"SUM(N235:N238)","v":0.34259196250000001}]
[]
[null,null,null,"Gjennomsnittlig opptakseffektivitet Gruppe 2 system"]
[null,null,null,"Vinter","Vår","Sommer","Høst","År"]
[null,null,null,{"$f":"E239","v":0.19444125000000001},{"$f":"H239","v":0.45463368750000005},{"$f":"K239","v":0.68033949999999999},{"$f":"N239","v":0.34259196250000001},{"$f":"SUM(D239:O239)/4","v":0.41800160000000003}]
[]
[]
[]
[null,null,"Lokasjon",11]
[]
[null,null,"Sesongvise frekvensfordelinger av signifikante bølgehøydeintervaller"]
[null,null,"Hs (m)",null,"Vinter",null,null,"Vår",null,null,"Sommer",null,null,"Høst"]
[null,null,"0,0 - 1,0",null,1.6434000000000001E-2,null,null,7.5133000000000005E-2,null,null,0.22340000000000004,null,null,5.7965999999999997E-2]
[null,null,"1,0 - 2,0",null,0.173433,null,null,0.37933300000000003,null,null,0.52476699999999998,null,null,0.28789999999999999]
[null,null,"2,0 - 3,0",null,0.121433,null,null,0.1656,null,null,0.108033,null,null,0.14913299999999999]
[null,null,"3,0 - 4,0",null,0,null,null,0,null,null,0,null,null,0]
[null,null,"Ʃ",{"$f":"SUM(D251:D254)","v":0},{"$f":"SUM(E251:E254)","v":0.31130000000000002},0,0,0.62006600000000001,0,0,0.85620000000000007,0,0,0.49499899999999997,0]
[]
[null,null,"Vektede effektiviteter (forventet effektivitet)"]
[null,null,"Hs (m)",null,"Vinter",null,null,"Vår",null,null,"Sommer",null,null,"Høst"]
[null,null,"0,0 - 1,0",{"$f":"$E$4*D251","v":0},1.4585175000000001E-2,0,0,6.6680537499999998E-2,0,0,0.19826750000000004,0,0,5.1444824999999993E-2,0]
[null,null,"1,0 - 2,0",{"$f":"$F$4*D252","v":0},0.13874640000000002,0,0,0.30346640000000003,0,0,0.41981360000000001,0,0,0.23032,0]
[null,null,"2,0 - 3,0",{"$f":"$G$4*D253","v":0},8.803892499999999E-2,0,0,0.12006,0,0,7.8323925000000003E-2,0,0,0.10812142499999999,0]
[null,null,"3,0 - 4,0",{"$f":"$H$4*D254","v":0},0,0,0,0,0,0,0,0,0,0,0]
[null,null,"Σ",null,{"$f":"SUM(E259:E262)","v":0.24137050000000002},null,null,{"$f":"SUM(H259:H262)","v":0.49020693750000005},null,null,{"$f":"SUM(K259:K262)","v":0.69640502500000001},null,null,{"$f":"SUM(N259:N262)","v":0.38988624999999999}]
[]
[null,null,null,"Gjennomsnittlig opptakseffektivitet Gruppe 2 system"]
[null,null,null,"Vinter","Vår","Sommer","Høst","År"]
[null,null,null,{"$f":"E263","v":0.24137050000000002},{"$f":"H263","v":0.49020693750000005},{"$f":"K263","v":0.69640502500000001},{"$f":"N263","v":0.38988624999999999},{"$f":"SUM(D263:O263)/4","v":0.45446717812500004}]
[]
[]
[]
[null,null,"Lokasjon",12]
[]
[null,null,"Sesongvise frekvensfordelinger av signifikante bølgehøydeintervaller"]
[null,null,"Hs (m)",null,"Vinter",null,null,"Vår",null,null,"Sommer",null,null,"Høst"]
[null,null,"0,0 - 1,0",null,6.5567E-2,null,null,0.23269999999999999,null,null,0.46389999999999998,null,null,0.15786700000000001]
[null,null,"1,0 - 2,0",null,0.29926700000000001,null,null,0.411134,null,null,0.40976599999999996,null,null,0.37586600000000003]
[null,null,"2,0 - 3,0",null,0.13673299999999999,null,null,0.12223299999999999,null,null,7.1367E-2,null,null,0.14083299999999999]
[null,null,"3,0 - 4,0",null,0,null,null,0,null,null,0,null,null,0]
[null,null,"Ʃ",{"$f":"SUM(D275:D278)","v":0},{"$f":"SUM(E275:E278)","v":0.50156699999999999},0,0,0.76606700000000005,0,0,0.9450329999999999,0,0,0.674566,0]
[]
[null,null,"Vektede effektiviteter (forventet effektivitet)"]
[null,null,"Hs (m)",null,"Vinter",null,null,"Vår",null,null,"Sommer",null,null,"Høst"]
[null,null,"0,0 - 1,0",{"$f":"$E$4*D275","v":0},5.8190712499999998E-2,0,0,0.20652124999999999,0,0,0.41171124999999997,0,0,0.14010696249999999,0]
[null,null,"1,0 - 2,0",{"$f":"$F$4*D276","v":0},0.2394136,0,0,0.32890720000000001,0,0,0.32781280000000002,0,0,0.30069280000000004,0]
[null,null,"2,0 - 3,0",{"$f":"$G$4*D277","v":0},9.9131424999999995E-2,0,0,8.8618924999999987E-2,0,0,5.1741074999999997E-2,0,0,0.10210392499999998,0]
[null,null,"3,0 - 4,0",{"$f":"$H$4*D278","v":0},0,0,0,0,0,0,0,0,0,0,0]
[null,null,"Σ",null,{"$f":"SUM(E283:E286)","v":0.39673573750000002},null,null,{"$f":"SUM(H283:H286)","v":0.62404737499999996},null,null,{"$f":"SUM(K283:K286)","v":0.79126512500000001},null,null,{"$f":"SUM(N283:N286)","v":0.54290368749999995}]
[]
[null,null,null,"Gjennomsnittlig opptakseffektivitet Gruppe 2 system"]
[null,null,null,"Vinter","Vår","Sommer","Høst","År"]
[null,null,null,{"$f":"E287","v":0.39673573750000002},{"$f":"H287","v":0.62404737499999996},{"$f":"K287","v":0.79126512500000001},{"$f":"N287","v":0.54290368749999995},{"$f":"SUM(D287:O287)/4","v":0.58873798124999999}]
[]
[]
[]
[null,null,"Lokasjon",13]
[]
[null,null,"Sesongvise frekvensfordelinger av signifikante bølgehøydeintervaller"]
[null,null,"Hs (m)",null,"Vinter",null,null,"Vår",null,null,"Sommer",null,null,"Høst"]
[null,null,"0,0 - 1,0",null,2.5330000000000001E-3,null,null,2.7400000000000001E-2,null,null,0.12366700000000001,null,null,1.8799999999999997E-2]
[null,null,"1,0 - 2,0",null,9.8533000000000009E-2,null,null,0.32353300000000007,null,null,0.56783299999999992,null,null,0.2291]
[null,null,"2,0 - 3,0",null,0.104267,null,null,0.17413299999999998,null,null,0.13140000000000002,null,null,0.14949999999999999]
[null,null,"3,0 - 4,0",null,0,null,null,0,null,null,0,null,null,0]
[null,null,"Ʃ",{"$f":"SUM(D299:D302)","v":0},{"$f":"SUM(E299:E302)","v":0.20533299999999999},0,0,0.52506600000000003,0,0,0.82289999999999996,0,0,0.39739999999999998,0]
[]
[null,null,"Vektede effektiviteter (forventet effektivitet)"]
[null,null,"Hs (m)",null,"Vinter",null,null,"Vår",null,null,"Sommer",null,null,"Høst"]
[null,null,"0,0 - 1,0",{"$f":"$E$4*D299","v":0},2.2480374999999998E-3,0,0,2.4317499999999999E-2,0,0,0.10975446250000001,0,0,1.6684999999999998E-2,0]
[null,null,"1,0 - 2,0",{"$f":"$F$4*D300","v":0},7.8826400000000019E-2,0,0,0.25882640000000007,0,0,0.45426639999999996,0,0,0.18328,0]
[null,null,"2,0 - 3,0",{"$f":"$G$4*D301","v":0},7.5593574999999996E-2,0,0,0.126246425,0,0,9.5265000000000002E-2,0,0,0.1083875,0]
[null,null,"3,0 - 4,0",{"$f":"$H$4*D302","v":0},0,0,0,0,0,0,0,0,0,0,0]
[null,null,"Σ",null,{"$f":"SUM(E307:E310)","v":0.15666801250000001},null,null,{"$f":"SUM(H307:H310)","v":0.40939032500000005},null,null,{"$f":"SUM(K307:K310)","v":0.65928586249999999},null,null,{"$f":"SUM(N307:N310)","v":0.30835250000000003}]
[]
[null,null,null,"Gjennomsnittlig opptakseffektivitet Gruppe 2 system"]
[null,null,null,"Vinter","Vår","Sommer","Høst","År"]
[null,null,null,{"$f":"E311","v":0.15666801250000001},{"$f":"H311","v":0.40939032500000005},{"$f":"K311","v":0.65928586249999999},{"$f":"N311","v":0.30835250000000003},{"$f":"SUM(D311:O311)/4","v":0.38342417500000003}]
[]
[]
[]
[null,null,"Lokasjon",14]
[]
[null,null,"Sesongvise frekvensfordelinger av signifikante bølgehøydeintervaller"]
[null,null,"Hs (m)",null,"Vinter",null,null,"Vår",null,null,"Sommer",null,null,"Høst"]
[null,null,"0,0 - 1,0",null,2.9933000000000001E-2,null,null,0.15770000000000001,null,null,0.39160000000000006,null,null,0.118834]
[null,null,"1,0 - 2,0",null,0.27050000000000002,null,null,0.42036699999999994,null,null,0.48570000000000002,null,null,0.36633300000000008]
[null,null,"2,0 - 3,0",null,0.13750000000000001,null,null,0.127,null,null,6.2032999999999998E-2,null,null,0.148533]
[null,null,"3,0 - 4,0",null,0,null,null,0,null,null,0,null,null,0]
[null,null,"Ʃ",{"$f":"SUM(D323:D326)","v":0},{"$f":"SUM(E323:E326)","v":0.43793300000000002},0,0,0.70506699999999989,0,0,0.93933300000000008,0,0,0.63370000000000004,0]
[]
[null,null,"Vektede effektiviteter (forventet effektivitet)"]
[null,null,"Hs (m)",null,"Vinter",null,null,"Vår",null,null,"Sommer",null,null,"Høst"]
[null,null,"0,0 - 1,0",{"$f":"$E$4*D323","v":0},2.65655375E-2,0,0,0.13995874999999999,0,0,0.34754500000000005,0,0,0.10546517499999999,0]
[null,null,"1,0 - 2,0",{"$f":"$F$4*D324","v":0},0.21640000000000004,0,0,0.33629359999999997,0,0,0.38856000000000002,0,0,0.29306640000000006,0]
[null,null,"2,0 - 3,0",{"$f":"$G$4*D325","v":0},9.9687499999999998E-2,0,0,9.2075000000000004E-2,0,0,4.4973924999999998E-2,0,0,0.107686425,0]
[null,null,"3,0 - 4,0",{"$f":"$H$4*D326","v":0},0,0,0,0,0,0,0,0,0,0,0]
[null,null,"Σ",null,{"$f":"SUM(E331:E334)","v":0.34265303750000004},null,null,{"$f":"SUM(H331:H334)","v":0.56832735000000001},null,null,{"$f":"SUM(K331:K334)","v":0.78107892499999998},null,null,{"$f":"SUM(N331:N334)","v":0.50621800000000006}]
[]
[null,null,null,"Gjennomsnittlig opptakseffektivitet Gruppe 2 system"]
[null,null,null,"Vinter","Vår","Sommer","Høst","År"]
[null,null,null,{"$f":"E335","v":0.34265303750000004},{"$f":"H335","v":0.56832735000000001},{"$f":"K335","v":0.78107892499999998},{"$f":"N335","v":0.50621800000000006},{"$f":"SUM(D335:O335)/4","v":0.54956932812500003}]
[]
[]
[]
[null,null,"Lokasjon",15]
[]
[null,null,"Sesongvise frekvensfordelinger av signifikante bølgehøydeintervaller"]
[null,null,"Hs (m)",null,"Vinter",null,null,"Vår",null,null,"Sommer",null,null,"Høst"]
[null,null,"0,0 - 1,0",null,1.067E-3,null,null,2.9700000000000001E-2,null,null,0.1452,null,null,2.6667E-2]
[null,null,"1,0 - 2,0",null,0.114466,null,null,0.35813299999999998,null,null,0.57409999999999994,null,null,0.2671]
[null,null,"2,0 - 3,0",null,0.120433,null,null,0.15423299999999998,null,null,0.135467,null,null,0.15229999999999999]
[null,null,"3,0 - 4,0",null,0,null,null,0,null,null,0,null,null,0]
[null,null,"Ʃ",{"$f":"SUM(D347:D350)","v":0},{"$f":"SUM(E347:E350)","v":0.23596600000000001},0,0,0.54206599999999994,0,0,0.85476699999999994,0,0,0.44606699999999999,0]
[]
[null,null,"Vektede effektiviteter (forventet effektivitet)"]
[null,null,"Hs (m)",null,"Vinter",null,null,"Vår",null,null,"Sommer",null,null,"Høst"]
[null,null,"0,0 - 1,0",{"$f":"$E$4*D347","v":0},9.4696249999999993E-4,0,0,2.635875E-2,0,0,0.12886499999999998,0,0,2.3666962499999999E-2,0]
[null,null,"1,0 - 2,0",{"$f":"$F$4*D348","v":0},9.157280000000001E-2,0,0,0.28650639999999999,0,0,0.45927999999999997,0,0,0.21368000000000001,0]
[null,null,"2,0 - 3,0",{"$f":"$G$4*D349","v":0},8.7313925000000001E-2,0,0,0.11181892499999999,0,0,9.8213574999999997E-2,0,0,0.11041749999999999,0]
[null,null,"3,0 - 4,0",{"$f":"$H$4*D350","v":0},0,0,0,0,0,0,0,0,0,0,0]
[null,null,"Σ",null,{"$f":"SUM(E355:E358)","v":0.17983368750000001},null,null,{"$f":"SUM(H355:H358)","v":0.42468407499999994},null,null,{"$f":"SUM(K355:K358)","v":0.68635857499999986},null,null,{"$f":"SUM(N355:N358)","v":0.34776446249999998}]
[]
[null,null,null,"Gjennomsnittlig opptakseffektivitet Gruppe 2 system"]
[null,null,null,"Vinter","Vår","Sommer","Høst","År"]
[null,null,null,{"$f":"E359","v":0.17983368750000001},{"$f":"H359","v":0.42468407499999994},{"$f":"K359","v":0.68635857499999986},{"$f":"N359","v":0.34776446249999998},{"$f":"SUM(D359:O359)/4","v":0.40966019999999997}]
[]
[]
[]
[null,null,"Lokasjon",16]
[]
[null,null,"Sesongvise frekvensfordelinger av signifikante bølgehøydeintervaller"]
[null,null,"Hs (m)",null,"Vinter",null,null,"Vår",null,null,"Sommer",null,null,"Høst"]
[null,null,"0,0 - 1,0",null,3.1669999999999997E-3,null,null,5.0799999999999998E-2,null,null,0.18676699999999996,null,null,3.9532999999999999E-2]
[null,null,"1,0 - 2,0",null,0.14216699999999999,null,null,0.37230000000000002,null,null,0.58340000000000003,null,null,0.31526699999999996]
[null,null,"2,0 - 3,0",null,0.13186700000000001,null,null,0.15720000000000001,null,null,0.11236700000000001,null,null,0.15340000000000001]
[null,null,"3,0 - 4,0",null,0,null,null,0,null,null,0,null,null,0]
[null,null,"Ʃ",{"$f":"SUM(D371:D374)","v":0},{"$f":"SUM(E371:E374)","v":0.27720100000000003},0,0,0.58030000000000004,0,0,0.88253400000000004,0,0,0.50819999999999999,0]
[]
[null,null,"Vektede effektiviteter (forventet effektivitet)"]
[null,null,"Hs (m)",null,"Vinter",null,null,"Vår",null,null,"Sommer",null,null,"Høst"]
[null,null,"0,0 - 1,0",{"$f":"$E$4*D371","v":0},2.8107124999999997E-3,0,0,4.5084999999999993E-2,0,0,0.16575571249999996,0,0,3.50855375E-2,0]
[null,null,"1,0 - 2,0",{"$f":"$F$4*D372","v":0},0.11373359999999999,0,0,0.29784000000000005,0,0,0.46672000000000002,0,0,0.25221359999999998,0]
[null,null,"2,0 - 3,0",{"$f":"$G$4*D373","v":0},9.560357500000001E-2,0,0,0.11397,0,0,8.1466074999999999E-2,0,0,0.11121500000000001,0]
[null,null,"3,0 - 4,0",{"$f":"$H$4*D374","v":0},0,0,0,0,0,0,0,0,0,0,0]
[null,null,"Σ",null,{"$f":"SUM(E379:E382)","v":0.21214788750000002},null,null,{"$f":"SUM(H379:H382)","v":0.45689500000000005},null,null,{"$f":"SUM(K379:K382)","v":0.71394178750000004},null,null,{"$f":"SUM(N379:N382)","v":0.39851413749999998}]
[]
[null,null,null,"Gjennomsnittlig opptakseffektivitet Gruppe 2 system"]
[null,null,null,"Vinter","Vår","Sommer","Høst","År"]
[null,null,null,{"$f":"E383","v":0.21214788750000002},{"$f":"H383","v":0.45689500000000005},{"$f":"K383","v":0.71394178750000004},{"$f":"N383","v":0.39851413749999998},{"$f":"SUM(D383:O383)/4","v":0.44537470312500005}]
[]
[]
[]
[null,null,"Lokasjon",17]
[]
[null,null,"Sesongvise frekvensfordelinger av signifikante bølgehøydeintervaller"]
[null,null,"Hs (m)",null,"Vinter",null,null,"Vår",null,null,"Sommer",null,null,"Høst"]
[null,null,"0,0 - 1,0",null,4.0000000000000002E-4,null,null,2.8732999999999998E-2,null,null,0.14530000000000001,null,null,1.9599999999999999E-2]
[null,null,"1,0 - 2,0",null,0.1002,null,null,0.34246699999999997,null,null,0.59043400000000001,null,null,0.28146599999999999]
[null,null,"2,0 - 3,0",null,0.13133300000000001,null,null,0.16503299999999999,null,null,0.13436700000000001,null,null,0.15640000000000001]
[null,null,"3,0 - 4,0",null,0,null,null,0,null,null,0,null,null,0]
[null,null,"Ʃ",{"$f":"SUM(D395:D398)","v":0},{"$f":"SUM(E395:E398)","v":0.231933},0,0,0.53623299999999996,0,0,0.87010100000000001,0,0,0.45746600000000004,0]
[]
[null,null,"Vektede effektiviteter (forventet effektivitet)"]
[null,null,"Hs (m)",null,"Vinter",null,null,"Vår",null,null,"Sommer",null,null,"Høst"]
[null,null,"0,0 - 1,0",{"$f":"$E$4*D395","v":0},3.5500000000000001E-4,0,0,2.5500537499999996E-2,0,0,0.12895375000000001,0,0,1.7394999999999997E-2,0]
[null,null,"1,0 - 2,0",{"$f":"$F$4*D396","v":0},8.0160000000000009E-2,0,0,0.27397359999999998,0,0,0.47234720000000002,0,0,0.22517280000000001,0]
[null,null,"2,0 - 3,0",{"$f":"$G$4*D397","v":0},9.5216425000000007E-2,0,0,0.11964892499999999,0,0,9.7416075000000005E-2,0,0,0.11339,0]
[null,null,"3,0 - 4,0",{"$f":"$H$4*D398","v":0},0,0,0,0,0,0,0,0,0,0,0]
[null,null,"Σ",null,{"$f":"SUM(E403:E406)","v":0.175731425},null,null,{"$f":"SUM(H403:H406)","v":0.41912306249999998},null,null,{"$f":"SUM(K403:K406)","v":0.6987170250000001},null,null,{"$f":"SUM(N403:N406)","v":0.35595779999999999}]
[]
[null,null,null,"Gjennomsnittlig opptakseffektivitet Gruppe 2 system"]
[null,null,null,"Vinter","Vår","Sommer","Høst","År"]
[null,null,null,{"$f":"E407","v":0.175731425},{"$f":"H407","v":0.41912306249999998},{"$f":"K407","v":0.6987170250000001},{"$f":"N407","v":0.35595779999999999},{"$f":"SUM(D407:O407)/4","v":0.41238232812499998}]
[]
[]
[]
[null,null,"Lokasjon",18]
[]
[null,null,"Sesongvise frekvensfordelinger av signifikante bølgehøydeintervaller"]
[null,null,"Hs (m)",null,"Vinter",null,null,"Vår",null,null,"Sommer",null,null,"Høst"]
[null,null,"0,0 - 1,0",null,2.2669999999999999E-3,null,null,4.7400000000000005E-2,null,null,0.17063300000000001,null,null,2.4367E-2]
[null,null,"1,0 - 2,0",null,0.13603400000000002,null,null,0.34856699999999996,null,null,0.5763330000000001,null,null,0.30990000000000001]
[null,null,"2,0 - 3,0",null,0.123267,null,null,0.16486699999999999,null,null,0.125333,null,null,0.16056699999999999]
[null,null,"3,0 - 4,0",null,0,null,null,0,null,null,0,null,null,0]
[null,null,"Ʃ",{"$f":"SUM(D419:D422)","v":0},{"$f":"SUM(E419:E422)","v":0.26156800000000002},0,0,0.56083399999999994,0,0,0.87229900000000016,0,0,0.494834,0]
[]
[null,null,"Vektede effektiviteter (forventet effektivitet)"]
[null,null,"Hs (m)",null,"Vinter",null,null,"Vår",null,null,"Sommer",null,null,"Høst"]
[null,null,"0,0 - 1,0",{"$f":"$E$4*D419","v":0},2.0119624999999997E-3,0,0,4.2067500000000001E-2,0,0,0.1514367875,0,0,2.1625712499999998E-2,0]
[null,null,"1,0 - 2,0",{"$f":"$F$4*D420","v":0},0.10882720000000001,0,0,0.27885359999999998,0,0,0.4610664000000001,0,0,0.24792000000000003,0]
[null,null,"2,0 - 3,0",{"$f":"$G$4*D421","v":0},8.9368574999999992E-2,0,0,0.11952857499999998,0,0,9.0866425000000001E-2,0,0,0.11641107499999999,0]
[null,null,"3,0 - 4,0",{"$f":"$H$4*D422","v":0},0,0,0,0,0,0,0,0,0,0,0]
[null,null,"Σ",null,{"$f":"SUM(E427:E430)","v":0.20020773750000001},null,null,{"$f":"SUM(H427:H430)","v":0.44044967499999993},null,null,{"$f":"SUM(K427:K430)","v":0.70336961250000007},null,null,{"$f":"SUM(N427:N430)","v":0.38595678750000001}]
[]
[null,null,null,"Gjennomsnittlig opptakseffektivitet Gruppe 2 system"]
[null,null,null,"Vinter","Vår","Sommer","Høst","År"]
[null,null,null,{"$f":"E431","v":0.20020773750000001},{"$f":"H431","v":0.44044967499999993},{"$f":"K431","v":0.70336961250000007},{"$f":"N431","v":0.38595678750000001},{"$f":"SUM(D431:O431)/4","v":0.432495953125}]
[]
[]
[]
[null,null,"Lokasjon",19]
[]
[null,null,"Sesongvise frekvensfordelinger av signifikante bølgehøydeintervaller"]
[null,null,"Hs (m)",null,"Vinter",null,null,"Vår",null,null,"Sommer",null,null,"Høst"]
[null,null,"0,0 - 1,0",null,8.1233E-2,null,null,0.18686600000000003,null,null,0.3962,null,null,0.18373299999999998]
[null,null,"1,0 - 2,0",null,0.38303300000000001,null,null,0.45413300000000001,null,null,0.5109999999999999,null,null,0.44406699999999999]
[null,null,"2,0 - 3,0",null,0.16329999999999997,null,null,0.12859999999999999,null,null,5.5467000000000002E-2,null,null,0.1497]
[null,null,"3,0 - 4,0",null,0,null,null,0,null,null,0,null,null,0]
[null,null,"Ʃ",{"$f":"SUM(D443:D446)","v":0},{"$f":"SUM(E443:E446)","v":0.62756599999999996},0,0,0.76959900000000014,0,0,0.96266699999999994,0,0,0.77749999999999986,0]
[]
[null,null,"Vektede effektiviteter (forventet effektivitet)"]
[null,null,"Hs (m)",null,"Vinter",null,null,"Vår",null,null,"Sommer",null,null,"Høst"]
[null,null,"0,0 - 1,0",{"$f":"$E$4*D443","v":0},7.2094287499999993E-2,0,0,0.16584357500000002,0,0,0.35162749999999998,0,0,0.16306303749999998,0]
[null,null,"1,0 - 2,0",{"$f":"$F$4*D444","v":0},0.30642640000000004,0,0,0.36330640000000003,0,0,0.40879999999999994,0,0,0.3552536,0]
[null,null,"2,0 - 3,0",{"$f":"$G$4*D445","v":0},0.11839249999999997,0,0,9.3234999999999985E-2,0,0,4.0213575000000001E-2,0,0,0.10853249999999999,0]
[null,null,"3,0 - 4,0",{"$f":"$H$4*D446","v":0},0,0,0,0,0,0,0,0,0,0,0]
[null,null,"Σ",null,{"$f":"SUM(E451:E454)","v":0.49691318749999996},null,null,{"$f":"SUM(H451:H454)","v":0.62238497500000001},null,null,{"$f":"SUM(K451:K454)","v":0.80064107499999992},null,null,{"$f":"SUM(N451:N454)","v":0.62684913750000004}]
[]
[null,null,null,"Gjennomsnittlig opptakseffektivitet Gruppe 2 system"]
[null,null,null,"Vinter","Vår","Sommer","Høst","År"]
[null,null,null,{"$f":"E455","v":0.49691318749999996},{"$f":"H455","v":0.62238497500000001},{"$f":"K455","v":0.80064107499999992},{"$f":"N455","v":0.62684913750000004},{"$f":"SUM(D455:O455)/4","v":0.63669709375000005}]
[]
[]
[]
[null,null,"Lokasjon",20]
[]
[null,null,"Sesongvise frekvensfordelinger av signifikante bølgehøydeintervaller"]
[null,null,"Hs (m)",null,"Vinter",null,null,"Vår",null,null,"Sommer",null,null,"Høst"]
[null,null,"0,0 - 1,0",null,0.13830000000000001,null,null,0.28476600000000002,null,null,0.48829999999999996,null,null,0.24546700000000002]
[null,null,"1,0 - 2,0",null,0.54339999999999999,null,null,0.48426699999999995,null,null,0.41653300000000004,null,null,0.50769999999999993]
[null,null,"2,0 - 3,0",null,0.13673299999999999,null,null,0.107767,null,null,5.0467000000000005E-2,null,null,0.11023300000000001]
[null,null,"3,0 - 4,0",null,0,null,null,0,null,null,0,null,null,0]
[null,null,"Ʃ",{"$f":"SUM(D467:D470)","v":0},{"$f":"SUM(E467:E470)","v":0.81843299999999997},0,0,0.87680000000000002,0,0,0.95530000000000004,0,0,0.86339999999999995,0]
[]
[null,null,"Vektede effektiviteter (forventet effektivitet)"]
[null,null,"Hs (m)",null,"Vinter",null,null,"Vår",null,null,"Sommer",null,null,"Høst"]
[null,null,"0,0 - 1,0",{"$f":"$E$4*D467","v":0},0.12274125,0,0,0.25272982500000002,0,0,0.43336624999999995,0,0,0.2178519625,0]
[null,null,"1,0 - 2,0",{"$f":"$F$4*D468","v":0},0.43472,0,0,0.38741359999999997,0,0,0.33322640000000003,0,0,0.40615999999999997,0]
[null,null,"2,0 - 3,0",{"$f":"$G$4*D469","v":0},9.9131424999999995E-2,0,0,7.8131074999999994E-2,0,0,3.6588575000000005E-2,0,0,7.9918925000000002E-2,0]
[null,null,"3,0 - 4,0",{"$f":"$H$4*D470","v":0},0,0,0,0,0,0,0,0,0,0,0]
[null,null,"Σ",null,{"$f":"SUM(E475:E478)","v":0.65659267499999996},null,null,{"$f":"SUM(H475:H478)","v":0.71827449999999993},null,null,{"$f":"SUM(K475:K478)","v":0.803181225},null,null,{"$f":"SUM(N475:N478)","v":0.70393088749999999}]
[]
[null,null,null,"Gjennomsnittlig opptakseffektivitet Gruppe 2 system"]
[null,null,null,"Vinter","Vår","Sommer","Høst","År"]
[null,null,null,{"$f":"E479","v":0.65659267499999996},{"$f":"H479","v":0.71827449999999993},{"$f":"K479","v":0.803181225},{"$f":"N479","v":0.70393088749999999},{"$f":"SUM(D479:O479)/4","v":0.72049482187499991}]
[]
[]
[]
[null,null,"Lokasjon",21]
[]
[null,null,"Sesongvise frekvensfordelinger av signifikante bølgehøydeintervaller"]
[null,null,"Hs (m)",null,"Vinter",null,null,"Vår",null,null,"Sommer",null,null,"Høst"]
[null,null,"0,0 - 1,0",null,8.6500000000000007E-2,null,null,0.24059999999999998,null,null,0.45916699999999999,null,null,0.20739999999999997]
[null,null,"1,0 - 2,0",null,0.52096599999999993,null,null,0.49466700000000002,null,null,0.44730000000000003,null,null,0.51256699999999999]
[null,null,"2,0 - 3,0",null,0.16,null,null,0.11126699999999999,null,null,5.2400000000000002E-2,null,null,0.12396699999999999]
[null,null,"3,0 - 4,0",null,0,null,null,0,null,null,0,null,null,0]
[null,null,"Ʃ",{"$f":"SUM(D491:D494)","v":0},{"$f":"SUM(E491:E494)","v":0.76746599999999998},0,0,0.84653400000000001,0,0,0.95886700000000002,0,0,0.84393399999999996,0]
[]
[null,null,"Vektede effektiviteter (forventet effektivitet)"]
[null,null,"Hs (m)",null,"Vinter",null,null,"Vår",null,null,"Sommer",null,null,"Høst"]
[null,null,"0,0 - 1,0",{"$f":"$E$4*D491","v":0},7.6768749999999997E-2,0,0,0.21353249999999996,0,0,0.40751071249999998,0,0,0.18406749999999997,0]
[null,null,"1,0 - 2,0",{"$f":"$F$4*D492","v":0},0.41677279999999994,0,0,0.39573360000000002,0,0,0.35784000000000005,0,0,0.41005360000000002,0]
[null,null,"2,0 - 3,0",{"$f":"$G$4*D493","v":0},0.11599999999999999,0,0,8.0668574999999992E-2,0,0,3.7990000000000003E-2,0,0,8.9876075E-2,0]
[null,null,"3,0 - 4,0",{"$f":"$H$4*D494","v":0},0,0,0,0,0,0,0,0,0,0,0]
[null,null,"Σ",null,{"$f":"SUM(E499:E502)","v":0.60954154999999988},null,null,{"$f":"SUM(H499:H502)","v":0.68993467499999994},null,null,{"$f":"SUM(K499:K502)","v":0.80334071250000005},null,null,{"$f":"SUM(N499:N502)","v":0.68399717500000001}]
[]
[null,null,null,"Gjennomsnittlig opptakseffektivitet Gruppe 2 system"]
[null,null,null,"Vinter","Vår","Sommer","Høst","År"]
[null,null,null,{"$f":"E503","v":0.60954154999999988},{"$f":"H503","v":0.68993467499999994},{"$f":"K503","v":0.80334071250000005},{"$f":"N503","v":0.68399717500000001},{"$f":"SUM(D503:O503)/4","v":0.69670352812500003}]
[]
[]
[]
[null,null,"Lokasjon",22]
[]
[null,null,"Sesongvise frekvensfordelinger av signifikante bølgehøydeintervaller"]
[null,null,"Hs (m)",null,"Vinter",null,null,"Vår",null,null,"Sommer",null,null,"Høst"]
[null,null,"0,0 - 1,0",null,2.4466000000000002E-2,null,null,0.12603299999999998,null,null,0.30940000000000001,null,null,8.4334000000000006E-2]
[null,null,"1,0 - 2,0",null,0.332067,null,null,0.44443300000000002,null,null,0.56000000000000005,null,null,0.43906699999999999]
[null,null,"2,0 - 3,0",null,0.18093299999999998,null,null,0.15026700000000001,null,null,6.480000000000001E-2,null,null,0.176033]
[null,null,"3,0 - 4,0"]
[null,null,"Ʃ",{"$f":"SUM(D515:D518)","v":0},{"$f":"SUM(E515:E518)","v":0.537466},0,0,0.72073300000000007,0,0,0.93420000000000003,0,0,0.699434,0]
[]
[null,null,"Vektede effektiviteter (forventet effektivitet)"]
[null,null,"Hs (m)",null,"Vinter",null,null,"Vår",null,null,"Sommer",null,null,"Høst"]
[null,null,"0,0 - 1,0",{"$f":"$E$4*D515","v":0},2.1713574999999999E-2,0,0,0.11185428749999997,0,0,0.27459250000000002,0,0,7.4846425000000008E-2,0]
[null,null,"1,0 - 2,0",{"$f":"$F$4*D516","v":0},0.26565359999999999,0,0,0.35554640000000004,0,0,0.44800000000000006,0,0,0.3512536,0]
[null,null,"2,0 - 3,0",{"$f":"$G$4*D517","v":0},0.13117642499999999,0,0,0.108943575,0,0,4.6980000000000008E-2,0,0,0.127623925,0]
[null,null,"3,0 - 4,0",{"$f":"$H$4*D518","v":0},0,0,0,0,0,0,0,0,0,0,0]
[null,null,"Σ",null,{"$f":"SUM(E523:E526)","v":0.41854359999999996},null,null,{"$f":"SUM(H523:H526)","v":0.57634426250000004},null,null,{"$f":"SUM(K523:K526)","v":0.7695725000000001},null,null,{"$f":"SUM(N523:N526)","v":0.55372394999999996}]
[]
[null,null,null,"Gjennomsnittlig opptakseffektivitet Gruppe 2 system"]
[null,null,null,"Vinter","Vår","Sommer","Høst","År"]
[null,null,null,{"$f":"E527","v":0.41854359999999996},{"$f":"H527","v":0.57634426250000004},{"$f":"K527","v":0.7695725000000001},{"$f":"N527","v":0.55372394999999996},{"$f":"SUM(D527:O527)/4","v":0.57954607812499992}]
[]
[]
[]
[null,null,"Lokasjon",23]
[]
[null,null,"Sesongvise frekvensfordelinger av signifikante bølgehøydeintervaller"]
[null,null,"Hs (m)",null,"Vinter",null,null,"Vår",null,null,"Sommer",null,null,"Høst"]
[null,null,"0,0 - 1,0",null,2.8000000000000004E-3,null,null,5.5333000000000007E-2,null,null,0.207533,null,null,3.3500000000000002E-2]
[null,null,"1,0 - 2,0",null,0.20386700000000002,null,null,0.39020000000000005,null,null,0.59046699999999996,null,null,0.35633300000000001]
[null,null,"2,0 - 3,0",null,0.183,null,null,0.18429999999999999,null,null,0.103667,null,null,0.18646699999999999]
[null,null,"3,0 - 4,0"]
[null,null,"Ʃ",{"$f":"SUM(D539:D542)","v":0},{"$f":"SUM(E539:E542)","v":0.38966699999999999},0,0,0.62983300000000009,0,0,0.90166699999999989,0,0,0.57630000000000003,0]
[]
[null,null,"Vektede effektiviteter (forventet effektivitet)"]
[null,null,"Hs (m)",null,"Vinter",null,null,"Vår",null,null,"Sommer",null,null,"Høst"]
[null,null,"0,0 - 1,0",{"$f":"$E$4*D539","v":0},2.4850000000000002E-3,0,0,4.9108037500000007E-2,0,0,0.1841855375,0,0,2.9731250000000001E-2,0]
[null,null,"1,0 - 2,0",{"$f":"$F$4*D540","v":0},0.16309360000000003,0,0,0.31216000000000005,0,0,0.4723736,0,0,0.2850664,0]
[null,null,"2,0 - 3,0",{"$f":"$G$4*D541","v":0},0.13267499999999999,0,0,0.1336175,0,0,7.5158574999999991E-2,0,0,0.13518857500000001,0]
[null,null,"3,0 - 4,0",{"$f":"$H$4*D542","v":0},0,0,0,0,0,0,0,0,0,0,0]
[null,null,"Σ",null,{"$f":"SUM(E547:E550)","v":0.29825360000000001},null,null,{"$f":"SUM(H547:H550)","v":0.49488553750000003},null,null,{"$f":"SUM(K547:K550)","v":0.73171771249999995},null,null,{"$f":"SUM(N547:N550)","v":0.44998622499999996}]
[]
[null,null,null,"Gjennomsnittlig opptakseffektivitet Gruppe 2 system"]
[null,null,null,"Vinter","Vår","Sommer","Høst","År"]
[null,null,null,{"$f":"E551","v":0.29825360000000001},{"$f":"H551","v":0.49488553750000003},{"$f":"K551","v":0.73171771249999995},{"$f":"N551","v":0.44998622499999996},{"$f":"SUM(D551:O551)/4","v":0.49371076874999997}]
[]
[]
[]
[null,null,"Lokasjon",24]
[]
[null,null,"Sesongvise frekvensfordelinger av signifikante bølgehøydeintervaller"]
[null,null,"Hs (m)",null,"Vinter",null,null,"Vår",null,null,"Sommer",null,null,"Høst"]
[null,null,"0,0 - 1,0",null,8.4330000000000013E-3,null,null,7.5333999999999998E-2,null,null,0.22086600000000001,null,null,4.7699999999999992E-2]
[null,null,"1,0 - 2,0",null,0.26353300000000002,null,null,0.42903399999999997,null,null,0.60083300000000006,null,null,0.39730000000000004]
[null,null,"2,0 - 3,0",null,0.1804,null,null,0.1686,null,null,9.4499999999999987E-2,null,null,0.18523299999999998]
[null,null,"3,0 - 4,0"]
[null,null,"Ʃ",{"$f":"SUM(D563:D566)","v":0},{"$f":"SUM(E563:E566)","v":0.45236600000000005},0,0,0.6729679999999999,0,0,0.9161990000000001,0,0,0.63023300000000004,0]
[]
[null,null,"Vektede effektiviteter (forventet effektivitet)"]
[null,null,"Hs (m)",null,"Vinter",null,null,"Vår",null,null,"Sommer",null,null,"Høst"]
[null,null,"0,0 - 1,0",{"$f":"$E$4*D563","v":0},7.4842875000000007E-3,0,0,6.6858925E-2,0,0,0.196018575,0,0,4.2333749999999989E-2,0]
[null,null,"1,0 - 2,0",{"$f":"$F$4*D564","v":0},0.21082640000000002,0,0,0.34322720000000001,0,0,0.48066640000000005,0,0,0.31784000000000007,0]
[null,null,"2,0 - 3,0",{"$f":"$G$4*D565","v":0},0.13078999999999999,0,0,0.122235,0,0,6.851249999999999E-2,0,0,0.13429392499999998,0]
[null,null,"3,0 - 4,0",{"$f":"$H$4*D566","v":0},0,0,0,0,0,0,0,0,0,0,0]
[null,null,"Σ",null,{"$f":"SUM(E571:E574)","v":0.34910068750000001},null,null,{"$f":"SUM(H571:H574)","v":0.53232112500000006},null,null,{"$f":"SUM(K571:K574)","v":0.745197475},null,null,{"$f":"SUM(N571:N574)","v":0.49446767500000005}]
[]
[null,null,null,"Gjennomsnittlig opptakseffektivitet Gruppe 2 system"]
[null,null,null,"Vinter","Vår","Sommer","Høst","År"]
[null,null,null,{"$f":"E575","v":0.34910068750000001},{"$f":"H575","v":0.53232112500000006},{"$f":"K575","v":0.745197475},{"$f":"N575","v":0.49446767500000005},{"$f":"SUM(D575:O575)/4","v":0.53027174062500004}]
[]
[]
[]
[null,null,"Lokasjon",25]
[]
[null,null,"Sesongvise frekvensfordelinger av signifikante bølgehøydeintervaller"]
[null,null,"Hs (m)",null,"Vinter",null,null,"Vår",null,null,"Sommer",null,null,"Høst"]
[null,null,"0,0 - 1,0",null,5.633E-3,null,null,5.6867000000000001E-2,null,null,0.20776699999999998,null,null,3.3833000000000002E-2]
[null,null,"1,0 - 2,0",null,0.20363299999999998,null,null,0.41383400000000004,null,null,0.584067,null,null,0.35926699999999995]
[null,null,"2,0 - 3,0",null,0.1804,null,null,0.16940000000000002,null,null,0.115233,null,null,0.187833]
[null,null,"3,0 - 4,0"]
[null,null,"Ʃ",{"$f":"SUM(D587:D590)","v":0},{"$f":"SUM(E587:E590)","v":0.38966599999999996},0,0,0.64010100000000003,0,0,0.90706699999999996,0,0,0.58093299999999992,0]
[]
[null,null,"Vektede effektiviteter (forventet effektivitet)"]
[null,null,"Hs (m)",null,"Vinter",null,null,"Vår",null,null,"Sommer",null,null,"Høst"]
[null,null,"0,0 - 1,0",{"$f":"$E$4*D587","v":0},4.9992874999999996E-3,0,0,5.0469462499999999E-2,0,0,0.18439321249999996,0,0,3.0026787499999999E-2,0]
[null,null,"1,0 - 2,0",{"$f":"$F$4*D588","v":0},0.16290640000000001,0,0,0.33106720000000006,0,0,0.46725360000000005,0,0,0.28741359999999999,0]
[null,null,"2,0 - 3,0",{"$f":"$G$4*D589","v":0},0.13078999999999999,0,0,0.12281500000000001,0,0,8.3543925000000005E-2,0,0,0.13617892500000001,0]
[null,null,"3,0 - 4,0",{"$f":"$H$4*D590","v":0},0,0,0,0,0,0,0,0,0,0,0]
[null,null,"Σ",null,{"$f":"SUM(E595:E598)","v":0.29869568749999997},null,null,{"$f":"SUM(H595:H598)","v":0.50435166250000008},null,null,{"$f":"SUM(K595:K598)","v":0.73519073749999997},null,null,{"$f":"SUM(N595:N598)","v":0.45361931249999998}]
[]
[null,null,null,"Gjennomsnittlig opptakseffektivitet Gruppe 2 system"]
[null,null,null,"Vinter","Vår","Sommer","Høst","År"]
[null,null,null,{"$f":"E599","v":0.29869568749999997},{"$f":"H599","v":0.50435166250000008},{"$f":"K599","v":0.73519073749999997},{"$f":"N599","v":0.45361931249999998},{"$f":"SUM(D599:O599)/4","v":0.49796434999999994}]
[]
[]
[]
[null,null,"Lokasjon",26]
[]
[null,null,"Sesongvise frekvensfordelinger av signifikante bølgehøydeintervaller"]
[null,null,"Hs (m)",null,"Vinter",null,null,"Vår",null,null,"Sommer",null,null,"Høst"]
[null,null,"0,0 - 1,0",null,8.8000000000000005E-3,null,null,6.9866999999999999E-2,null,null,0.21246600000000002,null,null,4.0967000000000003E-2]
[null,null,"1,0 - 2,0",null,0.226467,null,null,0.42409999999999998,null,null,0.58709999999999996,null,null,0.373033]
[null,null,"2,0 - 3,0",null,0.18616700000000003,null,null,0.15976699999999999,null,null,0.10613300000000001,null,null,0.19453299999999998]
[null,null,"3,0 - 4,0"]
[null,null,"Ʃ",{"$f":"SUM(D611:D614)","v":0},{"$f":"SUM(E611:E614)","v":0.42143400000000003},0,0,0.65373400000000004,0,0,0.90569900000000003,0,0,0.60853299999999999,0]
[]
[null,null,"Vektede effektiviteter (forventet effektivitet)"]
[null,null,"Hs (m)",null,"Vinter",null,null,"Vår",null,null,"Sommer",null,null,"Høst"]
[null,null,"0,0 - 1,0",{"$f":"$E$4*D611","v":0},7.8100000000000001E-3,0,0,6.2006962499999999E-2,0,0,0.18856357500000001,0,0,3.6358212500000001E-2,0]
[null,null,"1,0 - 2,0",{"$f":"$F$4*D612","v":0},0.18117360000000002,0,0,0.33928000000000003,0,0,0.46967999999999999,0,0,0.29842640000000004,0]
[null,null,"2,0 - 3,0",{"$f":"$G$4*D613","v":0},0.13497107500000002,0,0,0.11583107499999999,0,0,7.6946424999999999E-2,0,0,0.14103642499999999,0]
[null,null,"3,0 - 4,0",{"$f":"$H$4*D614","v":0},0,0,0,0,0,0,0,0,0,0,0]
[null,null,"Σ",null,{"$f":"SUM(E619:E622)","v":0.32395467500000008},null,null,{"$f":"SUM(H619:H622)","v":0.51711803749999996},null,null,{"$f":"SUM(K619:K622)","v":0.73519000000000001},null,null,{"$f":"SUM(N619:N622)","v":0.47582103750000004}]
[]
[null,null,null,"Gjennomsnittlig opptakseffektivitet Gruppe 2 system"]
[null,null,null,"Vinter","Vår","Sommer","Høst","År"]
[null,null,null,{"$f":"E623","v":0.32395467500000008},{"$f":"H623","v":0.51711803749999996},{"$f":"K623","v":0.73519000000000001},{"$f":"N623","v":0.47582103750000004},{"$f":"SUM(D623:O623)/4","v":0.51302093750000011}]
[]
[]
[]
[null,null,"Lokasjon",27]
[]
[null,null,"Sesongvise frekvensfordelinger av signifikante bølgehøydeintervaller"]
[null,null,"Hs (m)",null,"Vinter",null,null,"Vår",null,null,"Sommer",null,null,"Høst"]
[null,null,"0,0 - 1,0",null,2.2669999999999999E-3,null,null,4.0165999999999993E-2,null,null,0.18676700000000002,null,null,2.1833000000000002E-2]
[null,null,"1,0 - 2,0",null,0.142433,null,null,0.40196700000000002,null,null,0.60883399999999999,null,null,0.29683300000000001]
[null,null,"2,0 - 3,0",null,0.14613300000000001,null,null,0.1663,null,null,0.105633,null,null,0.20116700000000001]
[null,null,"3,0 - 4,0"]
[null,null,"Ʃ",{"$f":"SUM(D635:D638)","v":0},{"$f":"SUM(E635:E638)","v":0.29083300000000001},0,0,0.608433,0,0,0.90123399999999998,0,0,0.51983299999999999,0]
[]
[null,null,"Vektede effektiviteter (forventet effektivitet)"]
[null,null,"Hs (m)",null,"Vinter",null,null,"Vår",null,null,"Sommer",null,null,"Høst"]
[null,null,"0,0 - 1,0",{"$f":"$E$4*D635","v":0},2.0119624999999997E-3,0,0,3.5647324999999994E-2,0,0,0.16575571250000001,0,0,1.9376787499999999E-2,0]
[null,null,"1,0 - 2,0",{"$f":"$F$4*D636","v":0},0.1139464,0,0,0.32157360000000001,0,0,0.48706720000000003,0,0,0.23746640000000002,0]
[null,null,"2,0 - 3,0",{"$f":"$G$4*D637","v":0},0.10594642500000001,0,0,0.12056749999999999,0,0,7.6583924999999997E-2,0,0,0.14584607499999999,0]
[null,null,"3,0 - 4,0",{"$f":"$H$4*D638","v":0},0,0,0,0,0,0,0,0,0,0,0]
[null,null,"Σ",null,{"$f":"SUM(E643:E646)","v":0.22190478750000003},null,null,{"$f":"SUM(H643:H646)","v":0.47778842500000002},null,null,{"$f":"SUM(K643:K646)","v":0.72940683750000002},null,null,{"$f":"SUM(N643:N646)","v":0.40268926250000003}]
[]
[null,null,null,"Gjennomsnittlig opptakseffektivitet Gruppe 2 system"]
[null,null,null,"Vinter","Vår","Sommer","Høst","År"]
[null,null,null,{"$f":"E647","v":0.22190478750000003},{"$f":"H647","v":0.47778842500000002},{"$f":"K647","v":0.72940683750000002},{"$f":"N647","v":0.40268926250000003},{"$f":"SUM(D647:O647)/4","v":0.45794732812500005}]

{"sheet":"Op.Eff.STOTTE.KYSTVAKT","index":18,"n_rows":267,"n_cols":15,"rows_kept":267,"cut":false,"hidden":true,"merged":[[96,3,96,7],[8,2,8,14],[16,2,16,14],[24,3,24,7],[32,2,32,14],[40,2,40,14],[48,3,48,7],[56,2,56,14],[64,2,64,14],[72,3,72,7],[80,2,80,14],[88,2,88,14],[192,3,192,7],[104,2,104,14],[112,2,112,14],[120,3,120,7],[128,2,128,14],[136,2,136,14],[144,3,144,7],[152,2,152,14],[160,2,160,14],[168,3,168,7],[176,2,176,14],[184,2,184,14],[248,2,248,14],[256,2,256,14],[264,3,264,7],[200,2,200,14],[208,2,208,14],[216,3,216,7],[224,2,224,14],[232,2,232,14],[240,3,240,7]]}
[]
[]
[null,null,"Hs intervall (m)",null,"0,0 - 1,0","1,0 -2,0","2,0 - 3,0","3,0 - 4,0"]
[null,null,"Opptakseffektivitet",null,0.79500000000000004,0.72,0.625,0.52500000000000002]
[]
[]
[null,null,"Lokasjon","Stasjon1_Cutoff1_nymetode_etterGMS.xls"]
[]
[null,null,"Månedlige frekvensfordelinger av signifikante bølgehøydeintervaller"]
[null,null,"Hs (m)","Jan","Feb","Mar","Apr","Mai","Jun","Jul","Aug","Sep","Okt","Nov","Des"]
[null,null,"0,0 - 1,0",3.6846847692500559E-2,5.3340103767049007E-2,7.8487852026187466E-2,0.14546900944669319,0.282997139996086,0.2846939488522372,0.35709623079567765,0.34169535196049422,0.18957444646339405,0.11685744612173483,7.7739589912153073E-2,3.2155203333174273E-2]
[null,null,"1,0 - 2,0",0.25238767557328973,0.26195424004745183,0.31880444893454979,0.45374723334774697,0.51985242548196131,0.55649201587490282,0.51966475854756666,0.50115213872765629,0.42230019717485962,0.35287040194328217,0.3184665848737776,0.25277336624761071]
[null,null,"2,0 - 3,0",0.28250117617207171,0.27460896043459088,0.27677872889275434,0.24076079181163951,0.13812287690217812,0.11293890306839531,9.750256197579743E-2,0.11916319422283422,0.21871829810170842,0.25849477508247937,0.27726297724456656,0.28112624402300657]
[null,null,"3,0 - 4,0"]
[null,null,"Ʃ",{"$f":"SUM(D11:D14)","v":0.57173569943786196},{"$f":"SUM(E11:E14)","v":0.58990330424909176},0.67407102985349154,0.83997703460607975,0.94097244238022548,0.95412486779553529,0.97426355131904174,0.96201068491098463,0.83059294173996201,0.72822262314749642,0.67346915203049718,0.56605481360379151]
[]
[null,null,"Vektede effektiviteter (forventet effektivitet)"]
[null,null,"Hs (m)","Jan","Feb","Mar","Apr","Mai","Jun","Jul","Aug","Sep","Okt","Nov","Des"]
[null,null,"0,0 - 1,0",{"$f":"$E$4*D11","v":2.9293243915537944E-2},{"$f":"$E$4*E11","v":4.240538249480396E-2},6.2397842360819036E-2,0.11564786251012109,0.22498272629688837,0.22633168933752859,0.28389150348256376,0.27164780480859291,0.15071168493839829,9.2901669666779194E-2,6.1802973980161699E-2,2.5563386649873548E-2]
[null,null,"1,0 - 2,0",{"$f":"$F$4*D12","v":0.18171912641276861},{"$f":"$F$4*E12","v":0.18860705283416532},0.22953920323287583,0.32669800801037779,0.37429374634701212,0.40067425142993002,0.374158626154248,0.36082953988391253,0.30405614196589892,0.25406668939916316,0.22929594110911986,0.18199682369827971]
[null,null,"2,0 - 3,0",{"$f":"$G$4*D13","v":0.17656323510754482},{"$f":"$G$4*E13","v":0.1716306002716193},0.17298670555797147,0.15047549488227469,8.6326798063861315E-2,7.0586814417747071E-2,6.0939101234873394E-2,7.4476996389271383E-2,0.13669893631356778,0.1615592344265496,0.17328936077785409,0.17570390251437912]
[null,null,"3,0 - 4,0",{"$f":"$H$4*D14","v":0},{"$f":"$H$4*E14","v":0},0,0,0,0,0,0,0,0,0,0]
[null,null,"Σ",{"$f":"SUM(D19:D22)","v":0.38757560543585134},0.40264303560058856,0.46492375115166634,0.59282136540277364,0.68560327070776184,0.69759275518520569,0.7189892308716852,0.70695434108177679,0.59146676321786495,0.50852759349249199,0.4643882758671356,0.38326411286253237]
[]
[null,null,null,"Gjennomsnittlig opptakseffektivitet NOFO-system"]
[null,null,null,"Vinter","Vår","Sommer","Høst","År"]
[null,null,null,{"$f":"(O23+D23+E23)/3","v":0.39116091796632407},{"$f":"(F23+G23+H23)/3","v":0.58111612908740062},{"$f":"(I23+J23+K23)/3","v":0.70784544237955593},{"$f":"(L23+M23+N23)/3","v":0.52146087752583081},{"$f":"SUM(D23:O23)/12","v":0.55039584173977774}]
[]
[]
[]
[null,null,"Lokasjon","Stasjon2_Cutoff1_nymetode_etterGMS.xls"]
[]
[null,null,"Månedlige frekvensfordelinger av signifikante bølgehøydeintervaller"]
[null,null,"Hs (m)","Jan","Feb","Mar","Apr","Mai","Jun","Jul","Aug","Sep","Okt","Nov","Des"]
[null,null,"0,0 - 1,0",8.6462180667154429E-3,1.9338464016299239E-2,3.471107724469577E-2,6.9655447957307243E-2,0.17056103703247946,0.18947641775731783,0.24610155232804293,0.22550595718625027,0.10297548148526317,4.234197154917993E-2,2.4226411436790142E-2,6.4381583300648715E-3]
[null,null,"1,0 - 2,0",0.16318971001809471,0.1901651635816089,0.24157232087544922,0.41502032177735404,0.54241815216818778,0.58775740643807273,0.57067126322911632,0.55552070915970186,0.41447507608229711,0.30134997044649076,0.2392117122344358,0.15493657955066559]
[null,null,"2,0 - 3,0",0.26536800343715594,0.27505407074782795,0.29184931040194856,0.29240059421732689,0.20280430206643979,0.15931893219087953,0.14123328233677845,0.15523666188859939,0.25790435450730337,0.28316417859869186,0.29279135656172067,0.28722742586838512]
[null,null,"3,0 - 4,0"]
[null,null,"Ʃ",{"$f":"SUM(D35:D38)","v":0.43720393152196613},{"$f":"SUM(E35:E38)","v":0.48455769834573609},0.56813270852209352,0.7770763639519882,0.91578349126710701,0.93655275638627011,0.95800609789393765,0.93626332823455161,0.77535491207486373,0.62685612059436258,0.5562294802329466,0.44860216374911555]
[]
[null,null,"Vektede effektiviteter (forventet effektivitet)"]
[null,null,"Hs (m)","Jan","Feb","Mar","Apr","Mai","Jun","Jul","Aug","Sep","Okt","Nov","Des"]
[null,null,"0,0 - 1,0",{"$f":"$E$4*D35","v":6.8737433630387777E-3},1.5374078892957896E-2,2.759530640953314E-2,5.5376081126059261E-2,0.13559602444082117,0.15063375211706767,0.19565073410079414,0.17927723596306896,8.1865507780784219E-2,3.3661867381598043E-2,1.9259997092248165E-2,5.1183358724015728E-3]
[null,null,"1,0 - 2,0",{"$f":"$F$4*D36","v":0.11749659121302819},0.13691891777875839,0.17393207103032343,0.29881463167969491,0.39054106956109519,0.42318533263541236,0.41088330952496371,0.3999749105949853,0.29842205477925393,0.21697197872147334,0.17223243280879377,0.11155433727647922]
[null,null,"2,0 - 3,0",{"$f":"$G$4*D37","v":0.16585500214822246},0.17190879421739247,0.18240581900121786,0.18275037138582931,0.12675268879152488,9.957433261929971E-2,8.8270801460486534E-2,9.702291368037462E-2,0.16119022156706461,0.17697761162418241,0.18299459785107541,0.1795171411677407]
[null,null,"3,0 - 4,0",{"$f":"$H$4*D38","v":0},0,0,0,0,0,0,0,0,0,0,0]
[null,null,"Σ",{"$f":"SUM(D43:D46)","v":0.29022533672428941},0.32420179088910872,0.38393319644107443,0.53694108419158348,0.65288978279344123,0.67339341737177971,0.69480484508624429,0.67627506023842887,0.54147778412710279,0.42761145772725379,0.37448702775211734,0.2961898143166215]
[]
[null,null,null,"Gjennomsnittlig opptakseffektivitet NOFO-system"]
[null,null,null,"Vinter","Vår","Sommer","Høst","År"]
[null,null,null,{"$f":"(O47+D47+E47)/3","v":0.3035389806433399},{"$f":"(F47+G47+H47)/3","v":0.52458802114203307},{"$f":"(I47+J47+K47)/3","v":0.68149110756548426},{"$f":"(L47+M47+N47)/3","v":0.44785875653549129},{"$f":"SUM(D47:O47)/12","v":0.4893692164715871}]
[]
[]
[]
[null,null,"Lokasjon","Stasjon3_Cutoff1_nymetode_etterGMS.xls"]
[]
[null,null,"Månedlige frekvensfordelinger av signifikante bølgehøydeintervaller"]
[null,null,"Hs (m)","Jan","Feb","Mar","Apr","Mai","Jun","Jul","Aug","Sep","Okt","Nov","Des"]
[null,null,"0,0 - 1,0",4.2739064370192148E-2,6.3244508250321893E-2,9.7618551674965137E-2,0.19016274547890311,0.34495100892358727,0.36724445533130357,0.4577731705067371,0.43044535777285703,0.24479554620522342,0.14055284160871551,8.4640950978792012E-2,3.5978532996622389E-2]
[null,null,"1,0 - 2,0",0.3275326016080306,0.33157876055289831,0.40097107191107939,0.49359259401939387,0.51379122838927305,0.52409668253757014,0.45920210756788199,0.47011447891544972,0.4560937186229051,0.41756806441879218,0.39445762881128826,0.31908177753874145]
[null,null,"2,0 - 3,0",0.30495805180345736,0.30185837049161718,0.27040036173349291,0.21446271521376395,0.10688495933919347,8.0100880660299661E-2,7.1942724043030315E-2,7.9621211624000862E-2,0.18803266707855815,0.25421092999773304,0.29308607550731391,0.32413292714113656]
[null,null,"3,0 - 4,0"]
[null,null,"Ʃ",{"$f":"SUM(D59:D62)","v":0.67522971778168017},{"$f":"SUM(E59:E62)","v":0.6966816392948374},0.76898998531953744,0.89821805471206084,0.96562719665205388,0.97144201852917333,0.98891800211764935,0.98018104831230757,0.88892193190668667,0.81233183602524073,0.77218465529739422,0.67919323767650042]
[]
[null,null,"Vektede effektiviteter (forventet effektivitet)"]
[null,null,"Hs (m)","Jan","Feb","Mar","Apr","Mai","Jun","Jul","Aug","Sep","Okt","Nov","Des"]
[null,null,"0,0 - 1,0",{"$f":"$E$4*D59","v":3.3977556174302759E-2},5.0279384059005908E-2,7.7606748581597287E-2,0.15117938265572797,0.27423605209425189,0.29195934198838636,0.36392967055285602,0.34220405942942134,0.19461245923315262,0.11173950907892884,6.7289556028139658E-2,2.86029337323148E-2]
[null,null,"1,0 - 2,0",{"$f":"$F$4*D60","v":0.23582347315778202},0.23873670759808677,0.28869917177597715,0.3553866676939636,0.36992968444027657,0.37734961142705048,0.33062551744887503,0.33848242481912377,0.32838747740849167,0.30064900638153036,0.28400949274412751,0.22973887982789384]
[null,null,"2,0 - 3,0",{"$f":"$G$4*D61","v":0.19059878237716085},0.18866148155726073,0.16900022608343307,0.13403919700860248,6.6803099586995915E-2,5.0063050412687285E-2,4.4964202526893947E-2,4.9763257265000541E-2,0.11752041692409884,0.15888183124858316,0.1831787971920712,0.20258307946321036]
[null,null,"3,0 - 4,0",{"$f":"$H$4*D62","v":0},0,0,0,0,0,0,0,0,0,0,0]
[null,null,"Σ",{"$f":"SUM(D67:D70)","v":0.4603998117092456},0.47767757321435345,0.53530614644100749,0.64060524735829405,0.71096883612152439,0.71937200382812416,0.73951939052862503,0.73044974151354569,0.64052035356574311,0.57127034670904231,0.53447784596433834,0.46092489302341899]
[]
[null,null,null,"Gjennomsnittlig opptakseffektivitet NOFO-system"]
[null,null,null,"Vinter","Vår","Sommer","Høst","År"]
[null,null,null,{"$f":"(O71+D71+E71)/3","v":0.46633409264900605},{"$f":"(F71+G71+H71)/3","v":0.62896007664027531},{"$f":"(I71+J71+K71)/3","v":0.72978037862343159},{"$f":"(L71+M71+N71)/3","v":0.58208951541304133},{"$f":"SUM(D71:O71)/12","v":0.60179101583143857}]
[]
[]
[]
[null,null,"Lokasjon","Stasjon4_Cutoff1_nymetode_etterGMS.xls"]
[]
[null,null,"Månedlige frekvensfordelinger av signifikante bølgehøydeintervaller"]
[null,null,"Hs (m)","Jan","Feb","Mar","Apr","Mai","Jun","Jul","Aug","Sep","Okt","Nov","Des"]
[null,null,"0,0 - 1,0",3.7307150382661796E-3,8.2570193881982418E-3,2.094559295509545E-2,5.1180176473306492E-2,0.15255019598096581,0.16847327251771876,0.22841589352475841,0.19438424211820921,7.3016941308528246E-2,2.4331366431312604E-2,1.4339827710350262E-2,2.2648724431368794E-3]
[null,null,"1,0 - 2,0",0.13406696302604748,0.16827438168315212,0.21859840942302844,0.3973185081719397,0.53554765248424363,0.5882446853118114,0.57496090111544751,0.57582533391957347,0.41616911663222883,0.27546998367020203,0.20433077975988637,0.13092312337012421]
[null,null,"2,0 - 3,0",0.26402313806004185,0.27008810597122435,0.3026816946655172,0.31110628563032261,0.22075230538376478,0.17880938382852629,0.15280247488345783,0.1636093680597801,0.27456407017216922,0.29430543771745521,0.29606124733452704,0.28168907550796457]
[null,null,"3,0 - 4,0"]
[null,null,"Ʃ",{"$f":"SUM(D83:D86)","v":0.4018208161243555},{"$f":"SUM(E83:E86)","v":0.44661950704257469},0.5422256970436411,0.75960497027556872,0.90885015384897416,0.93552734165805651,0.95617926952366372,0.93381894409756283,0.76375012811292631,0.59410678781896986,0.51473185480476369,0.41487707132122564]
[]
[null,null,"Vektede effektiviteter (forventet effektivitet)"]
[null,null,"Hs (m)","Jan","Feb","Mar","Apr","Mai","Jun","Jul","Aug","Sep","Okt","Nov","Des"]
[null,null,"0,0 - 1,0",{"$f":"$E$4*D83","v":2.9659184554216129E-3},6.5643304136176021E-3,1.6651746399300883E-2,4.0688240296278662E-2,0.12127740580486783,0.13393625165158643,0.18159063535218295,0.15453547248397634,5.8048468340279956E-2,1.9343436312893522E-2,1.1400163029728459E-2,1.8005735922938192E-3]
[null,null,"1,0 - 2,0",{"$f":"$F$4*D84","v":9.6528213378754182E-2},0.12115755481186952,0.15739085478458048,0.28606932588379658,0.38559430978865539,0.42353617342450417,0.41397184880312221,0.41459424042209286,0.29964176397520476,0.19833838824254546,0.14711816142711817,9.4264648826489425E-2]
[null,null,"2,0 - 3,0",{"$f":"$G$4*D85","v":0.16501446128752617},0.16880506623201522,0.18917605916594826,0.19444142851895163,0.13797019086485299,0.11175586489282893,9.5501546802161136E-2,0.10225585503736256,0.17160254385760576,0.18394089857340951,0.1850382795840794,0.17605567219247786]
[null,null,"3,0 - 4,0",{"$f":"$H$4*D86","v":0},0,0,0,0,0,0,0,0,0,0,0]
[null,null,"Σ",{"$f":"SUM(D91:D94)","v":0.26450859312170194},0.2965269514575023,0.36321866034982964,0.52119899469902686,0.64484190645837614,0.66922828996891959,0.69106403095746627,0.67138556794343174,0.52929277617309045,0.4016227231288485,0.34355660404092603,0.2721208946112611]
[]
[null,null,null,"Gjennomsnittlig opptakseffektivitet NOFO-system"]
[null,null,null,"Vinter","Vår","Sommer","Høst","År"]
[null,null,null,{"$f":"(O95+D95+E95)/3","v":0.27771881306348845},{"$f":"(F95+G95+H95)/3","v":0.50975318716907758},{"$f":"(I95+J95+K95)/3","v":0.67722596295660586},{"$f":"(L95+M95+N95)/3","v":0.42482403444762168},{"$f":"SUM(D95:O95)/12","v":0.4723804994091983}]
[]
[]
[]
[null,null,"Lokasjon","Stasjon5_Cutoff1_nymetode_etterGMS.xls"]
[]
[null,null,"Månedlige frekvensfordelinger av signifikante bølgehøydeintervaller"]
[null,null,"Hs (m)","Jan","Feb","Mar","Apr","Mai","Jun","Jul","Aug","Sep","Okt","Nov","Des"]
[null,null,"0,0 - 1,0",2.6270071953189835E-2,4.4494321071968462E-2,7.2414282638963198E-2,0.16519266381784714,0.32821402236986952,0.3392050297105676,0.40162703090946689,0.39604333009473341,0.20739777974935922,0.10190483578749594,6.3487277674774703E-2,3.4106988233581999E-2]
[null,null,"1,0 - 2,0",0.2689990888358737,0.27427566850622881,0.34122621343219028,0.46311807308209929,0.49643655525276731,0.51500213716453713,0.48932452693350814,0.46464367364327919,0.43285436703882446,0.38526375353924136,0.34856965236599208,0.25754803563102124]
[null,null,"2,0 - 3,0",0.2995763579581891,0.2891644724647654,0.2866338051079716,0.23230621042329291,0.12562104123349854,0.10849515197066156,8.953433972942143E-2,0.10434548922908488,0.20866020348710154,0.2678155943572284,0.28714099114265096,0.30711565020855142]
[null,null,"3,0 - 4,0"]
[null,null,"Ʃ",{"$f":"SUM(D107:D110)","v":0.59484551874725256},{"$f":"SUM(E107:E110)","v":0.60793446204296264},0.70027430117912504,0.86061694732323935,0.95027161885613531,0.9627023188457664,0.98048589757239646,0.96503249296709748,0.84891235027528522,0.75498418368396569,0.69919792118341773,0.59877067407315465]
[]
[null,null,"Vektede effektiviteter (forventet effektivitet)"]
[null,null,"Hs (m)","Jan","Feb","Mar","Apr","Mai","Jun","Jul","Aug","Sep","Okt","Nov","Des"]
[null,null,"0,0 - 1,0",{"$f":"$E$4*D107","v":2.0884707202785919E-2},3.5372985252214932E-2,5.7569354697975743E-2,0.13132816773518849,0.26093014778404627,0.26966799861990126,0.31929348957302617,0.3148544474253131,0.16488123490074058,8.1014344451059275E-2,5.0472385751445893E-2,2.7115055645697689E-2]
[null,null,"1,0 - 2,0",{"$f":"$F$4*D108","v":0.19367934396182906},0.19747848132448473,0.245682873671177,0.33344501261911147,0.35743431978199247,0.37080153875846672,0.35231365939212583,0.33454344502316102,0.3116551442679536,0.27738990254825374,0.25097014970351428,0.18543458565433529]
[null,null,"2,0 - 3,0",{"$f":"$G$4*D109","v":0.18723522372386819},0.18072779529047839,0.17914612819248224,0.14519138151455807,7.8513150770936596E-2,6.7809469981663484E-2,5.5958962330888394E-2,6.5215930768178054E-2,0.13041262717943847,0.16738474647326776,0.17946311946415686,0.19194728138034464]
[null,null,"3,0 - 4,0",{"$f":"$H$4*D110","v":0},0,0,0,0,0,0,0,0,0,0,0]
[null,null,"Σ",{"$f":"SUM(D115:D118)","v":0.40179927488848322},0.41357926186717808,0.48239835656163499,0.60996456186885806,0.69687761833697526,0.70827900736003147,0.72756611129604043,0.71461382321665212,0.60694900634813265,0.52578899347258079,0.48090565491911708,0.40449692268037762]
[]
[null,null,null,"Gjennomsnittlig opptakseffektivitet NOFO-system"]
[null,null,null,"Vinter","Vår","Sommer","Høst","År"]
[null,null,null,{"$f":"(O119+D119+E119)/3","v":0.40662515314534636},{"$f":"(F119+G119+H119)/3","v":0.59641351225582273},{"$f":"(I119+J119+K119)/3","v":0.71681964729090808},{"$f":"(L119+M119+N119)/3","v":0.53788121824661017},{"$f":"SUM(D119:O119)/12","v":0.56443488273467179}]
[]
[]
[]
[null,null,"Lokasjon","Stasjon6_Cutoff1_nymetode_etterGMS.xls"]
[]
[null,null,"Månedlige frekvensfordelinger av signifikante bølgehøydeintervaller"]
[null,null,"Hs (m)","Jan","Feb","Mar","Apr","Mai","Jun","Jul","Aug","Sep","Okt","Nov","Des"]
[null,null,"0,0 - 1,0",9.2399884560373333E-2,0.11170089052031934,0.17124205832680844,0.32949338115820526,0.53037777377652517,0.56760645676566501,0.59383499589418876,0.57069350276371389,0.33709207801444929,0.22918804567108916,0.17035433894289584,0.11270085245793433]
[null,null,"1,0 - 2,0",0.35250756584457088,0.34699055036434623,0.38307466313763222,0.43210906525930942,0.36863872709800849,0.34799681473774857,0.3438042557069847,0.3458334673104338,0.40428539595566365,0.39532910984372827,0.38922628252675356,0.33650630231277384]
[null,null,"2,0 - 3,0",0.27296519387114243,0.27245151104564863,0.24530321029903254,0.15937477232943764,7.5763549384462447E-2,6.4148934291539714E-2,5.4930117578254507E-2,6.7428820526989355E-2,0.16587731484649784,0.21775293961610967,0.2515023998709367,0.28291224603466836]
[null,null,"3,0 - 4,0"]
[null,null,"Ʃ",{"$f":"SUM(D131:D134)","v":0.71787264427608666},{"$f":"SUM(E131:E134)","v":0.7311429519303142},0.79961993176347324,0.92097721874695226,0.97478005025899606,0.97975220579495326,0.99256936917942795,0.98395579060113703,0.9072547888166107,0.8422700951309271,0.81108302134058607,0.73211940080537652]
[]
[null,null,"Vektede effektiviteter (forventet effektivitet)"]
[null,null,"Hs (m)","Jan","Feb","Mar","Apr","Mai","Jun","Jul","Aug","Sep","Okt","Nov","Des"]
[null,null,"0,0 - 1,0",{"$f":"$E$4*D131","v":7.3457908225496804E-2},8.8802207963653887E-2,0.13613743636981271,0.26194723802077319,0.42165033015233755,0.45124713312870368,0.47209882173588008,0.45370133469715257,0.26798820202148721,0.1822044963085159,0.13543169945960221,8.9597177704057798E-2]
[null,null,"1,0 - 2,0",{"$f":"$F$4*D132","v":0.25380544740809102},0.24983319626232928,0.2758137574590952,0.31111852698670278,0.26541988351056611,0.25055770661117899,0.24753906410902898,0.24900009646351232,0.2910854850880778,0.28463695908748432,0.28024292341926255,0.24228453766519717]
[null,null,"2,0 - 3,0",{"$f":"$G$4*D133","v":0.17060324616946401},0.1702821944035304,0.15331450643689534,9.9609232705898526E-2,4.735221836528903E-2,4.0093083932212323E-2,3.433132348640907E-2,4.2143012829368345E-2,0.10367332177906115,0.13609558726006854,0.15718899991933544,0.17682015377166771]
[null,null,"3,0 - 4,0",{"$f":"$H$4*D134","v":0},0,0,0,0,0,0,0,0,0,0,0]
[null,null,"Σ",{"$f":"SUM(D139:D142)","v":0.49786660180305187},0.50891759862951358,0.56526570026580325,0.67267499771337447,0.73442243202819268,0.74189792367209495,0.75396920933131817,0.74484444399003324,0.66274700888862614,0.60293704265606873,0.57286362279820024,0.50870186914092264]
[]
[null,null,null,"Gjennomsnittlig opptakseffektivitet NOFO-system"]
[null,null,null,"Vinter","Vår","Sommer","Høst","År"]
[null,null,null,{"$f":"(O143+D143+E143)/3","v":0.50516202319116277},{"$f":"(F143+G143+H143)/3","v":0.65745437666912343},{"$f":"(I143+J143+K143)/3","v":0.74690385899781553},{"$f":"(L143+M143+N143)/3","v":0.61284922478096504},{"$f":"SUM(D143:O143)/12","v":0.63059237090976661}]
[]
[]
[]
[null,null,"Lokasjon","Stasjon7_Cutoff1_nymetode_etterGMS.xls"]
[]
[null,null,"Månedlige frekvensfordelinger av signifikante bølgehøydeintervaller"]
[null,null,"Hs (m)","Jan","Feb","Mar","Apr","Mai","Jun","Jul","Aug","Sep","Okt","Nov","Des"]
[null,null,"0,0 - 1,0",1.0964134547745623E-3,5.4811753856671037E-3,1.5335275635261793E-2,4.8100543370518237E-2,0.14729895343568722,0.158770529058301,0.21808980437953937,0.18895643738249193,6.9256538294970013E-2,1.986195375392965E-2,7.7362861200688596E-3,2.3951220879878058E-3]
[null,null,"1,0 - 2,0",0.12536408362410148,0.15741854450159237,0.21317737368479156,0.39421512186212471,0.54155632719486346,0.59842024110552727,0.59435771608894572,0.58406326926075203,0.41450419420285972,0.26654176691063869,0.19779982620916797,0.13179574637148223]
[null,null,"2,0 - 3,0",0.27679829498666941,0.27503795414352045,0.31178202658294968,0.31984307656434097,0.22204289092826346,0.18126178688288178,0.14600236890814902,0.16732451911573584,0.29042977695467292,0.31261897980368242,0.30426054078838155,0.28109091541511405]
[null,null,"3,0 - 4,0"]
[null,null,"Ʃ",{"$f":"SUM(D155:D158)","v":0.40325879206554549},{"$f":"SUM(E155:E158)","v":0.43793767403077993},0.54029467590300306,0.76215874179698395,0.91089817155881414,0.93845255704671005,0.95844988937663411,0.9403442257589798,0.77419050945250267,0.59902270046825068,0.50979665311761835,0.41528178387458409]
[]
[null,null,"Vektede effektiviteter (forventet effektivitet)"]
[null,null,"Hs (m)","Jan","Feb","Mar","Apr","Mai","Jun","Jul","Aug","Sep","Okt","Nov","Des"]
[null,null,"0,0 - 1,0",{"$f":"$E$4*D155","v":8.7164869654577704E-4},4.3575344316053475E-3,1.2191544130033127E-2,3.8239931979561999E-2,0.11710266798137134,0.12622257060134931,0.17338139448173381,0.15022036771908109,5.5058947944501162E-2,1.5790253234374073E-2,6.1503474654547438E-3,1.9041220599503056E-3]
[null,null,"1,0 - 2,0",{"$f":"$F$4*D156","v":9.0262140209353067E-2},0.11334135204114651,0.15348770905304993,0.28383488774072979,0.3899205555803017,0.43086257359597963,0.4279375555840409,0.42052555386774143,0.29844301982605898,0.19191007217565986,0.14241587487060092,9.4892937387467194E-2]
[null,null,"2,0 - 3,0",{"$f":"$G$4*D157","v":0.17299893436666838},0.17189872133970027,0.19486376661434354,0.1999019228527131,0.13877680683016466,0.11328861680180111,9.1251480567593135E-2,0.10457782444733491,0.18151861059667057,0.19538686237730152,0.19016283799273848,0.17568182213444627]
[null,null,"3,0 - 4,0",{"$f":"$H$4*D158","v":0},0,0,0,0,0,0,0,0,0,0,0]
[null,null,"Σ",{"$f":"SUM(D163:D166)","v":0.2641327232725672},0.28959760781245214,0.36054301979742659,0.52197674257300486,0.64580003039183775,0.67037376099913004,0.69257043063336787,0.67532374603415735,0.53502057836723071,0.40308718778733543,0.33872906032879413,0.27247888158186379]
[]
[null,null,null,"Gjennomsnittlig opptakseffektivitet NOFO-system"]
[null,null,null,"Vinter","Vår","Sommer","Høst","År"]
[null,null,null,{"$f":"(O167+D167+E167)/3","v":0.27540307088896104},{"$f":"(F167+G167+H167)/3","v":0.50943993092075646},{"$f":"(I167+J167+K167)/3","v":0.67942264588888512},{"$f":"(L167+M167+N167)/3","v":0.42561227549445341},{"$f":"SUM(D167:O167)/12","v":0.47246948079826406}]
[]
[]
[]
[null,null,"Lokasjon","Stasjon8_Cutoff1_nymetode_etterGMS.xls"]
[]
[null,null,"Månedlige frekvensfordelinger av signifikante bølgehøydeintervaller"]
[null,null,"Hs (m)","Jan","Feb","Mar","Apr","Mai","Jun","Jul","Aug","Sep","Okt","Nov","Des"]
[null,null,"0,0 - 1,0",4.6019583118259606E-2,6.1737277156769105E-2,0.10313340279966238,0.22496744552983092,0.42706089260701818,0.45721211528080968,0.50495388541331288,0.48548949023340721,0.25309501205161983,0.14033479662975024,8.9051558021949653E-2,5.8484285818937033E-2]
[null,null,"1,0 - 2,0",0.28258861275597824,0.27864004500571377,0.34054663704969718,0.45118314185148573,0.421951248573947,0.41743370590243117,0.39993360563947039,0.39199063619571184,0.41351991107067887,0.37586705648688906,0.35464951679762879,0.27523220798768022]
[null,null,"2,0 - 3,0",0.27200941422070207,0.28799750462842799,0.26625464981711033,0.19503235032235725,0.10744082123108351,9.3729045423791582E-2,7.8321025352450543E-2,9.1091599481996188E-2,0.19650349757249963,0.2484593162822426,0.2657176798270855,0.27792063649684329]
[null,null,"3,0 - 4,0"]
[null,null,"Ʃ",{"$f":"SUM(D179:D182)","v":0.60061761009493986},{"$f":"SUM(E179:E182)","v":0.62837482679091083},0.70993468966646989,0.87118293770367383,0.9564529624120488,0.96837486660703243,0.98320851640523388,0.96857172591111518,0.86311842069479827,0.76466116939888185,0.70941875464666393,0.61163713030346056]
[]
[null,null,"Vektede effektiviteter (forventet effektivitet)"]
[null,null,"Hs (m)","Jan","Feb","Mar","Apr","Mai","Jun","Jul","Aug","Sep","Okt","Nov","Des"]
[null,null,"0,0 - 1,0",{"$f":"$E$4*D179","v":3.6585568579016389E-2},4.9081135339631439E-2,8.1991055225731593E-2,0.1788491191962156,0.33951340962257948,0.36348363164824371,0.40143833890358377,0.38596414473555873,0.20121053458103777,0.11156616332065145,7.0795988627449971E-2,4.6495007226054944E-2]
[null,null,"1,0 - 2,0",{"$f":"$F$4*D180","v":0.20346380118430432},0.20062083240411391,0.24519357867578195,0.32485186213306971,0.30380489897324181,0.30055226824975045,0.28795219606041866,0.28223325806091254,0.29773433597088877,0.2706242806705601,0.25534765209429272,0.19816718975112976]
[null,null,"2,0 - 3,0",{"$f":"$G$4*D181","v":0.1700058838879388},0.17999844039276749,0.16640915613569396,0.12189521895147327,6.7150513269427198E-2,5.8580653389869737E-2,4.8950640845281591E-2,5.6932249676247618E-2,0.12281468598281227,0.15528707267640163,0.16607354989192843,0.17370039781052704]
[null,null,"3,0 - 4,0",{"$f":"$H$4*D182","v":0},0,0,0,0,0,0,0,0,0,0,0]
[null,null,"Σ",{"$f":"SUM(D187:D190)","v":0.4100552536512595},0.42970040813651283,0.49359379003720749,0.62559620028075857,0.71046882186524851,0.72261655328786389,0.73834117580928393,0.72512965247271888,0.6217595565347388,0.53747751666761312,0.49221719061367109,0.41836259478771176]
[]
[null,null,null,"Gjennomsnittlig opptakseffektivitet NOFO-system"]
[null,null,null,"Vinter","Vår","Sommer","Høst","År"]
[null,null,null,{"$f":"(O191+D191+E191)/3","v":0.41937275219182801},{"$f":"(F191+G191+H191)/3","v":0.60988627072773827},{"$f":"(I191+J191+K191)/3","v":0.72869579385662231},{"$f":"(L191+M191+N191)/3","v":0.55048475460534096},{"$f":"SUM(D191:O191)/12","v":0.57710989284538228}]
[]
[]
[]
[null,null,"Lokasjon","Stasjon9_Cutoff1_nymetode_etterGMS.xls"]
[]
[null,null,"Månedlige frekvensfordelinger av signifikante bølgehøydeintervaller"]
[null,null,"Hs (m)","Jan","Feb","Mar","Apr","Mai","Jun","Jul","Aug","Sep","Okt","Nov","Des"]
[null,null,"0,0 - 1,0",8.6518400095819153E-2,9.7658795482594499E-2,0.15318906218623385,0.31227539854840691,0.52189863889450794,0.57118168902614408,0.61253292627046663,0.56666807251357199,0.32741780088343586,0.20017903115686325,0.15210997185906178,0.10688400734988218]
[null,null,"1,0 - 2,0",0.30387949480175291,0.32314906311451325,0.36358637822619322,0.42746329731847849,0.36072058984091604,0.33175828965794507,0.31439742451663533,0.33407242297522899,0.4057271724293865,0.37781280957798463,0.36615788327270804,0.31725874599515558]
[null,null,"2,0 - 3,0",0.27720678987020897,0.26948041819128732,0.25071453373310476,0.16810841331496121,8.7247071123691539E-2,7.0844620297201261E-2,5.8617686899759186E-2,7.6764065813282378E-2,0.1670010128428541,0.23023877727998193,0.24521224586947588,0.26434963933850947]
[null,null,"3,0 - 4,0"]
[null,null,"Ʃ",{"$f":"SUM(D203:D206)","v":0.66760468476778101},{"$f":"SUM(E203:E206)","v":0.69028827678839511},0.76748997414553188,0.90784710918184663,0.96986629985911554,0.97378459898129044,0.98554803768686117,0.97750456130208341,0.90014598615567643,0.80823061801482976,0.76348010100124575,0.68849239268354723]
[]
[null,null,"Vektede effektiviteter (forventet effektivitet)"]
[null,null,"Hs (m)","Jan","Feb","Mar","Apr","Mai","Jun","Jul","Aug","Sep","Okt","Nov","Des"]
[null,null,"0,0 - 1,0",{"$f":"$E$4*D203","v":6.878212807617623E-2},7.7638742408662628E-2,0.12178530443805592,0.24825894184598352,0.41490941792113384,0.45408944277578456,0.48696367638502097,0.45050111764828976,0.26029715170233153,0.1591423297697063,0.12092742762795412,8.4972785843156345E-2]
[null,null,"1,0 - 2,0",{"$f":"$F$4*D204","v":0.2187932362572621},0.23266732544244953,0.2617821923228591,0.3077735740693045,0.25971882468545954,0.23886596855372044,0.22636614565197744,0.24053214454216487,0.29212356414915824,0.27202522289614894,0.26363367595634979,0.22842629711651199]
[null,null,"2,0 - 3,0",{"$f":"$G$4*D205","v":0.17325424366888059},0.16842526136955457,0.15669658358319047,0.10506775832185075,5.4529419452307215E-2,4.4277887685750791E-2,3.6636054312349495E-2,4.7977541133301486E-2,0.10437563302678381,0.1438992357999887,0.15325765366842242,0.16521852458656841]
[null,null,"3,0 - 4,0",{"$f":"$H$4*D206","v":0},0,0,0,0,0,0,0,0,0,0,0]
[null,null,"Σ",{"$f":"SUM(D211:D214)","v":0.46082960800231892},0.47873132922066675,0.54026408034410545,0.6611002742371388,0.72915766205890065,0.73723329901525581,0.74996587634934786,0.73901080332375613,0.65679634887827354,0.57506678846584403,0.53781875725272632,0.47861760754623672]
[]
[null,null,null,"Gjennomsnittlig opptakseffektivitet NOFO-system"]
[null,null,null,"Vinter","Vår","Sommer","Høst","År"]
[null,null,null,{"$f":"(O215+D215+E215)/3","v":0.47272618158974078},{"$f":"(F215+G215+H215)/3","v":0.6435073388800483},{"$f":"(I215+J215+K215)/3","v":0.74206999289611986},{"$f":"(L215+M215+N215)/3","v":0.58989396486561463},{"$f":"SUM(D215:O215)/12","v":0.61204936955788103}]
[]
[]
[]
[null,null,"Lokasjon","Stasjon10_Cutoff1_nymetode_etterGMS.xls"]
[]
[null,null,"Månedlige frekvensfordelinger av signifikante bølgehøydeintervaller"]
[null,null,"Hs (m)","Jan","Feb","Mar","Apr","Mai","Jun","Jul","Aug","Sep","Okt","Nov","Des"]
[null,null,"0,0 - 1,0",0.20277335666946686,0.21299144731138439,0.29581945009398364,0.4999557279537874,0.6897156269073107,0.72334680548088903,0.73818362003078386,0.70312765833077984,0.49484969511486965,0.37343835710282586,0.30513434752088625,0.23514339322536743]
[null,null,"1,0 - 2,0",0.3439539226010988,0.36157438921365342,0.3626565671175877,0.33466443557913689,0.23598844977295227,0.20647010210096445,0.21160112136944095,0.22923041159910229,0.32283389374010085,0.32710838002978126,0.36203624914355886,0.34628740535199976]
[null,null,"2,0 - 3,0",0.2399719070776466,0.21112327799013203,0.2000805992117527,0.1078733916568457,5.3886026077419304E-2,5.2879333110457748E-2,4.1009498820178424E-2,5.2502945204932372E-2,0.11777971059548804,0.16951253943239408,0.18741371386279446,0.21735666938732445]
[null,null,"3,0 - 4,0"]
[null,null,"Ʃ",{"$f":"SUM(D227:D230)","v":0.78669918634821223},{"$f":"SUM(E227:E230)","v":0.78568911451516987},0.85855661642332404,0.94249355518976996,0.97959010275768232,0.98269624069231121,0.9907942402204033,0.9848610151348145,0.93546329945045859,0.87005927656500115,0.8545843105272396,0.79878746796469169]
[]
[null,null,"Vektede effektiviteter (forventet effektivitet)"]
[null,null,"Hs (m)","Jan","Feb","Mar","Apr","Mai","Jun","Jul","Aug","Sep","Okt","Nov","Des"]
[null,null,"0,0 - 1,0",{"$f":"$E$4*D227","v":0.16120481855222615},0.16932820061255061,0.23517646282471699,0.39746480372326098,0.54832392339131208,0.57506071035730677,0.58685597792447319,0.55898648837297005,0.39340550761632137,0.29688349389674656,0.24258180627910458,0.1869389976141671]
[null,null,"1,0 - 2,0",{"$f":"$F$4*D228","v":0.24764682427279114},0.26033356023383047,0.26111272832466315,0.24095839361697854,0.16991168383652563,0.1486584735126944,0.15235280738599749,0.16504589635135364,0.23244040349287259,0.2355180336214425,0.26066609938336238,0.24932693185343982]
[null,null,"2,0 - 3,0",{"$f":"$G$4*D229","v":0.14998244192352911},0.13195204874383251,0.12505037450734544,6.7420869785528567E-2,3.3678766298387064E-2,3.3049583194036093E-2,2.5630936762611516E-2,3.2814340753082732E-2,7.3612319122180025E-2,0.1059453371452463,0.11713357116424654,0.13584791836707777]
[null,null,"3,0 - 4,0",{"$f":"$H$4*D230","v":0},0,0,0,0,0,0,0,0,0,0,0]
[null,null,"Σ",{"$f":"SUM(D235:D238)","v":0.55883408474854646},0.56161380959021356,0.62133956565672555,0.70584406712576808,0.75191437352622481,0.75676876706403728,0.76483972207308226,0.7568467254774065,0.69945823023137399,0.63834686466343538,0.62038147682671352,0.57211384783468466]
[]
[null,null,null,"Gjennomsnittlig opptakseffektivitet NOFO-system"]
[null,null,null,"Vinter","Vår","Sommer","Høst","År"]
[null,null,null,{"$f":"(O239+D239+E239)/3","v":0.56418724739114812},{"$f":"(F239+G239+H239)/3","v":0.69303266876957281},{"$f":"(I239+J239+K239)/3","v":0.75948507153817546},{"$f":"(L239+M239+N239)/3","v":0.65272885724050755},{"$f":"SUM(D239:O239)/12","v":0.66735846123485099}]
[]
[]
[]
[null,null,"Lokasjon","Stasjon11_Cutoff1_nymetode_etterGMS.xls"]
[]
[null,null,"Månedlige frekvensfordelinger av signifikante bølgehøydeintervaller"]
[null,null,"Hs (m)","Jan","Feb","Mar","Apr","Mai","Jun","Jul","Aug","Sep","Okt","Nov","Des"]
[null,null,"0,0 - 1,0",1.0006244340939444E-2,2.0661950098036039E-2,3.2230871656647835E-2,9.6544210269360942E-2,0.23850258612128172,0.23893437951555338,0.30857621953610725,0.29751821982893684,0.1284902540029286,4.9404620875669436E-2,2.9887437587895704E-2,2.2695910321326545E-2]
[null,null,"1,0 - 2,0",0.21289810671220702,0.22463298853382266,0.30435905849412537,0.46537279848592938,0.52619238787681799,0.55885388244418399,0.55915614290028626,0.52363120169657962,0.45722833683509828,0.3540474905266221,0.31217537118085192,0.21503649622486221]
[null,null,"2,0 - 3,0",0.29282254856639617,0.29710189683720589,0.30744325240161691,0.26484636017236385,0.17156776006202701,0.15922906796956768,0.10986615656954693,0.14109047981857883,0.25933695692079745,0.2996222406240181,0.29533666288082894,0.30991483624015137]
[null,null,"3,0 - 4,0"]
[null,null,"Ʃ",{"$f":"SUM(D251:D254)","v":0.51572689961954266},{"$f":"SUM(E251:E254)","v":0.54239683546906459},0.64403318255239017,0.82676336892765412,0.93626273406012672,0.95701732992930511,0.97759851900594041,0.96223990134409521,0.84505554775882441,0.70307435202630963,0.63739947164957655,0.54764724278634014]
[]
[null,null,"Vektede effektiviteter (forventet effektivitet)"]
[null,null,"Hs (m)","Jan","Feb","Mar","Apr","Mai","Jun","Jul","Aug","Sep","Okt","Nov","Des"]
[null,null,"0,0 - 1,0",{"$f":"$E$4*D251","v":7.9549642510468588E-3},1.6426250327938652E-2,2.5623542967035031E-2,7.6752647164141957E-2,0.18960955596641899,0.18995283171486493,0.24531809453120529,0.2365269847640048,0.10214975193232824,3.9276673596157205E-2,2.3760512882377086E-2,1.8043248705454606E-2]
[null,null,"1,0 - 2,0",{"$f":"$F$4*D252","v":0.15328663683278904},0.16173575174435231,0.21913852211577026,0.33506841490986916,0.37885851927130892,0.40237479535981246,0.40259242288820607,0.37701446522153731,0.32920440252127076,0.25491419317916791,0.22476626725021337,0.15482627728190079]
[null,null,"2,0 - 3,0",{"$f":"$G$4*D253","v":0.18301409285399761},0.18568868552325368,0.19215203275101056,0.16552897510772741,0.10722985003876688,9.9518167480979802E-2,6.8666347855966828E-2,8.8181549886611768E-2,0.16208559807549841,0.18726390039001131,0.18458541430051809,0.19369677265009461]
[null,null,"3,0 - 4,0",{"$f":"$H$4*D254","v":0},0,0,0,0,0,0,0,0,0,0,0]
[null,null,"Σ",{"$f":"SUM(D259:D262)","v":0.34425569393783351},0.36385068759554462,0.43691409783381585,0.57735003718173861,0.67569792527649475,0.69184579455565709,0.71657686527537812,0.70172299987215381,0.59343975252909742,0.48145476716533642,0.43311219443310855,0.36656629863744999]
[]
[null,null,null,"Gjennomsnittlig opptakseffektivitet NOFO-system"]
[null,null,null,"Vinter","Vår","Sommer","Høst","År"]
[null,null,null,{"$f":"(O263+D263+E263)/3","v":0.35822422672360937},{"$f":"(F263+G263+H263)/3","v":0.56332068676401648},{"$f":"(I263+J263+K263)/3","v":0.70338188656772971},{"$f":"(L263+M263+N263)/3","v":0.5026689047091808},{"$f":"SUM(D263:O263)/12","v":0.5318989261911341}]

{"sheet":"Op.Eff.STOTTE.KYST","index":19,"n_rows":138,"n_cols":15,"rows_kept":138,"cut":false,"hidden":true,"merged":[[4,2,4,6],[32,2,32,6],[60,2,60,6],[88,2,88,6],[116,2,116,6]]}
[]
[]
[null,null,"Lokasjon","Stasjon 1"]
[]
[null,null,"Bølgehøydefordeling",null,null,null,null,null,null,null,null,"Vektede effektiviteter (forventet effektivitet kystsystem)"]
[null,null,"Intervall","Vinter (DJF)","Vår (MAM)","Sommer (JJA)","Høst (SON)",null,"Opptakseffektivitet (Kyst.)",null,null,"Vinter (DJF)","Vår (MAM)","Sommer (JJA)","Høst (SON)"]
[null,null,"0,0 - 0,5 m",0,2.6881720430107529E-3,4.1532690246516612E-3,3.9168017287952456E-3,null,"0,0 - 0,5 m",0.9,null,{"$f":"D7*J7","v":0},{"$f":"E7*J7","v":2.4193548387096775E-3},{"$f":"F7*J7","v":3.737942122186495E-3},{"$f":"G7*J7","v":3.525121555915721E-3}]
[null,null,"0,5 - 1,0 m",1.1302918207973696E-3,5.5319750990379175E-2,0.12098070739549839,3.8222582387898434E-2,null,"0,5 - 1,0 m",0.875,null,{"$f":"D8*J8","v":9.8900534319769839E-4},{"$f":"E8*J8","v":4.8404782116581779E-2},{"$f":"F8*J8","v":0.10585811897106109},{"$f":"G8*J8","v":3.3444759589411129E-2}]
[null,null,"1,0 - 1,5 m",3.1134401972872996E-2,0.17260894170911148,0.34941050375133975,0.11034575904916262,null,"1,0 - 1,5 m",0.82499999999999996,null,2.568588162762022E-2,0.14240237691001698,0.28826366559485528,9.1035251215559151E-2]
[null,null,"1,5 - 2,0 m",7.5421290587751752E-2,0.16709111488398415,0.28135048231511256,0.14505672609400325,null,"1,5 - 2,0 m",null,null,0,0,0,0]
[null,null,"2,0 - 2,5 m",0.12864775996711877,0.14799094510469724,0.13451232583065381,0.13438681793625068,null,"2,0 - 2,5 m",null,null,0,0,0,0]
[null,null,"2,5 - 3,0 m",0.11498150431565968,0.11177136389360498,5.8815648445873524E-2,0.12088060507833603]
[null,null,"3,0 - 3,5 m",0.13522400328812165,8.2059988681380869E-2,2.9340836012861738E-2,0.11898973527822798]
[null,null,"3,5 - 4,0 m",0.12227702424989724,7.3853989813242787E-2,1.2057877813504822E-2,9.8190167477039444E-2,null,null,null,"Ʃ",{"$f":"SUM(L7:L11)","v":2.6674886970817917E-2},{"$f":"SUM(M7:M11)","v":0.19322651386530842},{"$f":"SUM(N7:N11)","v":0.39785972668810288},{"$f":"SUM(O7:O11)","v":0.12800513236088601}]
[null,null,"4,0 - 4,5 m",0.10542540073982737,5.1782682512733449E-2,3.4833869239013935E-3,6.4559697460831983E-2,null,null,null,"B4",{"$f":"L7+L8","v":9.8900534319769839E-4},{"$f":"M7+M8","v":5.0824136955291456E-2},0.10959606109324758,3.6969881145326851E-2]
[null,null,"4,5 - 5,0 m",8.3949856144677357E-2,3.8058856819468023E-2,1.7416934619506968E-3,5.9292274446245276E-2]
[null,null,"5,0 - 5,5 m",5.3945745992601726E-2,3.0135823429541596E-2,5.3590568060021436E-4,4.2814694759589413E-2]
[null,null,"5,5 - 6,0 m",4.3053842992190713E-2,2.4335031126202604E-2,8.0385852090032153E-4,2.1474878444084279E-2]
[null,null,"6,0 - 6,5 m",3.2778462803123715E-2,1.3440860215053764E-2,9.3783494105037512E-4,1.3101026472177202E-2]
[null,null,"6,5 - 7,0 m",2.281134401972873E-2,7.9230333899264292E-3,1.0718113612004287E-3,4.8622366288492711E-3]
[null,null,"7,0 - 7,5 m",1.5721331689272502E-2,6.2252405206564797E-3,0,6.7531064289573202E-3]
[null,null,"7,5 - 8,0 m",1.0172626387176326E-2,4.6689303904923598E-3,8.0385852090032153E-4,6.3479200432198808E-3]
[null,null,"8,0 - 8,5 m",8.1175503493629269E-3,4.2444821731748728E-3,0,3.9168017287952456E-3]
[null,null,"8,5 - 9,0 m",3.8018906699547883E-3,3.3955857385398981E-3,0,3.3765532144786601E-3]
[null,null,"9,0 - 9,5 m",3.0826140567200987E-3,1.2733446519524619E-3,0,6.7531064289573202E-4]
[null,null,"9,5 - 10,0 m",2.6715988491574187E-3,1.414827391058291E-4,0,1.3506212857914641E-4]
[]
[]
[]
[]
[null,null,"Lokasjon","Stasjon 2"]
[]
[null,null,"Bølgehøydefordeling",null,null,null,null,null,null,null,null,"Vektede effektiviteter (forventet effektivitet kystsystem)"]
[null,null,"Intervall","Vinter (DJF)","Vår (MAM)","Sommer (JJA)","Høst (SON)",null,"Opptakseffektivitet (Kyst.)",null,null,"Vinter (DJF)","Vår (MAM)","Sommer (JJA)","Høst (SON)"]
[null,null,"0,0 - 0,5 m",0.41594739005343195,0.58870967741935487,0.812433011789925,0.56928687196110206,null,"0,0 - 0,5 m",0.9,null,{"$f":"D35*J35","v":0.37435265104808879},{"$f":"E35*J35","v":0.52983870967741942},{"$f":"F35*J35","v":0.73118971061093252},{"$f":"G35*J35","v":0.51235818476499184}]
[null,null,"0,5 - 1,0 m",0.33364159473900534,0.23443689869835879,0.16827438370846731,0.23649378714208535,null,"0,5 - 1,0 m",0.875,null,{"$f":"D36*J36","v":0.29193639539662969},{"$f":"E36*J36","v":0.20513228636106395},{"$f":"F36*J36","v":0.14724008574490891},{"$f":"G36*J36","v":0.20693206374932469}]
[null,null,"1,0 - 1,5 m",0.15639128647759967,0.1177136389360498,1.6613076098606645E-2,0.13573743922204215,null,"1,0 - 1,5 m",0.82499999999999996,null,0.12902281134401972,9.7113752122241076E-2,1.3705787781350481E-2,0.11198338735818476]
[null,null,"1,5 - 2,0 m",6.7303740238388823E-2,4.4284097340124506E-2,1.3397642015005359E-3,4.4840626688276604E-2,null,"1,5 - 2,0 m",null,null,0,0,0,0]
[null,null,"2,0 - 2,5 m",2.209206740649404E-2,1.2450481041312959E-2,2.6795284030010718E-4,1.1210156672069151E-2,null,"2,0 - 2,5 m",null,null,0,0,0,0]
[null,null,"2,5 - 3,0 m",4.0073982737361281E-3,1.697792869269949E-3,1.0718113612004287E-3,2.0259319286871961E-3]
[null,null,"3,0 - 3,5 m",6.1652281134401974E-4,7.074136955291454E-4,0,4.051863857374392E-4]
[null,null,"3,5 - 4,0 m",0,0,0,0,null,null,null,"Ʃ",{"$f":"SUM(L35:L39)","v":0.79531185778873814},{"$f":"SUM(M35:M39)","v":0.83208474816072442},{"$f":"SUM(N35:N39)","v":0.89213558413719185},{"$f":"SUM(O35:O39)","v":0.83127363587250136}]
[null,null,"4,0 - 4,5 m",0,0,0,0,null,null,null,"B4",{"$f":"L35+L36","v":0.66628904644471842},{"$f":"M35+M36","v":0.73497099603848337},0.8784297963558414,0.71929024851431655]
[null,null,"4,5 - 5,0 m",0,0,0,0]
[null,null,"5,0 - 5,5 m",0,0,0,0]
[null,null,"5,5 - 6,0 m",0,0,0,0]
[null,null,"6,0 - 6,5 m",0,0,0,0]
[null,null,"6,5 - 7,0 m",0,0,0,0]
[null,null,"7,0 - 7,5 m",0,0,0,0]
[null,null,"7,5 - 8,0 m",0,0,0,0]
[null,null,"8,0 - 8,5 m",0,0,0,0]
[null,null,"8,5 - 9,0 m",0,0,0,0]
[null,null,"9,0 - 9,5 m",0,0,0,0]
[null,null,"9,5 - 10,0 m",0,0,0,0]
[]
[]
[]
[]
[null,null,"Lokasjon","Stasjon 3"]
[]
[null,null,"Bølgehøydefordeling",null,null,null,null,null,null,null,null,"Vektede effektiviteter (forventet effektivitet kystsystem)"]
[null,null,"Intervall","Vinter (DJF)","Vår (MAM)","Sommer (JJA)","Høst (SON)",null,"Opptakseffektivitet (Kyst.)",null,null,"Vinter (DJF)","Vår (MAM)","Sommer (JJA)","Høst (SON)"]
[null,null,"0,0 - 0,5 m",0.73931360460337037,0.78041878890775329,0.92952840300107176,0.79781199351701781,null,"0,0 - 0,5 m",0.9,null,{"$f":"D63*J63","v":0.66538224414303337},{"$f":"E63*J63","v":0.702376910016978},{"$f":"F63*J63","v":0.83657556270096456},{"$f":"G63*J63","v":0.71803079416531601}]
[null,null,"0,5 - 1,0 m",0.17447595561035759,0.13638936049801925,6.5782422293676313E-2,0.14357104267963264,null,"0,5 - 1,0 m",0.875,null,{"$f":"D64*J64","v":0.15266646115906288},{"$f":"E64*J64","v":0.11934069043576684},{"$f":"F64*J64","v":5.7559619506966773E-2},{"$f":"G64*J64","v":0.12562466234467856}]
[null,null,"1,0 - 1,5 m",5.8055898068228522E-2,7.1307300509337868E-2,3.3494105037513398E-3,5.0108049702863318E-2,null,"1,0 - 1,5 m",0.82499999999999996,null,4.7896115906288526E-2,5.8828522920203741E-2,2.763263665594855E-3,4.1339141004862238E-2]
[null,null,"1,5 - 2,0 m",2.2605836415947388E-2,1.0186757215619695E-2,5.3590568060021436E-4,7.4284170718530527E-3,null,"1,5 - 2,0 m",null,null,0,0,0,0]
[null,null,"2,0 - 2,5 m",5.0349362926428278E-3,1.697792869269949E-3,2.6795284030010718E-4,1.0804970286331713E-3,null,"2,0 - 2,5 m",null,null,0,0,0,0]
[null,null,"2,5 - 3,0 m",5.1376900945334974E-4,0,5.3590568060021436E-4,0]
[null,null,"3,0 - 3,5 m",0,0,0,0]
[null,null,"3,5 - 4,0 m",0,0,0,0,null,null,null,"Ʃ",{"$f":"SUM(L63:L67)","v":0.86594482120838479},{"$f":"SUM(M63:M67)","v":0.88054612337294857},{"$f":"SUM(N63:N67)","v":0.89689844587352618},{"$f":"SUM(O63:O67)","v":0.88499459751485676}]
[null,null,"4,0 - 4,5 m",0,0,0,0,null,null,null,"B4",{"$f":"L63+L64","v":0.81804870530209628},{"$f":"M63+M64","v":0.82171760045274489},0.89413518220793131,0.84365545650999452]
[null,null,"4,5 - 5,0 m",0,0,0,0]
[null,null,"5,0 - 5,5 m",0,0,0,0]
[null,null,"5,5 - 6,0 m",0,0,0,0]
[null,null,"6,0 - 6,5 m",0,0,0,0]
[null,null,"6,5 - 7,0 m",0,0,0,0]
[null,null,"7,0 - 7,5 m",0,0,0,0]
[null,null,"7,5 - 8,0 m",0,0,0,0]
[null,null,"8,0 - 8,5 m",0,0,0,0]
[null,null,"8,5 - 9,0 m",0,0,0,0]
[null,null,"9,0 - 9,5 m",0,0,0,0]
[null,null,"9,5 - 10,0 m",0,0,0,0]
[]
[]
[]
[]
[null,null,"Lokasjon","Stasjon 4"]
[]
[null,null,"Bølgehøydefordeling",null,null,null,null,null,null,null,null,"Vektede effektiviteter (forventet effektivitet kystsystem)"]
[null,null,"Intervall","Vinter (DJF)","Vår (MAM)","Sommer (JJA)","Høst (SON)",null,"Opptakseffektivitet (Kyst.)",null,null,"Vinter (DJF)","Vår (MAM)","Sommer (JJA)","Høst (SON)"]
[null,null,"0,0 - 0,5 m",1.5310316481709824E-2,0.15662139219015281,0.20069667738478028,0.11925985953538627,null,"0,0 - 0,5 m",0.9,null,{"$f":"D91*J91","v":1.3779284833538841E-2},{"$f":"E91*J91","v":0.14095925297113754},{"$f":"F91*J91","v":0.18062700964630227},{"$f":"G91*J91","v":0.10733387358184765}]
[null,null,"0,5 - 1,0 m",0.2424989724619811,0.40152801358234297,0.50696677384780275,0.33684494867639114,null,"0,5 - 1,0 m",0.875,null,{"$f":"D92*J92","v":0.21218660090423347},{"$f":"E92*J92","v":0.35133701188455008},{"$f":"F92*J92","v":0.44359592711682738},{"$f":"G92*J92","v":0.29473933009184228}]
[null,null,"1,0 - 1,5 m",0.3061035758323058,0.22241086587436332,0.22454448017148981,0.22501350621285793,null,"1,0 - 1,5 m",0.82499999999999996,null,0.25253545006165229,0.18348896434634973,0.18524919614147908,0.18563614262560779]
[null,null,"1,5 - 2,0 m",0.21054254007398274,0.11318619128466327,5.1714898177920687E-2,0.1350621285791464,null,"1,5 - 2,0 m",null,null,0,0,0,0]
[null,null,"2,0 - 2,5 m",0.11097410604192355,4.2586304470854555E-2,8.3065380493033223E-3,8.9951377633711513E-2,null,"2,0 - 2,5 m",null,null,0,0,0,0]
[null,null,"2,5 - 3,0 m",5.8055898068228522E-2,2.5042444821731749E-2,3.6173633440514468E-3,3.9708265802269042E-2]
[null,null,"3,0 - 3,5 m",2.9695848746403616E-2,1.6977928692699491E-2,1.3397642015005359E-3,2.404105888708806E-2]
[null,null,"3,5 - 4,0 m",1.7776407727085903E-2,8.4889643463497456E-3,5.3590568060021436E-4,1.4451647757968665E-2,null,null,null,"Ʃ",{"$f":"SUM(L91:L95)","v":0.47850133579942461},{"$f":"SUM(M91:M95)","v":0.67578522920203732},{"$f":"SUM(N91:N95)","v":0.80947213290460873},{"$f":"SUM(O91:O95)","v":0.58770934629929772}]
[null,null,"4,0 - 4,5 m",5.9597205096588576E-3,4.2444821731748728E-3,5.3590568060021436E-4,5.9427336574824421E-3,null,null,null,"B4",{"$f":"L91+L92","v":0.22596588573777232},{"$f":"M91+M92","v":0.49229626485568762},0.62422293676312968,0.40207320367368993]
[null,null,"4,5 - 5,0 m",2.4660912453760789E-3,4.3859649122807015E-3,9.3783494105037512E-4,5.1323608860075632E-3]
[null,null,"5,0 - 5,5 m",6.1652281134401974E-4,1.9807583474816073E-3,8.0385852090032153E-4,8.1037277147487841E-4]
[null,null,"5,5 - 6,0 m",0,1.9807583474816073E-3,0,1.2155591572123178E-3]
[null,null,"6,0 - 6,5 m",0,5.6593095642331638E-4,0,2.1609940572663426E-3]
[null,null,"6,5 - 7,0 m",0,0,0,4.051863857374392E-4]
[null,null,"7,0 - 7,5 m",0,0,0,0]
[null,null,"7,5 - 8,0 m",0,0,0,0]
[null,null,"8,0 - 8,5 m",0,0,0,0]
[null,null,"8,5 - 9,0 m",0,0,0,0]
[null,null,"9,0 - 9,5 m",0,0,0,0]
[null,null,"9,5 - 10,0 m",0,0,0,0]
[]
[]
[]
[]
[null,null,"Lokasjon","Stasjon 5"]
[]
[null,null,"Bølgehøydefordeling",null,null,null,null,null,null,null,null,"Vektede effektiviteter (forventet effektivitet kystsystem)"]
[null,null,"Intervall","Vinter (DJF)","Vår (MAM)","Sommer (JJA)","Høst (SON)",null,"Opptakseffektivitet (Kyst.)",null,null,"Vinter (DJF)","Vår (MAM)","Sommer (JJA)","Høst (SON)"]
[null,null,"0,0 - 0,5 m",0.81165228113440202,0.86813808715336727,0.93033226152197213,0.80902215018908696,null,"0,0 - 0,5 m",0.9,null,{"$f":"D119*J119","v":0.73048705302096184},{"$f":"E119*J119","v":0.78132427843803054},{"$f":"F119*J119","v":0.8372990353697749},{"$f":"G119*J119","v":0.72811993517017826}]
[null,null,"0,5 - 1,0 m",0.16430332922318125,0.11785512167515563,6.7926045016077172E-2,0.17328471096704484,null,"0,5 - 1,0 m",0.875,null,{"$f":"D120*J120","v":0.14376541307028359},{"$f":"E120*J120","v":0.10312323146576118},{"$f":"F120*J120","v":5.9435289389067524E-2},{"$f":"G120*J120","v":0.15162412209616424}]
[null,null,"1,0 - 1,5 m",2.3016851623510071E-2,1.2308998302207131E-2,1.7416934619506968E-3,1.5532144786601837E-2,null,"1,0 - 1,5 m",0.82499999999999996,null,1.8988902589395808E-2,1.0154923599320883E-2,1.4368971061093248E-3,1.2814019448946515E-2]
[null,null,"1,5 - 2,0 m",1.0275380189066995E-3,1.697792869269949E-3,0,2.1609940572663426E-3,null,"1,5 - 2,0 m",null,null,0,0,0,0]
[null,null,"2,0 - 2,5 m",0,0,0,0,null,"2,0 - 2,5 m",null,null,0,0,0,0]
[null,null,"2,5 - 3,0 m",0,0,0,0]
[null,null,"3,0 - 3,5 m",0,0,0,0]
[null,null,"3,5 - 4,0 m",0,0,0,0,null,null,null,"Ʃ",{"$f":"SUM(L119:L123)","v":0.89324136868064119},{"$f":"SUM(M119:M123)","v":0.89460243350311264},{"$f":"SUM(N119:N123)","v":0.89817122186495169},{"$f":"SUM(O119:O123)","v":0.89255807671528908}]
[null,null,"4,0 - 4,5 m",0,0,0,0,null,null,null,"B4",{"$f":"L119+L120","v":0.87425246609124541},{"$f":"M119+M120","v":0.88444750990379173},0.8967343247588424,0.87974405726634253]
[null,null,"4,5 - 5,0 m",0,0,0,0]
[null,null,"5,0 - 5,5 m",0,0,0,0]
[null,null,"5,5 - 6,0 m",0,0,0,0]
[null,null,"6,0 - 6,5 m",0,0,0,0]
[null,null,"6,5 - 7,0 m",0,0,0,0]
[null,null,"7,0 - 7,5 m",0,0,0,0]
[null,null,"7,5 - 8,0 m",0,0,0,0]
[null,null,"8,0 - 8,5 m",0,0,0,0]
[null,null,"8,5 - 9,0 m",0,0,0,0]
[null,null,"9,0 - 9,5 m",0,0,0,0]
[null,null,"9,5 - 10,0 m",0,0,0,0]

{"sheet":"Op.Eff.STOTTE.FJORD","index":20,"n_rows":138,"n_cols":15,"rows_kept":138,"cut":false,"hidden":true,"merged":[[4,2,4,6],[32,2,32,6],[60,2,60,6],[88,2,88,6],[116,2,116,6]]}
[]
[]
[null,null,"Lokasjon","Stasjon 1"]
[]
[null,null,"Bølgehøydefordeling",null,null,null,null,null,null,null,null,"Vektede effektiviteter (forventet effektivitet kystsystem)"]
[null,null,"Intervall","Vinter (DJF)","Vår (MAM)","Sommer (JJA)","Høst (SON)",null,"Opptakseffektivitet (Kyst.)",null,null,"Vinter (DJF)","Vår (MAM)","Sommer (JJA)","Høst (SON)"]
[null,null,"0,0 - 0,5 m",0,2.6881720430107529E-3,4.1532690246516612E-3,3.9168017287952456E-3,null,"0,0 - 0,5 m",0.9,null,{"$f":"D7*J7","v":0},{"$f":"E7*J7","v":2.4193548387096775E-3},{"$f":"F7*J7","v":3.737942122186495E-3},{"$f":"G7*J7","v":3.525121555915721E-3}]
[null,null,"0,5 - 1,0 m",1.1302918207973696E-3,5.5319750990379175E-2,0.12098070739549839,3.8222582387898434E-2,null,"0,5 - 1,0 m",0.875,null,{"$f":"D8*J8","v":9.8900534319769839E-4},{"$f":"E8*J8","v":4.8404782116581779E-2},{"$f":"F8*J8","v":0.10585811897106109},{"$f":"G8*J8","v":3.3444759589411129E-2}]
[null,null,"1,0 - 1,5 m",3.1134401972872996E-2,0.17260894170911148,0.34941050375133975,0.11034575904916262,null,"1,0 - 1,5 m"]
[null,null,"1,5 - 2,0 m",7.5421290587751752E-2,0.16709111488398415,0.28135048231511256,0.14505672609400325,null,"1,5 - 2,0 m"]
[null,null,"2,0 - 2,5 m",0.12864775996711877,0.14799094510469724,0.13451232583065381,0.13438681793625068,null,"2,0 - 2,5 m"]
[null,null,"2,5 - 3,0 m",0.11498150431565968,0.11177136389360498,5.8815648445873524E-2,0.12088060507833603]
[null,null,"3,0 - 3,5 m",0.13522400328812165,8.2059988681380869E-2,2.9340836012861738E-2,0.11898973527822798]
[null,null,"3,5 - 4,0 m",0.12227702424989724,7.3853989813242787E-2,1.2057877813504822E-2,9.8190167477039444E-2,null,null,null,"Ʃ",{"$f":"SUM(L7:L11)","v":9.8900534319769839E-4},{"$f":"SUM(M7:M11)","v":5.0824136955291456E-2},{"$f":"SUM(N7:N11)","v":0.10959606109324758},{"$f":"SUM(O7:O11)","v":3.6969881145326851E-2}]
[null,null,"4,0 - 4,5 m",0.10542540073982737,5.1782682512733449E-2,3.4833869239013935E-3,6.4559697460831983E-2]
[null,null,"4,5 - 5,0 m",8.3949856144677357E-2,3.8058856819468023E-2,1.7416934619506968E-3,5.9292274446245276E-2]
[null,null,"5,0 - 5,5 m",5.3945745992601726E-2,3.0135823429541596E-2,5.3590568060021436E-4,4.2814694759589413E-2]
[null,null,"5,5 - 6,0 m",4.3053842992190713E-2,2.4335031126202604E-2,8.0385852090032153E-4,2.1474878444084279E-2]
[null,null,"6,0 - 6,5 m",3.2778462803123715E-2,1.3440860215053764E-2,9.3783494105037512E-4,1.3101026472177202E-2]
[null,null,"6,5 - 7,0 m",2.281134401972873E-2,7.9230333899264292E-3,1.0718113612004287E-3,4.8622366288492711E-3]
[null,null,"7,0 - 7,5 m",1.5721331689272502E-2,6.2252405206564797E-3,0,6.7531064289573202E-3]
[null,null,"7,5 - 8,0 m",1.0172626387176326E-2,4.6689303904923598E-3,8.0385852090032153E-4,6.3479200432198808E-3]
[null,null,"8,0 - 8,5 m",8.1175503493629269E-3,4.2444821731748728E-3,0,3.9168017287952456E-3]
[null,null,"8,5 - 9,0 m",3.8018906699547883E-3,3.3955857385398981E-3,0,3.3765532144786601E-3]
[null,null,"9,0 - 9,5 m",3.0826140567200987E-3,1.2733446519524619E-3,0,6.7531064289573202E-4]
[null,null,"9,5 - 10,0 m",2.6715988491574187E-3,1.414827391058291E-4,0,1.3506212857914641E-4]
[]
[]
[]
[]
[null,null,"Lokasjon","Stasjon 2"]
[]
[null,null,"Bølgehøydefordeling",null,null,null,null,null,null,null,null,"Vektede effektiviteter (forventet effektivitet kystsystem)"]
[null,null,"Intervall","Vinter (DJF)","Vår (MAM)","Sommer (JJA)","Høst (SON)",null,"Opptakseffektivitet (Kyst.)",null,null,"Vinter (DJF)","Vår (MAM)","Sommer (JJA)","Høst (SON)"]
[null,null,"0,0 - 0,5 m",0.41594739005343195,0.58870967741935487,0.812433011789925,0.56928687196110206,null,"0,0 - 0,5 m",0.9,null,{"$f":"D35*J35","v":0.37435265104808879},{"$f":"E35*J35","v":0.52983870967741942},{"$f":"F35*J35","v":0.73118971061093252},{"$f":"G35*J35","v":0.51235818476499184}]
[null,null,"0,5 - 1,0 m",0.33364159473900534,0.23443689869835879,0.16827438370846731,0.23649378714208535,null,"0,5 - 1,0 m",0.875,null,{"$f":"D36*J36","v":0.29193639539662969},{"$f":"E36*J36","v":0.20513228636106395},{"$f":"F36*J36","v":0.14724008574490891},{"$f":"G36*J36","v":0.20693206374932469}]
[null,null,"1,0 - 1,5 m",0.15639128647759967,0.1177136389360498,1.6613076098606645E-2,0.13573743922204215,null,"1,0 - 1,5 m"]
[null,null,"1,5 - 2,0 m",6.7303740238388823E-2,4.4284097340124506E-2,1.3397642015005359E-3,4.4840626688276604E-2,null,"1,5 - 2,0 m"]
[null,null,"2,0 - 2,5 m",2.209206740649404E-2,1.2450481041312959E-2,2.6795284030010718E-4,1.1210156672069151E-2,null,"2,0 - 2,5 m"]
[null,null,"2,5 - 3,0 m",4.0073982737361281E-3,1.697792869269949E-3,1.0718113612004287E-3,2.0259319286871961E-3]
[null,null,"3,0 - 3,5 m",6.1652281134401974E-4,7.074136955291454E-4,0,4.051863857374392E-4]
[null,null,"3,5 - 4,0 m",0,0,0,0,null,null,null,"Ʃ",{"$f":"SUM(L35:L39)","v":0.66628904644471842},{"$f":"SUM(M35:M39)","v":0.73497099603848337},{"$f":"SUM(N35:N39)","v":0.8784297963558414},{"$f":"SUM(O35:O39)","v":0.71929024851431655}]
[null,null,"4,0 - 4,5 m",0,0,0,0]
[null,null,"4,5 - 5,0 m",0,0,0,0]
[null,null,"5,0 - 5,5 m",0,0,0,0]
[null,null,"5,5 - 6,0 m",0,0,0,0]
[null,null,"6,0 - 6,5 m",0,0,0,0]
[null,null,"6,5 - 7,0 m",0,0,0,0]
[null,null,"7,0 - 7,5 m",0,0,0,0]
[null,null,"7,5 - 8,0 m",0,0,0,0]
[null,null,"8,0 - 8,5 m",0,0,0,0]
[null,null,"8,5 - 9,0 m",0,0,0,0]
[null,null,"9,0 - 9,5 m",0,0,0,0]
[null,null,"9,5 - 10,0 m",0,0,0,0]
[]
[]
[]
[]
[null,null,"Lokasjon","Stasjon 3"]
[]
[null,null,"Bølgehøydefordeling",null,null,null,null,null,null,null,null,"Vektede effektiviteter (forventet effektivitet kystsystem)"]
[null,null,"Intervall","Vinter (DJF)","Vår (MAM)","Sommer (JJA)","Høst (SON)",null,"Opptakseffektivitet (Kyst.)",null,null,"Vinter (DJF)","Vår (MAM)","Sommer (JJA)","Høst (SON)"]
[null,null,"0,0 - 0,5 m",0.73931360460337037,0.78041878890775329,0.92952840300107176,0.79781199351701781,null,"0,0 - 0,5 m",0.9,null,{"$f":"D63*J63","v":0.66538224414303337},{"$f":"E63*J63","v":0.702376910016978},{"$f":"F63*J63","v":0.83657556270096456},{"$f":"G63*J63","v":0.71803079416531601}]
[null,null,"0,5 - 1,0 m",0.17447595561035759,0.13638936049801925,6.5782422293676313E-2,0.14357104267963264,null,"0,5 - 1,0 m",0.875,null,{"$f":"D64*J64","v":0.15266646115906288},{"$f":"E64*J64","v":0.11934069043576684},{"$f":"F64*J64","v":5.7559619506966773E-2},{"$f":"G64*J64","v":0.12562466234467856}]
[null,null,"1,0 - 1,5 m",5.8055898068228522E-2,7.1307300509337868E-2,3.3494105037513398E-3,5.0108049702863318E-2,null,"1,0 - 1,5 m"]
[null,null,"1,5 - 2,0 m",2.2605836415947388E-2,1.0186757215619695E-2,5.3590568060021436E-4,7.4284170718530527E-3,null,"1,5 - 2,0 m"]
[null,null,"2,0 - 2,5 m",5.0349362926428278E-3,1.697792869269949E-3,2.6795284030010718E-4,1.0804970286331713E-3,null,"2,0 - 2,5 m"]
[null,null,"2,5 - 3,0 m",5.1376900945334974E-4,0,5.3590568060021436E-4,0]
[null,null,"3,0 - 3,5 m",0,0,0,0]
[null,null,"3,5 - 4,0 m",0,0,0,0,null,null,null,"Ʃ",{"$f":"SUM(L63:L67)","v":0.81804870530209628},{"$f":"SUM(M63:M67)","v":0.82171760045274489},{"$f":"SUM(N63:N67)","v":0.89413518220793131},{"$f":"SUM(O63:O67)","v":0.84365545650999452}]
[null,null,"4,0 - 4,5 m",0,0,0,0]
[null,null,"4,5 - 5,0 m",0,0,0,0]
[null,null,"5,0 - 5,5 m",0,0,0,0]
[null,null,"5,5 - 6,0 m",0,0,0,0]
[null,null,"6,0 - 6,5 m",0,0,0,0]
[null,null,"6,5 - 7,0 m",0,0,0,0]
[null,null,"7,0 - 7,5 m",0,0,0,0]
[null,null,"7,5 - 8,0 m",0,0,0,0]
[null,null,"8,0 - 8,5 m",0,0,0,0]
[null,null,"8,5 - 9,0 m",0,0,0,0]
[null,null,"9,0 - 9,5 m",0,0,0,0]
[null,null,"9,5 - 10,0 m",0,0,0,0]
[]
[]
[]
[]
[null,null,"Lokasjon","Stasjon 4"]
[]
[null,null,"Bølgehøydefordeling",null,null,null,null,null,null,null,null,"Vektede effektiviteter (forventet effektivitet kystsystem)"]
[null,null,"Intervall","Vinter (DJF)","Vår (MAM)","Sommer (JJA)","Høst (SON)",null,"Opptakseffektivitet (Kyst.)",null,null,"Vinter (DJF)","Vår (MAM)","Sommer (JJA)","Høst (SON)"]
[null,null,"0,0 - 0,5 m",1.5310316481709824E-2,0.15662139219015281,0.20069667738478028,0.11925985953538627,null,"0,0 - 0,5 m",0.9,null,{"$f":"D91*J91","v":1.3779284833538841E-2},{"$f":"E91*J91","v":0.14095925297113754},{"$f":"F91*J91","v":0.18062700964630227},{"$f":"G91*J91","v":0.10733387358184765}]
[null,null,"0,5 - 1,0 m",0.2424989724619811,0.40152801358234297,0.50696677384780275,0.33684494867639114,null,"0,5 - 1,0 m",0.875,null,{"$f":"D92*J92","v":0.21218660090423347},{"$f":"E92*J92","v":0.35133701188455008},{"$f":"F92*J92","v":0.44359592711682738},{"$f":"G92*J92","v":0.29473933009184228}]
[null,null,"1,0 - 1,5 m",0.3061035758323058,0.22241086587436332,0.22454448017148981,0.22501350621285793,null,"1,0 - 1,5 m"]
[null,null,"1,5 - 2,0 m",0.21054254007398274,0.11318619128466327,5.1714898177920687E-2,0.1350621285791464,null,"1,5 - 2,0 m"]
[null,null,"2,0 - 2,5 m",0.11097410604192355,4.2586304470854555E-2,8.3065380493033223E-3,8.9951377633711513E-2,null,"2,0 - 2,5 m"]
[null,null,"2,5 - 3,0 m",5.8055898068228522E-2,2.5042444821731749E-2,3.6173633440514468E-3,3.9708265802269042E-2]
[null,null,"3,0 - 3,5 m",2.9695848746403616E-2,1.6977928692699491E-2,1.3397642015005359E-3,2.404105888708806E-2]
[null,null,"3,5 - 4,0 m",1.7776407727085903E-2,8.4889643463497456E-3,5.3590568060021436E-4,1.4451647757968665E-2,null,null,null,"Ʃ",{"$f":"SUM(L91:L95)","v":0.22596588573777232},{"$f":"SUM(M91:M95)","v":0.49229626485568762},{"$f":"SUM(N91:N95)","v":0.62422293676312968},{"$f":"SUM(O91:O95)","v":0.40207320367368993}]
[null,null,"4,0 - 4,5 m",5.9597205096588576E-3,4.2444821731748728E-3,5.3590568060021436E-4,5.9427336574824421E-3]
[null,null,"4,5 - 5,0 m",2.4660912453760789E-3,4.3859649122807015E-3,9.3783494105037512E-4,5.1323608860075632E-3]
[null,null,"5,0 - 5,5 m",6.1652281134401974E-4,1.9807583474816073E-3,8.0385852090032153E-4,8.1037277147487841E-4]
[null,null,"5,5 - 6,0 m",0,1.9807583474816073E-3,0,1.2155591572123178E-3]
[null,null,"6,0 - 6,5 m",0,5.6593095642331638E-4,0,2.1609940572663426E-3]
[null,null,"6,5 - 7,0 m",0,0,0,4.051863857374392E-4]
[null,null,"7,0 - 7,5 m",0,0,0,0]
[null,null,"7,5 - 8,0 m",0,0,0,0]
[null,null,"8,0 - 8,5 m",0,0,0,0]
[null,null,"8,5 - 9,0 m",0,0,0,0]
[null,null,"9,0 - 9,5 m",0,0,0,0]
[null,null,"9,5 - 10,0 m",0,0,0,0]
[]
[]
[]
[]
[null,null,"Lokasjon","Stasjon 5"]
[]
[null,null,"Bølgehøydefordeling",null,null,null,null,null,null,null,null,"Vektede effektiviteter (forventet effektivitet kystsystem)"]
[null,null,"Intervall","Vinter (DJF)","Vår (MAM)","Sommer (JJA)","Høst (SON)",null,"Opptakseffektivitet (Kyst.)",null,null,"Vinter (DJF)","Vår (MAM)","Sommer (JJA)","Høst (SON)"]
[null,null,"0,0 - 0,5 m",0.81165228113440202,0.86813808715336727,0.93033226152197213,0.80902215018908696,null,"0,0 - 0,5 m",0.9,null,{"$f":"D119*J119","v":0.73048705302096184},{"$f":"E119*J119","v":0.78132427843803054},{"$f":"F119*J119","v":0.8372990353697749},{"$f":"G119*J119","v":0.72811993517017826}]
[null,null,"0,5 - 1,0 m",0.16430332922318125,0.11785512167515563,6.7926045016077172E-2,0.17328471096704484,null,"0,5 - 1,0 m",0.875,null,{"$f":"D120*J120","v":0.14376541307028359},{"$f":"E120*J120","v":0.10312323146576118},{"$f":"F120*J120","v":5.9435289389067524E-2},{"$f":"G120*J120","v":0.15162412209616424}]
[null,null,"1,0 - 1,5 m",2.3016851623510071E-2,1.2308998302207131E-2,1.7416934619506968E-3,1.5532144786601837E-2,null,"1,0 - 1,5 m"]
[null,null,"1,5 - 2,0 m",1.0275380189066995E-3,1.697792869269949E-3,0,2.1609940572663426E-3,null,"1,5 - 2,0 m"]
[null,null,"2,0 - 2,5 m",0,0,0,0,null,"2,0 - 2,5 m"]
[null,null,"2,5 - 3,0 m",0,0,0,0]
[null,null,"3,0 - 3,5 m",0,0,0,0]
[null,null,"3,5 - 4,0 m",0,0,0,0,null,null,null,"Ʃ",{"$f":"SUM(L119:L123)","v":0.87425246609124541},{"$f":"SUM(M119:M123)","v":0.88444750990379173},{"$f":"SUM(N119:N123)","v":0.8967343247588424},{"$f":"SUM(O119:O123)","v":0.87974405726634253}]
[null,null,"4,0 - 4,5 m",0,0,0,0]
[null,null,"4,5 - 5,0 m",0,0,0,0]
[null,null,"5,0 - 5,5 m",0,0,0,0]
[null,null,"5,5 - 6,0 m",0,0,0,0]
[null,null,"6,0 - 6,5 m",0,0,0,0]
[null,null,"6,5 - 7,0 m",0,0,0,0]
[null,null,"7,0 - 7,5 m",0,0,0,0]
[null,null,"7,5 - 8,0 m",0,0,0,0]
[null,null,"8,0 - 8,5 m",0,0,0,0]
[null,null,"8,5 - 9,0 m",0,0,0,0]
[null,null,"9,0 - 9,5 m",0,0,0,0]
[null,null,"9,5 - 10,0 m",0,0,0,0]

{"sheet":"Versjonshistorikk","index":21,"n_rows":29,"n_cols":5,"rows_kept":29,"cut":false,"hidden":false,"merged":[]}
[]
[null,"Versjonsnummer","Endret dato","Endret av","Kommentarer"]
[null,"Prøveversjon","2012-12-03","Sigve Evenssønn Rasmussen / Akvaplan-niva","Arbeidsdokument i stadig endring"]
[null,"Betaversjon 1.0","2012-12-12","Sigve Evenssønn Rasmussen / Akvaplan-niva","Første ferdige versjon - feilsøking og testing"]
[null,"Versjon 1.0","2012-12-14","Sigve Evenssønn Rasmussen / Akvaplan-niva","Første versjon som distribueres til ansatte i HSEC EIT ET"]
[null,"Versjon 1.1","2012-12-18","Sigve Evenssønn Rasmussen / Akvaplan-niva","Versjon som distribueres etter workshop 18.12.2012"]
[null,"Versjon 1.2","2013-03-19","Sigve Evenssønn Rasmussen / Akvaplan-niva","Oppdatert med NOFOs gamle forutsetninger (2400/1900 m3/d). Korreksjonsfaktor satt til 100 %"]
[null,"Versjon B2","2013-04-04","Sigve Evenssønn Rasmussen / Akvaplan-niva","Prøveversjon som inkluderer barriere 5: Strandrensing"]
[null,"Versjon 2","2019-05-07","Geir Morten Skeie","Videreutviklet i henhold til systemtyper og forutsetninger NOFO Planverk 2019"]
[null,"Versjon 3","2019-09-03","Cato Melkevik","Lagt inn oljetyper som valg"]
[null,"Versjon 4","2019-09-13","Cato Melkevik","Lagt inn ny olje - Kvitebjørn 2019"]
[null,"Versjon 5","2019-09-16","Geir Morten Skeie","Oppdatert BarKal iht. Kommentarer fra brukerkursene."]
[null,"Versjon 6","2019-09-24","Cato Melkevik","Justert en feil i forhold til prosentregning"]
[null,"Versjon 7","2019-10-01","Geir Morten Skeie","Oppdatert verdier for HiVisc og MOS Sweeper i B2 og B3"]
[null,"Versjon 7C","2019-10-02","Cato Melkevik","Lagt inn ny olje - Heidrun Åre"]
[null,"Versjon 8","2019-11-11","Cato Melkevik","Lagt inn ny olje - Oda 2019"]
[null,"Versjon 9","2019-11-29","Geir Morten Skeie","Oppdatert bølgeklima stasjon 18. Innført beregning av total effektivitet B1-B3"]
[null,"Versjon 10","2020-04-02","Cato Melkevik","Lagt inn ny olje - Iris 2020"]
[null,"Versjon 11","2020-05-26","Cato Melkevik","Lagt inn ny olje - Aasta Hansteen Blend 2020"]
[null,"Versjon 12","2020-07-01","Ivar Kristoffersen","Oppdatert oljer på gullfaks A og Gullfaks C"]
[null,"Versjon 13","2020-09-16","Ivar Kristoffersen","Lagt inn oljer på Visund Crude Oil 2020 og Visund Sør Kondensat 2020"]
[null,"Versjon 14","2021-02-16","Ivar Kristoffersen","Lagt inn oljer Dvalin kondesat 2020 og Skogul 2020"]
[null,"Versjon 15","2021-05-06","Espen Tværsland (Upheads AS)","Koblet kilder opp mot SharePoint Online"]
[null,"Versjon 16","2022-02-14","Espen Tværsland (Upheads AS)","Endret koblingsmetode mot SharePoint Online for \"Oljedatabase\""]
[null,"Versjon 17","2022-08-25","Ivar Kristoffersen","Lagt til nye oljer opp til 2022"]
[null,"Versjon 19","2022-11-24","Geir Morten Skeie","Oppdatert til sesongvise beregninger"]
[null,"Versjon 2024","13.02.24","Geir Morten Skeie","Inkludert barriere 3 ytelse relatert til lys og sikt, samt Barriere 4 \"pakke\""]
[null,"Versjon 2024.01","25.04.24","Geir Morten Skeie","Justert for 26 m3 maksimal lagringskapasitet"]
[null,"Versjon 2024.06.26","26.06.24","Geir Morten Skeie","Oppdatert Gruppe E effektivitet i henhold til barrierestrategi"]

{"sheet":"Stasjonskoordinater","index":22,"n_rows":28,"n_cols":3,"rows_kept":28,"cut":false,"hidden":false,"merged":[]}
["Nr","Grader N","Grader Ø"]
[1,56.5,2.99]
[2,58,6.85]
[3,58.5,1.93]
[4,58.46,5.6]
[5,59,1.95]
[6,59.65,5.03]
[7,59.72,2.0699999999999998]
[8,60.22,2.09]
[9,60.48,3.04]
[10,61,2.06]
[11,61.02,3.96]
[12,60.98,4.7]
[13,61.5,2.08]
[14,62.05,4.9800000000000004]
[15,63.47,5.07]
[16,64.45,8.0299999999999994]
[17,65.5,7.13]
[18,67.489999999999995,11.02]
[19,69.52,17.059999999999999]
[20,70.5,31.11]
[21,71.03,28.99]
[22,71.11,23.9]
[23,71.53,20.85]
[24,71.5,25.36]
[25,72.459999999999994,25.07]
[26,72.5,28.02]
[27,73.5,16.059999999999999]

{"sheet":"Oletyper","index":23,"n_rows":142,"n_cols":10,"rows_kept":142,"cut":false,"hidden":true,"merged":[]}
["ID","Tittel","Referanse","Rapportdato","Tetthet","API","UTM_N","UTM_E","rapp_PDF","Color Tag"]
[120,"Aasta Hansteen Blend 2020","OC2020 A-049","2020-04-26",823,40,7461528,150375,"Aasta Hansteen Blend 2020 Forvitringsrapport.pdf",""]
[1,"Alta 2016","SINTEF A27546","2016-02-09",827,40,8060666,700176,"Alta 2016 Forvitringsrapport.pdf",""]
[129,"Alve 2014 *(2017)","R.14.40.C/5214","2014-03-27",820,43,7334943,174413,"Alve 2014 (2017) Forvitringsrapport.pdf",""]
[110,"Atla kondensat 2013","A24224","2013-03-14",746,57,6679279,-197821,"Atla kondensat 2013 Forvitringsrapport.pdf",""]
[2,"Avaldsnes (Johan Sverdrup) 2012","SINTEF A22484","2012-03-05",891,27,6588792,-215604,"Avaldsnes (Johan Sverdrup) 2012 Forvitringsrapport.pdf",""]
[3,"Balder Blend 2010","SINTEF A16789","2010-11-09",864,32,6629664,-217792,"Balder Blend 2010 Forvitringsrapport.pdf",""]
[4,"Brage 2013","Report nr: A24699","2013-08-13",826,40,6771495,-153295,"Brage 2013 Forvitringsrapport.pdf",""]
[103,"Brasse 2018","OC2018-A-027","2018-03-18",847,36,6758822,-156885,"Brasse 2018 Forvitringsrapport.pdf",""]
[5,"Bream 2011","SINTEF A19404","2011-05-24",857,34,6502083,-149887,"Bream 2011 Forvitringsrapport.pdf",""]
[141,"Breidablikk","2023:00459","2023-04-17",913,23,null,null,"Breidablikk_2023_Forvitringsrapport.PDF",""]
[6,"Brynhild 2015","SINTEF A27135","2015-08-25",880,29,6443576,-258445,"Brynhild 2015 Forvitringsrapport.pdf",""]
[7,"Bøyla 2016","SINTEF A27496","2016-01-27",874,30,6652496,-245846,"Bøyla 2016 Forvitringsrapport.pdf",""]
[8,"Caurus 2011","SINTEF A21022","2011-11-14",795,46,8012923,756190,"Caurus 2011 Forvitringsrapport.pdf",""]
[9,"Draugen 2008","SINTEF A5637","2008-02-27",823,40,7156164,152022,"Draugen 2008 Forvitringsrapport.pdf",""]
[10,"Draupne (Ivar Aasen) 2012","SINTEF A21165","2012-11-29",838,37,6602103,-234252,"Draupne (Ivar Aasen) 2012 Forvitringsrapport.pdf",""]
[11,"Drivis 2017","OC2017-A-060","2017-02-22",838,37,8041217,673057,"Drivis 2017 Forvitringsrapport.pdf",""]
[138,"Dugong 2022","OC2022 A-083","2022-08-23",833,38,6894063,-184913,"Dugong 2022 Forvitringsrapport.pdf",""]
[130,"Duva 2021","OC2021 A-108","2021-12-08",868,31,6857114,-80848,"Duva 2021 Forvitringsrapport.pdf",""]
[121,"Dvalin kondensat 2020","OC2020 A-142","2020-11-29",818,41,7279296,138112,"Dvalin kondensat 2020 Forvitringsrapport.pdf",""]
[13,"Ekofisk J 2015","A27361","2015-12-02",846,36,6329271,-222171,"Ekofisk J 2015 Forvitringsrapport.pdf",""]
[12,"Ekofisk blend 2002","STF66 A01090","2002-02-11",851,35,6329207,-222467,"Ekofisk blend 2002 Forvitringsrapport.pdf",""]
[14,"Eldfisk B 2015","A27361","2015-12-02",854,34,6315190,-224801,"Eldfisk B 2015 Forvitringsrapport.pdf",""]
[15,"Eldfisk Kompleks 2015","A27361","2015-12-02",842,37,6309872,-222726,"Eldfisk Kompleks 2015 Forvitringsrapport.pdf",""]
[16,"Elli 1999","STF66 A99009","1999-01-21",816,42,6658686,-212268,"Elli 1999 Forvitringsrapport.pdf",""]
[17,"Elli South 1999","STF66 A99009","1999-01-21",838,37,6658686,-212268,"Elli South 1999 Forvitringsrapport.pdf",""]
[18,"Embla 2002","STF66 A01090","2002-02-11",816,42,6305369,-224620,"Embla 2002 Forvitringsrapport.pdf",""]
[104,"Fenja (Pil) 2015","F26628","2015-01-05",848,35,7126556,98023,"Fenja (Pil) 2015 Forvitringsrapport.pdf",""]
[125,"Fogelberg Kondensat 2021","OC2021 A-021","2021-11-03",799,45,7264175,115801,"Fogelberg kondensat 2021 Forvitringsrapport.pdf",""]
[19,"Forseti 2002","STF66 A01137","2002-08-25",816,42,6637182,-212699,"Forseti 2002 Forvitringsrapport.pdf",""]
[20,"Fossekall 2013","R.13.50.C/5273","2013-11-30",854,34,7352421,195077,"Fossekall 2013 Forvitringsrapport.pdf",""]
[21,"Fram 2013","SINTEF A247070","2013-08-15",850,35,6826639,-117214,"Fram 2013 Forvitringsrapport.pdf",""]
[115,"Frosk 2020","OC2020 A-117","2020-09-16",924,21,6652226,-245910,"Frosk 2020 Forvitringsrapport.pdf",""]
[22,"Frøy 1996","41.5135.00/01/96","1996-08-04",836,38,6687544,-196823,"Frøy 1996 Forvitringsrapport.pdf",""]
[23,"Garantiana 2013","Report nr: A24749","2013-09-12",873,31,6889703,-147284,"Garantiana 2013 Forvitringsrapport.pdf",""]
[24,"Gaupe 2011","SINTEF A18420","2011-02-23",862,33,6500357,-270523,"Gaupe 2011 Forvitringsrapport.pdf",""]
[107,"Gina Krog 2018","R.18.43.C/5208 ","2018-11-30",869,31,6569723,-261342,"Gina Krog 2018 Forvitringsrapport.pdf",""]
[25,"Gjøa 2011","SINTEF A20859","2011-10-18",836,38,6850388,-92218,"Gjøa 2011 Forvitringsrapport.pdf",""]
[26,"Glitne 2002","STF66 02042","2002-03-12",864,32,6583433,-270411,"Glitne 2002 Forvitringsrapport.pdf",""]
[27,"Goliat Blend 2008","SINTEF F3959","2008-05-12",822,41,7927630,758824,"Goliat Blend 2008 Forvitringsrapport.pdf",""]
[134,"Goliat Kobbe 2008 *(2010)","F17609","2010-01-01",796,46,7923375,761602,"Goliat Kobbe 2008 (2010) Forvitringsrapport.pdf",""]
[29,"Goliat Realgrunnen 2003","STF66 F03104","2003-12-15",857,34,7927630,758824,"Goliat Realgrunnen 2003 Forvitringsrapport.pdf",""]
[30,"Grane 1997","STF66 F98038","1997-11-13",942,19,6625681,-212700,"Grane 1997 Forvitringsrapport.pdf",""]
[31,"Grosbeak 2012","SINTEF A22848","2012-05-14",810,31,6833481,-91521,"Grosbeak 2012 Forvitringsrapport.pdf",""]
[32,"Gudrun 2012","SINTEF A23435","2012-10-02",824,40,6599015,-261236,"Gudrun 2012 Forvitringsrapport.pdf",""]
[108,"Gudrun 2019","Report nr.  SINTEF OC2019 A-59","2019-04-04",810,43,6599015,-261236,"Gudrun 2019 Forvitringsrapport.pdf",""]
[33,"Gullfaks A 2010","SINTEF A 16691","2010-09-28",882,29,6850000,-185942,"Gullfaks A 2010 Forvitringsrapport.pdf",""]
[34,"Gullfaks C 2010","SINTEF A 16691","2010-09-28",882,29,6850000,-185942,"Gullfaks C 2010 Forvitringsrapport.pdf",""]
[35,"Gullfaks Sør 1996","IKU 1996 - Reg nr. 96.083","1995-12-31",856,34,6843698,-184151,"Gullfaks Sør 1996 Forvitringsrapport.pdf",""]
[36,"Gyda 2002","STF66 A01090","2002-02-11",823,40,6370191,-223503,"Gyda 2002 Forvitringsrapport.pdf",""]
[37,"Havis 2013","SINTEF A24356","2013-05-14",850,35,8047718,673119,"Havis 2013 Forvitringsrapport.pdf",""]
[38,"Heidrun 1999","STF66 F99110","1999-09-30",883,29,7266572,142838,"Heidrun 1999 Forvitringsrapport.pdf",""]
[113,"Heidrun Åre 2004","STF80 A04009","2004-10-13",926,21,7266572,142838,"Heidrun Åre 2004 Forvitringsrapport.pdf",""]
[39,"Huldra 1998","SFT F98085","1998-02-19",809,43,6809987,-168210,"Huldra 1998 Forvitringsrapport.pdf",""]
[116,"Iris 2020","OC2020 F-031","2020-03-09",803,44,7258596,97684,"Iris 2020 Forvitringsrapport.pdf",""]
[40,"Jordbær 2011","Jordbær_801623_draft.doc","2011-06-28",802,45,6912608,-144851,"Jordbær 2011 Forvitringsrapport.pdf",""]
[41,"Kneler (Alvheim) 2009","SINTEF A11170","2009-03-08",832,39,6675281,-231532,"Kneler (Alvheim) 2009 Forvitringsrapport.pdf",""]
[42,"Kristin 2006","STF80MK A06221","2006-08-21",793,47,7234411,102430,"Kristin 2006 Forvitringsrapport.pdf",""]
[43,"Kvitebjørn 2009","SINTEF A13743","2009-12-16",802,45,6836225,-171505,"Kvitebjørn 2009 Forvitringsrapport.pdf",""]
[112,"Kvitebjørn 2019","OC2019 A-097","2019-08-14",752,56,6836225,-171505,"Kvitebjørn 2019 Forvitringsrapport.pdf",""]
[44,"Lavrans 1997","STF66 F97086","1997-08-21",798,46,7220447,103166,"Lavrans 1997 Forvitringsrapport.pdf",""]
[136,"Lille Prinsen 2022","OC2022 A-049","2022-05-16",851,34,6606635,-227166,"Lille Prinsen 2022 Forvitringsrapport 2022.pdf",""]
[45,"Lillefrigg 1996","41.5135.00/01/96","1996-08-04",785,49,6714346,-201257,"Lillefrigg 1996 Forvitringsrapport.pdf",""]
[46,"Linerle 2005","STF80MK F05209","2005-06-27",951,17,7357606,204573,"Linerle 2005 Forvitringsrapport.pdf",""]
[47,"Luno (Edvard Grieg) 2011","Sintef A18427","2011-02-23",850,35,6592172,-233995,"Luno (Edvard Grieg) 2011 Forvitringsrapport.pdf",""]
[49,"Maria 2013","A24674","2013-07-11",847,36,7229657,122084,"Maria 2013 Forvitringsrapport.pdf",""]
[50,"Martin Linge kondensat 2016","A27998","2016-12-18",814,42,6778264,-210008,"Martin Linge kondensat 2016 Forvitringsrapport.pdf",""]
[51,"Martin Linge olje 2016","A27998","2016-12-18",930,21,6778264,-210008,"Martin Linge olje 2016 Forvitringsrapport.pdf",""]
[105,"Marulk 2014","A26367","2014-10-15",759,55,7332658,161276,"Marulk 2014 Forvitringsrapport.pdf",""]
[52,"Morvin 2008","SINTEF  A6808","2008-05-18",817,42,7250701,101140,"Morvin 2008 Forvitringsrapport.pdf",""]
[139,"Njord 1997* (2023)","STF66 F97073","2002-07-15",835,37,7150468,122795,"Njord_1997_(2023)__Forvitringsrapport.pdf",""]
[133,"Njord 2003","STF66 F03031","2003-03-28",807,43,7150468,122795,"Njord_2003_Forvitringsrapport.pdf",""]
[54,"Norne 2018","OC2017 A-230","2018-01-08",861,33,7340222,187149,"Norne 2018 Forvitringsrapport.pdf",""]
[109,"Norne Blend 2010","SINTEF A16808","2010-10-11",868,31,7340222,187149,"Norne Blend_2010_Forvitringsrapport.pdf",""]
[114,"Oda 2019","2019:01159","2019-10-31",820,40,6388494,221974,"Oda 2019 Forvitringsrapport.pdf",""]
[55,"Ormen Lange 2008","Sintef F7031","2008-05-22",750,57,7076891,22703,"Ormen Lange 2008 Forvitringsrapport.pdf",""]
[56,"Oseberg A 2013","SINTEF A25226","2013-12-05",902,25,6768130,-166244,"Oseberg A 2013 Forvitringsrapport.pdf",""]
[57,"Oseberg Blend 2007","STF66 F99110","2007-04-30",847,36,6768130,-166244,"Oseberg Blend 2007 Forvitringsrapport.pdf",""]
[127,"Oseberg C 1995 *(2020)","95,084","1995-01-01",857,33,6767340,-165194,"Oseberg C 1995 Forvitringsrapport.pdf",""]
[58,"Oseberg C 1999","STF66 F99110","1999-10-29",855,34,6781476,-166634,"Oseberg C 1999 Forvitringsrapport.pdf",""]
[111,"Oseberg Sør 2001","STF66 F00120","2001-04-04",820,40,6752268,-165113,"Oseberg Sør 2001 Forvitringsrapport.pdf",""]
[59,"Oseberg Sør 2013","Report nr: A24709","2013-08-15",842,37,6752268,-165113,"Oseberg Sør 2013 Forvitringsrapport.pdf",""]
[117,"Oseberg Øst 1998 *(2020)","STF66 A98152","1998-11-29",835,37,6790034,-156165,"Oseberg Øst 1998 (2020) Forvitringsrapport.pdf",""]
[60,"Oseberg Øst 2013","Report nr: A24708","2013-08-15",839,37,6790001,-156108,"Oseberg Øst 2013 Forvitringsrapport.pdf",""]
[61,"Oselvar 2012","SINTEF A23047","2012-10-30",791,47,6377788,-247921,"Oselvar 2012 Forvitringsrapport.pdf",""]
[62,"Ringhorne 2002","STF66 A01137","2002-08-25",830,39,6637182,-212699,"Ringhorne 2002 Forvitringsrapport.pdf",""]
[132,"SF Nord Brent 2021","OC2021 A-090","2021-10-26",845,35,68811423,-193952,"SF_Nord_Brent_2021_Forvitringsrapport.pdf",""]
[102,"Sigyn 2017","OC2017 A-137","2017-08-14",739,60,6533715,256800,"Sigyn 2017 Forvitringsrapport.pdf",""]
[63,"Skarfjell 2014","A26006","2014-03-18",824,40,6845418,-105299,"Skarfjell 2014 Forvitringsrapport.pdf",""]
[64,"Skarv kondensat 2014","A26022","2014-05-06",829,39,7305950,163129,"Skarv kondensat 2014 Forvitringsrapport.pdf",""]
[65,"Skarv olje 2004","STF66 A04027","2004-05-04",860,33,7305950,163129,"Skarv olje 2004 Forvitringsrapport.pdf",""]
[124,"Skogul 2020","OC2020 A-143","2020-11-30",842,36,6674762,-232906,"Skogul 2020 Forvitringsrapport.pdf",""]
[66,"Skrugard 2012","SINTEF A22589","2012-02-22",871,31,8051690,678899,"Skrugard 2012 Forvitringsrapport.pdf",""]
[67,"Sleipner 2002","STF66 F02063","2002-05-28",745,58,6544312,-262840,"Sleipner 2002 Forvitringsrapport.pdf",""]
[68,"Sleipner Vest 1998","STF66 F98075","1998-01-05",913,23,6544312,-262840,"Sleipner Vest 1998 Forvitringsrapport.pdf",""]
[71,"Smørbukk Sør 2003","STF66 A03053","2003-06-05",829,39,7235784,118788,"Smørbukk Sør 2003 Forvitringsrapport.pdf",""]
[69,"Smørbukk kondensat 2003","STF66 A03053","2003-06-05",804,44,7252655,113299,"Smørbukk kondensat 2003 Forvitringsrapport.pdf",""]
[70,"Smørbukk olje 2003","STF66 A03053","2003-06-29",819,41,7252655,113299,"Smørbukk olje 2003 Forvitringsrapport.pdf",""]
[72,"Snorre B 2004","STF66 F04041","2004-06-23",826,40,6888144,-177111,"Snorre B 2004 Forvitringsrapport.pdf",""]
[74,"Snorre TLP 2004","STF66 F04041","2004-06-23",834,38,6880490,-182310,"Snorre TLP 2004 Forvitringsrapport.pdf",""]
[73,"Snorre blend 1999","STF66 F99110","1999-10-29",834,38,6880490,-182310,"Snorre blend 1999 Forvitringsrapport.pdf",""]
[75,"Snøhvit 2001","STF66 F01111","2001-08-29",761,54,7952218,719404,"Snøhvit 2001 Forvitringsrapport.pdf",""]
[48,"Solveig (Luno II) 2014","A26115","2014-05-12",851,35,6596013,-231691,"Solveig (Luno II) 2014 Forvitringsrapport.pdf",""]
[76,"Statfjord 1999","STF66 F99110","1999-10-29",832,39,6862327,-201935,"Statfjord 1999 Forvitringsrapport.pdf",""]
[77,"Statfjord A 2001","STF66 F00138","2001-01-11",847,36,6862327,-201935,"Statfjord A 2001 Forvitringsrapport.pdf",""]
[135,"Statfjord C 2001 *(2021)","STF66 F00138","2001-01-12",834,38,6866292,-198445,"Statfjord_C_Blend_2001__(2021)_Forvitringsrapport.pdf",""]
[78,"Statfjord C Blend 2001","STF66 F00138","2001-01-11",847,36,6866292,-198445,"Statfjord C Blend 2001 Forvitringsrapport.pdf",""]
[143,"Stær 2010","SINTEF A16808","2010-12-10",867,31,null,null,"Norne_Blend_2010_Forvitringsrapport.pdf",""]
[142,"Svale 2010","SINTEF A16808","2010-12-10",914,23,7340222,187149,"Norne_Blend_2010_Forvitringsrapport.pdf",""]
[79,"Svalin 2014","R.14.48.C/5244","2014-11-19",917,23,6624110,-217630,"Svalin 2014 Forvitringsrapport.pdf",""]
[131,"Sygna Brent 2021","OC2021 A-090","2021-10-26",843,36,6884886,-188975,"Sygna_Brent_2021_Forvitringsrapport.pdf",""]
[137,"TOR ll 2022","OC2022 A-050, 978-82-7174-439-7","2022-05-19",834,38,6338578,-214012,"TOR ll 2022 Forvitringsrapport",""]
[80,"Tambar 2002","STF66 F02009","2002-01-11",828,39,6380131,-229598,"Tambar 2002 Forvitringsrapport.pdf",""]
[81,"Tau 1999","STF66 A99009","1999-01-21",851,35,6658686,-212268,"Tau 1999 Forvitringsrapport.pdf",""]
[140,"Test","",null,null,null,null,null,"",""]
[82,"Tordis 1999","STF66 F99110","1999-09-29",840,37,6861686,-187519,"Tordis 1999 Forvitringsrapport.pdf",""]
[83,"Trestakk 2008","SINTEF A6809","2008-05-18",831,39,7218177,113649,"Trestakk 2008 Forvitringsrapport.pdf",""]
[84,"Troll 1999","STF66 F99110","1999-10-29",893,27,6776258,-114434,"Troll 1999 Forvitringsrapport.pdf",""]
[122,"Trym 2011","SINTEF A20258","2011-09-04",798,46,6300691,-163069,"Trym 2011 Forvitringsrapport.pdf",""]
[85,"Trym 2011","SINTEF A20258","2011-09-05",798,46,6300691,-163069,"Trym 2011 Forvitringsrapport.pdf",""]
[86,"Tyrihans Nord 2004","STF66 A04031","2004-05-24",877,30,7219604,125328,"Tyrihans Nord 2004 Forvitringsrapport.pdf",""]
[87,"Tyrihans Sør 2004","STF66 A04031","2004-05-24",848,35,7213952,121932,"Tyrihans Sør 2004 Forvitringsrapport.pdf",""]
[88,"Ula 1999","STF66 F99076","1999-06-30",832,39,6395526,-233745,"Ula 1999 Forvitringsrapport.pdf",""]
[126,"Utgard kondensat 2021","OC2021 A-60","2021-07-07",772,51,6549161,-283959,"Utgard kondensat 2021 Forvitringsrapport.pdf",""]
[90,"Vale 2001","STF66 F01133","2001-10-09",821,41,6687116,-211155,"Vale 2001 Forvitringsrapport.pdf",""]
[89,"Vale 2014","A25949","2014-02-17",816,42,6687116,-211155,"Vale 2014 Forvitringsrapport.pdf",""]
[91,"Valhall 2002","STF66 A01090","2002-02-11",841,37,6297738,-216640,"Valhall 2002 Forvitringsrapport.pdf",""]
[128,"Valhall 2021","OC2021 A-063","2021-09-14",842,36,6297317,-217098,"Valhall  2021 Forvitringsrapport.pdf",""]
[92,"Varg 2000","STF66 F99105","2000-09-10",853,34,6512684,-270191,"Varg 2000 Forvitringsrapport.pdf",""]
[106,"Vega 2016","F27432\t\t\t\t\t\t","2016-01-07",774,51,6837182,-119505,"Vega 2016 Forvitringsrapport.pdf",""]
[93,"Veslefrikk 2012","SINTEF  A23535","2012-10-23",825,40,6799425,-156431,"Veslefrikk 2012 Forvitringsrapport.pdf",""]
[94,"Vilje 2009","SINTEF  A11568","2009-05-05",843,36,6683742,-213690,"Vilje 2009 Forvitringsrapport.pdf",""]
[95,"Visund 2009","SINTEF F10361","2009-03-03",791,47,6868511,-167465,"Visund 2009 Forvitringsrapport.pdf",""]
[118,"Visund Crude Oil 2020","OC2020 A-110","2020-09-01",794,46,6861742,-174063,"Visund crude oil 2020 Forvitringsrapport.pdf",""]
[119,"Visund Sør Kondensat 2020","SINTEF OC2020 A-110","2020-09-01",742,58,6861742,-174063,"Visund Sør kondensat 2020 Forvitringsrapport.pdf",""]
[96,"Volund 2010","SINTEF F16176","2010-08-01",860,33,6667796,-234959,"Volund 2010 Forvitringsrapport.pdf",""]
[97,"Volve 2006","STF80MK A06240","2006-09-28",889,28,6551615,-260127,"Volve 2006 Forvitringsrapport.pdf",""]
[98,"Wisting 2015","7428 – 02","2015-02-04",845,36,8174364,797852,"Wisting 2015 Forvitringsrapport.pdf",""]
[99,"Wisting Central 2017","2017:00119","2017-06-01",838,37,8174364,797852,"Wisting Central 2017 Forvitringsrapport.pdf",""]
[100,"Yme 1999","STF66 F99110","1999-10-29",833,38,6451216,-131875,"Yme 1999 Forvitringsrapport.pdf",""]
[144,"Yme 2023","OC2023 A-060","2023-10-17",842,36,6410345,592506,"Yme 2023 Forvitringsrapport.pdf",""]
[101,"Åsgard 2003","STF66 A03053","2003-06-05",814,42,7241112,111707,"Åsgard 2003 Forvitringsrapport.pdf",""]

{"sheet":"Oljedatabase","index":24,"n_rows":11697,"n_cols":26,"rows_kept":2250,"cut":true,"hidden":true,"merged":[],"bounds":{"rows_first":1000,"rows_last":250,"rows_between":1000,"halvings":1}}
["Oljetype","Sesong","Søkeverdi","SesongNy","Temperatur (°C)","Vind (m/s)","Tidspunkt (timer)","Vanninnhold","Viskositet (cP)","Dispergerbarhet emulsjon","Fordampet %","Olje på overflate %","Nedblandet %","Flammepunkt (°C)","Eksplosjonsfare","Stivnepunkt (°C)","Dispergerbarhet olje","Redusert tilflyt","Emulsjon på overflaten i % av utslippet","Rapportdato","Tetthet (g/l)","Region","API","UTM_N","UTM_E","Rappdok"]
["Alta 2016","Sommerforhold",{"$f":"Oljedatabase[[#This Row],[Oljetype]]&\"-\"&Oljedatabase[[#This Row],[SesongNy]]&\"-\"&Oljedatabase[[#This Row],[Vind (m/s)]]&\"-\"&Oljedatabase[[#This Row],[Tidspunkt (timer)]]","v":"Alta 2016-Sommerforhold-2-72"},{"$f":"Oljedatabase[[#This Row],[Sesong]]","v":"Sommerforhold"},10,2,"72",0.7,2000,"Redusert kjemisk dispergerbarhet",0.33,0.66,0,98,"Ingen eksplosjonsfare",14.1,"Kjemisk dispergerbar","Nei",2.2400000000000002,"2016-02-09T01:00:00",827,"Troms",39,8060666,700176,"Alta 2016 Forvitringsrapport.pdf"]
["Alta 2016","Sommerforhold",{"$f":"Oljedatabase[[#This Row],[Oljetype]]&\"-\"&Oljedatabase[[#This Row],[SesongNy]]&\"-\"&Oljedatabase[[#This Row],[Vind (m/s)]]&\"-\"&Oljedatabase[[#This Row],[Tidspunkt (timer)]]","v":"Alta 2016-Sommerforhold-5-96"},{"$f":"Oljedatabase[[#This Row],[Sesong]]","v":"Sommerforhold"},10,5,"96",0.8,3300,"Redusert kjemisk dispergerbarhet",0.37,0.52,0.09,114,"Ingen eksplosjonsfare",18,"Redusert kjemisk dispergerbarhet","Nei",2.64,"2016-02-09T01:00:00",827,"Troms",39,8060666,700176,"Alta 2016 Forvitringsrapport.pdf"]
["Alta 2016","Sommerforhold",{"$f":"Oljedatabase[[#This Row],[Oljetype]]&\"-\"&Oljedatabase[[#This Row],[SesongNy]]&\"-\"&Oljedatabase[[#This Row],[Vind (m/s)]]&\"-\"&Oljedatabase[[#This Row],[Tidspunkt (timer)]]","v":"Alta 2016-Sommerforhold-5-1"},{"$f":"Oljedatabase[[#This Row],[Sesong]]","v":"Sommerforhold"},10,5,"1",0.08,272,"Kjemisk dispergerbar",0.17,0.81,0,45,"Eksplosjonsfare ved tanking",1.3,"Kjemisk dispergerbar","Nei",0.9,"2016-02-09T01:00:00",827,"Troms",39,8060666,700176,"Alta 2016 Forvitringsrapport.pdf"]
["Alta 2016","Sommerforhold",{"$f":"Oljedatabase[[#This Row],[Oljetype]]&\"-\"&Oljedatabase[[#This Row],[SesongNy]]&\"-\"&Oljedatabase[[#This Row],[Vind (m/s)]]&\"-\"&Oljedatabase[[#This Row],[Tidspunkt (timer)]]","v":"Alta 2016-Sommerforhold-10-9"},{"$f":"Oljedatabase[[#This Row],[Sesong]]","v":"Sommerforhold"},10,10,"9",0.77,1960,"Redusert kjemisk dispergerbarhet",0.32,0.48,0.18,96,"Ingen eksplosjonsfare",13.8,"Kjemisk dispergerbar","Nei",2.19,"2016-02-09T01:00:00",827,"Troms",39,8060666,700176,"Alta 2016 Forvitringsrapport.pdf"]
["Alta 2016","Sommerforhold",{"$f":"Oljedatabase[[#This Row],[Oljetype]]&\"-\"&Oljedatabase[[#This Row],[SesongNy]]&\"-\"&Oljedatabase[[#This Row],[Vind (m/s)]]&\"-\"&Oljedatabase[[#This Row],[Tidspunkt (timer)]]","v":"Alta 2016-Sommerforhold-15-48"},{"$f":"Oljedatabase[[#This Row],[Sesong]]","v":"Sommerforhold"},10,15,"48",0.8,4950,"Redusert kjemisk dispergerbarhet",0.33,0,0.66,129,"Ingen eksplosjonsfare",21.3,"Redusert kjemisk dispergerbarhet","Nei",0,"2016-02-09T01:00:00",827,"Troms",39,8060666,700176,"Alta 2016 Forvitringsrapport.pdf"]
["Alta 2016","Sommerforhold",{"$f":"Oljedatabase[[#This Row],[Oljetype]]&\"-\"&Oljedatabase[[#This Row],[SesongNy]]&\"-\"&Oljedatabase[[#This Row],[Vind (m/s)]]&\"-\"&Oljedatabase[[#This Row],[Tidspunkt (timer)]]","v":"Alta 2016-Sommerforhold-15-2"},{"$f":"Oljedatabase[[#This Row],[Sesong]]","v":"Sommerforhold"},10,15,"2",0.65,1310,"Kjemisk dispergerbar",0.28000000000000003,0.46,0.24,84,"Ingen eksplosjonsfare",10.9,"Kjemisk dispergerbar","Nei",1.33,"2016-02-09T01:00:00",827,"Troms",39,8060666,700176,"Alta 2016 Forvitringsrapport.pdf"]
["Alta 2016","Sommerforhold",{"$f":"Oljedatabase[[#This Row],[Oljetype]]&\"-\"&Oljedatabase[[#This Row],[SesongNy]]&\"-\"&Oljedatabase[[#This Row],[Vind (m/s)]]&\"-\"&Oljedatabase[[#This Row],[Tidspunkt (timer)]]","v":"Alta 2016-Sommerforhold-5-6"},{"$f":"Oljedatabase[[#This Row],[Sesong]]","v":"Sommerforhold"},10,5,"6",0.4,908,"Kjemisk dispergerbar",0.27,0.71,0.01,75,"Ingen eksplosjonsfare",8.6999999999999993,"Kjemisk dispergerbar","Nei",1.21,"2016-02-09T01:00:00",827,"Troms",39,8060666,700176,"Alta 2016 Forvitringsrapport.pdf"]
["Alta 2016","Sommerforhold",{"$f":"Oljedatabase[[#This Row],[Oljetype]]&\"-\"&Oljedatabase[[#This Row],[SesongNy]]&\"-\"&Oljedatabase[[#This Row],[Vind (m/s)]]&\"-\"&Oljedatabase[[#This Row],[Tidspunkt (timer)]]","v":"Alta 2016-Sommerforhold-10-96"},{"$f":"Oljedatabase[[#This Row],[Sesong]]","v":"Sommerforhold"},10,10,"96",0.8,5010,"Redusert kjemisk dispergerbarhet",0.38,0.04,0.56999999999999995,130,"Ingen eksplosjonsfare",21.4,"Redusert kjemisk dispergerbarhet","Nei",0.21,"2016-02-09T01:00:00",827,"Troms",39,8060666,700176,"Alta 2016 Forvitringsrapport.pdf"]
["Alta 2016","Sommerforhold",{"$f":"Oljedatabase[[#This Row],[Oljetype]]&\"-\"&Oljedatabase[[#This Row],[SesongNy]]&\"-\"&Oljedatabase[[#This Row],[Vind (m/s)]]&\"-\"&Oljedatabase[[#This Row],[Tidspunkt (timer)]]","v":"Alta 2016-Sommerforhold-5-9"},{"$f":"Oljedatabase[[#This Row],[Sesong]]","v":"Sommerforhold"},10,5,"9",0.52,1150,"Kjemisk dispergerbar",0.28000000000000003,0.69,0.01,81,"Ingen eksplosjonsfare",10.199999999999999,"Kjemisk dispergerbar","Nei",1.47,"2016-02-09T01:00:00",827,"Troms",39,8060666,700176,"Alta 2016 Forvitringsrapport.pdf"]
["Alta 2016","Sommerforhold",{"$f":"Oljedatabase[[#This Row],[Oljetype]]&\"-\"&Oljedatabase[[#This Row],[SesongNy]]&\"-\"&Oljedatabase[[#This Row],[Vind (m/s)]]&\"-\"&Oljedatabase[[#This Row],[Tidspunkt (timer)]]","v":"Alta 2016-Sommerforhold-2-48"},{"$f":"Oljedatabase[[#This Row],[Sesong]]","v":"Sommerforhold"},10,2,"48",0.6,1650,"Redusert kjemisk dispergerbarhet",0.32,0.67,0,92,"Ingen eksplosjonsfare",12.8,"Kjemisk dispergerbar","Nei",1.73,"2016-02-09T01:00:00",827,"Troms",39,8060666,700176,"Alta 2016 Forvitringsrapport.pdf"]
["Alta 2016","Vinterforhold",{"$f":"Oljedatabase[[#This Row],[Oljetype]]&\"-\"&Oljedatabase[[#This Row],[SesongNy]]&\"-\"&Oljedatabase[[#This Row],[Vind (m/s)]]&\"-\"&Oljedatabase[[#This Row],[Tidspunkt (timer)]]","v":"Alta 2016-Vinterforhold-2-2"},{"$f":"Oljedatabase[[#This Row],[Sesong]]","v":"Vinterforhold"},5,2,"2",0.04,293,"Kjemisk dispergerbar",0.16,0.83,0,41,"Eksplosjonsfare ved tanking",0.2,"Kjemisk dispergerbar","Nei",0.88,"2016-02-09T01:00:00",827,"Troms",39,8060666,700176,"Alta 2016 Forvitringsrapport.pdf"]
["Alta 2016","Sommerforhold",{"$f":"Oljedatabase[[#This Row],[Oljetype]]&\"-\"&Oljedatabase[[#This Row],[SesongNy]]&\"-\"&Oljedatabase[[#This Row],[Vind (m/s)]]&\"-\"&Oljedatabase[[#This Row],[Tidspunkt (timer)]]","v":"Alta 2016-Sommerforhold-15-9"},{"$f":"Oljedatabase[[#This Row],[Sesong]]","v":"Sommerforhold"},10,15,"9",0.8,2580,"Redusert kjemisk dispergerbarhet",0.32,0.12,0.54,106,"Ingen eksplosjonsfare",16,"Redusert kjemisk dispergerbarhet","Nei",0.63,"2016-02-09T01:00:00",827,"Troms",39,8060666,700176,"Alta 2016 Forvitringsrapport.pdf"]
["Alta 2016","Sommerforhold",{"$f":"Oljedatabase[[#This Row],[Oljetype]]&\"-\"&Oljedatabase[[#This Row],[SesongNy]]&\"-\"&Oljedatabase[[#This Row],[Vind (m/s)]]&\"-\"&Oljedatabase[[#This Row],[Tidspunkt (timer)]]","v":"Alta 2016-Sommerforhold-5-2"},{"$f":"Oljedatabase[[#This Row],[Sesong]]","v":"Sommerforhold"},10,5,"2",0.16,451,"Kjemisk dispergerbar",0.21,0.77,0,58,"Eksplosjonsfare ved tanking",4.5999999999999996,"Kjemisk dispergerbar","Nei",0.94,"2016-02-09T01:00:00",827,"Troms",39,8060666,700176,"Alta 2016 Forvitringsrapport.pdf"]
["Alta 2016","Sommerforhold",{"$f":"Oljedatabase[[#This Row],[Oljetype]]&\"-\"&Oljedatabase[[#This Row],[SesongNy]]&\"-\"&Oljedatabase[[#This Row],[Vind (m/s)]]&\"-\"&Oljedatabase[[#This Row],[Tidspunkt (timer)]]","v":"Alta 2016-Sommerforhold-15-12"},{"$f":"Oljedatabase[[#This Row],[Sesong]]","v":"Sommerforhold"},10,15,"12",0.8,2890,"Redusert kjemisk dispergerbarhet",0.33,7.0000000000000007E-2,0.59,110,"Ingen eksplosjonsfare",16.899999999999999,"Redusert kjemisk dispergerbarhet","Nei",0.38,"2016-02-09T01:00:00",827,"Troms",39,8060666,700176,"Alta 2016 Forvitringsrapport.pdf"]
["Alta 2016","Sommerforhold",{"$f":"Oljedatabase[[#This Row],[Oljetype]]&\"-\"&Oljedatabase[[#This Row],[SesongNy]]&\"-\"&Oljedatabase[[#This Row],[Vind (m/s)]]&\"-\"&Oljedatabase[[#This Row],[Tidspunkt (timer)]]","v":"Alta 2016-Sommerforhold-2-6"},{"$f":"Oljedatabase[[#This Row],[Sesong]]","v":"Sommerforhold"},10,2,"6",0.13,496,"Kjemisk dispergerbar",0.23,0.76,0,62,"Ingen eksplosjonsfare",5.6,"Kjemisk dispergerbar","Nei",0.88,"2016-02-09T01:00:00",827,"Troms",39,8060666,700176,"Alta 2016 Forvitringsrapport.pdf"]
["Alta 2016","Vinterforhold",{"$f":"Oljedatabase[[#This Row],[Oljetype]]&\"-\"&Oljedatabase[[#This Row],[SesongNy]]&\"-\"&Oljedatabase[[#This Row],[Vind (m/s)]]&\"-\"&Oljedatabase[[#This Row],[Tidspunkt (timer)]]","v":"Alta 2016-Vinterforhold-2-1"},{"$f":"Oljedatabase[[#This Row],[Sesong]]","v":"Vinterforhold"},5,2,"1",0.02,176,"Kjemisk dispergerbar",0.12,0.88,0,28,"Eksplosjonsfare ved tanking",-3.3,"Kjemisk dispergerbar","Nei",0.9,"2016-02-09T01:00:00",827,"Troms",39,8060666,700176,"Alta 2016 Forvitringsrapport.pdf"]
["Alta 2016","Vinterforhold",{"$f":"Oljedatabase[[#This Row],[Oljetype]]&\"-\"&Oljedatabase[[#This Row],[SesongNy]]&\"-\"&Oljedatabase[[#This Row],[Vind (m/s)]]&\"-\"&Oljedatabase[[#This Row],[Tidspunkt (timer)]]","v":"Alta 2016-Vinterforhold-2-9"},{"$f":"Oljedatabase[[#This Row],[Sesong]]","v":"Vinterforhold"},5,2,"9",0.18,750,"Kjemisk dispergerbar",0.23,0.76,0,63,"Ingen eksplosjonsfare",5.9,"Kjemisk dispergerbar","Nei",0.94,"2016-02-09T01:00:00",827,"Troms",39,8060666,700176,"Alta 2016 Forvitringsrapport.pdf"]
["Alta 2016","Sommerforhold",{"$f":"Oljedatabase[[#This Row],[Oljetype]]&\"-\"&Oljedatabase[[#This Row],[SesongNy]]&\"-\"&Oljedatabase[[#This Row],[Vind (m/s)]]&\"-\"&Oljedatabase[[#This Row],[Tidspunkt (timer)]]","v":"Alta 2016-Sommerforhold-10-2"},{"$f":"Oljedatabase[[#This Row],[Sesong]]","v":"Sommerforhold"},10,10,"2",0.43,896,"Kjemisk dispergerbar",0.26,0.67,0.05,74,"Ingen eksplosjonsfare",8.5,"Kjemisk dispergerbar","Nei",1.2,"2016-02-09T01:00:00",827,"Troms",39,8060666,700176,"Alta 2016 Forvitringsrapport.pdf"]
["Alta 2016","Sommerforhold",{"$f":"Oljedatabase[[#This Row],[Oljetype]]&\"-\"&Oljedatabase[[#This Row],[SesongNy]]&\"-\"&Oljedatabase[[#This Row],[Vind (m/s)]]&\"-\"&Oljedatabase[[#This Row],[Tidspunkt (timer)]]","v":"Alta 2016-Sommerforhold-15-1"},{"$f":"Oljedatabase[[#This Row],[Sesong]]","v":"Sommerforhold"},10,15,"1",0.45,879,"Kjemisk dispergerbar",0.26,0.59,0.14000000000000001,73,"Ingen eksplosjonsfare",8.3000000000000007,"Kjemisk dispergerbar","Nei",1.0900000000000001,"2016-02-09T01:00:00",827,"Troms",39,8060666,700176,"Alta 2016 Forvitringsrapport.pdf"]
["Alta 2016","Vinterforhold",{"$f":"Oljedatabase[[#This Row],[Oljetype]]&\"-\"&Oljedatabase[[#This Row],[SesongNy]]&\"-\"&Oljedatabase[[#This Row],[Vind (m/s)]]&\"-\"&Oljedatabase[[#This Row],[Tidspunkt (timer)]]","v":"Alta 2016-Vinterforhold-2-6"},{"$f":"Oljedatabase[[#This Row],[Sesong]]","v":"Vinterforhold"},5,2,"6",0.13,586,"Kjemisk dispergerbar",0.21,0.78,0,58,"Eksplosjonsfare ved tanking",4.5,"Kjemisk dispergerbar","Nei",0.9,"2016-02-09T01:00:00",827,"Troms",39,8060666,700176,"Alta 2016 Forvitringsrapport.pdf"]
["Alta 2016","Sommerforhold",{"$f":"Oljedatabase[[#This Row],[Oljetype]]&\"-\"&Oljedatabase[[#This Row],[SesongNy]]&\"-\"&Oljedatabase[[#This Row],[Vind (m/s)]]&\"-\"&Oljedatabase[[#This Row],[Tidspunkt (timer)]]","v":"Alta 2016-Sommerforhold-5-120"},{"$f":"Oljedatabase[[#This Row],[Sesong]]","v":"Sommerforhold"},10,5,"120",0.8,3590,"Redusert kjemisk dispergerbarhet",0.38,0.5,0.11,117,"Ingen eksplosjonsfare",18.600000000000001,"Redusert kjemisk dispergerbarhet","Nei",2.52,"2016-02-09T01:00:00",827,"Troms",39,8060666,700176,"Alta 2016 Forvitringsrapport.pdf"]
["Alta 2016","Sommerforhold",{"$f":"Oljedatabase[[#This Row],[Oljetype]]&\"-\"&Oljedatabase[[#This Row],[SesongNy]]&\"-\"&Oljedatabase[[#This Row],[Vind (m/s)]]&\"-\"&Oljedatabase[[#This Row],[Tidspunkt (timer)]]","v":"Alta 2016-Sommerforhold-2-96"},{"$f":"Oljedatabase[[#This Row],[Sesong]]","v":"Sommerforhold"},10,2,"96",0.75,2280,"Redusert kjemisk dispergerbarhet",0.34,0.65,0,102,"Ingen eksplosjonsfare",15.1,"Redusert kjemisk dispergerbarhet","Nei",2.63,"2016-02-09T01:00:00",827,"Troms",39,8060666,700176,"Alta 2016 Forvitringsrapport.pdf"]
["Alta 2016","Sommerforhold",{"$f":"Oljedatabase[[#This Row],[Oljetype]]&\"-\"&Oljedatabase[[#This Row],[SesongNy]]&\"-\"&Oljedatabase[[#This Row],[Vind (m/s)]]&\"-\"&Oljedatabase[[#This Row],[Tidspunkt (timer)]]","v":"Alta 2016-Sommerforhold-5-12"},{"$f":"Oljedatabase[[#This Row],[Sesong]]","v":"Sommerforhold"},10,5,"12",0.6,1340,"Kjemisk dispergerbar",0.3,0.68,0.01,85,"Ingen eksplosjonsfare",11.2,"Kjemisk dispergerbar","Nei",1.74,"2016-02-09T01:00:00",827,"Troms",39,8060666,700176,"Alta 2016 Forvitringsrapport.pdf"]
["Alta 2016","Sommerforhold",{"$f":"Oljedatabase[[#This Row],[Oljetype]]&\"-\"&Oljedatabase[[#This Row],[SesongNy]]&\"-\"&Oljedatabase[[#This Row],[Vind (m/s)]]&\"-\"&Oljedatabase[[#This Row],[Tidspunkt (timer)]]","v":"Alta 2016-Sommerforhold-10-3"},{"$f":"Oljedatabase[[#This Row],[Sesong]]","v":"Sommerforhold"},10,10,"3",0.55000000000000004,1140,"Kjemisk dispergerbar",0.28000000000000003,0.63,0.08,80,"Ingen eksplosjonsfare",10,"Kjemisk dispergerbar","Nei",1.43,"2016-02-09T01:00:00",827,"Troms",39,8060666,700176,"Alta 2016 Forvitringsrapport.pdf"]
["Alta 2016","Sommerforhold",{"$f":"Oljedatabase[[#This Row],[Oljetype]]&\"-\"&Oljedatabase[[#This Row],[SesongNy]]&\"-\"&Oljedatabase[[#This Row],[Vind (m/s)]]&\"-\"&Oljedatabase[[#This Row],[Tidspunkt (timer)]]","v":"Alta 2016-Sommerforhold-2-3"},{"$f":"Oljedatabase[[#This Row],[Sesong]]","v":"Sommerforhold"},10,2,"3",0.06,326,"Kjemisk dispergerbar",0.19,0.8,0,51,"Eksplosjonsfare ved tanking",2.9,"Kjemisk dispergerbar","Nei",0.86,"2016-02-09T01:00:00",827,"Troms",39,8060666,700176,"Alta 2016 Forvitringsrapport.pdf"]
["Alta 2016","Sommerforhold",{"$f":"Oljedatabase[[#This Row],[Oljetype]]&\"-\"&Oljedatabase[[#This Row],[SesongNy]]&\"-\"&Oljedatabase[[#This Row],[Vind (m/s)]]&\"-\"&Oljedatabase[[#This Row],[Tidspunkt (timer)]]","v":"Alta 2016-Sommerforhold-15-96"},{"$f":"Oljedatabase[[#This Row],[Sesong]]","v":"Sommerforhold"},10,15,"96",0.8,6830,"Ikke kjemisk dispergerbar",0.33,0,0.66,142,"Ingen eksplosjonsfare",24,"Redusert kjemisk dispergerbarhet","Nei",0,"2016-02-09T01:00:00",827,"Troms",39,8060666,700176,"Alta 2016 Forvitringsrapport.pdf"]
["Alta 2016","Sommerforhold",{"$f":"Oljedatabase[[#This Row],[Oljetype]]&\"-\"&Oljedatabase[[#This Row],[SesongNy]]&\"-\"&Oljedatabase[[#This Row],[Vind (m/s)]]&\"-\"&Oljedatabase[[#This Row],[Tidspunkt (timer)]]","v":"Alta 2016-Sommerforhold-15-24"},{"$f":"Oljedatabase[[#This Row],[Sesong]]","v":"Sommerforhold"},10,15,"24",0.8,3770,"Redusert kjemisk dispergerbarhet",0.33,0.01,0.65,119,"Ingen eksplosjonsfare",19.100000000000001,"Redusert kjemisk dispergerbarhet","Nei",0.05,"2016-02-09T01:00:00",827,"Troms",39,8060666,700176,"Alta 2016 Forvitringsrapport.pdf"]
["Alta 2016","Vinterforhold",{"$f":"Oljedatabase[[#This Row],[Oljetype]]&\"-\"&Oljedatabase[[#This Row],[SesongNy]]&\"-\"&Oljedatabase[[#This Row],[Vind (m/s)]]&\"-\"&Oljedatabase[[#This Row],[Tidspunkt (timer)]]","v":"Alta 2016-Vinterforhold-2-12"},{"$f":"Oljedatabase[[#This Row],[Sesong]]","v":"Vinterforhold"},5,2,"12",0.23,894,"Kjemisk dispergerbar",0.24,0.75,0,67,"Ingen eksplosjonsfare",6.9,"Kjemisk dispergerbar","Nei",0.99,"2016-02-09T01:00:00",827,"Troms",39,8060666,700176,"Alta 2016 Forvitringsrapport.pdf"]
["Alta 2016","Sommerforhold",{"$f":"Oljedatabase[[#This Row],[Oljetype]]&\"-\"&Oljedatabase[[#This Row],[SesongNy]]&\"-\"&Oljedatabase[[#This Row],[Vind (m/s)]]&\"-\"&Oljedatabase[[#This Row],[Tidspunkt (timer)]]","v":"Alta 2016-Sommerforhold-10-6"},{"$f":"Oljedatabase[[#This Row],[Sesong]]","v":"Sommerforhold"},10,10,"6",0.72,1630,"Redusert kjemisk dispergerbarhet",0.31,0.54,0.14000000000000001,90,"Ingen eksplosjonsfare",12.4,"Kjemisk dispergerbar","Nei",2.0099999999999998,"2016-02-09T01:00:00",827,"Troms",39,8060666,700176,"Alta 2016 Forvitringsrapport.pdf"]
["Alta 2016","Sommerforhold",{"$f":"Oljedatabase[[#This Row],[Oljetype]]&\"-\"&Oljedatabase[[#This Row],[SesongNy]]&\"-\"&Oljedatabase[[#This Row],[Vind (m/s)]]&\"-\"&Oljedatabase[[#This Row],[Tidspunkt (timer)]]","v":"Alta 2016-Sommerforhold-2-1"},{"$f":"Oljedatabase[[#This Row],[Sesong]]","v":"Sommerforhold"},10,2,"1",0.02,154,"Kjemisk dispergerbar",0.13,0.86,0,31,"Eksplosjonsfare ved tanking",-2.2999999999999998,"Kjemisk dispergerbar","Nei",0.89,"2016-02-09T01:00:00",827,"Troms",39,8060666,700176,"Alta 2016 Forvitringsrapport.pdf"]
["Alta 2016","Sommerforhold",{"$f":"Oljedatabase[[#This Row],[Oljetype]]&\"-\"&Oljedatabase[[#This Row],[SesongNy]]&\"-\"&Oljedatabase[[#This Row],[Vind (m/s)]]&\"-\"&Oljedatabase[[#This Row],[Tidspunkt (timer)]]","v":"Alta 2016-Sommerforhold-5-24"},{"$f":"Oljedatabase[[#This Row],[Sesong]]","v":"Sommerforhold"},10,5,"24",0.75,1880,"Redusert kjemisk dispergerbarhet",0.32,0.64,0.03,95,"Ingen eksplosjonsfare",13.5,"Kjemisk dispergerbar","Nei",2.6,"2016-02-09T01:00:00",827,"Troms",39,8060666,700176,"Alta 2016 Forvitringsrapport.pdf"]
["Alta 2016","Sommerforhold",{"$f":"Oljedatabase[[#This Row],[Oljetype]]&\"-\"&Oljedatabase[[#This Row],[SesongNy]]&\"-\"&Oljedatabase[[#This Row],[Vind (m/s)]]&\"-\"&Oljedatabase[[#This Row],[Tidspunkt (timer)]]","v":"Alta 2016-Sommerforhold-10-12"},{"$f":"Oljedatabase[[#This Row],[Sesong]]","v":"Sommerforhold"},10,10,"12",0.79,2220,"Redusert kjemisk dispergerbarhet",0.33,0.43,0.23,100,"Ingen eksplosjonsfare",14.8,"Kjemisk dispergerbar","Nei",2.1,"2016-02-09T01:00:00",827,"Troms",39,8060666,700176,"Alta 2016 Forvitringsrapport.pdf"]
["Alta 2016","Sommerforhold",{"$f":"Oljedatabase[[#This Row],[Oljetype]]&\"-\"&Oljedatabase[[#This Row],[SesongNy]]&\"-\"&Oljedatabase[[#This Row],[Vind (m/s)]]&\"-\"&Oljedatabase[[#This Row],[Tidspunkt (timer)]]","v":"Alta 2016-Sommerforhold-2-12"},{"$f":"Oljedatabase[[#This Row],[Sesong]]","v":"Sommerforhold"},10,2,"12",0.23,750,"Kjemisk dispergerbar",0.26,0.73,0,72,"Ingen eksplosjonsfare",8.1,"Kjemisk dispergerbar","Nei",0.97,"2016-02-09T01:00:00",827,"Troms",39,8060666,700176,"Alta 2016 Forvitringsrapport.pdf"]
["Alta 2016","Sommerforhold",{"$f":"Oljedatabase[[#This Row],[Oljetype]]&\"-\"&Oljedatabase[[#This Row],[SesongNy]]&\"-\"&Oljedatabase[[#This Row],[Vind (m/s)]]&\"-\"&Oljedatabase[[#This Row],[Tidspunkt (timer)]]","v":"Alta 2016-Sommerforhold-10-1"},{"$f":"Oljedatabase[[#This Row],[Sesong]]","v":"Sommerforhold"},10,10,"1",0.26,567,"Kjemisk dispergerbar",0.23,0.73,0.03,63,"Ingen eksplosjonsfare",5.8,"Kjemisk dispergerbar","Nei",1,"2016-02-09T01:00:00",827,"Troms",39,8060666,700176,"Alta 2016 Forvitringsrapport.pdf"]
["Alta 2016","Sommerforhold",{"$f":"Oljedatabase[[#This Row],[Oljetype]]&\"-\"&Oljedatabase[[#This Row],[SesongNy]]&\"-\"&Oljedatabase[[#This Row],[Vind (m/s)]]&\"-\"&Oljedatabase[[#This Row],[Tidspunkt (timer)]]","v":"Alta 2016-Sommerforhold-10-72"},{"$f":"Oljedatabase[[#This Row],[Sesong]]","v":"Sommerforhold"},10,10,"72",0.8,4470,"Redusert kjemisk dispergerbarhet",0.37,7.0000000000000007E-2,0.54,126,"Ingen eksplosjonsfare",20.399999999999999,"Redusert kjemisk dispergerbarhet","Nei",0.38,"2016-02-09T01:00:00",827,"Troms",39,8060666,700176,"Alta 2016 Forvitringsrapport.pdf"]
["Alta 2016","Sommerforhold",{"$f":"Oljedatabase[[#This Row],[Oljetype]]&\"-\"&Oljedatabase[[#This Row],[SesongNy]]&\"-\"&Oljedatabase[[#This Row],[Vind (m/s)]]&\"-\"&Oljedatabase[[#This Row],[Tidspunkt (timer)]]","v":"Alta 2016-Sommerforhold-2-120"},{"$f":"Oljedatabase[[#This Row],[Sesong]]","v":"Sommerforhold"},10,2,"120",0.77,2510,"Redusert kjemisk dispergerbarhet",0.35,0.64,0,105,"Ingen eksplosjonsfare",15.8,"Redusert kjemisk dispergerbarhet","Nei",2.87,"2016-02-09T01:00:00",827,"Troms",39,8060666,700176,"Alta 2016 Forvitringsrapport.pdf"]
["Alta 2016","Sommerforhold",{"$f":"Oljedatabase[[#This Row],[Oljetype]]&\"-\"&Oljedatabase[[#This Row],[SesongNy]]&\"-\"&Oljedatabase[[#This Row],[Vind (m/s)]]&\"-\"&Oljedatabase[[#This Row],[Tidspunkt (timer)]]","v":"Alta 2016-Sommerforhold-5-3"},{"$f":"Oljedatabase[[#This Row],[Sesong]]","v":"Sommerforhold"},10,5,"3",0.23,589,"Kjemisk dispergerbar",0.23,0.75,0,64,"Ingen eksplosjonsfare",6.2,"Kjemisk dispergerbar","Nei",0.99,"2016-02-09T01:00:00",827,"Troms",39,8060666,700176,"Alta 2016 Forvitringsrapport.pdf"]
["Alta 2016","Sommerforhold",{"$f":"Oljedatabase[[#This Row],[Oljetype]]&\"-\"&Oljedatabase[[#This Row],[SesongNy]]&\"-\"&Oljedatabase[[#This Row],[Vind (m/s)]]&\"-\"&Oljedatabase[[#This Row],[Tidspunkt (timer)]]","v":"Alta 2016-Sommerforhold-10-120"},{"$f":"Oljedatabase[[#This Row],[Sesong]]","v":"Sommerforhold"},10,10,"120",0.8,5520,"Redusert kjemisk dispergerbarhet",0.38,0.02,0.59,134,"Ingen eksplosjonsfare",22.2,"Redusert kjemisk dispergerbarhet","Nei",0.12,"2016-02-09T01:00:00",827,"Troms",39,8060666,700176,"Alta 2016 Forvitringsrapport.pdf"]
["Alta 2016","Vinterforhold",{"$f":"Oljedatabase[[#This Row],[Oljetype]]&\"-\"&Oljedatabase[[#This Row],[SesongNy]]&\"-\"&Oljedatabase[[#This Row],[Vind (m/s)]]&\"-\"&Oljedatabase[[#This Row],[Tidspunkt (timer)]]","v":"Alta 2016-Vinterforhold-2-3"},{"$f":"Oljedatabase[[#This Row],[Sesong]]","v":"Vinterforhold"},5,2,"3",0.06,382,"Kjemisk dispergerbar",0.18,0.81,0,47,"Eksplosjonsfare ved tanking",1.9,"Kjemisk dispergerbar","Nei",0.87,"2016-02-09T01:00:00",827,"Troms",39,8060666,700176,"Alta 2016 Forvitringsrapport.pdf"]
["Alta 2016","Sommerforhold",{"$f":"Oljedatabase[[#This Row],[Oljetype]]&\"-\"&Oljedatabase[[#This Row],[SesongNy]]&\"-\"&Oljedatabase[[#This Row],[Vind (m/s)]]&\"-\"&Oljedatabase[[#This Row],[Tidspunkt (timer)]]","v":"Alta 2016-Sommerforhold-5-72"},{"$f":"Oljedatabase[[#This Row],[Sesong]]","v":"Sommerforhold"},10,5,"72",0.8,2950,"Redusert kjemisk dispergerbarhet",0.36,0.55000000000000004,7.0000000000000007E-2,110,"Ingen eksplosjonsfare",17.100000000000001,"Redusert kjemisk dispergerbarhet","Nei",2.78,"2016-02-09T01:00:00",827,"Troms",39,8060666,700176,"Alta 2016 Forvitringsrapport.pdf"]
["Alta 2016","Sommerforhold",{"$f":"Oljedatabase[[#This Row],[Oljetype]]&\"-\"&Oljedatabase[[#This Row],[SesongNy]]&\"-\"&Oljedatabase[[#This Row],[Vind (m/s)]]&\"-\"&Oljedatabase[[#This Row],[Tidspunkt (timer)]]","v":"Alta 2016-Sommerforhold-5-48"},{"$f":"Oljedatabase[[#This Row],[Sesong]]","v":"Sommerforhold"},10,5,"48",0.79,2520,"Redusert kjemisk dispergerbarhet",0.35,0.59,0.05,105,"Ingen eksplosjonsfare",15.8,"Redusert kjemisk dispergerbarhet","Nei",2.92,"2016-02-09T01:00:00",827,"Troms",39,8060666,700176,"Alta 2016 Forvitringsrapport.pdf"]
["Alta 2016","Sommerforhold",{"$f":"Oljedatabase[[#This Row],[Oljetype]]&\"-\"&Oljedatabase[[#This Row],[SesongNy]]&\"-\"&Oljedatabase[[#This Row],[Vind (m/s)]]&\"-\"&Oljedatabase[[#This Row],[Tidspunkt (timer)]]","v":"Alta 2016-Sommerforhold-15-72"},{"$f":"Oljedatabase[[#This Row],[Sesong]]","v":"Sommerforhold"},10,15,"72",0.8,5920,"Redusert kjemisk dispergerbarhet",0.33,0,0.66,136,"Ingen eksplosjonsfare",22.8,"Redusert kjemisk dispergerbarhet","Nei",0,"2016-02-09T01:00:00",827,"Troms",39,8060666,700176,"Alta 2016 Forvitringsrapport.pdf"]
["Alta 2016","Sommerforhold",{"$f":"Oljedatabase[[#This Row],[Oljetype]]&\"-\"&Oljedatabase[[#This Row],[SesongNy]]&\"-\"&Oljedatabase[[#This Row],[Vind (m/s)]]&\"-\"&Oljedatabase[[#This Row],[Tidspunkt (timer)]]","v":"Alta 2016-Sommerforhold-2-2"},{"$f":"Oljedatabase[[#This Row],[Sesong]]","v":"Sommerforhold"},10,2,"2",0.04,252,"Kjemisk dispergerbar",0.17,0.82,0,45,"Eksplosjonsfare ved tanking",1.2,"Kjemisk dispergerbar","Nei",0.86,"2016-02-09T01:00:00",827,"Troms",39,8060666,700176,"Alta 2016 Forvitringsrapport.pdf"]
["Alta 2016","Sommerforhold",{"$f":"Oljedatabase[[#This Row],[Oljetype]]&\"-\"&Oljedatabase[[#This Row],[SesongNy]]&\"-\"&Oljedatabase[[#This Row],[Vind (m/s)]]&\"-\"&Oljedatabase[[#This Row],[Tidspunkt (timer)]]","v":"Alta 2016-Sommerforhold-2-9"},{"$f":"Oljedatabase[[#This Row],[Sesong]]","v":"Sommerforhold"},10,2,"9",0.18,631,"Kjemisk dispergerbar",0.25,0.75,0,68,"Ingen eksplosjonsfare",7.1,"Kjemisk dispergerbar","Nei",0.92,"2016-02-09T01:00:00",827,"Troms",39,8060666,700176,"Alta 2016 Forvitringsrapport.pdf"]
["Alta 2016","Sommerforhold",{"$f":"Oljedatabase[[#This Row],[Oljetype]]&\"-\"&Oljedatabase[[#This Row],[SesongNy]]&\"-\"&Oljedatabase[[#This Row],[Vind (m/s)]]&\"-\"&Oljedatabase[[#This Row],[Tidspunkt (timer)]]","v":"Alta 2016-Sommerforhold-2-24"},{"$f":"Oljedatabase[[#This Row],[Sesong]]","v":"Sommerforhold"},10,2,"24",0.4,1130,"Kjemisk dispergerbar",0.28999999999999998,0.7,0,82,"Ingen eksplosjonsfare",10.5,"Kjemisk dispergerbar","Nei",1.19,"2016-02-09T01:00:00",827,"Troms",39,8060666,700176,"Alta 2016 Forvitringsrapport.pdf"]
["Alta 2016","Sommerforhold",{"$f":"Oljedatabase[[#This Row],[Oljetype]]&\"-\"&Oljedatabase[[#This Row],[SesongNy]]&\"-\"&Oljedatabase[[#This Row],[Vind (m/s)]]&\"-\"&Oljedatabase[[#This Row],[Tidspunkt (timer)]]","v":"Alta 2016-Sommerforhold-10-48"},{"$f":"Oljedatabase[[#This Row],[Sesong]]","v":"Sommerforhold"},10,10,"48",0.8,3820,"Redusert kjemisk dispergerbarhet",0.36,0.14000000000000001,0.48,120,"Ingen eksplosjonsfare",19.2,"Redusert kjemisk dispergerbarhet","Nei",0.74,"2016-02-09T01:00:00",827,"Troms",39,8060666,700176,"Alta 2016 Forvitringsrapport.pdf"]
["Alta 2016","Sommerforhold",{"$f":"Oljedatabase[[#This Row],[Oljetype]]&\"-\"&Oljedatabase[[#This Row],[SesongNy]]&\"-\"&Oljedatabase[[#This Row],[Vind (m/s)]]&\"-\"&Oljedatabase[[#This Row],[Tidspunkt (timer)]]","v":"Alta 2016-Sommerforhold-15-3"},{"$f":"Oljedatabase[[#This Row],[Sesong]]","v":"Sommerforhold"},10,15,"3",0.73,1610,"Redusert kjemisk dispergerbarhet",0.3,0.37,0.32,90,"Ingen eksplosjonsfare",12.3,"Kjemisk dispergerbar","Nei",1.42,"2016-02-09T01:00:00",827,"Troms",39,8060666,700176,"Alta 2016 Forvitringsrapport.pdf"]
["Alta 2016","Sommerforhold",{"$f":"Oljedatabase[[#This Row],[Oljetype]]&\"-\"&Oljedatabase[[#This Row],[SesongNy]]&\"-\"&Oljedatabase[[#This Row],[Vind (m/s)]]&\"-\"&Oljedatabase[[#This Row],[Tidspunkt (timer)]]","v":"Alta 2016-Sommerforhold-10-24"},{"$f":"Oljedatabase[[#This Row],[Sesong]]","v":"Sommerforhold"},10,10,"24",0.8,2930,"Redusert kjemisk dispergerbarhet",0.35,0.28999999999999998,0.35,110,"Ingen eksplosjonsfare",17,"Redusert kjemisk dispergerbarhet","Nei",1.47,"2016-02-09T01:00:00",827,"Troms",39,8060666,700176,"Alta 2016 Forvitringsrapport.pdf"]
["Alta 2016","Sommerforhold",{"$f":"Oljedatabase[[#This Row],[Oljetype]]&\"-\"&Oljedatabase[[#This Row],[SesongNy]]&\"-\"&Oljedatabase[[#This Row],[Vind (m/s)]]&\"-\"&Oljedatabase[[#This Row],[Tidspunkt (timer)]]","v":"Alta 2016-Sommerforhold-15-6"},{"$f":"Oljedatabase[[#This Row],[Sesong]]","v":"Sommerforhold"},10,15,"6",0.79,2190,"Redusert kjemisk dispergerbarhet",0.31,0.21,0.46,100,"Ingen eksplosjonsfare",14.6,"Kjemisk dispergerbar","Nei",1.04,"2016-02-09T01:00:00",827,"Troms",39,8060666,700176,"Alta 2016 Forvitringsrapport.pdf"]
["Alta 2016","Sommerforhold",{"$f":"Oljedatabase[[#This Row],[Oljetype]]&\"-\"&Oljedatabase[[#This Row],[SesongNy]]&\"-\"&Oljedatabase[[#This Row],[Vind (m/s)]]&\"-\"&Oljedatabase[[#This Row],[Tidspunkt (timer)]]","v":"Alta 2016-Sommerforhold-15-120"},{"$f":"Oljedatabase[[#This Row],[Sesong]]","v":"Sommerforhold"},10,15,"120",0.8,7690,"Ikke kjemisk dispergerbar",0.33,0,0.66,146,"Ingen eksplosjonsfare",24.9,"Redusert kjemisk dispergerbarhet","Nei",0,"2016-02-09T01:00:00",827,"Troms",39,8060666,700176,"Alta 2016 Forvitringsrapport.pdf"]
["Alta 2016","Vinterforhold",{"$f":"Oljedatabase[[#This Row],[Oljetype]]&\"-\"&Oljedatabase[[#This Row],[SesongNy]]&\"-\"&Oljedatabase[[#This Row],[Vind (m/s)]]&\"-\"&Oljedatabase[[#This Row],[Tidspunkt (timer)]]","v":"Alta 2016-Vinterforhold-5-24"},{"$f":"Oljedatabase[[#This Row],[Sesong]]","v":"Vinterforhold"},5,5,"24",0.75,2290,"Redusert kjemisk dispergerbarhet",0.31,0.65,0.02,89,"Ingen eksplosjonsfare",12.2,"Redusert kjemisk dispergerbarhet","Nei",2.67,"2016-02-09T01:00:00",827,"Troms",39,8060666,700176,"Alta 2016 Forvitringsrapport.pdf"]
["Alta 2016","Vinterforhold",{"$f":"Oljedatabase[[#This Row],[Oljetype]]&\"-\"&Oljedatabase[[#This Row],[SesongNy]]&\"-\"&Oljedatabase[[#This Row],[Vind (m/s)]]&\"-\"&Oljedatabase[[#This Row],[Tidspunkt (timer)]]","v":"Alta 2016-Vinterforhold-5-96"},{"$f":"Oljedatabase[[#This Row],[Sesong]]","v":"Vinterforhold"},5,5,"96",0.8,4120,"Redusert kjemisk dispergerbarhet",0.36,0.55000000000000004,0.08,108,"Ingen eksplosjonsfare",16.600000000000001,"Redusert kjemisk dispergerbarhet","Nei",2.76,"2016-02-09T01:00:00",827,"Troms",39,8060666,700176,"Alta 2016 Forvitringsrapport.pdf"]
["Alta 2016","Vinterforhold",{"$f":"Oljedatabase[[#This Row],[Oljetype]]&\"-\"&Oljedatabase[[#This Row],[SesongNy]]&\"-\"&Oljedatabase[[#This Row],[Vind (m/s)]]&\"-\"&Oljedatabase[[#This Row],[Tidspunkt (timer)]]","v":"Alta 2016-Vinterforhold-5-3"},{"$f":"Oljedatabase[[#This Row],[Sesong]]","v":"Vinterforhold"},5,5,"3",0.23,698,"Kjemisk dispergerbar",0.22,0.77,0,60,"Ingen eksplosjonsfare",5,"Kjemisk dispergerbar","Nei",1.01,"2016-02-09T01:00:00",827,"Troms",39,8060666,700176,"Alta 2016 Forvitringsrapport.pdf"]
["Alta 2016","Vinterforhold",{"$f":"Oljedatabase[[#This Row],[Oljetype]]&\"-\"&Oljedatabase[[#This Row],[SesongNy]]&\"-\"&Oljedatabase[[#This Row],[Vind (m/s)]]&\"-\"&Oljedatabase[[#This Row],[Tidspunkt (timer)]]","v":"Alta 2016-Vinterforhold-15-96"},{"$f":"Oljedatabase[[#This Row],[Sesong]]","v":"Vinterforhold"},5,15,"96",0.8,8250,"Ikke kjemisk dispergerbar",0.32,0,0.67,133,"Ingen eksplosjonsfare",22,"Lav/dårlig dispergerbarhet","Nei",0,"2016-02-09T01:00:00",827,"Troms",39,8060666,700176,"Alta 2016 Forvitringsrapport.pdf"]
["Kneler (Alvheim) 2009","Sommerforhold",{"$f":"Oljedatabase[[#This Row],[Oljetype]]&\"-\"&Oljedatabase[[#This Row],[SesongNy]]&\"-\"&Oljedatabase[[#This Row],[Vind (m/s)]]&\"-\"&Oljedatabase[[#This Row],[Tidspunkt (timer)]]","v":"Kneler (Alvheim) 2009-Sommerforhold-2-72"},{"$f":"Oljedatabase[[#This Row],[Sesong]]","v":"Sommerforhold"},15,2,"72",0.75,2000,"Redusert kjemisk dispergerbarhet",0.31,0.69,0,111,"Ingen eksplosjonsfare",14,"Kjemisk dispergerbar","Nei",2.76,"2009-03-08T01:00:00",832,"Vest-Agder til Hordaland",38,6675281,-231532,"Kneler (Alvheim) 2009 Forvitringsrapport.pdf"]
["Alta 2016","Vinterforhold",{"$f":"Oljedatabase[[#This Row],[Oljetype]]&\"-\"&Oljedatabase[[#This Row],[SesongNy]]&\"-\"&Oljedatabase[[#This Row],[Vind (m/s)]]&\"-\"&Oljedatabase[[#This Row],[Tidspunkt (timer)]]","v":"Alta 2016-Vinterforhold-10-9"},{"$f":"Oljedatabase[[#This Row],[Sesong]]","v":"Vinterforhold"},5,10,"9",0.77,2400,"Redusert kjemisk dispergerbarhet",0.31,0.51,0.17,90,"Ingen eksplosjonsfare",12.5,"Redusert kjemisk dispergerbarhet","Nei",2.31,"2016-02-09T01:00:00",827,"Troms",39,8060666,700176,"Alta 2016 Forvitringsrapport.pdf"]
["Alta 2016","Vinterforhold",{"$f":"Oljedatabase[[#This Row],[Oljetype]]&\"-\"&Oljedatabase[[#This Row],[SesongNy]]&\"-\"&Oljedatabase[[#This Row],[Vind (m/s)]]&\"-\"&Oljedatabase[[#This Row],[Tidspunkt (timer)]]","v":"Alta 2016-Vinterforhold-10-1"},{"$f":"Oljedatabase[[#This Row],[Sesong]]","v":"Vinterforhold"},5,10,"1",0.26,669,"Kjemisk dispergerbar",0.21,0.75,0.02,58,"Eksplosjonsfare ved tanking",4.5999999999999996,"Kjemisk dispergerbar","Nei",1.02,"2016-02-09T01:00:00",827,"Troms",39,8060666,700176,"Alta 2016 Forvitringsrapport.pdf"]
["Alta 2016","Vinterforhold",{"$f":"Oljedatabase[[#This Row],[Oljetype]]&\"-\"&Oljedatabase[[#This Row],[SesongNy]]&\"-\"&Oljedatabase[[#This Row],[Vind (m/s)]]&\"-\"&Oljedatabase[[#This Row],[Tidspunkt (timer)]]","v":"Alta 2016-Vinterforhold-10-12"},{"$f":"Oljedatabase[[#This Row],[Sesong]]","v":"Vinterforhold"},5,10,"12",0.79,2720,"Redusert kjemisk dispergerbarhet",0.31,0.46,0.21,94,"Ingen eksplosjonsfare",13.4,"Redusert kjemisk dispergerbarhet","Nei",2.2400000000000002,"2016-02-09T01:00:00",827,"Troms",39,8060666,700176,"Alta 2016 Forvitringsrapport.pdf"]
["Kneler (Alvheim) 2009","Sommerforhold",{"$f":"Oljedatabase[[#This Row],[Oljetype]]&\"-\"&Oljedatabase[[#This Row],[SesongNy]]&\"-\"&Oljedatabase[[#This Row],[Vind (m/s)]]&\"-\"&Oljedatabase[[#This Row],[Tidspunkt (timer)]]","v":"Kneler (Alvheim) 2009-Sommerforhold-2-48"},{"$f":"Oljedatabase[[#This Row],[Sesong]]","v":"Sommerforhold"},15,2,"48",0.7,1700,"Kjemisk dispergerbar",0.3,0.7,0,104,"Ingen eksplosjonsfare",13,"Kjemisk dispergerbar","Nei",2.33,"2009-03-08T01:00:00",832,"Vest-Agder til Hordaland",38,6675281,-231532,"Kneler (Alvheim) 2009 Forvitringsrapport.pdf"]
["Alta 2016","Vinterforhold",{"$f":"Oljedatabase[[#This Row],[Oljetype]]&\"-\"&Oljedatabase[[#This Row],[SesongNy]]&\"-\"&Oljedatabase[[#This Row],[Vind (m/s)]]&\"-\"&Oljedatabase[[#This Row],[Tidspunkt (timer)]]","v":"Alta 2016-Vinterforhold-5-6"},{"$f":"Oljedatabase[[#This Row],[Sesong]]","v":"Vinterforhold"},5,5,"6",0.4,1080,"Kjemisk dispergerbar",0.25,0.73,0,70,"Ingen eksplosjonsfare",7.5,"Kjemisk dispergerbar","Nei",1.24,"2016-02-09T01:00:00",827,"Troms",39,8060666,700176,"Alta 2016 Forvitringsrapport.pdf"]
["Alta 2016","Vinterforhold",{"$f":"Oljedatabase[[#This Row],[Oljetype]]&\"-\"&Oljedatabase[[#This Row],[SesongNy]]&\"-\"&Oljedatabase[[#This Row],[Vind (m/s)]]&\"-\"&Oljedatabase[[#This Row],[Tidspunkt (timer)]]","v":"Alta 2016-Vinterforhold-10-120"},{"$f":"Oljedatabase[[#This Row],[Sesong]]","v":"Vinterforhold"},5,10,"120",0.8,6860,"Ikke kjemisk dispergerbar",0.36,0.03,0.59,126,"Ingen eksplosjonsfare",20.5,"Lav/dårlig dispergerbarhet","Nei",0.17,"2016-02-09T01:00:00",827,"Troms",39,8060666,700176,"Alta 2016 Forvitringsrapport.pdf"]
["Alta 2016","Vinterforhold",{"$f":"Oljedatabase[[#This Row],[Oljetype]]&\"-\"&Oljedatabase[[#This Row],[SesongNy]]&\"-\"&Oljedatabase[[#This Row],[Vind (m/s)]]&\"-\"&Oljedatabase[[#This Row],[Tidspunkt (timer)]]","v":"Alta 2016-Vinterforhold-15-9"},{"$f":"Oljedatabase[[#This Row],[Sesong]]","v":"Vinterforhold"},5,15,"9",0.8,3180,"Redusert kjemisk dispergerbarhet",0.31,0.15,0.53,100,"Ingen eksplosjonsfare",14.6,"Redusert kjemisk dispergerbarhet","Nei",0.75,"2016-02-09T01:00:00",827,"Troms",39,8060666,700176,"Alta 2016 Forvitringsrapport.pdf"]
["Kneler (Alvheim) 2009","Sommerforhold",{"$f":"Oljedatabase[[#This Row],[Oljetype]]&\"-\"&Oljedatabase[[#This Row],[SesongNy]]&\"-\"&Oljedatabase[[#This Row],[Vind (m/s)]]&\"-\"&Oljedatabase[[#This Row],[Tidspunkt (timer)]]","v":"Kneler (Alvheim) 2009-Sommerforhold-2-24"},{"$f":"Oljedatabase[[#This Row],[Sesong]]","v":"Sommerforhold"},15,2,"24",0.56000000000000005,1200,"Kjemisk dispergerbar",0.27,0.73,0,95,"Ingen eksplosjonsfare",12,"Kjemisk dispergerbar","Nei",1.65,"2009-03-08T01:00:00",832,"Vest-Agder til Hordaland",38,6675281,-231532,"Kneler (Alvheim) 2009 Forvitringsrapport.pdf"]
["Kneler (Alvheim) 2009","Sommerforhold",{"$f":"Oljedatabase[[#This Row],[Oljetype]]&\"-\"&Oljedatabase[[#This Row],[SesongNy]]&\"-\"&Oljedatabase[[#This Row],[Vind (m/s)]]&\"-\"&Oljedatabase[[#This Row],[Tidspunkt (timer)]]","v":"Kneler (Alvheim) 2009-Sommerforhold-10-2"},{"$f":"Oljedatabase[[#This Row],[Sesong]]","v":"Sommerforhold"},15,10,"2",0.56999999999999995,910,"Kjemisk dispergerbar",0.25,0.69,0.06,86,"Ingen eksplosjonsfare",11,"Kjemisk dispergerbar","Nei",1.6,"2009-03-08T01:00:00",832,"Vest-Agder til Hordaland",38,6675281,-231532,"Kneler (Alvheim) 2009 Forvitringsrapport.pdf"]
["Kneler (Alvheim) 2009","Sommerforhold",{"$f":"Oljedatabase[[#This Row],[Oljetype]]&\"-\"&Oljedatabase[[#This Row],[SesongNy]]&\"-\"&Oljedatabase[[#This Row],[Vind (m/s)]]&\"-\"&Oljedatabase[[#This Row],[Tidspunkt (timer)]]","v":"Kneler (Alvheim) 2009-Sommerforhold-2-96"},{"$f":"Oljedatabase[[#This Row],[Sesong]]","v":"Sommerforhold"},15,2,"96",0.77,2400,"Redusert kjemisk dispergerbarhet",0.32,0.68,0,114,"Ingen eksplosjonsfare",15,"Kjemisk dispergerbar","Nei",2.95,"2009-03-08T01:00:00",832,"Vest-Agder til Hordaland",38,6675281,-231532,"Kneler (Alvheim) 2009 Forvitringsrapport.pdf"]
["Alta 2016","Vinterforhold",{"$f":"Oljedatabase[[#This Row],[Oljetype]]&\"-\"&Oljedatabase[[#This Row],[SesongNy]]&\"-\"&Oljedatabase[[#This Row],[Vind (m/s)]]&\"-\"&Oljedatabase[[#This Row],[Tidspunkt (timer)]]","v":"Alta 2016-Vinterforhold-15-120"},{"$f":"Oljedatabase[[#This Row],[Sesong]]","v":"Vinterforhold"},5,15,"120",0.8,9170,"Ikke kjemisk dispergerbar",0.32,0,0.67,136,"Ingen eksplosjonsfare",22.8,"Lav/dårlig dispergerbarhet","Nei",0,"2016-02-09T01:00:00",827,"Troms",39,8060666,700176,"Alta 2016 Forvitringsrapport.pdf"]
["Kneler (Alvheim) 2009","Sommerforhold",{"$f":"Oljedatabase[[#This Row],[Oljetype]]&\"-\"&Oljedatabase[[#This Row],[SesongNy]]&\"-\"&Oljedatabase[[#This Row],[Vind (m/s)]]&\"-\"&Oljedatabase[[#This Row],[Tidspunkt (timer)]]","v":"Kneler (Alvheim) 2009-Sommerforhold-2-3"},{"$f":"Oljedatabase[[#This Row],[Sesong]]","v":"Sommerforhold"},15,2,"3",0.17,420,"Kjemisk dispergerbar",0.19,0.81,0,64,"Ingen eksplosjonsfare",8,"Kjemisk dispergerbar","Nei",0.97,"2009-03-08T01:00:00",832,"Vest-Agder til Hordaland",38,6675281,-231532,"Kneler (Alvheim) 2009 Forvitringsrapport.pdf"]
["Alta 2016","Vinterforhold",{"$f":"Oljedatabase[[#This Row],[Oljetype]]&\"-\"&Oljedatabase[[#This Row],[SesongNy]]&\"-\"&Oljedatabase[[#This Row],[Vind (m/s)]]&\"-\"&Oljedatabase[[#This Row],[Tidspunkt (timer)]]","v":"Alta 2016-Vinterforhold-2-96"},{"$f":"Oljedatabase[[#This Row],[Sesong]]","v":"Vinterforhold"},5,2,"96",0.75,2800,"Redusert kjemisk dispergerbarhet",0.33,0.66,0,96,"Ingen eksplosjonsfare",13.7,"Redusert kjemisk dispergerbarhet","Nei",2.7,"2016-02-09T01:00:00",827,"Troms",39,8060666,700176,"Alta 2016 Forvitringsrapport.pdf"]
["Alta 2016","Vinterforhold",{"$f":"Oljedatabase[[#This Row],[Oljetype]]&\"-\"&Oljedatabase[[#This Row],[SesongNy]]&\"-\"&Oljedatabase[[#This Row],[Vind (m/s)]]&\"-\"&Oljedatabase[[#This Row],[Tidspunkt (timer)]]","v":"Alta 2016-Vinterforhold-2-48"},{"$f":"Oljedatabase[[#This Row],[Sesong]]","v":"Vinterforhold"},5,2,"48",0.6,2000,"Redusert kjemisk dispergerbarhet",0.3,0.69,0,86,"Ingen eksplosjonsfare",11.5,"Redusert kjemisk dispergerbarhet","Nei",1.77,"2016-02-09T01:00:00",827,"Troms",39,8060666,700176,"Alta 2016 Forvitringsrapport.pdf"]
["Alta 2016","Vinterforhold",{"$f":"Oljedatabase[[#This Row],[Oljetype]]&\"-\"&Oljedatabase[[#This Row],[SesongNy]]&\"-\"&Oljedatabase[[#This Row],[Vind (m/s)]]&\"-\"&Oljedatabase[[#This Row],[Tidspunkt (timer)]]","v":"Alta 2016-Vinterforhold-15-48"},{"$f":"Oljedatabase[[#This Row],[Sesong]]","v":"Vinterforhold"},5,15,"48",0.8,6200,"Ikke kjemisk dispergerbar",0.32,0,0.67,122,"Ingen eksplosjonsfare",19.7,"Redusert kjemisk dispergerbarhet","Nei",0,"2016-02-09T01:00:00",827,"Troms",39,8060666,700176,"Alta 2016 Forvitringsrapport.pdf"]
["Alta 2016","Vinterforhold",{"$f":"Oljedatabase[[#This Row],[Oljetype]]&\"-\"&Oljedatabase[[#This Row],[SesongNy]]&\"-\"&Oljedatabase[[#This Row],[Vind (m/s)]]&\"-\"&Oljedatabase[[#This Row],[Tidspunkt (timer)]]","v":"Alta 2016-Vinterforhold-5-120"},{"$f":"Oljedatabase[[#This Row],[Sesong]]","v":"Vinterforhold"},5,5,"120",0.8,4500,"Redusert kjemisk dispergerbarhet",0.37,0.52,0.1,111,"Ingen eksplosjonsfare",17.2,"Redusert kjemisk dispergerbarhet","Nei",2.64,"2016-02-09T01:00:00",827,"Troms",39,8060666,700176,"Alta 2016 Forvitringsrapport.pdf"]
["Kneler (Alvheim) 2009","Sommerforhold",{"$f":"Oljedatabase[[#This Row],[Oljetype]]&\"-\"&Oljedatabase[[#This Row],[SesongNy]]&\"-\"&Oljedatabase[[#This Row],[Vind (m/s)]]&\"-\"&Oljedatabase[[#This Row],[Tidspunkt (timer)]]","v":"Kneler (Alvheim) 2009-Sommerforhold-2-1"},{"$f":"Oljedatabase[[#This Row],[Sesong]]","v":"Sommerforhold"},15,2,"1",0.08,210,"Kjemisk dispergerbar",0.13,0.87,0,44,"Eksplosjonsfare ved tanking",5,"Kjemisk dispergerbar","Nei",0.94,"2009-03-08T01:00:00",832,"Vest-Agder til Hordaland",38,6675281,-231532,"Kneler (Alvheim) 2009 Forvitringsrapport.pdf"]
["Alta 2016","Vinterforhold",{"$f":"Oljedatabase[[#This Row],[Oljetype]]&\"-\"&Oljedatabase[[#This Row],[SesongNy]]&\"-\"&Oljedatabase[[#This Row],[Vind (m/s)]]&\"-\"&Oljedatabase[[#This Row],[Tidspunkt (timer)]]","v":"Alta 2016-Vinterforhold-10-24"},{"$f":"Oljedatabase[[#This Row],[Sesong]]","v":"Vinterforhold"},5,10,"24",0.8,3640,"Redusert kjemisk dispergerbarhet",0.33,0.32,0.33,104,"Ingen eksplosjonsfare",15.6,"Redusert kjemisk dispergerbarhet","Nei",1.63,"2016-02-09T01:00:00",827,"Troms",39,8060666,700176,"Alta 2016 Forvitringsrapport.pdf"]
["Alta 2016","Vinterforhold",{"$f":"Oljedatabase[[#This Row],[Oljetype]]&\"-\"&Oljedatabase[[#This Row],[SesongNy]]&\"-\"&Oljedatabase[[#This Row],[Vind (m/s)]]&\"-\"&Oljedatabase[[#This Row],[Tidspunkt (timer)]]","v":"Alta 2016-Vinterforhold-15-2"},{"$f":"Oljedatabase[[#This Row],[Sesong]]","v":"Vinterforhold"},5,15,"2",0.65,1580,"Redusert kjemisk dispergerbarhet",0.27,0.49,0.23,78,"Ingen eksplosjonsfare",9.6,"Kjemisk dispergerbar","Nei",1.41,"2016-02-09T01:00:00",827,"Troms",39,8060666,700176,"Alta 2016 Forvitringsrapport.pdf"]
["Alta 2016","Vinterforhold",{"$f":"Oljedatabase[[#This Row],[Oljetype]]&\"-\"&Oljedatabase[[#This Row],[SesongNy]]&\"-\"&Oljedatabase[[#This Row],[Vind (m/s)]]&\"-\"&Oljedatabase[[#This Row],[Tidspunkt (timer)]]","v":"Alta 2016-Vinterforhold-10-48"},{"$f":"Oljedatabase[[#This Row],[Sesong]]","v":"Vinterforhold"},5,10,"48",0.8,4790,"Redusert kjemisk dispergerbarhet",0.35,0.17,0.47,113,"Ingen eksplosjonsfare",17.7,"Redusert kjemisk dispergerbarhet","Nei",0.88,"2016-02-09T01:00:00",827,"Troms",39,8060666,700176,"Alta 2016 Forvitringsrapport.pdf"]
["Alta 2016","Vinterforhold",{"$f":"Oljedatabase[[#This Row],[Oljetype]]&\"-\"&Oljedatabase[[#This Row],[SesongNy]]&\"-\"&Oljedatabase[[#This Row],[Vind (m/s)]]&\"-\"&Oljedatabase[[#This Row],[Tidspunkt (timer)]]","v":"Alta 2016-Vinterforhold-15-3"},{"$f":"Oljedatabase[[#This Row],[Sesong]]","v":"Vinterforhold"},5,15,"3",0.73,1950,"Redusert kjemisk dispergerbarhet",0.28000000000000003,0.4,0.3,84,"Ingen eksplosjonsfare",11,"Redusert kjemisk dispergerbarhet","Nei",1.54,"2016-02-09T01:00:00",827,"Troms",39,8060666,700176,"Alta 2016 Forvitringsrapport.pdf"]
["Alta 2016","Vinterforhold",{"$f":"Oljedatabase[[#This Row],[Oljetype]]&\"-\"&Oljedatabase[[#This Row],[SesongNy]]&\"-\"&Oljedatabase[[#This Row],[Vind (m/s)]]&\"-\"&Oljedatabase[[#This Row],[Tidspunkt (timer)]]","v":"Alta 2016-Vinterforhold-10-3"},{"$f":"Oljedatabase[[#This Row],[Sesong]]","v":"Vinterforhold"},5,10,"3",0.55000000000000004,1370,"Kjemisk dispergerbar",0.26,0.65,7.0000000000000007E-2,75,"Ingen eksplosjonsfare",8.6999999999999993,"Kjemisk dispergerbar","Nei",1.48,"2016-02-09T01:00:00",827,"Troms",39,8060666,700176,"Alta 2016 Forvitringsrapport.pdf"]
["Alta 2016","Vinterforhold",{"$f":"Oljedatabase[[#This Row],[Oljetype]]&\"-\"&Oljedatabase[[#This Row],[SesongNy]]&\"-\"&Oljedatabase[[#This Row],[Vind (m/s)]]&\"-\"&Oljedatabase[[#This Row],[Tidspunkt (timer)]]","v":"Alta 2016-Vinterforhold-15-72"},{"$f":"Oljedatabase[[#This Row],[Sesong]]","v":"Vinterforhold"},5,15,"72",0.8,7290,"Ikke kjemisk dispergerbar",0.32,0,0.67,128,"Ingen eksplosjonsfare",21,"Lav/dårlig dispergerbarhet","Nei",0,"2016-02-09T01:00:00",827,"Troms",39,8060666,700176,"Alta 2016 Forvitringsrapport.pdf"]
["Alta 2016","Vinterforhold",{"$f":"Oljedatabase[[#This Row],[Oljetype]]&\"-\"&Oljedatabase[[#This Row],[SesongNy]]&\"-\"&Oljedatabase[[#This Row],[Vind (m/s)]]&\"-\"&Oljedatabase[[#This Row],[Tidspunkt (timer)]]","v":"Alta 2016-Vinterforhold-5-1"},{"$f":"Oljedatabase[[#This Row],[Sesong]]","v":"Vinterforhold"},5,5,"1",0.08,316,"Kjemisk dispergerbar",0.16,0.83,0,41,"Eksplosjonsfare ved tanking",0.3,"Kjemisk dispergerbar","Nei",0.91,"2016-02-09T01:00:00",827,"Troms",39,8060666,700176,"Alta 2016 Forvitringsrapport.pdf"]
["Kneler (Alvheim) 2009","Sommerforhold",{"$f":"Oljedatabase[[#This Row],[Oljetype]]&\"-\"&Oljedatabase[[#This Row],[SesongNy]]&\"-\"&Oljedatabase[[#This Row],[Vind (m/s)]]&\"-\"&Oljedatabase[[#This Row],[Tidspunkt (timer)]]","v":"Kneler (Alvheim) 2009-Sommerforhold-2-120"},{"$f":"Oljedatabase[[#This Row],[Sesong]]","v":"Sommerforhold"},15,2,"120",0.78,2500,"Redusert kjemisk dispergerbarhet",0.33,0.67,0,118,"Ingen eksplosjonsfare",15,"Kjemisk dispergerbar","Nei",3.04,"2009-03-08T01:00:00",832,"Vest-Agder til Hordaland",38,6675281,-231532,"Kneler (Alvheim) 2009 Forvitringsrapport.pdf"]
["Kneler (Alvheim) 2009","Sommerforhold",{"$f":"Oljedatabase[[#This Row],[Oljetype]]&\"-\"&Oljedatabase[[#This Row],[SesongNy]]&\"-\"&Oljedatabase[[#This Row],[Vind (m/s)]]&\"-\"&Oljedatabase[[#This Row],[Tidspunkt (timer)]]","v":"Kneler (Alvheim) 2009-Sommerforhold-2-2"},{"$f":"Oljedatabase[[#This Row],[Sesong]]","v":"Sommerforhold"},15,2,"2",0.13,330,"Kjemisk dispergerbar",0.17,0.83,0,57,"Eksplosjonsfare ved tanking",7,"Kjemisk dispergerbar","Nei",0.95,"2009-03-08T01:00:00",832,"Vest-Agder til Hordaland",38,6675281,-231532,"Kneler (Alvheim) 2009 Forvitringsrapport.pdf"]
["Alta 2016","Vinterforhold",{"$f":"Oljedatabase[[#This Row],[Oljetype]]&\"-\"&Oljedatabase[[#This Row],[SesongNy]]&\"-\"&Oljedatabase[[#This Row],[Vind (m/s)]]&\"-\"&Oljedatabase[[#This Row],[Tidspunkt (timer)]]","v":"Alta 2016-Vinterforhold-2-72"},{"$f":"Oljedatabase[[#This Row],[Sesong]]","v":"Vinterforhold"},5,2,"72",0.7,2450,"Redusert kjemisk dispergerbarhet",0.32,0.67,0,92,"Ingen eksplosjonsfare",12.8,"Redusert kjemisk dispergerbarhet","Nei",2.2999999999999998,"2016-02-09T01:00:00",827,"Troms",39,8060666,700176,"Alta 2016 Forvitringsrapport.pdf"]
["Alta 2016","Vinterforhold",{"$f":"Oljedatabase[[#This Row],[Oljetype]]&\"-\"&Oljedatabase[[#This Row],[SesongNy]]&\"-\"&Oljedatabase[[#This Row],[Vind (m/s)]]&\"-\"&Oljedatabase[[#This Row],[Tidspunkt (timer)]]","v":"Alta 2016-Vinterforhold-15-12"},{"$f":"Oljedatabase[[#This Row],[Sesong]]","v":"Vinterforhold"},5,15,"12",0.8,3590,"Redusert kjemisk dispergerbarhet",0.31,0.09,0.57999999999999996,104,"Ingen eksplosjonsfare",15.5,"Redusert kjemisk dispergerbarhet","Nei",0.49,"2016-02-09T01:00:00",827,"Troms",39,8060666,700176,"Alta 2016 Forvitringsrapport.pdf"]
["Alta 2016","Vinterforhold",{"$f":"Oljedatabase[[#This Row],[Oljetype]]&\"-\"&Oljedatabase[[#This Row],[SesongNy]]&\"-\"&Oljedatabase[[#This Row],[Vind (m/s)]]&\"-\"&Oljedatabase[[#This Row],[Tidspunkt (timer)]]","v":"Alta 2016-Vinterforhold-10-96"},{"$f":"Oljedatabase[[#This Row],[Sesong]]","v":"Vinterforhold"},5,10,"96",0.8,6280,"Ikke kjemisk dispergerbar",0.36,0.05,0.56999999999999995,123,"Ingen eksplosjonsfare",19.8,"Redusert kjemisk dispergerbarhet","Nei",0.28999999999999998,"2016-02-09T01:00:00",827,"Troms",39,8060666,700176,"Alta 2016 Forvitringsrapport.pdf"]
["Alta 2016","Vinterforhold",{"$f":"Oljedatabase[[#This Row],[Oljetype]]&\"-\"&Oljedatabase[[#This Row],[SesongNy]]&\"-\"&Oljedatabase[[#This Row],[Vind (m/s)]]&\"-\"&Oljedatabase[[#This Row],[Tidspunkt (timer)]]","v":"Alta 2016-Vinterforhold-2-120"},{"$f":"Oljedatabase[[#This Row],[Sesong]]","v":"Vinterforhold"},5,2,"120",0.77,3090,"Redusert kjemisk dispergerbarhet",0.34,0.65,0,99,"Ingen eksplosjonsfare",14.4,"Redusert kjemisk dispergerbarhet","Nei",2.95,"2016-02-09T01:00:00",827,"Troms",39,8060666,700176,"Alta 2016 Forvitringsrapport.pdf"]
["Alta 2016","Vinterforhold",{"$f":"Oljedatabase[[#This Row],[Oljetype]]&\"-\"&Oljedatabase[[#This Row],[SesongNy]]&\"-\"&Oljedatabase[[#This Row],[Vind (m/s)]]&\"-\"&Oljedatabase[[#This Row],[Tidspunkt (timer)]]","v":"Alta 2016-Vinterforhold-10-2"},{"$f":"Oljedatabase[[#This Row],[Sesong]]","v":"Vinterforhold"},5,10,"2",0.43,1070,"Kjemisk dispergerbar",0.25,0.69,0.05,69,"Ingen eksplosjonsfare",7.3,"Kjemisk dispergerbar","Nei",1.24,"2016-02-09T01:00:00",827,"Troms",39,8060666,700176,"Alta 2016 Forvitringsrapport.pdf"]
["Kneler (Alvheim) 2009","Sommerforhold",{"$f":"Oljedatabase[[#This Row],[Oljetype]]&\"-\"&Oljedatabase[[#This Row],[SesongNy]]&\"-\"&Oljedatabase[[#This Row],[Vind (m/s)]]&\"-\"&Oljedatabase[[#This Row],[Tidspunkt (timer)]]","v":"Kneler (Alvheim) 2009-Sommerforhold-2-9"},{"$f":"Oljedatabase[[#This Row],[Sesong]]","v":"Sommerforhold"},15,2,"9",0.33,720,"Kjemisk dispergerbar",0.23,0.77,0,81,"Ingen eksplosjonsfare",10,"Kjemisk dispergerbar","Nei",1.1399999999999999,"2009-03-08T01:00:00",832,"Vest-Agder til Hordaland",38,6675281,-231532,"Kneler (Alvheim) 2009 Forvitringsrapport.pdf"]
["Alta 2016","Vinterforhold",{"$f":"Oljedatabase[[#This Row],[Oljetype]]&\"-\"&Oljedatabase[[#This Row],[SesongNy]]&\"-\"&Oljedatabase[[#This Row],[Vind (m/s)]]&\"-\"&Oljedatabase[[#This Row],[Tidspunkt (timer)]]","v":"Alta 2016-Vinterforhold-10-72"},{"$f":"Oljedatabase[[#This Row],[Sesong]]","v":"Vinterforhold"},5,10,"72",0.8,5610,"Redusert kjemisk dispergerbarhet",0.36,0.09,0.54,119,"Ingen eksplosjonsfare",19,"Redusert kjemisk dispergerbarhet","Nei",0.5,"2016-02-09T01:00:00",827,"Troms",39,8060666,700176,"Alta 2016 Forvitringsrapport.pdf"]
["Kneler (Alvheim) 2009","Sommerforhold",{"$f":"Oljedatabase[[#This Row],[Oljetype]]&\"-\"&Oljedatabase[[#This Row],[SesongNy]]&\"-\"&Oljedatabase[[#This Row],[Vind (m/s)]]&\"-\"&Oljedatabase[[#This Row],[Tidspunkt (timer)]]","v":"Kneler (Alvheim) 2009-Sommerforhold-2-12"},{"$f":"Oljedatabase[[#This Row],[Sesong]]","v":"Sommerforhold"},15,2,"12",0.39,820,"Kjemisk dispergerbar",0.25,0.75,0,85,"Ingen eksplosjonsfare",11,"Kjemisk dispergerbar","Nei",1.22,"2009-03-08T01:00:00",832,"Vest-Agder til Hordaland",38,6675281,-231532,"Kneler (Alvheim) 2009 Forvitringsrapport.pdf"]
["Alta 2016","Vinterforhold",{"$f":"Oljedatabase[[#This Row],[Oljetype]]&\"-\"&Oljedatabase[[#This Row],[SesongNy]]&\"-\"&Oljedatabase[[#This Row],[Vind (m/s)]]&\"-\"&Oljedatabase[[#This Row],[Tidspunkt (timer)]]","v":"Alta 2016-Vinterforhold-15-24"},{"$f":"Oljedatabase[[#This Row],[Sesong]]","v":"Vinterforhold"},5,15,"24",0.8,4730,"Redusert kjemisk dispergerbarhet",0.32,0.01,0.66,113,"Ingen eksplosjonsfare",17.600000000000001,"Redusert kjemisk dispergerbarhet","Nei",0.09,"2016-02-09T01:00:00",827,"Troms",39,8060666,700176,"Alta 2016 Forvitringsrapport.pdf"]
["Alta 2016","Vinterforhold",{"$f":"Oljedatabase[[#This Row],[Oljetype]]&\"-\"&Oljedatabase[[#This Row],[SesongNy]]&\"-\"&Oljedatabase[[#This Row],[Vind (m/s)]]&\"-\"&Oljedatabase[[#This Row],[Tidspunkt (timer)]]","v":"Alta 2016-Vinterforhold-15-6"},{"$f":"Oljedatabase[[#This Row],[Sesong]]","v":"Vinterforhold"},5,15,"6",0.79,2680,"Redusert kjemisk dispergerbarhet",0.3,0.24,0.45,94,"Ingen eksplosjonsfare",13.3,"Redusert kjemisk dispergerbarhet","Nei",1.18,"2016-02-09T01:00:00",827,"Troms",39,8060666,700176,"Alta 2016 Forvitringsrapport.pdf"]
["Alta 2016","Vinterforhold",{"$f":"Oljedatabase[[#This Row],[Oljetype]]&\"-\"&Oljedatabase[[#This Row],[SesongNy]]&\"-\"&Oljedatabase[[#This Row],[Vind (m/s)]]&\"-\"&Oljedatabase[[#This Row],[Tidspunkt (timer)]]","v":"Alta 2016-Vinterforhold-5-48"},{"$f":"Oljedatabase[[#This Row],[Sesong]]","v":"Vinterforhold"},5,5,"48",0.79,3100,"Redusert kjemisk dispergerbarhet",0.33,0.61,0.05,99,"Ingen eksplosjonsfare",14.4,"Redusert kjemisk dispergerbarhet","Nei",3.01,"2016-02-09T01:00:00",827,"Troms",39,8060666,700176,"Alta 2016 Forvitringsrapport.pdf"]
["Kneler (Alvheim) 2009","Sommerforhold",{"$f":"Oljedatabase[[#This Row],[Oljetype]]&\"-\"&Oljedatabase[[#This Row],[SesongNy]]&\"-\"&Oljedatabase[[#This Row],[Vind (m/s)]]&\"-\"&Oljedatabase[[#This Row],[Tidspunkt (timer)]]","v":"Kneler (Alvheim) 2009-Sommerforhold-10-9"},{"$f":"Oljedatabase[[#This Row],[Sesong]]","v":"Sommerforhold"},15,10,"9",0.76,2000,"Kjemisk dispergerbar",0.3,0.51,0.19,109,"Ingen eksplosjonsfare",14,"Kjemisk dispergerbar","Nei",2.12,"2009-03-08T01:00:00",832,"Vest-Agder til Hordaland",38,6675281,-231532,"Kneler (Alvheim) 2009 Forvitringsrapport.pdf"]
["Alta 2016","Vinterforhold",{"$f":"Oljedatabase[[#This Row],[Oljetype]]&\"-\"&Oljedatabase[[#This Row],[SesongNy]]&\"-\"&Oljedatabase[[#This Row],[Vind (m/s)]]&\"-\"&Oljedatabase[[#This Row],[Tidspunkt (timer)]]","v":"Alta 2016-Vinterforhold-15-1"},{"$f":"Oljedatabase[[#This Row],[Sesong]]","v":"Vinterforhold"},5,15,"1",0.45,1050,"Kjemisk dispergerbar",0.24,0.61,0.13,68,"Ingen eksplosjonsfare",7.1,"Kjemisk dispergerbar","Nei",1.1299999999999999,"2016-02-09T01:00:00",827,"Troms",39,8060666,700176,"Alta 2016 Forvitringsrapport.pdf"]
["Alta 2016","Vinterforhold",{"$f":"Oljedatabase[[#This Row],[Oljetype]]&\"-\"&Oljedatabase[[#This Row],[SesongNy]]&\"-\"&Oljedatabase[[#This Row],[Vind (m/s)]]&\"-\"&Oljedatabase[[#This Row],[Tidspunkt (timer)]]","v":"Alta 2016-Vinterforhold-5-12"},{"$f":"Oljedatabase[[#This Row],[Sesong]]","v":"Vinterforhold"},5,5,"12",0.6,1620,"Redusert kjemisk dispergerbarhet",0.28000000000000003,0.69,0.01,80,"Ingen eksplosjonsfare",9.9,"Kjemisk dispergerbar","Nei",1.78,"2016-02-09T01:00:00",827,"Troms",39,8060666,700176,"Alta 2016 Forvitringsrapport.pdf"]
["Alta 2016","Vinterforhold",{"$f":"Oljedatabase[[#This Row],[Oljetype]]&\"-\"&Oljedatabase[[#This Row],[SesongNy]]&\"-\"&Oljedatabase[[#This Row],[Vind (m/s)]]&\"-\"&Oljedatabase[[#This Row],[Tidspunkt (timer)]]","v":"Alta 2016-Vinterforhold-5-9"},{"$f":"Oljedatabase[[#This Row],[Sesong]]","v":"Vinterforhold"},5,5,"9",0.52,1380,"Kjemisk dispergerbar",0.27,0.71,0.01,76,"Ingen eksplosjonsfare",8.9,"Kjemisk dispergerbar","Nei",1.51,"2016-02-09T01:00:00",827,"Troms",39,8060666,700176,"Alta 2016 Forvitringsrapport.pdf"]
["Alta 2016","Vinterforhold",{"$f":"Oljedatabase[[#This Row],[Oljetype]]&\"-\"&Oljedatabase[[#This Row],[SesongNy]]&\"-\"&Oljedatabase[[#This Row],[Vind (m/s)]]&\"-\"&Oljedatabase[[#This Row],[Tidspunkt (timer)]]","v":"Alta 2016-Vinterforhold-5-72"},{"$f":"Oljedatabase[[#This Row],[Sesong]]","v":"Vinterforhold"},5,5,"72",0.8,3670,"Redusert kjemisk dispergerbarhet",0.35,0.56999999999999995,0.06,104,"Ingen eksplosjonsfare",15.7,"Redusert kjemisk dispergerbarhet","Nei",2.89,"2016-02-09T01:00:00",827,"Troms",39,8060666,700176,"Alta 2016 Forvitringsrapport.pdf"]
["Kneler (Alvheim) 2009","Sommerforhold",{"$f":"Oljedatabase[[#This Row],[Oljetype]]&\"-\"&Oljedatabase[[#This Row],[SesongNy]]&\"-\"&Oljedatabase[[#This Row],[Vind (m/s)]]&\"-\"&Oljedatabase[[#This Row],[Tidspunkt (timer)]]","v":"Kneler (Alvheim) 2009-Sommerforhold-2-6"},{"$f":"Oljedatabase[[#This Row],[Sesong]]","v":"Sommerforhold"},15,2,"6",0.26,600,"Kjemisk dispergerbar",0.22,0.78,0,75,"Ingen eksplosjonsfare",10,"Kjemisk dispergerbar","Nei",1.05,"2009-03-08T01:00:00",832,"Vest-Agder til Hordaland",38,6675281,-231532,"Kneler (Alvheim) 2009 Forvitringsrapport.pdf"]
["Alta 2016","Vinterforhold",{"$f":"Oljedatabase[[#This Row],[Oljetype]]&\"-\"&Oljedatabase[[#This Row],[SesongNy]]&\"-\"&Oljedatabase[[#This Row],[Vind (m/s)]]&\"-\"&Oljedatabase[[#This Row],[Tidspunkt (timer)]]","v":"Alta 2016-Vinterforhold-10-6"},{"$f":"Oljedatabase[[#This Row],[Sesong]]","v":"Vinterforhold"},5,10,"6",0.72,1980,"Redusert kjemisk dispergerbarhet",0.28999999999999998,0.56999999999999995,0.13,85,"Ingen eksplosjonsfare",11.1,"Redusert kjemisk dispergerbarhet","Nei",2.1,"2016-02-09T01:00:00",827,"Troms",39,8060666,700176,"Alta 2016 Forvitringsrapport.pdf"]
["Kneler (Alvheim) 2009","Sommerforhold",{"$f":"Oljedatabase[[#This Row],[Oljetype]]&\"-\"&Oljedatabase[[#This Row],[SesongNy]]&\"-\"&Oljedatabase[[#This Row],[Vind (m/s)]]&\"-\"&Oljedatabase[[#This Row],[Tidspunkt (timer)]]","v":"Kneler (Alvheim) 2009-Sommerforhold-15-1"},{"$f":"Oljedatabase[[#This Row],[Sesong]]","v":"Sommerforhold"},15,15,"1",0.57999999999999996,900,"Ikke testet",0.24,0.62,0.14000000000000001,86,"Ingen eksplosjonsfare",11,"Kjemisk dispergerbar","Nei",1.47,"2009-03-08T01:00:00",832,"Vest-Agder til Hordaland",38,6675281,-231532,"Kneler (Alvheim) 2009 Forvitringsrapport.pdf"]
["Alta 2016","Vinterforhold",{"$f":"Oljedatabase[[#This Row],[Oljetype]]&\"-\"&Oljedatabase[[#This Row],[SesongNy]]&\"-\"&Oljedatabase[[#This Row],[Vind (m/s)]]&\"-\"&Oljedatabase[[#This Row],[Tidspunkt (timer)]]","v":"Alta 2016-Vinterforhold-5-2"},{"$f":"Oljedatabase[[#This Row],[Sesong]]","v":"Vinterforhold"},5,5,"2",0.16,530,"Kjemisk dispergerbar",0.2,0.79,0,53,"Eksplosjonsfare ved tanking",3.5,"Kjemisk dispergerbar","Nei",0.95,"2016-02-09T01:00:00",827,"Troms",39,8060666,700176,"Alta 2016 Forvitringsrapport.pdf"]
["Kneler (Alvheim) 2009","Sommerforhold",{"$f":"Oljedatabase[[#This Row],[Oljetype]]&\"-\"&Oljedatabase[[#This Row],[SesongNy]]&\"-\"&Oljedatabase[[#This Row],[Vind (m/s)]]&\"-\"&Oljedatabase[[#This Row],[Tidspunkt (timer)]]","v":"Kneler (Alvheim) 2009-Sommerforhold-15-120"},{"$f":"Oljedatabase[[#This Row],[Sesong]]","v":"Sommerforhold"},15,15,"120",0.78,9300,"Redusert kjemisk dispergerbarhet",0.31,0,0.69,167,"Ingen eksplosjonsfare",21,"Redusert kjemisk dispergerbarhet","Nei",0,"2009-03-08T01:00:00",832,"Vest-Agder til Hordaland",38,6675281,-231532,"Kneler (Alvheim) 2009 Forvitringsrapport.pdf"]
["Kneler (Alvheim) 2009","Vinterforhold",{"$f":"Oljedatabase[[#This Row],[Oljetype]]&\"-\"&Oljedatabase[[#This Row],[SesongNy]]&\"-\"&Oljedatabase[[#This Row],[Vind (m/s)]]&\"-\"&Oljedatabase[[#This Row],[Tidspunkt (timer)]]","v":"Kneler (Alvheim) 2009-Vinterforhold-2-9"},{"$f":"Oljedatabase[[#This Row],[Sesong]]","v":"Vinterforhold"},5,2,"9",0.26,1100,"Kjemisk dispergerbar",0.21,0.79,0,72,"Ingen eksplosjonsfare",9,"Kjemisk dispergerbar","Nei",1.06,"2009-03-08T01:00:00",832,"Vest-Agder til Hordaland",38,6675281,-231532,"Kneler (Alvheim) 2009 Forvitringsrapport.pdf"]
["Kneler (Alvheim) 2009","Sommerforhold",{"$f":"Oljedatabase[[#This Row],[Oljetype]]&\"-\"&Oljedatabase[[#This Row],[SesongNy]]&\"-\"&Oljedatabase[[#This Row],[Vind (m/s)]]&\"-\"&Oljedatabase[[#This Row],[Tidspunkt (timer)]]","v":"Kneler (Alvheim) 2009-Sommerforhold-5-96"},{"$f":"Oljedatabase[[#This Row],[Sesong]]","v":"Sommerforhold"},15,5,"96",0.78,3400,"Redusert kjemisk dispergerbarhet",0.35,0.56000000000000005,0.09,128,"Ingen eksplosjonsfare",16,"Kjemisk dispergerbar","Nei",2.54,"2009-03-08T01:00:00",832,"Vest-Agder til Hordaland",38,6675281,-231532,"Kneler (Alvheim) 2009 Forvitringsrapport.pdf"]
["Kneler (Alvheim) 2009","Vinterforhold",{"$f":"Oljedatabase[[#This Row],[Oljetype]]&\"-\"&Oljedatabase[[#This Row],[SesongNy]]&\"-\"&Oljedatabase[[#This Row],[Vind (m/s)]]&\"-\"&Oljedatabase[[#This Row],[Tidspunkt (timer)]]","v":"Kneler (Alvheim) 2009-Vinterforhold-5-3"},{"$f":"Oljedatabase[[#This Row],[Sesong]]","v":"Vinterforhold"},5,5,"3",0.32,960,"Kjemisk dispergerbar",0.2,0.8,0,68,"Ingen eksplosjonsfare",9,"Kjemisk dispergerbar","Nei",1.17,"2009-03-08T01:00:00",832,"Vest-Agder til Hordaland",38,6675281,-231532,"Kneler (Alvheim) 2009 Forvitringsrapport.pdf"]
["Kneler (Alvheim) 2009","Vinterforhold",{"$f":"Oljedatabase[[#This Row],[Oljetype]]&\"-\"&Oljedatabase[[#This Row],[SesongNy]]&\"-\"&Oljedatabase[[#This Row],[Vind (m/s)]]&\"-\"&Oljedatabase[[#This Row],[Tidspunkt (timer)]]","v":"Kneler (Alvheim) 2009-Vinterforhold-2-72"},{"$f":"Oljedatabase[[#This Row],[Sesong]]","v":"Vinterforhold"},5,2,"72",0.63,2900,"Redusert kjemisk dispergerbarhet",0.28000000000000003,0.72,0,99,"Ingen eksplosjonsfare",13,"Redusert kjemisk dispergerbarhet","Nei",1.94,"2009-03-08T01:00:00",832,"Vest-Agder til Hordaland",38,6675281,-231532,"Kneler (Alvheim) 2009 Forvitringsrapport.pdf"]
["Kneler (Alvheim) 2009","Sommerforhold",{"$f":"Oljedatabase[[#This Row],[Oljetype]]&\"-\"&Oljedatabase[[#This Row],[SesongNy]]&\"-\"&Oljedatabase[[#This Row],[Vind (m/s)]]&\"-\"&Oljedatabase[[#This Row],[Tidspunkt (timer)]]","v":"Kneler (Alvheim) 2009-Sommerforhold-5-3"},{"$f":"Oljedatabase[[#This Row],[Sesong]]","v":"Sommerforhold"},15,5,"3",0.38,650,"Kjemisk dispergerbar",0.22,0.78,0,77,"Ingen eksplosjonsfare",10,"Kjemisk dispergerbar","Nei",1.25,"2009-03-08T01:00:00",832,"Vest-Agder til Hordaland",38,6675281,-231532,"Kneler (Alvheim) 2009 Forvitringsrapport.pdf"]
["Kneler (Alvheim) 2009","Sommerforhold",{"$f":"Oljedatabase[[#This Row],[Oljetype]]&\"-\"&Oljedatabase[[#This Row],[SesongNy]]&\"-\"&Oljedatabase[[#This Row],[Vind (m/s)]]&\"-\"&Oljedatabase[[#This Row],[Tidspunkt (timer)]]","v":"Kneler (Alvheim) 2009-Sommerforhold-10-24"},{"$f":"Oljedatabase[[#This Row],[Sesong]]","v":"Sommerforhold"},15,10,"24",0.78,3000,"Redusert kjemisk dispergerbarhet",0.33,0.32,0.35,123,"Ingen eksplosjonsfare",16,"Kjemisk dispergerbar","Nei",1.45,"2009-03-08T01:00:00",832,"Vest-Agder til Hordaland",38,6675281,-231532,"Kneler (Alvheim) 2009 Forvitringsrapport.pdf"]
["Kneler (Alvheim) 2009","Sommerforhold",{"$f":"Oljedatabase[[#This Row],[Oljetype]]&\"-\"&Oljedatabase[[#This Row],[SesongNy]]&\"-\"&Oljedatabase[[#This Row],[Vind (m/s)]]&\"-\"&Oljedatabase[[#This Row],[Tidspunkt (timer)]]","v":"Kneler (Alvheim) 2009-Sommerforhold-15-2"},{"$f":"Oljedatabase[[#This Row],[Sesong]]","v":"Sommerforhold"},15,15,"2",0.71,1300,"Kjemisk dispergerbar",0.27,0.48,0.25,96,"Ingen eksplosjonsfare",12,"Kjemisk dispergerbar","Nei",1.65,"2009-03-08T01:00:00",832,"Vest-Agder til Hordaland",38,6675281,-231532,"Kneler (Alvheim) 2009 Forvitringsrapport.pdf"]
["Kneler (Alvheim) 2009","Sommerforhold",{"$f":"Oljedatabase[[#This Row],[Oljetype]]&\"-\"&Oljedatabase[[#This Row],[SesongNy]]&\"-\"&Oljedatabase[[#This Row],[Vind (m/s)]]&\"-\"&Oljedatabase[[#This Row],[Tidspunkt (timer)]]","v":"Kneler (Alvheim) 2009-Sommerforhold-10-120"},{"$f":"Oljedatabase[[#This Row],[Sesong]]","v":"Sommerforhold"},15,10,"120",0.78,6300,"Redusert kjemisk dispergerbarhet",0.36,0.03,0.61,152,"Ingen eksplosjonsfare",19,"Kjemisk dispergerbar","Nei",0.13,"2009-03-08T01:00:00",832,"Vest-Agder til Hordaland",38,6675281,-231532,"Kneler (Alvheim) 2009 Forvitringsrapport.pdf"]
["Kneler (Alvheim) 2009","Vinterforhold",{"$f":"Oljedatabase[[#This Row],[Oljetype]]&\"-\"&Oljedatabase[[#This Row],[SesongNy]]&\"-\"&Oljedatabase[[#This Row],[Vind (m/s)]]&\"-\"&Oljedatabase[[#This Row],[Tidspunkt (timer)]]","v":"Kneler (Alvheim) 2009-Vinterforhold-2-6"},{"$f":"Oljedatabase[[#This Row],[Sesong]]","v":"Vinterforhold"},5,2,"6",0.19,880,"Kjemisk dispergerbar",0.19,0.81,0,66,"Ingen eksplosjonsfare",8,"Kjemisk dispergerbar","Nei",1,"2009-03-08T01:00:00",832,"Vest-Agder til Hordaland",38,6675281,-231532,"Kneler (Alvheim) 2009 Forvitringsrapport.pdf"]
["Kneler (Alvheim) 2009","Vinterforhold",{"$f":"Oljedatabase[[#This Row],[Oljetype]]&\"-\"&Oljedatabase[[#This Row],[SesongNy]]&\"-\"&Oljedatabase[[#This Row],[Vind (m/s)]]&\"-\"&Oljedatabase[[#This Row],[Tidspunkt (timer)]]","v":"Kneler (Alvheim) 2009-Vinterforhold-2-3"},{"$f":"Oljedatabase[[#This Row],[Sesong]]","v":"Vinterforhold"},5,2,"3",0.11,610,"Kjemisk dispergerbar",0.16,0.84,0,56,"Eksplosjonsfare ved tanking",7,"Kjemisk dispergerbar","Nei",0.94,"2009-03-08T01:00:00",832,"Vest-Agder til Hordaland",38,6675281,-231532,"Kneler (Alvheim) 2009 Forvitringsrapport.pdf"]
["Kneler (Alvheim) 2009","Sommerforhold",{"$f":"Oljedatabase[[#This Row],[Oljetype]]&\"-\"&Oljedatabase[[#This Row],[SesongNy]]&\"-\"&Oljedatabase[[#This Row],[Vind (m/s)]]&\"-\"&Oljedatabase[[#This Row],[Tidspunkt (timer)]]","v":"Kneler (Alvheim) 2009-Sommerforhold-15-48"},{"$f":"Oljedatabase[[#This Row],[Sesong]]","v":"Sommerforhold"},15,15,"48",0.78,5500,"Redusert kjemisk dispergerbarhet",0.31,0,0.69,146,"Ingen eksplosjonsfare",18,"Kjemisk dispergerbar","Nei",0,"2009-03-08T01:00:00",832,"Vest-Agder til Hordaland",38,6675281,-231532,"Kneler (Alvheim) 2009 Forvitringsrapport.pdf"]
["Kneler (Alvheim) 2009","Vinterforhold",{"$f":"Oljedatabase[[#This Row],[Oljetype]]&\"-\"&Oljedatabase[[#This Row],[SesongNy]]&\"-\"&Oljedatabase[[#This Row],[Vind (m/s)]]&\"-\"&Oljedatabase[[#This Row],[Tidspunkt (timer)]]","v":"Kneler (Alvheim) 2009-Vinterforhold-5-2"},{"$f":"Oljedatabase[[#This Row],[Sesong]]","v":"Vinterforhold"},5,5,"2",0.23,750,"Kjemisk dispergerbar",0.18,0.82,0,62,"Ingen eksplosjonsfare",8,"Kjemisk dispergerbar","Nei",1.06,"2009-03-08T01:00:00",832,"Vest-Agder til Hordaland",38,6675281,-231532,"Kneler (Alvheim) 2009 Forvitringsrapport.pdf"]
["Kneler (Alvheim) 2009","Vinterforhold",{"$f":"Oljedatabase[[#This Row],[Oljetype]]&\"-\"&Oljedatabase[[#This Row],[SesongNy]]&\"-\"&Oljedatabase[[#This Row],[Vind (m/s)]]&\"-\"&Oljedatabase[[#This Row],[Tidspunkt (timer)]]","v":"Kneler (Alvheim) 2009-Vinterforhold-10-48"},{"$f":"Oljedatabase[[#This Row],[Sesong]]","v":"Vinterforhold"},5,10,"48",0.65,5800,"Redusert kjemisk dispergerbarhet",0.31,0.23,0.46,121,"Ingen eksplosjonsfare",15,"Redusert kjemisk dispergerbarhet","Nei",0.65,"2009-03-08T01:00:00",832,"Vest-Agder til Hordaland",38,6675281,-231532,"Kneler (Alvheim) 2009 Forvitringsrapport.pdf"]
["Kneler (Alvheim) 2009","Sommerforhold",{"$f":"Oljedatabase[[#This Row],[Oljetype]]&\"-\"&Oljedatabase[[#This Row],[SesongNy]]&\"-\"&Oljedatabase[[#This Row],[Vind (m/s)]]&\"-\"&Oljedatabase[[#This Row],[Tidspunkt (timer)]]","v":"Kneler (Alvheim) 2009-Sommerforhold-5-1"},{"$f":"Oljedatabase[[#This Row],[Sesong]]","v":"Sommerforhold"},15,5,"1",0.18,340,"Kjemisk dispergerbar",0.17,0.83,0,58,"Eksplosjonsfare ved tanking",7,"Kjemisk dispergerbar","Nei",1.01,"2009-03-08T01:00:00",832,"Vest-Agder til Hordaland",38,6675281,-231532,"Kneler (Alvheim) 2009 Forvitringsrapport.pdf"]
["Kneler (Alvheim) 2009","Sommerforhold",{"$f":"Oljedatabase[[#This Row],[Oljetype]]&\"-\"&Oljedatabase[[#This Row],[SesongNy]]&\"-\"&Oljedatabase[[#This Row],[Vind (m/s)]]&\"-\"&Oljedatabase[[#This Row],[Tidspunkt (timer)]]","v":"Kneler (Alvheim) 2009-Sommerforhold-15-3"},{"$f":"Oljedatabase[[#This Row],[Sesong]]","v":"Sommerforhold"},15,15,"3",0.74,1600,"Kjemisk dispergerbar",0.28000000000000003,0.4,0.32,102,"Ingen eksplosjonsfare",13,"Kjemisk dispergerbar","Nei",1.53,"2009-03-08T01:00:00",832,"Vest-Agder til Hordaland",38,6675281,-231532,"Kneler (Alvheim) 2009 Forvitringsrapport.pdf"]
["Kneler (Alvheim) 2009","Sommerforhold",{"$f":"Oljedatabase[[#This Row],[Oljetype]]&\"-\"&Oljedatabase[[#This Row],[SesongNy]]&\"-\"&Oljedatabase[[#This Row],[Vind (m/s)]]&\"-\"&Oljedatabase[[#This Row],[Tidspunkt (timer)]]","v":"Kneler (Alvheim) 2009-Sommerforhold-5-9"},{"$f":"Oljedatabase[[#This Row],[Sesong]]","v":"Sommerforhold"},15,5,"9",0.64,1200,"Kjemisk dispergerbar",0.27,0.72,0.01,93,"Ingen eksplosjonsfare",12,"Kjemisk dispergerbar","Nei",2,"2009-03-08T01:00:00",832,"Vest-Agder til Hordaland",38,6675281,-231532,"Kneler (Alvheim) 2009 Forvitringsrapport.pdf"]
["Kneler (Alvheim) 2009","Vinterforhold",{"$f":"Oljedatabase[[#This Row],[Oljetype]]&\"-\"&Oljedatabase[[#This Row],[SesongNy]]&\"-\"&Oljedatabase[[#This Row],[Vind (m/s)]]&\"-\"&Oljedatabase[[#This Row],[Tidspunkt (timer)]]","v":"Kneler (Alvheim) 2009-Vinterforhold-5-6"},{"$f":"Oljedatabase[[#This Row],[Sesong]]","v":"Vinterforhold"},5,5,"6",0.47,1400,"Kjemisk dispergerbar",0.22,0.77,0.01,78,"Ingen eksplosjonsfare",10,"Kjemisk dispergerbar","Nei",1.45,"2009-03-08T01:00:00",832,"Vest-Agder til Hordaland",38,6675281,-231532,"Kneler (Alvheim) 2009 Forvitringsrapport.pdf"]
["Alta 2016","Vinterforhold",{"$f":"Oljedatabase[[#This Row],[Oljetype]]&\"-\"&Oljedatabase[[#This Row],[SesongNy]]&\"-\"&Oljedatabase[[#This Row],[Vind (m/s)]]&\"-\"&Oljedatabase[[#This Row],[Tidspunkt (timer)]]","v":"Alta 2016-Vinterforhold-2-24"},{"$f":"Oljedatabase[[#This Row],[Sesong]]","v":"Vinterforhold"},5,2,"24",0.4,1360,"Kjemisk dispergerbar",0.27,0.72,0,77,"Ingen eksplosjonsfare",9.1999999999999993,"Kjemisk dispergerbar","Nei",1.22,"2016-02-09T01:00:00",827,"Troms",39,8060666,700176,"Alta 2016 Forvitringsrapport.pdf"]
["Kneler (Alvheim) 2009","Vinterforhold",{"$f":"Oljedatabase[[#This Row],[Oljetype]]&\"-\"&Oljedatabase[[#This Row],[SesongNy]]&\"-\"&Oljedatabase[[#This Row],[Vind (m/s)]]&\"-\"&Oljedatabase[[#This Row],[Tidspunkt (timer)]]","v":"Kneler (Alvheim) 2009-Vinterforhold-2-48"},{"$f":"Oljedatabase[[#This Row],[Sesong]]","v":"Vinterforhold"},5,2,"48",0.6,2400,"Redusert kjemisk dispergerbarhet",0.27,0.73,0,93,"Ingen eksplosjonsfare",12,"Redusert kjemisk dispergerbarhet","Nei",1.82,"2009-03-08T01:00:00",832,"Vest-Agder til Hordaland",38,6675281,-231532,"Kneler (Alvheim) 2009 Forvitringsrapport.pdf"]
["Kneler (Alvheim) 2009","Sommerforhold",{"$f":"Oljedatabase[[#This Row],[Oljetype]]&\"-\"&Oljedatabase[[#This Row],[SesongNy]]&\"-\"&Oljedatabase[[#This Row],[Vind (m/s)]]&\"-\"&Oljedatabase[[#This Row],[Tidspunkt (timer)]]","v":"Kneler (Alvheim) 2009-Sommerforhold-10-72"},{"$f":"Oljedatabase[[#This Row],[Sesong]]","v":"Sommerforhold"},15,10,"72",0.78,4900,"Redusert kjemisk dispergerbarhet",0.35,0.09,0.56000000000000005,141,"Ingen eksplosjonsfare",18,"Kjemisk dispergerbar","Nei",0.4,"2009-03-08T01:00:00",832,"Vest-Agder til Hordaland",38,6675281,-231532,"Kneler (Alvheim) 2009 Forvitringsrapport.pdf"]
["Kneler (Alvheim) 2009","Sommerforhold",{"$f":"Oljedatabase[[#This Row],[Oljetype]]&\"-\"&Oljedatabase[[#This Row],[SesongNy]]&\"-\"&Oljedatabase[[#This Row],[Vind (m/s)]]&\"-\"&Oljedatabase[[#This Row],[Tidspunkt (timer)]]","v":"Kneler (Alvheim) 2009-Sommerforhold-10-12"},{"$f":"Oljedatabase[[#This Row],[Sesong]]","v":"Sommerforhold"},15,10,"12",0.77,2300,"Redusert kjemisk dispergerbarhet",0.31,0.46,0.23,114,"Ingen eksplosjonsfare",14,"Kjemisk dispergerbar","Nei",2,"2009-03-08T01:00:00",832,"Vest-Agder til Hordaland",38,6675281,-231532,"Kneler (Alvheim) 2009 Forvitringsrapport.pdf"]
["Kneler (Alvheim) 2009","Sommerforhold",{"$f":"Oljedatabase[[#This Row],[Oljetype]]&\"-\"&Oljedatabase[[#This Row],[SesongNy]]&\"-\"&Oljedatabase[[#This Row],[Vind (m/s)]]&\"-\"&Oljedatabase[[#This Row],[Tidspunkt (timer)]]","v":"Kneler (Alvheim) 2009-Sommerforhold-5-24"},{"$f":"Oljedatabase[[#This Row],[Sesong]]","v":"Sommerforhold"},15,5,"24",0.75,1900,"Kjemisk dispergerbar",0.3,0.67,0.03,108,"Ingen eksplosjonsfare",14,"Kjemisk dispergerbar","Nei",2.68,"2009-03-08T01:00:00",832,"Vest-Agder til Hordaland",38,6675281,-231532,"Kneler (Alvheim) 2009 Forvitringsrapport.pdf"]
["Kneler (Alvheim) 2009","Vinterforhold",{"$f":"Oljedatabase[[#This Row],[Oljetype]]&\"-\"&Oljedatabase[[#This Row],[SesongNy]]&\"-\"&Oljedatabase[[#This Row],[Vind (m/s)]]&\"-\"&Oljedatabase[[#This Row],[Tidspunkt (timer)]]","v":"Kneler (Alvheim) 2009-Vinterforhold-2-2"},{"$f":"Oljedatabase[[#This Row],[Sesong]]","v":"Vinterforhold"},5,2,"2",7.0000000000000007E-2,470,"Kjemisk dispergerbar",0.15,0.85,0,50,"Eksplosjonsfare ved tanking",6,"Kjemisk dispergerbar","Nei",0.91,"2009-03-08T01:00:00",832,"Vest-Agder til Hordaland",38,6675281,-231532,"Kneler (Alvheim) 2009 Forvitringsrapport.pdf"]
["Kneler (Alvheim) 2009","Sommerforhold",{"$f":"Oljedatabase[[#This Row],[Oljetype]]&\"-\"&Oljedatabase[[#This Row],[SesongNy]]&\"-\"&Oljedatabase[[#This Row],[Vind (m/s)]]&\"-\"&Oljedatabase[[#This Row],[Tidspunkt (timer)]]","v":"Kneler (Alvheim) 2009-Sommerforhold-10-3"},{"$f":"Oljedatabase[[#This Row],[Sesong]]","v":"Sommerforhold"},15,10,"3",0.66,1200,"Kjemisk dispergerbar",0.26,0.66,0.08,93,"Ingen eksplosjonsfare",12,"Kjemisk dispergerbar","Nei",1.94,"2009-03-08T01:00:00",832,"Vest-Agder til Hordaland",38,6675281,-231532,"Kneler (Alvheim) 2009 Forvitringsrapport.pdf"]
["Kneler (Alvheim) 2009","Vinterforhold",{"$f":"Oljedatabase[[#This Row],[Oljetype]]&\"-\"&Oljedatabase[[#This Row],[SesongNy]]&\"-\"&Oljedatabase[[#This Row],[Vind (m/s)]]&\"-\"&Oljedatabase[[#This Row],[Tidspunkt (timer)]]","v":"Kneler (Alvheim) 2009-Vinterforhold-2-12"},{"$f":"Oljedatabase[[#This Row],[Sesong]]","v":"Vinterforhold"},5,2,"12",0.32,1200,"Kjemisk dispergerbar",0.22,0.78,0,75,"Ingen eksplosjonsfare",10,"Kjemisk dispergerbar","Nei",1.1399999999999999,"2009-03-08T01:00:00",832,"Vest-Agder til Hordaland",38,6675281,-231532,"Kneler (Alvheim) 2009 Forvitringsrapport.pdf"]
["Kneler (Alvheim) 2009","Sommerforhold",{"$f":"Oljedatabase[[#This Row],[Oljetype]]&\"-\"&Oljedatabase[[#This Row],[SesongNy]]&\"-\"&Oljedatabase[[#This Row],[Vind (m/s)]]&\"-\"&Oljedatabase[[#This Row],[Tidspunkt (timer)]]","v":"Kneler (Alvheim) 2009-Sommerforhold-15-12"},{"$f":"Oljedatabase[[#This Row],[Sesong]]","v":"Sommerforhold"},15,15,"12",0.78,3000,"Redusert kjemisk dispergerbarhet",0.3,0.09,0.61,123,"Ingen eksplosjonsfare",15,"Kjemisk dispergerbar","Nei",0.4,"2009-03-08T01:00:00",832,"Vest-Agder til Hordaland",38,6675281,-231532,"Kneler (Alvheim) 2009 Forvitringsrapport.pdf"]
["Kneler (Alvheim) 2009","Vinterforhold",{"$f":"Oljedatabase[[#This Row],[Oljetype]]&\"-\"&Oljedatabase[[#This Row],[SesongNy]]&\"-\"&Oljedatabase[[#This Row],[Vind (m/s)]]&\"-\"&Oljedatabase[[#This Row],[Tidspunkt (timer)]]","v":"Kneler (Alvheim) 2009-Vinterforhold-5-9"},{"$f":"Oljedatabase[[#This Row],[Sesong]]","v":"Vinterforhold"},5,5,"9",0.56000000000000005,1700,"Kjemisk dispergerbar",0.24,0.75,0.01,83,"Ingen eksplosjonsfare",11,"Redusert kjemisk dispergerbarhet","Nei",1.7,"2009-03-08T01:00:00",832,"Vest-Agder til Hordaland",38,6675281,-231532,"Kneler (Alvheim) 2009 Forvitringsrapport.pdf"]
["Kneler (Alvheim) 2009","Sommerforhold",{"$f":"Oljedatabase[[#This Row],[Oljetype]]&\"-\"&Oljedatabase[[#This Row],[SesongNy]]&\"-\"&Oljedatabase[[#This Row],[Vind (m/s)]]&\"-\"&Oljedatabase[[#This Row],[Tidspunkt (timer)]]","v":"Kneler (Alvheim) 2009-Sommerforhold-5-120"},{"$f":"Oljedatabase[[#This Row],[Sesong]]","v":"Sommerforhold"},15,5,"120",0.78,3700,"Redusert kjemisk dispergerbarhet",0.35,0.54,0.11,132,"Ingen eksplosjonsfare",17,"Kjemisk dispergerbar","Nei",2.4500000000000002,"2009-03-08T01:00:00",832,"Vest-Agder til Hordaland",38,6675281,-231532,"Kneler (Alvheim) 2009 Forvitringsrapport.pdf"]
["Kneler (Alvheim) 2009","Sommerforhold",{"$f":"Oljedatabase[[#This Row],[Oljetype]]&\"-\"&Oljedatabase[[#This Row],[SesongNy]]&\"-\"&Oljedatabase[[#This Row],[Vind (m/s)]]&\"-\"&Oljedatabase[[#This Row],[Tidspunkt (timer)]]","v":"Kneler (Alvheim) 2009-Sommerforhold-10-48"},{"$f":"Oljedatabase[[#This Row],[Sesong]]","v":"Sommerforhold"},15,10,"48",0.78,3600,"Redusert kjemisk dispergerbarhet",0.34,0.17,0.49,134,"Ingen eksplosjonsfare",17,"Kjemisk dispergerbar","Nei",0.77,"2009-03-08T01:00:00",832,"Vest-Agder til Hordaland",38,6675281,-231532,"Kneler (Alvheim) 2009 Forvitringsrapport.pdf"]
["Kneler (Alvheim) 2009","Vinterforhold",{"$f":"Oljedatabase[[#This Row],[Oljetype]]&\"-\"&Oljedatabase[[#This Row],[SesongNy]]&\"-\"&Oljedatabase[[#This Row],[Vind (m/s)]]&\"-\"&Oljedatabase[[#This Row],[Tidspunkt (timer)]]","v":"Kneler (Alvheim) 2009-Vinterforhold-5-12"},{"$f":"Oljedatabase[[#This Row],[Sesong]]","v":"Vinterforhold"},5,5,"12",0.6,2000,"Kjemisk dispergerbar",0.25,0.73,0.02,87,"Ingen eksplosjonsfare",11,"Redusert kjemisk dispergerbarhet","Nei",1.82,"2009-03-08T01:00:00",832,"Vest-Agder til Hordaland",38,6675281,-231532,"Kneler (Alvheim) 2009 Forvitringsrapport.pdf"]
["Kneler (Alvheim) 2009","Vinterforhold",{"$f":"Oljedatabase[[#This Row],[Oljetype]]&\"-\"&Oljedatabase[[#This Row],[SesongNy]]&\"-\"&Oljedatabase[[#This Row],[Vind (m/s)]]&\"-\"&Oljedatabase[[#This Row],[Tidspunkt (timer)]]","v":"Kneler (Alvheim) 2009-Vinterforhold-15-24"},{"$f":"Oljedatabase[[#This Row],[Sesong]]","v":"Vinterforhold"},5,15,"24",0.65,5900,"Redusert kjemisk dispergerbarhet",0.28999999999999998,0.03,0.68,119,"Ingen eksplosjonsfare",15,"Redusert kjemisk dispergerbarhet","Nei",0.08,"2009-03-08T01:00:00",832,"Vest-Agder til Hordaland",38,6675281,-231532,"Kneler (Alvheim) 2009 Forvitringsrapport.pdf"]
["Kneler (Alvheim) 2009","Vinterforhold",{"$f":"Oljedatabase[[#This Row],[Oljetype]]&\"-\"&Oljedatabase[[#This Row],[SesongNy]]&\"-\"&Oljedatabase[[#This Row],[Vind (m/s)]]&\"-\"&Oljedatabase[[#This Row],[Tidspunkt (timer)]]","v":"Kneler (Alvheim) 2009-Vinterforhold-2-1"},{"$f":"Oljedatabase[[#This Row],[Sesong]]","v":"Vinterforhold"},5,2,"1",0.04,290,"Kjemisk dispergerbar",0.11,0.89,0,36,"Eksplosjonsfare ved tanking",4,"Kjemisk dispergerbar","Nei",0.92,"2009-03-08T01:00:00",832,"Vest-Agder til Hordaland",38,6675281,-231532,"Kneler (Alvheim) 2009 Forvitringsrapport.pdf"]
["Kneler (Alvheim) 2009","Sommerforhold",{"$f":"Oljedatabase[[#This Row],[Oljetype]]&\"-\"&Oljedatabase[[#This Row],[SesongNy]]&\"-\"&Oljedatabase[[#This Row],[Vind (m/s)]]&\"-\"&Oljedatabase[[#This Row],[Tidspunkt (timer)]]","v":"Kneler (Alvheim) 2009-Sommerforhold-10-96"},{"$f":"Oljedatabase[[#This Row],[Sesong]]","v":"Sommerforhold"},15,10,"96",0.78,5600,"Redusert kjemisk dispergerbarhet",0.36,0.05,0.59,147,"Ingen eksplosjonsfare",18,"Kjemisk dispergerbar","Nei",0.22,"2009-03-08T01:00:00",832,"Vest-Agder til Hordaland",38,6675281,-231532,"Kneler (Alvheim) 2009 Forvitringsrapport.pdf"]
["Kneler (Alvheim) 2009","Sommerforhold",{"$f":"Oljedatabase[[#This Row],[Oljetype]]&\"-\"&Oljedatabase[[#This Row],[SesongNy]]&\"-\"&Oljedatabase[[#This Row],[Vind (m/s)]]&\"-\"&Oljedatabase[[#This Row],[Tidspunkt (timer)]]","v":"Kneler (Alvheim) 2009-Sommerforhold-15-24"},{"$f":"Oljedatabase[[#This Row],[Sesong]]","v":"Sommerforhold"},15,15,"24",0.78,4000,"Redusert kjemisk dispergerbarhet",0.31,0.02,0.67,134,"Ingen eksplosjonsfare",17,"Kjemisk dispergerbar","Nei",0.09,"2009-03-08T01:00:00",832,"Vest-Agder til Hordaland",38,6675281,-231532,"Kneler (Alvheim) 2009 Forvitringsrapport.pdf"]
["Kneler (Alvheim) 2009","Vinterforhold",{"$f":"Oljedatabase[[#This Row],[Oljetype]]&\"-\"&Oljedatabase[[#This Row],[SesongNy]]&\"-\"&Oljedatabase[[#This Row],[Vind (m/s)]]&\"-\"&Oljedatabase[[#This Row],[Tidspunkt (timer)]]","v":"Kneler (Alvheim) 2009-Vinterforhold-2-24"},{"$f":"Oljedatabase[[#This Row],[Sesong]]","v":"Vinterforhold"},5,2,"24",0.48,1700,"Kjemisk dispergerbar",0.24,0.76,0,84,"Ingen eksplosjonsfare",11,"Redusert kjemisk dispergerbarhet","Nei",1.46,"2009-03-08T01:00:00",832,"Vest-Agder til Hordaland",38,6675281,-231532,"Kneler (Alvheim) 2009 Forvitringsrapport.pdf"]
["Kneler (Alvheim) 2009","Sommerforhold",{"$f":"Oljedatabase[[#This Row],[Oljetype]]&\"-\"&Oljedatabase[[#This Row],[SesongNy]]&\"-\"&Oljedatabase[[#This Row],[Vind (m/s)]]&\"-\"&Oljedatabase[[#This Row],[Tidspunkt (timer)]]","v":"Kneler (Alvheim) 2009-Sommerforhold-5-48"},{"$f":"Oljedatabase[[#This Row],[Sesong]]","v":"Sommerforhold"},15,5,"48",0.78,2500,"Redusert kjemisk dispergerbarhet",0.32,0.63,0.05,118,"Ingen eksplosjonsfare",15,"Kjemisk dispergerbar","Nei",2.86,"2009-03-08T01:00:00",832,"Vest-Agder til Hordaland",38,6675281,-231532,"Kneler (Alvheim) 2009 Forvitringsrapport.pdf"]
["Kneler (Alvheim) 2009","Sommerforhold",{"$f":"Oljedatabase[[#This Row],[Oljetype]]&\"-\"&Oljedatabase[[#This Row],[SesongNy]]&\"-\"&Oljedatabase[[#This Row],[Vind (m/s)]]&\"-\"&Oljedatabase[[#This Row],[Tidspunkt (timer)]]","v":"Kneler (Alvheim) 2009-Sommerforhold-5-12"},{"$f":"Oljedatabase[[#This Row],[Sesong]]","v":"Sommerforhold"},15,5,"12",0.69,1300,"Kjemisk dispergerbar",0.28000000000000003,0.7,0.02,98,"Ingen eksplosjonsfare",12,"Kjemisk dispergerbar","Nei",2.25,"2009-03-08T01:00:00",832,"Vest-Agder til Hordaland",38,6675281,-231532,"Kneler (Alvheim) 2009 Forvitringsrapport.pdf"]
["Kneler (Alvheim) 2009","Vinterforhold",{"$f":"Oljedatabase[[#This Row],[Oljetype]]&\"-\"&Oljedatabase[[#This Row],[SesongNy]]&\"-\"&Oljedatabase[[#This Row],[Vind (m/s)]]&\"-\"&Oljedatabase[[#This Row],[Tidspunkt (timer)]]","v":"Kneler (Alvheim) 2009-Vinterforhold-10-120"},{"$f":"Oljedatabase[[#This Row],[Sesong]]","v":"Vinterforhold"},5,10,"120",0.65,8600,"Redusert kjemisk dispergerbarhet",0.33,0.06,0.61,133,"Ingen eksplosjonsfare",17,"Redusert kjemisk dispergerbarhet","Nei",0.17,"2009-03-08T01:00:00",832,"Vest-Agder til Hordaland",38,6675281,-231532,"Kneler (Alvheim) 2009 Forvitringsrapport.pdf"]
["Kneler (Alvheim) 2009","Sommerforhold",{"$f":"Oljedatabase[[#This Row],[Oljetype]]&\"-\"&Oljedatabase[[#This Row],[SesongNy]]&\"-\"&Oljedatabase[[#This Row],[Vind (m/s)]]&\"-\"&Oljedatabase[[#This Row],[Tidspunkt (timer)]]","v":"Kneler (Alvheim) 2009-Sommerforhold-15-9"},{"$f":"Oljedatabase[[#This Row],[Sesong]]","v":"Sommerforhold"},15,15,"9",0.78,2600,"Redusert kjemisk dispergerbarhet",0.3,0.14000000000000001,0.56000000000000005,118,"Ingen eksplosjonsfare",15,"Kjemisk dispergerbar","Nei",0.63,"2009-03-08T01:00:00",832,"Vest-Agder til Hordaland",38,6675281,-231532,"Kneler (Alvheim) 2009 Forvitringsrapport.pdf"]
["Kneler (Alvheim) 2009","Sommerforhold",{"$f":"Oljedatabase[[#This Row],[Oljetype]]&\"-\"&Oljedatabase[[#This Row],[SesongNy]]&\"-\"&Oljedatabase[[#This Row],[Vind (m/s)]]&\"-\"&Oljedatabase[[#This Row],[Tidspunkt (timer)]]","v":"Kneler (Alvheim) 2009-Sommerforhold-5-6"},{"$f":"Oljedatabase[[#This Row],[Sesong]]","v":"Sommerforhold"},15,5,"6",0.55000000000000004,940,"Kjemisk dispergerbar",0.25,0.74,0.01,88,"Ingen eksplosjonsfare",11,"Kjemisk dispergerbar","Nei",1.64,"2009-03-08T01:00:00",832,"Vest-Agder til Hordaland",38,6675281,-231532,"Kneler (Alvheim) 2009 Forvitringsrapport.pdf"]
["Kneler (Alvheim) 2009","Vinterforhold",{"$f":"Oljedatabase[[#This Row],[Oljetype]]&\"-\"&Oljedatabase[[#This Row],[SesongNy]]&\"-\"&Oljedatabase[[#This Row],[Vind (m/s)]]&\"-\"&Oljedatabase[[#This Row],[Tidspunkt (timer)]]","v":"Kneler (Alvheim) 2009-Vinterforhold-10-9"},{"$f":"Oljedatabase[[#This Row],[Sesong]]","v":"Vinterforhold"},5,10,"9",0.64,2900,"Redusert kjemisk dispergerbarhet",0.27,0.56999999999999995,0.16,97,"Ingen eksplosjonsfare",13,"Redusert kjemisk dispergerbarhet","Nei",1.58,"2009-03-08T01:00:00",832,"Vest-Agder til Hordaland",38,6675281,-231532,"Kneler (Alvheim) 2009 Forvitringsrapport.pdf"]
["Kneler (Alvheim) 2009","Sommerforhold",{"$f":"Oljedatabase[[#This Row],[Oljetype]]&\"-\"&Oljedatabase[[#This Row],[SesongNy]]&\"-\"&Oljedatabase[[#This Row],[Vind (m/s)]]&\"-\"&Oljedatabase[[#This Row],[Tidspunkt (timer)]]","v":"Kneler (Alvheim) 2009-Sommerforhold-5-72"},{"$f":"Oljedatabase[[#This Row],[Sesong]]","v":"Sommerforhold"},15,5,"72",0.78,3000,"Redusert kjemisk dispergerbarhet",0.34,0.59,7.0000000000000007E-2,124,"Ingen eksplosjonsfare",16,"Kjemisk dispergerbar","Nei",2.68,"2009-03-08T01:00:00",832,"Vest-Agder til Hordaland",38,6675281,-231532,"Kneler (Alvheim) 2009 Forvitringsrapport.pdf"]
["Kneler (Alvheim) 2009","Sommerforhold",{"$f":"Oljedatabase[[#This Row],[Oljetype]]&\"-\"&Oljedatabase[[#This Row],[SesongNy]]&\"-\"&Oljedatabase[[#This Row],[Vind (m/s)]]&\"-\"&Oljedatabase[[#This Row],[Tidspunkt (timer)]]","v":"Kneler (Alvheim) 2009-Sommerforhold-15-96"},{"$f":"Oljedatabase[[#This Row],[Sesong]]","v":"Sommerforhold"},15,15,"96",0.78,8400,"Redusert kjemisk dispergerbarhet",0.31,0,0.69,163,"Ingen eksplosjonsfare",20,"Kjemisk dispergerbar","Nei",0,"2009-03-08T01:00:00",832,"Vest-Agder til Hordaland",38,6675281,-231532,"Kneler (Alvheim) 2009 Forvitringsrapport.pdf"]
["Kneler (Alvheim) 2009","Vinterforhold",{"$f":"Oljedatabase[[#This Row],[Oljetype]]&\"-\"&Oljedatabase[[#This Row],[SesongNy]]&\"-\"&Oljedatabase[[#This Row],[Vind (m/s)]]&\"-\"&Oljedatabase[[#This Row],[Tidspunkt (timer)]]","v":"Kneler (Alvheim) 2009-Vinterforhold-2-120"},{"$f":"Oljedatabase[[#This Row],[Sesong]]","v":"Vinterforhold"},5,2,"120",0.65,3700,"Redusert kjemisk dispergerbarhet",0.3,0.7,0,105,"Ingen eksplosjonsfare",14,"Redusert kjemisk dispergerbarhet","Nei",2,"2009-03-08T01:00:00",832,"Vest-Agder til Hordaland",38,6675281,-231532,"Kneler (Alvheim) 2009 Forvitringsrapport.pdf"]
["Kneler (Alvheim) 2009","Sommerforhold",{"$f":"Oljedatabase[[#This Row],[Oljetype]]&\"-\"&Oljedatabase[[#This Row],[SesongNy]]&\"-\"&Oljedatabase[[#This Row],[Vind (m/s)]]&\"-\"&Oljedatabase[[#This Row],[Tidspunkt (timer)]]","v":"Kneler (Alvheim) 2009-Sommerforhold-10-1"},{"$f":"Oljedatabase[[#This Row],[Sesong]]","v":"Sommerforhold"},15,10,"1",0.4,620,"Kjemisk dispergerbar",0.22,0.75,0.03,76,"Ingen eksplosjonsfare",10,"Kjemisk dispergerbar","Nei",1.25,"2009-03-08T01:00:00",832,"Vest-Agder til Hordaland",38,6675281,-231532,"Kneler (Alvheim) 2009 Forvitringsrapport.pdf"]
["Kneler (Alvheim) 2009","Sommerforhold",{"$f":"Oljedatabase[[#This Row],[Oljetype]]&\"-\"&Oljedatabase[[#This Row],[SesongNy]]&\"-\"&Oljedatabase[[#This Row],[Vind (m/s)]]&\"-\"&Oljedatabase[[#This Row],[Tidspunkt (timer)]]","v":"Kneler (Alvheim) 2009-Sommerforhold-10-6"},{"$f":"Oljedatabase[[#This Row],[Sesong]]","v":"Sommerforhold"},15,10,"6",0.74,1600,"Kjemisk dispergerbar",0.28999999999999998,0.56999999999999995,0.14000000000000001,103,"Ingen eksplosjonsfare",13,"Kjemisk dispergerbar","Nei",2.19,"2009-03-08T01:00:00",832,"Vest-Agder til Hordaland",38,6675281,-231532,"Kneler (Alvheim) 2009 Forvitringsrapport.pdf"]
["Avaldsnes (Johan Sverdrup) 2012","Sommerforhold",{"$f":"Oljedatabase[[#This Row],[Oljetype]]&\"-\"&Oljedatabase[[#This Row],[SesongNy]]&\"-\"&Oljedatabase[[#This Row],[Vind (m/s)]]&\"-\"&Oljedatabase[[#This Row],[Tidspunkt (timer)]]","v":"Avaldsnes (Johan Sverdrup) 2012-Sommerforhold-5-72"},{"$f":"Oljedatabase[[#This Row],[Sesong]]","v":"Sommerforhold"},15,5,"72",0.67,19500,"Redusert kjemisk dispergerbarhet",0.23,0.71,0.05,121,"Ingen eksplosjonsfare",11.7,"Kjemisk dispergerbar","Ja",2.17,"2012-03-05T01:00:00",891,"Vest-Agder til Hordaland",27,6588792,-215604,"Avaldsnes (Johan Sverdrup) 2012 Forvitringsrapport.pdf"]
["Kneler (Alvheim) 2009","Vinterforhold",{"$f":"Oljedatabase[[#This Row],[Oljetype]]&\"-\"&Oljedatabase[[#This Row],[SesongNy]]&\"-\"&Oljedatabase[[#This Row],[Vind (m/s)]]&\"-\"&Oljedatabase[[#This Row],[Tidspunkt (timer)]]","v":"Kneler (Alvheim) 2009-Vinterforhold-5-1"},{"$f":"Oljedatabase[[#This Row],[Sesong]]","v":"Vinterforhold"},5,5,"1",0.13,490,"Kjemisk dispergerbar",0.15,0.85,0,50,"Eksplosjonsfare ved tanking",6,"Kjemisk dispergerbar","Nei",0.97,"2009-03-08T01:00:00",832,"Vest-Agder til Hordaland",38,6675281,-231532,"Kneler (Alvheim) 2009 Forvitringsrapport.pdf"]
["Avaldsnes (Johan Sverdrup) 2012","Sommerforhold",{"$f":"Oljedatabase[[#This Row],[Oljetype]]&\"-\"&Oljedatabase[[#This Row],[SesongNy]]&\"-\"&Oljedatabase[[#This Row],[Vind (m/s)]]&\"-\"&Oljedatabase[[#This Row],[Tidspunkt (timer)]]","v":"Avaldsnes (Johan Sverdrup) 2012-Sommerforhold-5-6"},{"$f":"Oljedatabase[[#This Row],[Sesong]]","v":"Sommerforhold"},15,5,"6",0.17,649,"Kjemisk dispergerbar",0.16,0.82,0.01,84,"Ingen eksplosjonsfare",9.4,"Kjemisk dispergerbar","Nei",1,"2012-03-05T01:00:00",891,"Vest-Agder til Hordaland",27,6588792,-215604,"Avaldsnes (Johan Sverdrup) 2012 Forvitringsrapport.pdf"]
["Avaldsnes (Johan Sverdrup) 2012","Sommerforhold",{"$f":"Oljedatabase[[#This Row],[Oljetype]]&\"-\"&Oljedatabase[[#This Row],[SesongNy]]&\"-\"&Oljedatabase[[#This Row],[Vind (m/s)]]&\"-\"&Oljedatabase[[#This Row],[Tidspunkt (timer)]]","v":"Avaldsnes (Johan Sverdrup) 2012-Sommerforhold-2-12"},{"$f":"Oljedatabase[[#This Row],[Sesong]]","v":"Sommerforhold"},15,2,"12",0.08,467,"Kjemisk dispergerbar",0.16,0.83,0,81,"Ingen eksplosjonsfare",9.1999999999999993,"Kjemisk dispergerbar","Nei",0.91,"2012-03-05T01:00:00",891,"Vest-Agder til Hordaland",27,6588792,-215604,"Avaldsnes (Johan Sverdrup) 2012 Forvitringsrapport.pdf"]
["Avaldsnes (Johan Sverdrup) 2012","Sommerforhold",{"$f":"Oljedatabase[[#This Row],[Oljetype]]&\"-\"&Oljedatabase[[#This Row],[SesongNy]]&\"-\"&Oljedatabase[[#This Row],[Vind (m/s)]]&\"-\"&Oljedatabase[[#This Row],[Tidspunkt (timer)]]","v":"Avaldsnes (Johan Sverdrup) 2012-Sommerforhold-2-120"},{"$f":"Oljedatabase[[#This Row],[Sesong]]","v":"Sommerforhold"},15,2,"120",0.53,6420,"Redusert kjemisk dispergerbarhet",0.22,0.77,0,115,"Ingen eksplosjonsfare",11.4,"Kjemisk dispergerbar","Nei",1.66,"2012-03-05T01:00:00",891,"Vest-Agder til Hordaland",27,6588792,-215604,"Avaldsnes (Johan Sverdrup) 2012 Forvitringsrapport.pdf"]
["Avaldsnes (Johan Sverdrup) 2012","Sommerforhold",{"$f":"Oljedatabase[[#This Row],[Oljetype]]&\"-\"&Oljedatabase[[#This Row],[SesongNy]]&\"-\"&Oljedatabase[[#This Row],[Vind (m/s)]]&\"-\"&Oljedatabase[[#This Row],[Tidspunkt (timer)]]","v":"Avaldsnes (Johan Sverdrup) 2012-Sommerforhold-5-48"},{"$f":"Oljedatabase[[#This Row],[Sesong]]","v":"Sommerforhold"},15,5,"48",0.63,12700,"Redusert kjemisk dispergerbarhet",0.22,0.73,0.04,115,"Ingen eksplosjonsfare",11.4,"Kjemisk dispergerbar","Ja",2,"2012-03-05T01:00:00",891,"Vest-Agder til Hordaland",27,6588792,-215604,"Avaldsnes (Johan Sverdrup) 2012 Forvitringsrapport.pdf"]
["Kneler (Alvheim) 2009","Vinterforhold",{"$f":"Oljedatabase[[#This Row],[Oljetype]]&\"-\"&Oljedatabase[[#This Row],[SesongNy]]&\"-\"&Oljedatabase[[#This Row],[Vind (m/s)]]&\"-\"&Oljedatabase[[#This Row],[Tidspunkt (timer)]]","v":"Kneler (Alvheim) 2009-Vinterforhold-5-120"},{"$f":"Oljedatabase[[#This Row],[Sesong]]","v":"Vinterforhold"},5,5,"120",0.65,5500,"Redusert kjemisk dispergerbarhet",0.32,0.59,0.09,118,"Ingen eksplosjonsfare",15,"Redusert kjemisk dispergerbarhet","Nei",1.68,"2009-03-08T01:00:00",832,"Vest-Agder til Hordaland",38,6675281,-231532,"Kneler (Alvheim) 2009 Forvitringsrapport.pdf"]
["Kneler (Alvheim) 2009","Vinterforhold",{"$f":"Oljedatabase[[#This Row],[Oljetype]]&\"-\"&Oljedatabase[[#This Row],[SesongNy]]&\"-\"&Oljedatabase[[#This Row],[Vind (m/s)]]&\"-\"&Oljedatabase[[#This Row],[Tidspunkt (timer)]]","v":"Kneler (Alvheim) 2009-Vinterforhold-5-24"},{"$f":"Oljedatabase[[#This Row],[Sesong]]","v":"Vinterforhold"},5,5,"24",0.64,2700,"Redusert kjemisk dispergerbarhet",0.27,0.7,0.03,96,"Ingen eksplosjonsfare",12,"Redusert kjemisk dispergerbarhet","Nei",1.94,"2009-03-08T01:00:00",832,"Vest-Agder til Hordaland",38,6675281,-231532,"Kneler (Alvheim) 2009 Forvitringsrapport.pdf"]
["Avaldsnes (Johan Sverdrup) 2012","Sommerforhold",{"$f":"Oljedatabase[[#This Row],[Oljetype]]&\"-\"&Oljedatabase[[#This Row],[SesongNy]]&\"-\"&Oljedatabase[[#This Row],[Vind (m/s)]]&\"-\"&Oljedatabase[[#This Row],[Tidspunkt (timer)]]","v":"Avaldsnes (Johan Sverdrup) 2012-Sommerforhold-15-3"},{"$f":"Oljedatabase[[#This Row],[Sesong]]","v":"Sommerforhold"},15,15,"3",0.46,3030,"Kjemisk dispergerbar",0.19,0.49,0.31,99,"Ingen eksplosjonsfare",10.4,"Kjemisk dispergerbar","Nei",0.93,"2012-03-05T01:00:00",891,"Vest-Agder til Hordaland",27,6588792,-215604,"Avaldsnes (Johan Sverdrup) 2012 Forvitringsrapport.pdf"]
["Kneler (Alvheim) 2009","Sommerforhold",{"$f":"Oljedatabase[[#This Row],[Oljetype]]&\"-\"&Oljedatabase[[#This Row],[SesongNy]]&\"-\"&Oljedatabase[[#This Row],[Vind (m/s)]]&\"-\"&Oljedatabase[[#This Row],[Tidspunkt (timer)]]","v":"Kneler (Alvheim) 2009-Sommerforhold-15-72"},{"$f":"Oljedatabase[[#This Row],[Sesong]]","v":"Sommerforhold"},15,15,"72",0.78,7100,"Redusert kjemisk dispergerbarhet",0.31,0,0.69,156,"Ingen eksplosjonsfare",19,"Kjemisk dispergerbar","Nei",0,"2009-03-08T01:00:00",832,"Vest-Agder til Hordaland",38,6675281,-231532,"Kneler (Alvheim) 2009 Forvitringsrapport.pdf"]
["Kneler (Alvheim) 2009","Vinterforhold",{"$f":"Oljedatabase[[#This Row],[Oljetype]]&\"-\"&Oljedatabase[[#This Row],[SesongNy]]&\"-\"&Oljedatabase[[#This Row],[Vind (m/s)]]&\"-\"&Oljedatabase[[#This Row],[Tidspunkt (timer)]]","v":"Kneler (Alvheim) 2009-Vinterforhold-15-72"},{"$f":"Oljedatabase[[#This Row],[Sesong]]","v":"Vinterforhold"},5,15,"72",0.66,9400,"Redusert kjemisk dispergerbarhet",0.28999999999999998,0,0.71,136,"Ingen eksplosjonsfare",17,"Redusert kjemisk dispergerbarhet","Nei",0,"2009-03-08T01:00:00",832,"Vest-Agder til Hordaland",38,6675281,-231532,"Kneler (Alvheim) 2009 Forvitringsrapport.pdf"]
["Avaldsnes (Johan Sverdrup) 2012","Sommerforhold",{"$f":"Oljedatabase[[#This Row],[Oljetype]]&\"-\"&Oljedatabase[[#This Row],[SesongNy]]&\"-\"&Oljedatabase[[#This Row],[Vind (m/s)]]&\"-\"&Oljedatabase[[#This Row],[Tidspunkt (timer)]]","v":"Avaldsnes (Johan Sverdrup) 2012-Sommerforhold-5-96"},{"$f":"Oljedatabase[[#This Row],[Sesong]]","v":"Sommerforhold"},15,5,"96",0.67,22700,"Redusert kjemisk dispergerbarhet",0.24,0.69,0.06,125,"Ingen eksplosjonsfare",12,"Kjemisk dispergerbar","Ja",2.16,"2012-03-05T01:00:00",891,"Vest-Agder til Hordaland",27,6588792,-215604,"Avaldsnes (Johan Sverdrup) 2012 Forvitringsrapport.pdf"]
["Kneler (Alvheim) 2009","Vinterforhold",{"$f":"Oljedatabase[[#This Row],[Oljetype]]&\"-\"&Oljedatabase[[#This Row],[SesongNy]]&\"-\"&Oljedatabase[[#This Row],[Vind (m/s)]]&\"-\"&Oljedatabase[[#This Row],[Tidspunkt (timer)]]","v":"Kneler (Alvheim) 2009-Vinterforhold-10-72"},{"$f":"Oljedatabase[[#This Row],[Sesong]]","v":"Vinterforhold"},5,10,"72",0.65,7000,"Redusert kjemisk dispergerbarhet",0.32,0.14000000000000001,0.54,126,"Ingen eksplosjonsfare",16,"Redusert kjemisk dispergerbarhet","Nei",0.4,"2009-03-08T01:00:00",832,"Vest-Agder til Hordaland",38,6675281,-231532,"Kneler (Alvheim) 2009 Forvitringsrapport.pdf"]
["Kneler (Alvheim) 2009","Vinterforhold",{"$f":"Oljedatabase[[#This Row],[Oljetype]]&\"-\"&Oljedatabase[[#This Row],[SesongNy]]&\"-\"&Oljedatabase[[#This Row],[Vind (m/s)]]&\"-\"&Oljedatabase[[#This Row],[Tidspunkt (timer)]]","v":"Kneler (Alvheim) 2009-Vinterforhold-15-48"},{"$f":"Oljedatabase[[#This Row],[Sesong]]","v":"Vinterforhold"},5,15,"48",0.65,7700,"Redusert kjemisk dispergerbarhet",0.28999999999999998,0,0.71,130,"Ingen eksplosjonsfare",16,"Redusert kjemisk dispergerbarhet","Nei",0,"2009-03-08T01:00:00",832,"Vest-Agder til Hordaland",38,6675281,-231532,"Kneler (Alvheim) 2009 Forvitringsrapport.pdf"]
["Kneler (Alvheim) 2009","Sommerforhold",{"$f":"Oljedatabase[[#This Row],[Oljetype]]&\"-\"&Oljedatabase[[#This Row],[SesongNy]]&\"-\"&Oljedatabase[[#This Row],[Vind (m/s)]]&\"-\"&Oljedatabase[[#This Row],[Tidspunkt (timer)]]","v":"Kneler (Alvheim) 2009-Sommerforhold-5-2"},{"$f":"Oljedatabase[[#This Row],[Sesong]]","v":"Sommerforhold"},15,5,"2",0.28999999999999998,520,"Kjemisk dispergerbar",0.2,0.8,0,71,"Ingen eksplosjonsfare",9,"Kjemisk dispergerbar","Nei",1.1200000000000001,"2009-03-08T01:00:00",832,"Vest-Agder til Hordaland",38,6675281,-231532,"Kneler (Alvheim) 2009 Forvitringsrapport.pdf"]
["Kneler (Alvheim) 2009","Vinterforhold",{"$f":"Oljedatabase[[#This Row],[Oljetype]]&\"-\"&Oljedatabase[[#This Row],[SesongNy]]&\"-\"&Oljedatabase[[#This Row],[Vind (m/s)]]&\"-\"&Oljedatabase[[#This Row],[Tidspunkt (timer)]]","v":"Kneler (Alvheim) 2009-Vinterforhold-15-12"},{"$f":"Oljedatabase[[#This Row],[Sesong]]","v":"Vinterforhold"},5,15,"12",0.65,4300,"Redusert kjemisk dispergerbarhet",0.28000000000000003,0.14000000000000001,0.57999999999999996,110,"Ingen eksplosjonsfare",14,"Redusert kjemisk dispergerbarhet","Nei",0.4,"2009-03-08T01:00:00",832,"Vest-Agder til Hordaland",38,6675281,-231532,"Kneler (Alvheim) 2009 Forvitringsrapport.pdf"]
["Kneler (Alvheim) 2009","Vinterforhold",{"$f":"Oljedatabase[[#This Row],[Oljetype]]&\"-\"&Oljedatabase[[#This Row],[SesongNy]]&\"-\"&Oljedatabase[[#This Row],[Vind (m/s)]]&\"-\"&Oljedatabase[[#This Row],[Tidspunkt (timer)]]","v":"Kneler (Alvheim) 2009-Vinterforhold-5-72"},{"$f":"Oljedatabase[[#This Row],[Sesong]]","v":"Vinterforhold"},5,5,"72",0.65,4400,"Redusert kjemisk dispergerbarhet",0.31,0.63,0.06,111,"Ingen eksplosjonsfare",14,"Redusert kjemisk dispergerbarhet","Nei",1.8,"2009-03-08T01:00:00",832,"Vest-Agder til Hordaland",38,6675281,-231532,"Kneler (Alvheim) 2009 Forvitringsrapport.pdf"]
["Kneler (Alvheim) 2009","Vinterforhold",{"$f":"Oljedatabase[[#This Row],[Oljetype]]&\"-\"&Oljedatabase[[#This Row],[SesongNy]]&\"-\"&Oljedatabase[[#This Row],[Vind (m/s)]]&\"-\"&Oljedatabase[[#This Row],[Tidspunkt (timer)]]","v":"Kneler (Alvheim) 2009-Vinterforhold-10-2"},{"$f":"Oljedatabase[[#This Row],[Sesong]]","v":"Vinterforhold"},5,10,"2",0.5,1300,"Kjemisk dispergerbar",0.22,0.73,0.05,77,"Ingen eksplosjonsfare",10,"Kjemisk dispergerbar","Nei",1.46,"2009-03-08T01:00:00",832,"Vest-Agder til Hordaland",38,6675281,-231532,"Kneler (Alvheim) 2009 Forvitringsrapport.pdf"]
["Kneler (Alvheim) 2009","Vinterforhold",{"$f":"Oljedatabase[[#This Row],[Oljetype]]&\"-\"&Oljedatabase[[#This Row],[SesongNy]]&\"-\"&Oljedatabase[[#This Row],[Vind (m/s)]]&\"-\"&Oljedatabase[[#This Row],[Tidspunkt (timer)]]","v":"Kneler (Alvheim) 2009-Vinterforhold-15-2"},{"$f":"Oljedatabase[[#This Row],[Sesong]]","v":"Vinterforhold"},5,15,"2",0.61,1900,"Kjemisk dispergerbar",0.24,0.54,0.22,85,"Ingen eksplosjonsfare",11,"Redusert kjemisk dispergerbarhet","Nei",1.38,"2009-03-08T01:00:00",832,"Vest-Agder til Hordaland",38,6675281,-231532,"Kneler (Alvheim) 2009 Forvitringsrapport.pdf"]
["Avaldsnes (Johan Sverdrup) 2012","Sommerforhold",{"$f":"Oljedatabase[[#This Row],[Oljetype]]&\"-\"&Oljedatabase[[#This Row],[SesongNy]]&\"-\"&Oljedatabase[[#This Row],[Vind (m/s)]]&\"-\"&Oljedatabase[[#This Row],[Tidspunkt (timer)]]","v":"Avaldsnes (Johan Sverdrup) 2012-Sommerforhold-15-12"},{"$f":"Oljedatabase[[#This Row],[Sesong]]","v":"Sommerforhold"},15,15,"12",0.68,21200,"Redusert kjemisk dispergerbarhet",0.21,0.24,0.53,120,"Ingen eksplosjonsfare",11.7,"Kjemisk dispergerbar","Ja",0.79,"2012-03-05T01:00:00",891,"Vest-Agder til Hordaland",27,6588792,-215604,"Avaldsnes (Johan Sverdrup) 2012 Forvitringsrapport.pdf"]
["Avaldsnes (Johan Sverdrup) 2012","Sommerforhold",{"$f":"Oljedatabase[[#This Row],[Oljetype]]&\"-\"&Oljedatabase[[#This Row],[SesongNy]]&\"-\"&Oljedatabase[[#This Row],[Vind (m/s)]]&\"-\"&Oljedatabase[[#This Row],[Tidspunkt (timer)]]","v":"Avaldsnes (Johan Sverdrup) 2012-Sommerforhold-2-48"},{"$f":"Oljedatabase[[#This Row],[Sesong]]","v":"Sommerforhold"},15,2,"48",0.3,1540,"Kjemisk dispergerbar",0.2,0.79,0,101,"Ingen eksplosjonsfare",10.5,"Kjemisk dispergerbar","Nei",1.1499999999999999,"2012-03-05T01:00:00",891,"Vest-Agder til Hordaland",27,6588792,-215604,"Avaldsnes (Johan Sverdrup) 2012 Forvitringsrapport.pdf"]
["Avaldsnes (Johan Sverdrup) 2012","Sommerforhold",{"$f":"Oljedatabase[[#This Row],[Oljetype]]&\"-\"&Oljedatabase[[#This Row],[SesongNy]]&\"-\"&Oljedatabase[[#This Row],[Vind (m/s)]]&\"-\"&Oljedatabase[[#This Row],[Tidspunkt (timer)]]","v":"Avaldsnes (Johan Sverdrup) 2012-Sommerforhold-5-1"},{"$f":"Oljedatabase[[#This Row],[Sesong]]","v":"Sommerforhold"},15,5,"1",0.03,212,"Kjemisk dispergerbar",0.11,0.88,0,55,"Eksplosjonsfare ved tanking",7.3,"Kjemisk dispergerbar","Nei",0.93,"2012-03-05T01:00:00",891,"Vest-Agder til Hordaland",27,6588792,-215604,"Avaldsnes (Johan Sverdrup) 2012 Forvitringsrapport.pdf"]
["Avaldsnes (Johan Sverdrup) 2012","Sommerforhold",{"$f":"Oljedatabase[[#This Row],[Oljetype]]&\"-\"&Oljedatabase[[#This Row],[SesongNy]]&\"-\"&Oljedatabase[[#This Row],[Vind (m/s)]]&\"-\"&Oljedatabase[[#This Row],[Tidspunkt (timer)]]","v":"Avaldsnes (Johan Sverdrup) 2012-Sommerforhold-2-96"},{"$f":"Oljedatabase[[#This Row],[Sesong]]","v":"Sommerforhold"},15,2,"96",0.48,4360,"Kjemisk dispergerbar",0.22,0.77,0,111,"Ingen eksplosjonsfare",11.2,"Kjemisk dispergerbar","Nei",1.5,"2012-03-05T01:00:00",891,"Vest-Agder til Hordaland",27,6588792,-215604,"Avaldsnes (Johan Sverdrup) 2012 Forvitringsrapport.pdf"]
["Kneler (Alvheim) 2009","Vinterforhold",{"$f":"Oljedatabase[[#This Row],[Oljetype]]&\"-\"&Oljedatabase[[#This Row],[SesongNy]]&\"-\"&Oljedatabase[[#This Row],[Vind (m/s)]]&\"-\"&Oljedatabase[[#This Row],[Tidspunkt (timer)]]","v":"Kneler (Alvheim) 2009-Vinterforhold-15-1"},{"$f":"Oljedatabase[[#This Row],[Sesong]]","v":"Vinterforhold"},5,15,"1",0.51,1300,"Kjemisk dispergerbar",0.22,0.66,0.12,76,"Ingen eksplosjonsfare",10,"Kjemisk dispergerbar","Nei",1.34,"2009-03-08T01:00:00",832,"Vest-Agder til Hordaland",38,6675281,-231532,"Kneler (Alvheim) 2009 Forvitringsrapport.pdf"]
["Kneler (Alvheim) 2009","Vinterforhold",{"$f":"Oljedatabase[[#This Row],[Oljetype]]&\"-\"&Oljedatabase[[#This Row],[SesongNy]]&\"-\"&Oljedatabase[[#This Row],[Vind (m/s)]]&\"-\"&Oljedatabase[[#This Row],[Tidspunkt (timer)]]","v":"Kneler (Alvheim) 2009-Vinterforhold-10-12"},{"$f":"Oljedatabase[[#This Row],[Sesong]]","v":"Vinterforhold"},5,10,"12",0.64,3300,"Redusert kjemisk dispergerbarhet",0.28000000000000003,0.52,0.2,101,"Ingen eksplosjonsfare",13,"Redusert kjemisk dispergerbarhet","Nei",1.44,"2009-03-08T01:00:00",832,"Vest-Agder til Hordaland",38,6675281,-231532,"Kneler (Alvheim) 2009 Forvitringsrapport.pdf"]
["Avaldsnes (Johan Sverdrup) 2012","Sommerforhold",{"$f":"Oljedatabase[[#This Row],[Oljetype]]&\"-\"&Oljedatabase[[#This Row],[SesongNy]]&\"-\"&Oljedatabase[[#This Row],[Vind (m/s)]]&\"-\"&Oljedatabase[[#This Row],[Tidspunkt (timer)]]","v":"Avaldsnes (Johan Sverdrup) 2012-Sommerforhold-2-2"},{"$f":"Oljedatabase[[#This Row],[Sesong]]","v":"Sommerforhold"},15,2,"2",0.02,199,"Kjemisk dispergerbar",0.1,0.89,0,55,"Ingen eksplosjonsfare",7.3,"Kjemisk dispergerbar","Nei",0.91,"2012-03-05T01:00:00",891,"Vest-Agder til Hordaland",27,6588792,-215604,"Avaldsnes (Johan Sverdrup) 2012 Forvitringsrapport.pdf"]
["Avaldsnes (Johan Sverdrup) 2012","Sommerforhold",{"$f":"Oljedatabase[[#This Row],[Oljetype]]&\"-\"&Oljedatabase[[#This Row],[SesongNy]]&\"-\"&Oljedatabase[[#This Row],[Vind (m/s)]]&\"-\"&Oljedatabase[[#This Row],[Tidspunkt (timer)]]","v":"Avaldsnes (Johan Sverdrup) 2012-Sommerforhold-5-12"},{"$f":"Oljedatabase[[#This Row],[Sesong]]","v":"Sommerforhold"},15,5,"12",0.31,1350,"Kjemisk dispergerbar",0.18,0.79,0.01,94,"Ingen eksplosjonsfare",10,"Kjemisk dispergerbar","Nei",1.1599999999999999,"2012-03-05T01:00:00",891,"Vest-Agder til Hordaland",27,6588792,-215604,"Avaldsnes (Johan Sverdrup) 2012 Forvitringsrapport.pdf"]
["Avaldsnes (Johan Sverdrup) 2012","Sommerforhold",{"$f":"Oljedatabase[[#This Row],[Oljetype]]&\"-\"&Oljedatabase[[#This Row],[SesongNy]]&\"-\"&Oljedatabase[[#This Row],[Vind (m/s)]]&\"-\"&Oljedatabase[[#This Row],[Tidspunkt (timer)]]","v":"Avaldsnes (Johan Sverdrup) 2012-Sommerforhold-10-1"},{"$f":"Oljedatabase[[#This Row],[Sesong]]","v":"Sommerforhold"},15,10,"1",0.1,385,"Kjemisk dispergerbar",0.14000000000000001,0.82,0.02,71,"Ingen eksplosjonsfare",8.5,"Kjemisk dispergerbar","Nei",0.93,"2012-03-05T01:00:00",891,"Vest-Agder til Hordaland",27,6588792,-215604,"Avaldsnes (Johan Sverdrup) 2012 Forvitringsrapport.pdf"]
["Avaldsnes (Johan Sverdrup) 2012","Vinterforhold",{"$f":"Oljedatabase[[#This Row],[Oljetype]]&\"-\"&Oljedatabase[[#This Row],[SesongNy]]&\"-\"&Oljedatabase[[#This Row],[Vind (m/s)]]&\"-\"&Oljedatabase[[#This Row],[Tidspunkt (timer)]]","v":"Avaldsnes (Johan Sverdrup) 2012-Vinterforhold-2-2"},{"$f":"Oljedatabase[[#This Row],[Sesong]]","v":"Vinterforhold"},5,2,"2",0.01,287,"Kjemisk dispergerbar",0.09,0.9,0,48,"Eksplosjonsfare ved tanking",6.8,"Kjemisk dispergerbar","Nei",0.92,"2012-03-05T01:00:00",891,"Vest-Agder til Hordaland",27,6588792,-215604,"Avaldsnes (Johan Sverdrup) 2012 Forvitringsrapport.pdf"]
["Kneler (Alvheim) 2009","Vinterforhold",{"$f":"Oljedatabase[[#This Row],[Oljetype]]&\"-\"&Oljedatabase[[#This Row],[SesongNy]]&\"-\"&Oljedatabase[[#This Row],[Vind (m/s)]]&\"-\"&Oljedatabase[[#This Row],[Tidspunkt (timer)]]","v":"Kneler (Alvheim) 2009-Vinterforhold-10-1"},{"$f":"Oljedatabase[[#This Row],[Sesong]]","v":"Vinterforhold"},5,10,"1",0.34,900,"Kjemisk dispergerbar",0.19,0.79,0.02,66,"Ingen eksplosjonsfare",9,"Kjemisk dispergerbar","Nei",1.19,"2009-03-08T01:00:00",832,"Vest-Agder til Hordaland",38,6675281,-231532,"Kneler (Alvheim) 2009 Forvitringsrapport.pdf"]
["Kneler (Alvheim) 2009","Vinterforhold",{"$f":"Oljedatabase[[#This Row],[Oljetype]]&\"-\"&Oljedatabase[[#This Row],[SesongNy]]&\"-\"&Oljedatabase[[#This Row],[Vind (m/s)]]&\"-\"&Oljedatabase[[#This Row],[Tidspunkt (timer)]]","v":"Kneler (Alvheim) 2009-Vinterforhold-2-96"},{"$f":"Oljedatabase[[#This Row],[Sesong]]","v":"Vinterforhold"},5,2,"96",0.64,3400,"Redusert kjemisk dispergerbarhet",0.28999999999999998,0.71,0,103,"Ingen eksplosjonsfare",13,"Redusert kjemisk dispergerbarhet","Nei",1.97,"2009-03-08T01:00:00",832,"Vest-Agder til Hordaland",38,6675281,-231532,"Kneler (Alvheim) 2009 Forvitringsrapport.pdf"]
["Kneler (Alvheim) 2009","Vinterforhold",{"$f":"Oljedatabase[[#This Row],[Oljetype]]&\"-\"&Oljedatabase[[#This Row],[SesongNy]]&\"-\"&Oljedatabase[[#This Row],[Vind (m/s)]]&\"-\"&Oljedatabase[[#This Row],[Tidspunkt (timer)]]","v":"Kneler (Alvheim) 2009-Vinterforhold-15-3"},{"$f":"Oljedatabase[[#This Row],[Sesong]]","v":"Vinterforhold"},5,15,"3",0.64,2400,"Redusert kjemisk dispergerbarhet",0.25,0.46,0.28999999999999998,91,"Ingen eksplosjonsfare",12,"Redusert kjemisk dispergerbarhet","Nei",1.27,"2009-03-08T01:00:00",832,"Vest-Agder til Hordaland",38,6675281,-231532,"Kneler (Alvheim) 2009 Forvitringsrapport.pdf"]
["Kneler (Alvheim) 2009","Vinterforhold",{"$f":"Oljedatabase[[#This Row],[Oljetype]]&\"-\"&Oljedatabase[[#This Row],[SesongNy]]&\"-\"&Oljedatabase[[#This Row],[Vind (m/s)]]&\"-\"&Oljedatabase[[#This Row],[Tidspunkt (timer)]]","v":"Kneler (Alvheim) 2009-Vinterforhold-10-3"},{"$f":"Oljedatabase[[#This Row],[Sesong]]","v":"Vinterforhold"},5,10,"3",0.56999999999999995,1700,"Kjemisk dispergerbar",0.24,0.69,7.0000000000000007E-2,82,"Ingen eksplosjonsfare",11,"Redusert kjemisk dispergerbarhet","Nei",1.6,"2009-03-08T01:00:00",832,"Vest-Agder til Hordaland",38,6675281,-231532,"Kneler (Alvheim) 2009 Forvitringsrapport.pdf"]
["Kneler (Alvheim) 2009","Vinterforhold",{"$f":"Oljedatabase[[#This Row],[Oljetype]]&\"-\"&Oljedatabase[[#This Row],[SesongNy]]&\"-\"&Oljedatabase[[#This Row],[Vind (m/s)]]&\"-\"&Oljedatabase[[#This Row],[Tidspunkt (timer)]]","v":"Kneler (Alvheim) 2009-Vinterforhold-15-6"},{"$f":"Oljedatabase[[#This Row],[Sesong]]","v":"Vinterforhold"},5,15,"6",0.64,3200,"Redusert kjemisk dispergerbarhet",0.27,0.3,0.43,101,"Ingen eksplosjonsfare",13,"Redusert kjemisk dispergerbarhet","Nei",0.83,"2009-03-08T01:00:00",832,"Vest-Agder til Hordaland",38,6675281,-231532,"Kneler (Alvheim) 2009 Forvitringsrapport.pdf"]
["Kneler (Alvheim) 2009","Vinterforhold",{"$f":"Oljedatabase[[#This Row],[Oljetype]]&\"-\"&Oljedatabase[[#This Row],[SesongNy]]&\"-\"&Oljedatabase[[#This Row],[Vind (m/s)]]&\"-\"&Oljedatabase[[#This Row],[Tidspunkt (timer)]]","v":"Kneler (Alvheim) 2009-Vinterforhold-15-9"},{"$f":"Oljedatabase[[#This Row],[Sesong]]","v":"Vinterforhold"},5,15,"9",0.65,3800,"Redusert kjemisk dispergerbarhet",0.28000000000000003,0.19,0.53,106,"Ingen eksplosjonsfare",14,"Redusert kjemisk dispergerbarhet","Nei",0.54,"2009-03-08T01:00:00",832,"Vest-Agder til Hordaland",38,6675281,-231532,"Kneler (Alvheim) 2009 Forvitringsrapport.pdf"]
["Avaldsnes (Johan Sverdrup) 2012","Sommerforhold",{"$f":"Oljedatabase[[#This Row],[Oljetype]]&\"-\"&Oljedatabase[[#This Row],[SesongNy]]&\"-\"&Oljedatabase[[#This Row],[Vind (m/s)]]&\"-\"&Oljedatabase[[#This Row],[Tidspunkt (timer)]]","v":"Avaldsnes (Johan Sverdrup) 2012-Sommerforhold-5-120"},{"$f":"Oljedatabase[[#This Row],[Sesong]]","v":"Sommerforhold"},15,5,"120",0.67,24500,"Redusert kjemisk dispergerbarhet",0.24,0.68,0.06,129,"Ingen eksplosjonsfare",12.2,"Kjemisk dispergerbar","Ja",2.12,"2012-03-05T01:00:00",891,"Vest-Agder til Hordaland",27,6588792,-215604,"Avaldsnes (Johan Sverdrup) 2012 Forvitringsrapport.pdf"]
["Avaldsnes (Johan Sverdrup) 2012","Sommerforhold",{"$f":"Oljedatabase[[#This Row],[Oljetype]]&\"-\"&Oljedatabase[[#This Row],[SesongNy]]&\"-\"&Oljedatabase[[#This Row],[Vind (m/s)]]&\"-\"&Oljedatabase[[#This Row],[Tidspunkt (timer)]]","v":"Avaldsnes (Johan Sverdrup) 2012-Sommerforhold-2-1"},{"$f":"Oljedatabase[[#This Row],[Sesong]]","v":"Sommerforhold"},15,2,"1",0.01,141,"Kjemisk dispergerbar",0.08,0.91,0,43,"Eksplosjonsfare ved tanking",6.4,"Kjemisk dispergerbar","Nei",0.93,"2012-03-05T01:00:00",891,"Vest-Agder til Hordaland",27,6588792,-215604,"Avaldsnes (Johan Sverdrup) 2012 Forvitringsrapport.pdf"]
["Avaldsnes (Johan Sverdrup) 2012","Sommerforhold",{"$f":"Oljedatabase[[#This Row],[Oljetype]]&\"-\"&Oljedatabase[[#This Row],[SesongNy]]&\"-\"&Oljedatabase[[#This Row],[Vind (m/s)]]&\"-\"&Oljedatabase[[#This Row],[Tidspunkt (timer)]]","v":"Avaldsnes (Johan Sverdrup) 2012-Sommerforhold-5-2"},{"$f":"Oljedatabase[[#This Row],[Sesong]]","v":"Sommerforhold"},15,5,"2",0.06,308,"Kjemisk dispergerbar",0.13,0.86,0,67,"Ingen eksplosjonsfare",8.1999999999999993,"Kjemisk dispergerbar","Nei",0.92,"2012-03-05T01:00:00",891,"Vest-Agder til Hordaland",27,6588792,-215604,"Avaldsnes (Johan Sverdrup) 2012 Forvitringsrapport.pdf"]
["Avaldsnes (Johan Sverdrup) 2012","Vinterforhold",{"$f":"Oljedatabase[[#This Row],[Oljetype]]&\"-\"&Oljedatabase[[#This Row],[SesongNy]]&\"-\"&Oljedatabase[[#This Row],[Vind (m/s)]]&\"-\"&Oljedatabase[[#This Row],[Tidspunkt (timer)]]","v":"Avaldsnes (Johan Sverdrup) 2012-Vinterforhold-10-6"},{"$f":"Oljedatabase[[#This Row],[Sesong]]","v":"Vinterforhold"},5,10,"6",0.42,3730,"Kjemisk dispergerbar",0.17,0.7,0.12,89,"Ingen eksplosjonsfare",9.6999999999999993,"Kjemisk dispergerbar","Nei",1.23,"2012-03-05T01:00:00",891,"Vest-Agder til Hordaland",27,6588792,-215604,"Avaldsnes (Johan Sverdrup) 2012 Forvitringsrapport.pdf"]
["Avaldsnes (Johan Sverdrup) 2012","Sommerforhold",{"$f":"Oljedatabase[[#This Row],[Oljetype]]&\"-\"&Oljedatabase[[#This Row],[SesongNy]]&\"-\"&Oljedatabase[[#This Row],[Vind (m/s)]]&\"-\"&Oljedatabase[[#This Row],[Tidspunkt (timer)]]","v":"Avaldsnes (Johan Sverdrup) 2012-Sommerforhold-5-3"},{"$f":"Oljedatabase[[#This Row],[Sesong]]","v":"Sommerforhold"},15,5,"3",0.09,392,"Kjemisk dispergerbar",0.14000000000000001,0.84,0,74,"Ingen eksplosjonsfare",8.6,"Kjemisk dispergerbar","Nei",0.93,"2012-03-05T01:00:00",891,"Vest-Agder til Hordaland",27,6588792,-215604,"Avaldsnes (Johan Sverdrup) 2012 Forvitringsrapport.pdf"]
["Kneler (Alvheim) 2009","Vinterforhold",{"$f":"Oljedatabase[[#This Row],[Oljetype]]&\"-\"&Oljedatabase[[#This Row],[SesongNy]]&\"-\"&Oljedatabase[[#This Row],[Vind (m/s)]]&\"-\"&Oljedatabase[[#This Row],[Tidspunkt (timer)]]","v":"Kneler (Alvheim) 2009-Vinterforhold-15-120"},{"$f":"Oljedatabase[[#This Row],[Sesong]]","v":"Vinterforhold"},5,15,"120",0.66,12000,"Redusert kjemisk dispergerbarhet",0.28999999999999998,0,0.71,145,"Ingen eksplosjonsfare",18,"Redusert kjemisk dispergerbarhet","Ja",0,"2009-03-08T01:00:00",832,"Vest-Agder til Hordaland",38,6675281,-231532,"Kneler (Alvheim) 2009 Forvitringsrapport.pdf"]
["Kneler (Alvheim) 2009","Vinterforhold",{"$f":"Oljedatabase[[#This Row],[Oljetype]]&\"-\"&Oljedatabase[[#This Row],[SesongNy]]&\"-\"&Oljedatabase[[#This Row],[Vind (m/s)]]&\"-\"&Oljedatabase[[#This Row],[Tidspunkt (timer)]]","v":"Kneler (Alvheim) 2009-Vinterforhold-5-96"},{"$f":"Oljedatabase[[#This Row],[Sesong]]","v":"Vinterforhold"},5,5,"96",0.65,5000,"Redusert kjemisk dispergerbarhet",0.32,0.6,0.08,115,"Ingen eksplosjonsfare",15,"Redusert kjemisk dispergerbarhet","Nei",1.71,"2009-03-08T01:00:00",832,"Vest-Agder til Hordaland",38,6675281,-231532,"Kneler (Alvheim) 2009 Forvitringsrapport.pdf"]
["Avaldsnes (Johan Sverdrup) 2012","Sommerforhold",{"$f":"Oljedatabase[[#This Row],[Oljetype]]&\"-\"&Oljedatabase[[#This Row],[SesongNy]]&\"-\"&Oljedatabase[[#This Row],[Vind (m/s)]]&\"-\"&Oljedatabase[[#This Row],[Tidspunkt (timer)]]","v":"Avaldsnes (Johan Sverdrup) 2012-Sommerforhold-10-120"},{"$f":"Oljedatabase[[#This Row],[Sesong]]","v":"Sommerforhold"},15,10,"120",0.68,38900,"Ikke kjemisk dispergerbar",0.26,0.2,0.53,149,"Ingen eksplosjonsfare",13.4,"Kjemisk dispergerbar","Ja",0.64,"2012-03-05T01:00:00",891,"Vest-Agder til Hordaland",27,6588792,-215604,"Avaldsnes (Johan Sverdrup) 2012 Forvitringsrapport.pdf"]
["Avaldsnes (Johan Sverdrup) 2012","Sommerforhold",{"$f":"Oljedatabase[[#This Row],[Oljetype]]&\"-\"&Oljedatabase[[#This Row],[SesongNy]]&\"-\"&Oljedatabase[[#This Row],[Vind (m/s)]]&\"-\"&Oljedatabase[[#This Row],[Tidspunkt (timer)]]","v":"Avaldsnes (Johan Sverdrup) 2012-Sommerforhold-2-24"},{"$f":"Oljedatabase[[#This Row],[Sesong]]","v":"Sommerforhold"},15,2,"24",0.17,756,"Kjemisk dispergerbar",0.18,0.81,0,91,"Ingen eksplosjonsfare",9.8000000000000007,"Kjemisk dispergerbar","Nei",0.98,"2012-03-05T01:00:00",891,"Vest-Agder til Hordaland",27,6588792,-215604,"Avaldsnes (Johan Sverdrup) 2012 Forvitringsrapport.pdf"]
["Avaldsnes (Johan Sverdrup) 2012","Sommerforhold",{"$f":"Oljedatabase[[#This Row],[Oljetype]]&\"-\"&Oljedatabase[[#This Row],[SesongNy]]&\"-\"&Oljedatabase[[#This Row],[Vind (m/s)]]&\"-\"&Oljedatabase[[#This Row],[Tidspunkt (timer)]]","v":"Avaldsnes (Johan Sverdrup) 2012-Sommerforhold-2-9"},{"$f":"Oljedatabase[[#This Row],[Sesong]]","v":"Sommerforhold"},15,2,"9",0.06,398,"Kjemisk dispergerbar",0.15,0.84,0,77,"Ingen eksplosjonsfare",8.9,"Kjemisk dispergerbar","Nei",0.9,"2012-03-05T01:00:00",891,"Vest-Agder til Hordaland",27,6588792,-215604,"Avaldsnes (Johan Sverdrup) 2012 Forvitringsrapport.pdf"]
["Kneler (Alvheim) 2009","Vinterforhold",{"$f":"Oljedatabase[[#This Row],[Oljetype]]&\"-\"&Oljedatabase[[#This Row],[SesongNy]]&\"-\"&Oljedatabase[[#This Row],[Vind (m/s)]]&\"-\"&Oljedatabase[[#This Row],[Tidspunkt (timer)]]","v":"Kneler (Alvheim) 2009-Vinterforhold-10-6"},{"$f":"Oljedatabase[[#This Row],[Sesong]]","v":"Vinterforhold"},5,10,"6",0.63,2400,"Redusert kjemisk dispergerbarhet",0.26,0.62,0.12,92,"Ingen eksplosjonsfare",12,"Redusert kjemisk dispergerbarhet","Nei",1.67,"2009-03-08T01:00:00",832,"Vest-Agder til Hordaland",38,6675281,-231532,"Kneler (Alvheim) 2009 Forvitringsrapport.pdf"]
["Avaldsnes (Johan Sverdrup) 2012","Sommerforhold",{"$f":"Oljedatabase[[#This Row],[Oljetype]]&\"-\"&Oljedatabase[[#This Row],[SesongNy]]&\"-\"&Oljedatabase[[#This Row],[Vind (m/s)]]&\"-\"&Oljedatabase[[#This Row],[Tidspunkt (timer)]]","v":"Avaldsnes (Johan Sverdrup) 2012-Sommerforhold-2-72"},{"$f":"Oljedatabase[[#This Row],[Sesong]]","v":"Sommerforhold"},15,2,"72",0.4,2720,"Kjemisk dispergerbar",0.21,0.78,0,107,"Ingen eksplosjonsfare",10.9,"Kjemisk dispergerbar","Nei",1.33,"2012-03-05T01:00:00",891,"Vest-Agder til Hordaland",27,6588792,-215604,"Avaldsnes (Johan Sverdrup) 2012 Forvitringsrapport.pdf"]
["Kneler (Alvheim) 2009","Vinterforhold",{"$f":"Oljedatabase[[#This Row],[Oljetype]]&\"-\"&Oljedatabase[[#This Row],[SesongNy]]&\"-\"&Oljedatabase[[#This Row],[Vind (m/s)]]&\"-\"&Oljedatabase[[#This Row],[Tidspunkt (timer)]]","v":"Kneler (Alvheim) 2009-Vinterforhold-10-24"},{"$f":"Oljedatabase[[#This Row],[Sesong]]","v":"Vinterforhold"},5,10,"24",0.65,4400,"Redusert kjemisk dispergerbarhet",0.3,0.38,0.32,111,"Ingen eksplosjonsfare",14,"Redusert kjemisk dispergerbarhet","Nei",1.08,"2009-03-08T01:00:00",832,"Vest-Agder til Hordaland",38,6675281,-231532,"Kneler (Alvheim) 2009 Forvitringsrapport.pdf"]
["Avaldsnes (Johan Sverdrup) 2012","Sommerforhold",{"$f":"Oljedatabase[[#This Row],[Oljetype]]&\"-\"&Oljedatabase[[#This Row],[SesongNy]]&\"-\"&Oljedatabase[[#This Row],[Vind (m/s)]]&\"-\"&Oljedatabase[[#This Row],[Tidspunkt (timer)]]","v":"Avaldsnes (Johan Sverdrup) 2012-Sommerforhold-2-3"},{"$f":"Oljedatabase[[#This Row],[Sesong]]","v":"Sommerforhold"},15,2,"3",0.02,240,"Kjemisk dispergerbar",0.12,0.87,0,61,"Ingen eksplosjonsfare",7.8,"Kjemisk dispergerbar","Nei",0.9,"2012-03-05T01:00:00",891,"Vest-Agder til Hordaland",27,6588792,-215604,"Avaldsnes (Johan Sverdrup) 2012 Forvitringsrapport.pdf"]
["Avaldsnes (Johan Sverdrup) 2012","Vinterforhold",{"$f":"Oljedatabase[[#This Row],[Oljetype]]&\"-\"&Oljedatabase[[#This Row],[SesongNy]]&\"-\"&Oljedatabase[[#This Row],[Vind (m/s)]]&\"-\"&Oljedatabase[[#This Row],[Tidspunkt (timer)]]","v":"Avaldsnes (Johan Sverdrup) 2012-Vinterforhold-5-1"},{"$f":"Oljedatabase[[#This Row],[Sesong]]","v":"Vinterforhold"},5,5,"1",0.03,305,"Kjemisk dispergerbar",0.09,0.9,0,48,"Eksplosjonsfare ved tanking",6.8,"Kjemisk dispergerbar","Nei",0.94,"2012-03-05T01:00:00",891,"Vest-Agder til Hordaland",27,6588792,-215604,"Avaldsnes (Johan Sverdrup) 2012 Forvitringsrapport.pdf"]
["Avaldsnes (Johan Sverdrup) 2012","Vinterforhold",{"$f":"Oljedatabase[[#This Row],[Oljetype]]&\"-\"&Oljedatabase[[#This Row],[SesongNy]]&\"-\"&Oljedatabase[[#This Row],[Vind (m/s)]]&\"-\"&Oljedatabase[[#This Row],[Tidspunkt (timer)]]","v":"Avaldsnes (Johan Sverdrup) 2012-Vinterforhold-5-96"},{"$f":"Oljedatabase[[#This Row],[Sesong]]","v":"Vinterforhold"},5,5,"96",0.63,24000,"Redusert kjemisk dispergerbarhet",0.22,0.72,0.05,112,"Ingen eksplosjonsfare",11.2,"Redusert kjemisk dispergerbarhet","Ja",1.97,"2012-03-05T01:00:00",891,"Vest-Agder til Hordaland",27,6588792,-215604,"Avaldsnes (Johan Sverdrup) 2012 Forvitringsrapport.pdf"]
["Avaldsnes (Johan Sverdrup) 2012","Sommerforhold",{"$f":"Oljedatabase[[#This Row],[Oljetype]]&\"-\"&Oljedatabase[[#This Row],[SesongNy]]&\"-\"&Oljedatabase[[#This Row],[Vind (m/s)]]&\"-\"&Oljedatabase[[#This Row],[Tidspunkt (timer)]]","v":"Avaldsnes (Johan Sverdrup) 2012-Sommerforhold-10-2"},{"$f":"Oljedatabase[[#This Row],[Sesong]]","v":"Sommerforhold"},15,10,"2",0.2,677,"Kjemisk dispergerbar",0.16,0.77,0.05,83,"Ingen eksplosjonsfare",9.3000000000000007,"Kjemisk dispergerbar","Nei",0.97,"2012-03-05T01:00:00",891,"Vest-Agder til Hordaland",27,6588792,-215604,"Avaldsnes (Johan Sverdrup) 2012 Forvitringsrapport.pdf"]
["Avaldsnes (Johan Sverdrup) 2012","Sommerforhold",{"$f":"Oljedatabase[[#This Row],[Oljetype]]&\"-\"&Oljedatabase[[#This Row],[SesongNy]]&\"-\"&Oljedatabase[[#This Row],[Vind (m/s)]]&\"-\"&Oljedatabase[[#This Row],[Tidspunkt (timer)]]","v":"Avaldsnes (Johan Sverdrup) 2012-Sommerforhold-2-6"},{"$f":"Oljedatabase[[#This Row],[Sesong]]","v":"Sommerforhold"},15,2,"6",0.04,326,"Kjemisk dispergerbar",0.14000000000000001,0.85,0,72,"Ingen eksplosjonsfare",8.5,"Kjemisk dispergerbar","Nei",0.89,"2012-03-05T01:00:00",891,"Vest-Agder til Hordaland",27,6588792,-215604,"Avaldsnes (Johan Sverdrup) 2012 Forvitringsrapport.pdf"]
["Avaldsnes (Johan Sverdrup) 2012","Sommerforhold",{"$f":"Oljedatabase[[#This Row],[Oljetype]]&\"-\"&Oljedatabase[[#This Row],[SesongNy]]&\"-\"&Oljedatabase[[#This Row],[Vind (m/s)]]&\"-\"&Oljedatabase[[#This Row],[Tidspunkt (timer)]]","v":"Avaldsnes (Johan Sverdrup) 2012-Sommerforhold-10-12"},{"$f":"Oljedatabase[[#This Row],[Sesong]]","v":"Sommerforhold"},15,10,"12",0.61,9540,"Redusert kjemisk dispergerbarhet",0.21,0.59,0.19,110,"Ingen eksplosjonsfare",11.1,"Kjemisk dispergerbar","Nei",1.52,"2012-03-05T01:00:00",891,"Vest-Agder til Hordaland",27,6588792,-215604,"Avaldsnes (Johan Sverdrup) 2012 Forvitringsrapport.pdf"]
["Avaldsnes (Johan Sverdrup) 2012","Vinterforhold",{"$f":"Oljedatabase[[#This Row],[Oljetype]]&\"-\"&Oljedatabase[[#This Row],[SesongNy]]&\"-\"&Oljedatabase[[#This Row],[Vind (m/s)]]&\"-\"&Oljedatabase[[#This Row],[Tidspunkt (timer)]]","v":"Avaldsnes (Johan Sverdrup) 2012-Vinterforhold-2-6"},{"$f":"Oljedatabase[[#This Row],[Sesong]]","v":"Vinterforhold"},5,2,"6",0.03,475,"Kjemisk dispergerbar",0.12,0.87,0,63,"Ingen eksplosjonsfare",7.9,"Kjemisk dispergerbar","Nei",0.91,"2012-03-05T01:00:00",891,"Vest-Agder til Hordaland",27,6588792,-215604,"Avaldsnes (Johan Sverdrup) 2012 Forvitringsrapport.pdf"]
["Avaldsnes (Johan Sverdrup) 2012","Vinterforhold",{"$f":"Oljedatabase[[#This Row],[Oljetype]]&\"-\"&Oljedatabase[[#This Row],[SesongNy]]&\"-\"&Oljedatabase[[#This Row],[Vind (m/s)]]&\"-\"&Oljedatabase[[#This Row],[Tidspunkt (timer)]]","v":"Avaldsnes (Johan Sverdrup) 2012-Vinterforhold-5-12"},{"$f":"Oljedatabase[[#This Row],[Sesong]]","v":"Vinterforhold"},5,5,"12",0.28999999999999998,1870,"Kjemisk dispergerbar",0.16,0.81,0.01,84,"Ingen eksplosjonsfare",9.3000000000000007,"Kjemisk dispergerbar","Nei",1.1599999999999999,"2012-03-05T01:00:00",891,"Vest-Agder til Hordaland",27,6588792,-215604,"Avaldsnes (Johan Sverdrup) 2012 Forvitringsrapport.pdf"]
["Kneler (Alvheim) 2009","Sommerforhold",{"$f":"Oljedatabase[[#This Row],[Oljetype]]&\"-\"&Oljedatabase[[#This Row],[SesongNy]]&\"-\"&Oljedatabase[[#This Row],[Vind (m/s)]]&\"-\"&Oljedatabase[[#This Row],[Tidspunkt (timer)]]","v":"Kneler (Alvheim) 2009-Sommerforhold-15-6"},{"$f":"Oljedatabase[[#This Row],[Sesong]]","v":"Sommerforhold"},15,15,"6",0.77,2200,"Redusert kjemisk dispergerbarhet",0.3,0.23,0.47,113,"Ingen eksplosjonsfare",14,"Kjemisk dispergerbar","Nei",1,"2009-03-08T01:00:00",832,"Vest-Agder til Hordaland",38,6675281,-231532,"Kneler (Alvheim) 2009 Forvitringsrapport.pdf"]
["Avaldsnes (Johan Sverdrup) 2012","Vinterforhold",{"$f":"Oljedatabase[[#This Row],[Oljetype]]&\"-\"&Oljedatabase[[#This Row],[SesongNy]]&\"-\"&Oljedatabase[[#This Row],[Vind (m/s)]]&\"-\"&Oljedatabase[[#This Row],[Tidspunkt (timer)]]","v":"Avaldsnes (Johan Sverdrup) 2012-Vinterforhold-2-3"},{"$f":"Oljedatabase[[#This Row],[Sesong]]","v":"Vinterforhold"},5,2,"3",0.02,349,"Kjemisk dispergerbar",0.1,0.89,0,54,"Eksplosjonsfare ved tanking",7.2,"Kjemisk dispergerbar","Nei",0.91,"2012-03-05T01:00:00",891,"Vest-Agder til Hordaland",27,6588792,-215604,"Avaldsnes (Johan Sverdrup) 2012 Forvitringsrapport.pdf"]
["Avaldsnes (Johan Sverdrup) 2012","Vinterforhold",{"$f":"Oljedatabase[[#This Row],[Oljetype]]&\"-\"&Oljedatabase[[#This Row],[SesongNy]]&\"-\"&Oljedatabase[[#This Row],[Vind (m/s)]]&\"-\"&Oljedatabase[[#This Row],[Tidspunkt (timer)]]","v":"Avaldsnes (Johan Sverdrup) 2012-Vinterforhold-15-72"},{"$f":"Oljedatabase[[#This Row],[Sesong]]","v":"Vinterforhold"},5,15,"72",0.63,42300,"Ikke kjemisk dispergerbar",0.21,0.01,0.76,133,"Ingen eksplosjonsfare",12.5,"Redusert kjemisk dispergerbarhet","Ja",0.05,"2012-03-05T01:00:00",891,"Vest-Agder til Hordaland",27,6588792,-215604,"Avaldsnes (Johan Sverdrup) 2012 Forvitringsrapport.pdf"]
["Avaldsnes (Johan Sverdrup) 2012","Vinterforhold",{"$f":"Oljedatabase[[#This Row],[Oljetype]]&\"-\"&Oljedatabase[[#This Row],[SesongNy]]&\"-\"&Oljedatabase[[#This Row],[Vind (m/s)]]&\"-\"&Oljedatabase[[#This Row],[Tidspunkt (timer)]]","v":"Avaldsnes (Johan Sverdrup) 2012-Vinterforhold-10-3"},{"$f":"Oljedatabase[[#This Row],[Sesong]]","v":"Vinterforhold"},5,10,"3",0.26,1460,"Kjemisk dispergerbar",0.15,0.76,7.0000000000000007E-2,79,"Ingen eksplosjonsfare",9,"Kjemisk dispergerbar","Nei",1.04,"2012-03-05T01:00:00",891,"Vest-Agder til Hordaland",27,6588792,-215604,"Avaldsnes (Johan Sverdrup) 2012 Forvitringsrapport.pdf"]
["Avaldsnes (Johan Sverdrup) 2012","Sommerforhold",{"$f":"Oljedatabase[[#This Row],[Oljetype]]&\"-\"&Oljedatabase[[#This Row],[SesongNy]]&\"-\"&Oljedatabase[[#This Row],[Vind (m/s)]]&\"-\"&Oljedatabase[[#This Row],[Tidspunkt (timer)]]","v":"Avaldsnes (Johan Sverdrup) 2012-Sommerforhold-10-48"},{"$f":"Oljedatabase[[#This Row],[Sesong]]","v":"Sommerforhold"},15,10,"48",0.68,26800,"Ikke kjemisk dispergerbar",0.24,0.39,0.36,131,"Ingen eksplosjonsfare",12.4,"Kjemisk dispergerbar","Ja",1.23,"2012-03-05T01:00:00",891,"Vest-Agder til Hordaland",27,6588792,-215604,"Avaldsnes (Johan Sverdrup) 2012 Forvitringsrapport.pdf"]
["Kneler (Alvheim) 2009","Vinterforhold",{"$f":"Oljedatabase[[#This Row],[Oljetype]]&\"-\"&Oljedatabase[[#This Row],[SesongNy]]&\"-\"&Oljedatabase[[#This Row],[Vind (m/s)]]&\"-\"&Oljedatabase[[#This Row],[Tidspunkt (timer)]]","v":"Kneler (Alvheim) 2009-Vinterforhold-10-96"},{"$f":"Oljedatabase[[#This Row],[Sesong]]","v":"Vinterforhold"},5,10,"96",0.66,7900,"Redusert kjemisk dispergerbarhet",0.33,0.09,0.57999999999999996,130,"Ingen eksplosjonsfare",16,"Redusert kjemisk dispergerbarhet","Nei",0.26,"2009-03-08T01:00:00",832,"Vest-Agder til Hordaland",38,6675281,-231532,"Kneler (Alvheim) 2009 Forvitringsrapport.pdf"]
["Kneler (Alvheim) 2009","Vinterforhold",{"$f":"Oljedatabase[[#This Row],[Oljetype]]&\"-\"&Oljedatabase[[#This Row],[SesongNy]]&\"-\"&Oljedatabase[[#This Row],[Vind (m/s)]]&\"-\"&Oljedatabase[[#This Row],[Tidspunkt (timer)]]","v":"Kneler (Alvheim) 2009-Vinterforhold-5-48"},{"$f":"Oljedatabase[[#This Row],[Sesong]]","v":"Vinterforhold"},5,5,"48",0.65,3700,"Redusert kjemisk dispergerbarhet",0.3,0.65,0.05,106,"Ingen eksplosjonsfare",13,"Redusert kjemisk dispergerbarhet","Nei",1.85,"2009-03-08T01:00:00",832,"Vest-Agder til Hordaland",38,6675281,-231532,"Kneler (Alvheim) 2009 Forvitringsrapport.pdf"]
["Avaldsnes (Johan Sverdrup) 2012","Vinterforhold",{"$f":"Oljedatabase[[#This Row],[Oljetype]]&\"-\"&Oljedatabase[[#This Row],[SesongNy]]&\"-\"&Oljedatabase[[#This Row],[Vind (m/s)]]&\"-\"&Oljedatabase[[#This Row],[Tidspunkt (timer)]]","v":"Avaldsnes (Johan Sverdrup) 2012-Vinterforhold-2-1"},{"$f":"Oljedatabase[[#This Row],[Sesong]]","v":"Vinterforhold"},5,2,"1",0.01,200,"Kjemisk dispergerbar",0.06,0.93,0,37,"Eksplosjonsfare ved tanking",5.9,"Kjemisk dispergerbar","Nei",0.94,"2012-03-05T01:00:00",891,"Vest-Agder til Hordaland",27,6588792,-215604,"Avaldsnes (Johan Sverdrup) 2012 Forvitringsrapport.pdf"]
["Avaldsnes (Johan Sverdrup) 2012","Vinterforhold",{"$f":"Oljedatabase[[#This Row],[Oljetype]]&\"-\"&Oljedatabase[[#This Row],[SesongNy]]&\"-\"&Oljedatabase[[#This Row],[Vind (m/s)]]&\"-\"&Oljedatabase[[#This Row],[Tidspunkt (timer)]]","v":"Avaldsnes (Johan Sverdrup) 2012-Vinterforhold-10-9"},{"$f":"Oljedatabase[[#This Row],[Sesong]]","v":"Vinterforhold"},5,10,"9",0.52,7220,"Redusert kjemisk dispergerbarhet",0.18,0.66,0.15,94,"Ingen eksplosjonsfare",10,"Kjemisk dispergerbar","Nei",1.38,"2012-03-05T01:00:00",891,"Vest-Agder til Hordaland",27,6588792,-215604,"Avaldsnes (Johan Sverdrup) 2012 Forvitringsrapport.pdf"]
["Avaldsnes (Johan Sverdrup) 2012","Sommerforhold",{"$f":"Oljedatabase[[#This Row],[Oljetype]]&\"-\"&Oljedatabase[[#This Row],[SesongNy]]&\"-\"&Oljedatabase[[#This Row],[Vind (m/s)]]&\"-\"&Oljedatabase[[#This Row],[Tidspunkt (timer)]]","v":"Avaldsnes (Johan Sverdrup) 2012-Sommerforhold-5-24"},{"$f":"Oljedatabase[[#This Row],[Sesong]]","v":"Sommerforhold"},15,5,"24",0.49,3920,"Kjemisk dispergerbar",0.2,0.76,0.02,104,"Ingen eksplosjonsfare",10.7,"Kjemisk dispergerbar","Nei",1.5,"2012-03-05T01:00:00",891,"Vest-Agder til Hordaland",27,6588792,-215604,"Avaldsnes (Johan Sverdrup) 2012 Forvitringsrapport.pdf"]
["Balder Blend 2010","Sommerforhold",{"$f":"Oljedatabase[[#This Row],[Oljetype]]&\"-\"&Oljedatabase[[#This Row],[SesongNy]]&\"-\"&Oljedatabase[[#This Row],[Vind (m/s)]]&\"-\"&Oljedatabase[[#This Row],[Tidspunkt (timer)]]","v":"Balder Blend 2010-Sommerforhold-2-1"},{"$f":"Oljedatabase[[#This Row],[Sesong]]","v":"Sommerforhold"},15,2,"1",0.02,100,"Kjemisk dispergerbar",0.1,0.9,0,32,"Eksplosjonsfare ved tanking",8.3000000000000007,"Kjemisk dispergerbar","Nei",0.92,"2010-11-09T01:00:00",864,"Vest-Agder til Hordaland",32,6629664,-217792,"Balder Blend 2010 Forvitringsrapport.pdf"]
["Avaldsnes (Johan Sverdrup) 2012","Vinterforhold",{"$f":"Oljedatabase[[#This Row],[Oljetype]]&\"-\"&Oljedatabase[[#This Row],[SesongNy]]&\"-\"&Oljedatabase[[#This Row],[Vind (m/s)]]&\"-\"&Oljedatabase[[#This Row],[Tidspunkt (timer)]]","v":"Avaldsnes (Johan Sverdrup) 2012-Vinterforhold-2-48"},{"$f":"Oljedatabase[[#This Row],[Sesong]]","v":"Vinterforhold"},5,2,"48",0.28000000000000003,2140,"Kjemisk dispergerbar",0.18,0.81,0,90,"Ingen eksplosjonsfare",9.8000000000000007,"Kjemisk dispergerbar","Nei",1.1499999999999999,"2012-03-05T01:00:00",891,"Vest-Agder til Hordaland",27,6588792,-215604,"Avaldsnes (Johan Sverdrup) 2012 Forvitringsrapport.pdf"]
["Avaldsnes (Johan Sverdrup) 2012","Sommerforhold",{"$f":"Oljedatabase[[#This Row],[Oljetype]]&\"-\"&Oljedatabase[[#This Row],[SesongNy]]&\"-\"&Oljedatabase[[#This Row],[Vind (m/s)]]&\"-\"&Oljedatabase[[#This Row],[Tidspunkt (timer)]]","v":"Avaldsnes (Johan Sverdrup) 2012-Sommerforhold-15-24"},{"$f":"Oljedatabase[[#This Row],[Sesong]]","v":"Sommerforhold"},15,15,"24",0.68,27100,"Ikke kjemisk dispergerbar",0.22,0.13,0.64,131,"Ingen eksplosjonsfare",12.4,"Kjemisk dispergerbar","Ja",0.41,"2012-03-05T01:00:00",891,"Vest-Agder til Hordaland",27,6588792,-215604,"Avaldsnes (Johan Sverdrup) 2012 Forvitringsrapport.pdf"]
["Avaldsnes (Johan Sverdrup) 2012","Sommerforhold",{"$f":"Oljedatabase[[#This Row],[Oljetype]]&\"-\"&Oljedatabase[[#This Row],[SesongNy]]&\"-\"&Oljedatabase[[#This Row],[Vind (m/s)]]&\"-\"&Oljedatabase[[#This Row],[Tidspunkt (timer)]]","v":"Avaldsnes (Johan Sverdrup) 2012-Sommerforhold-15-6"},{"$f":"Oljedatabase[[#This Row],[Sesong]]","v":"Sommerforhold"},15,15,"6",0.62,10300,"Redusert kjemisk dispergerbarhet",0.2,0.36,0.43,109,"Ingen eksplosjonsfare",11,"Kjemisk dispergerbar","Ja",0.97,"2012-03-05T01:00:00",891,"Vest-Agder til Hordaland",27,6588792,-215604,"Avaldsnes (Johan Sverdrup) 2012 Forvitringsrapport.pdf"]
["Avaldsnes (Johan Sverdrup) 2012","Sommerforhold",{"$f":"Oljedatabase[[#This Row],[Oljetype]]&\"-\"&Oljedatabase[[#This Row],[SesongNy]]&\"-\"&Oljedatabase[[#This Row],[Vind (m/s)]]&\"-\"&Oljedatabase[[#This Row],[Tidspunkt (timer)]]","v":"Avaldsnes (Johan Sverdrup) 2012-Sommerforhold-15-1"},{"$f":"Oljedatabase[[#This Row],[Sesong]]","v":"Sommerforhold"},15,15,"1",0.21,686,"Kjemisk dispergerbar",0.16,0.69,0.14000000000000001,82,"Ingen eksplosjonsfare",9.1999999999999993,"Kjemisk dispergerbar","Nei",0.88,"2012-03-05T01:00:00",891,"Vest-Agder til Hordaland",27,6588792,-215604,"Avaldsnes (Johan Sverdrup) 2012 Forvitringsrapport.pdf"]
["Avaldsnes (Johan Sverdrup) 2012","Vinterforhold",{"$f":"Oljedatabase[[#This Row],[Oljetype]]&\"-\"&Oljedatabase[[#This Row],[SesongNy]]&\"-\"&Oljedatabase[[#This Row],[Vind (m/s)]]&\"-\"&Oljedatabase[[#This Row],[Tidspunkt (timer)]]","v":"Avaldsnes (Johan Sverdrup) 2012-Vinterforhold-5-9"},{"$f":"Oljedatabase[[#This Row],[Sesong]]","v":"Vinterforhold"},5,5,"9",0.23,1350,"Kjemisk dispergerbar",0.16,0.82,0.01,80,"Ingen eksplosjonsfare",9.1,"Kjemisk dispergerbar","Nei",1.08,"2012-03-05T01:00:00",891,"Vest-Agder til Hordaland",27,6588792,-215604,"Avaldsnes (Johan Sverdrup) 2012 Forvitringsrapport.pdf"]
["Avaldsnes (Johan Sverdrup) 2012","Vinterforhold",{"$f":"Oljedatabase[[#This Row],[Oljetype]]&\"-\"&Oljedatabase[[#This Row],[SesongNy]]&\"-\"&Oljedatabase[[#This Row],[Vind (m/s)]]&\"-\"&Oljedatabase[[#This Row],[Tidspunkt (timer)]]","v":"Avaldsnes (Johan Sverdrup) 2012-Vinterforhold-5-3"},{"$f":"Oljedatabase[[#This Row],[Sesong]]","v":"Vinterforhold"},5,5,"3",0.08,569,"Kjemisk dispergerbar",0.13,0.86,0,65,"Ingen eksplosjonsfare",8,"Kjemisk dispergerbar","Nei",0.95,"2012-03-05T01:00:00",891,"Vest-Agder til Hordaland",27,6588792,-215604,"Avaldsnes (Johan Sverdrup) 2012 Forvitringsrapport.pdf"]
["Avaldsnes (Johan Sverdrup) 2012","Vinterforhold",{"$f":"Oljedatabase[[#This Row],[Oljetype]]&\"-\"&Oljedatabase[[#This Row],[SesongNy]]&\"-\"&Oljedatabase[[#This Row],[Vind (m/s)]]&\"-\"&Oljedatabase[[#This Row],[Tidspunkt (timer)]]","v":"Avaldsnes (Johan Sverdrup) 2012-Vinterforhold-10-1"},{"$f":"Oljedatabase[[#This Row],[Sesong]]","v":"Vinterforhold"},5,10,"1",0.1,558,"Kjemisk dispergerbar",0.12,0.84,0.02,63,"Ingen eksplosjonsfare",7.9,"Kjemisk dispergerbar","Nei",0.95,"2012-03-05T01:00:00",891,"Vest-Agder til Hordaland",27,6588792,-215604,"Avaldsnes (Johan Sverdrup) 2012 Forvitringsrapport.pdf"]
["Avaldsnes (Johan Sverdrup) 2012","Vinterforhold",{"$f":"Oljedatabase[[#This Row],[Oljetype]]&\"-\"&Oljedatabase[[#This Row],[SesongNy]]&\"-\"&Oljedatabase[[#This Row],[Vind (m/s)]]&\"-\"&Oljedatabase[[#This Row],[Tidspunkt (timer)]]","v":"Avaldsnes (Johan Sverdrup) 2012-Vinterforhold-5-24"},{"$f":"Oljedatabase[[#This Row],[Sesong]]","v":"Vinterforhold"},5,5,"24",0.46,5080,"Kjemisk dispergerbar",0.18,0.78,0.02,93,"Ingen eksplosjonsfare",10,"Kjemisk dispergerbar","Nei",1.47,"2012-03-05T01:00:00",891,"Vest-Agder til Hordaland",27,6588792,-215604,"Avaldsnes (Johan Sverdrup) 2012 Forvitringsrapport.pdf"]
["Avaldsnes (Johan Sverdrup) 2012","Sommerforhold",{"$f":"Oljedatabase[[#This Row],[Oljetype]]&\"-\"&Oljedatabase[[#This Row],[SesongNy]]&\"-\"&Oljedatabase[[#This Row],[Vind (m/s)]]&\"-\"&Oljedatabase[[#This Row],[Tidspunkt (timer)]]","v":"Avaldsnes (Johan Sverdrup) 2012-Sommerforhold-10-72"},{"$f":"Oljedatabase[[#This Row],[Sesong]]","v":"Sommerforhold"},15,10,"72",0.68,31200,"Ikke kjemisk dispergerbar",0.25,0.31,0.43,138,"Ingen eksplosjonsfare",12.8,"Kjemisk dispergerbar","Ja",0.98,"2012-03-05T01:00:00",891,"Vest-Agder til Hordaland",27,6588792,-215604,"Avaldsnes (Johan Sverdrup) 2012 Forvitringsrapport.pdf"]
["Balder Blend 2010","Sommerforhold",{"$f":"Oljedatabase[[#This Row],[Oljetype]]&\"-\"&Oljedatabase[[#This Row],[SesongNy]]&\"-\"&Oljedatabase[[#This Row],[Vind (m/s)]]&\"-\"&Oljedatabase[[#This Row],[Tidspunkt (timer)]]","v":"Balder Blend 2010-Sommerforhold-2-48"},{"$f":"Oljedatabase[[#This Row],[Sesong]]","v":"Sommerforhold"},15,2,"48",0.38,2400,"Kjemisk dispergerbar",0.25,0.75,0,101,"Ingen eksplosjonsfare",16.600000000000001,"Kjemisk dispergerbar","Nei",1.22,"2010-11-09T01:00:00",864,"Vest-Agder til Hordaland",32,6629664,-217792,"Balder Blend 2010 Forvitringsrapport.pdf"]
["Avaldsnes (Johan Sverdrup) 2012","Vinterforhold",{"$f":"Oljedatabase[[#This Row],[Oljetype]]&\"-\"&Oljedatabase[[#This Row],[SesongNy]]&\"-\"&Oljedatabase[[#This Row],[Vind (m/s)]]&\"-\"&Oljedatabase[[#This Row],[Tidspunkt (timer)]]","v":"Avaldsnes (Johan Sverdrup) 2012-Vinterforhold-5-72"},{"$f":"Oljedatabase[[#This Row],[Sesong]]","v":"Vinterforhold"},5,5,"72",0.62,21100,"Redusert kjemisk dispergerbarhet",0.21,0.73,0.04,108,"Ingen eksplosjonsfare",10.9,"Redusert kjemisk dispergerbarhet","Ja",1.99,"2012-03-05T01:00:00",891,"Vest-Agder til Hordaland",27,6588792,-215604,"Avaldsnes (Johan Sverdrup) 2012 Forvitringsrapport.pdf"]
["Balder Blend 2010","Sommerforhold",{"$f":"Oljedatabase[[#This Row],[Oljetype]]&\"-\"&Oljedatabase[[#This Row],[SesongNy]]&\"-\"&Oljedatabase[[#This Row],[Vind (m/s)]]&\"-\"&Oljedatabase[[#This Row],[Tidspunkt (timer)]]","v":"Balder Blend 2010-Sommerforhold-10-96"},{"$f":"Oljedatabase[[#This Row],[Sesong]]","v":"Sommerforhold"},15,10,"96",0.7,18000,"Redusert kjemisk dispergerbarhet",0.32,0.15,0.53,153,"Ingen eksplosjonsfare",22,"Redusert kjemisk dispergerbarhet","Ja",0.5,"2010-11-09T01:00:00",864,"Vest-Agder til Hordaland",32,6629664,-217792,"Balder Blend 2010 Forvitringsrapport.pdf"]
["Avaldsnes (Johan Sverdrup) 2012","Sommerforhold",{"$f":"Oljedatabase[[#This Row],[Oljetype]]&\"-\"&Oljedatabase[[#This Row],[SesongNy]]&\"-\"&Oljedatabase[[#This Row],[Vind (m/s)]]&\"-\"&Oljedatabase[[#This Row],[Tidspunkt (timer)]]","v":"Avaldsnes (Johan Sverdrup) 2012-Sommerforhold-10-6"},{"$f":"Oljedatabase[[#This Row],[Sesong]]","v":"Sommerforhold"},15,10,"6",0.45,2810,"Kjemisk dispergerbar",0.19,0.66,0.13,100,"Ingen eksplosjonsfare",10.4,"Kjemisk dispergerbar","Nei",1.22,"2012-03-05T01:00:00",891,"Vest-Agder til Hordaland",27,6588792,-215604,"Avaldsnes (Johan Sverdrup) 2012 Forvitringsrapport.pdf"]
["Avaldsnes (Johan Sverdrup) 2012","Vinterforhold",{"$f":"Oljedatabase[[#This Row],[Oljetype]]&\"-\"&Oljedatabase[[#This Row],[SesongNy]]&\"-\"&Oljedatabase[[#This Row],[Vind (m/s)]]&\"-\"&Oljedatabase[[#This Row],[Tidspunkt (timer)]]","v":"Avaldsnes (Johan Sverdrup) 2012-Vinterforhold-5-2"},{"$f":"Oljedatabase[[#This Row],[Sesong]]","v":"Vinterforhold"},5,5,"2",0.06,448,"Kjemisk dispergerbar",0.11,0.87,0,59,"Eksplosjonsfare ved tanking",7.6,"Kjemisk dispergerbar","Nei",0.94,"2012-03-05T01:00:00",891,"Vest-Agder til Hordaland",27,6588792,-215604,"Avaldsnes (Johan Sverdrup) 2012 Forvitringsrapport.pdf"]
["Avaldsnes (Johan Sverdrup) 2012","Sommerforhold",{"$f":"Oljedatabase[[#This Row],[Oljetype]]&\"-\"&Oljedatabase[[#This Row],[SesongNy]]&\"-\"&Oljedatabase[[#This Row],[Vind (m/s)]]&\"-\"&Oljedatabase[[#This Row],[Tidspunkt (timer)]]","v":"Avaldsnes (Johan Sverdrup) 2012-Sommerforhold-15-72"},{"$f":"Oljedatabase[[#This Row],[Sesong]]","v":"Sommerforhold"},15,15,"72",0.68,42800,"Ikke kjemisk dispergerbar",0.23,0.01,0.75,152,"Ingen eksplosjonsfare",13.6,"Kjemisk dispergerbar","Ja",0.04,"2012-03-05T01:00:00",891,"Vest-Agder til Hordaland",27,6588792,-215604,"Avaldsnes (Johan Sverdrup) 2012 Forvitringsrapport.pdf"]
["Avaldsnes (Johan Sverdrup) 2012","Vinterforhold",{"$f":"Oljedatabase[[#This Row],[Oljetype]]&\"-\"&Oljedatabase[[#This Row],[SesongNy]]&\"-\"&Oljedatabase[[#This Row],[Vind (m/s)]]&\"-\"&Oljedatabase[[#This Row],[Tidspunkt (timer)]]","v":"Avaldsnes (Johan Sverdrup) 2012-Vinterforhold-2-12"},{"$f":"Oljedatabase[[#This Row],[Sesong]]","v":"Vinterforhold"},5,2,"12",7.0000000000000007E-2,676,"Kjemisk dispergerbar",0.14000000000000001,0.85,0,72,"Ingen eksplosjonsfare",8.5,"Kjemisk dispergerbar","Nei",0.93,"2012-03-05T01:00:00",891,"Vest-Agder til Hordaland",27,6588792,-215604,"Avaldsnes (Johan Sverdrup) 2012 Forvitringsrapport.pdf"]
["Avaldsnes (Johan Sverdrup) 2012","Sommerforhold",{"$f":"Oljedatabase[[#This Row],[Oljetype]]&\"-\"&Oljedatabase[[#This Row],[SesongNy]]&\"-\"&Oljedatabase[[#This Row],[Vind (m/s)]]&\"-\"&Oljedatabase[[#This Row],[Tidspunkt (timer)]]","v":"Avaldsnes (Johan Sverdrup) 2012-Sommerforhold-15-120"},{"$f":"Oljedatabase[[#This Row],[Sesong]]","v":"Sommerforhold"},15,15,"120",0.68,54500,"Ikke kjemisk dispergerbar",0.23,0,0.76,164,"Ingen eksplosjonsfare",14.3,"Kjemisk dispergerbar","Ja",0,"2012-03-05T01:00:00",891,"Vest-Agder til Hordaland",27,6588792,-215604,"Avaldsnes (Johan Sverdrup) 2012 Forvitringsrapport.pdf"]
["Avaldsnes (Johan Sverdrup) 2012","Vinterforhold",{"$f":"Oljedatabase[[#This Row],[Oljetype]]&\"-\"&Oljedatabase[[#This Row],[SesongNy]]&\"-\"&Oljedatabase[[#This Row],[Vind (m/s)]]&\"-\"&Oljedatabase[[#This Row],[Tidspunkt (timer)]]","v":"Avaldsnes (Johan Sverdrup) 2012-Vinterforhold-10-24"},{"$f":"Oljedatabase[[#This Row],[Sesong]]","v":"Vinterforhold"},5,10,"24",0.63,22200,"Redusert kjemisk dispergerbarhet",0.2,0.54,0.24,108,"Ingen eksplosjonsfare",10.9,"Redusert kjemisk dispergerbarhet","Ja",1.49,"2012-03-05T01:00:00",891,"Vest-Agder til Hordaland",27,6588792,-215604,"Avaldsnes (Johan Sverdrup) 2012 Forvitringsrapport.pdf"]
["Avaldsnes (Johan Sverdrup) 2012","Vinterforhold",{"$f":"Oljedatabase[[#This Row],[Oljetype]]&\"-\"&Oljedatabase[[#This Row],[SesongNy]]&\"-\"&Oljedatabase[[#This Row],[Vind (m/s)]]&\"-\"&Oljedatabase[[#This Row],[Tidspunkt (timer)]]","v":"Avaldsnes (Johan Sverdrup) 2012-Vinterforhold-5-6"},{"$f":"Oljedatabase[[#This Row],[Sesong]]","v":"Vinterforhold"},5,5,"6",0.16,929,"Kjemisk dispergerbar",0.15,0.84,0,74,"Ingen eksplosjonsfare",8.6999999999999993,"Kjemisk dispergerbar","Nei",1.01,"2012-03-05T01:00:00",891,"Vest-Agder til Hordaland",27,6588792,-215604,"Avaldsnes (Johan Sverdrup) 2012 Forvitringsrapport.pdf"]
["Avaldsnes (Johan Sverdrup) 2012","Vinterforhold",{"$f":"Oljedatabase[[#This Row],[Oljetype]]&\"-\"&Oljedatabase[[#This Row],[SesongNy]]&\"-\"&Oljedatabase[[#This Row],[Vind (m/s)]]&\"-\"&Oljedatabase[[#This Row],[Tidspunkt (timer)]]","v":"Avaldsnes (Johan Sverdrup) 2012-Vinterforhold-10-12"},{"$f":"Oljedatabase[[#This Row],[Sesong]]","v":"Vinterforhold"},5,10,"12",0.56999999999999995,11300,"Redusert kjemisk dispergerbarhet",0.19,0.63,0.17,98,"Ingen eksplosjonsfare",10.3,"Redusert kjemisk dispergerbarhet","Ja",1.49,"2012-03-05T01:00:00",891,"Vest-Agder til Hordaland",27,6588792,-215604,"Avaldsnes (Johan Sverdrup) 2012 Forvitringsrapport.pdf"]
["Avaldsnes (Johan Sverdrup) 2012","Sommerforhold",{"$f":"Oljedatabase[[#This Row],[Oljetype]]&\"-\"&Oljedatabase[[#This Row],[SesongNy]]&\"-\"&Oljedatabase[[#This Row],[Vind (m/s)]]&\"-\"&Oljedatabase[[#This Row],[Tidspunkt (timer)]]","v":"Avaldsnes (Johan Sverdrup) 2012-Sommerforhold-10-96"},{"$f":"Oljedatabase[[#This Row],[Sesong]]","v":"Sommerforhold"},15,10,"96",0.68,35100,"Ikke kjemisk dispergerbar",0.25,0.25,0.49,144,"Ingen eksplosjonsfare",13.2,"Kjemisk dispergerbar","Ja",0.79,"2012-03-05T01:00:00",891,"Vest-Agder til Hordaland",27,6588792,-215604,"Avaldsnes (Johan Sverdrup) 2012 Forvitringsrapport.pdf"]
["Avaldsnes (Johan Sverdrup) 2012","Sommerforhold",{"$f":"Oljedatabase[[#This Row],[Oljetype]]&\"-\"&Oljedatabase[[#This Row],[SesongNy]]&\"-\"&Oljedatabase[[#This Row],[Vind (m/s)]]&\"-\"&Oljedatabase[[#This Row],[Tidspunkt (timer)]]","v":"Avaldsnes (Johan Sverdrup) 2012-Sommerforhold-10-24"},{"$f":"Oljedatabase[[#This Row],[Sesong]]","v":"Sommerforhold"},15,10,"24",0.68,20700,"Redusert kjemisk dispergerbarhet",0.22,0.5,0.26,120,"Ingen eksplosjonsfare",11.7,"Kjemisk dispergerbar","Ja",1.58,"2012-03-05T01:00:00",891,"Vest-Agder til Hordaland",27,6588792,-215604,"Avaldsnes (Johan Sverdrup) 2012 Forvitringsrapport.pdf"]
["Avaldsnes (Johan Sverdrup) 2012","Sommerforhold",{"$f":"Oljedatabase[[#This Row],[Oljetype]]&\"-\"&Oljedatabase[[#This Row],[SesongNy]]&\"-\"&Oljedatabase[[#This Row],[Vind (m/s)]]&\"-\"&Oljedatabase[[#This Row],[Tidspunkt (timer)]]","v":"Avaldsnes (Johan Sverdrup) 2012-Sommerforhold-5-9"},{"$f":"Oljedatabase[[#This Row],[Sesong]]","v":"Sommerforhold"},15,5,"9",0.25,960,"Kjemisk dispergerbar",0.18,0.8,0.01,90,"Ingen eksplosjonsfare",9.8000000000000007,"Kjemisk dispergerbar","Nei",1.07,"2012-03-05T01:00:00",891,"Vest-Agder til Hordaland",27,6588792,-215604,"Avaldsnes (Johan Sverdrup) 2012 Forvitringsrapport.pdf"]
["Avaldsnes (Johan Sverdrup) 2012","Vinterforhold",{"$f":"Oljedatabase[[#This Row],[Oljetype]]&\"-\"&Oljedatabase[[#This Row],[SesongNy]]&\"-\"&Oljedatabase[[#This Row],[Vind (m/s)]]&\"-\"&Oljedatabase[[#This Row],[Tidspunkt (timer)]]","v":"Avaldsnes (Johan Sverdrup) 2012-Vinterforhold-2-24"},{"$f":"Oljedatabase[[#This Row],[Sesong]]","v":"Vinterforhold"},5,2,"24",0.15,1080,"Kjemisk dispergerbar",0.16,0.83,0,81,"Ingen eksplosjonsfare",9.1,"Kjemisk dispergerbar","Nei",0.99,"2012-03-05T01:00:00",891,"Vest-Agder til Hordaland",27,6588792,-215604,"Avaldsnes (Johan Sverdrup) 2012 Forvitringsrapport.pdf"]
["Avaldsnes (Johan Sverdrup) 2012","Sommerforhold",{"$f":"Oljedatabase[[#This Row],[Oljetype]]&\"-\"&Oljedatabase[[#This Row],[SesongNy]]&\"-\"&Oljedatabase[[#This Row],[Vind (m/s)]]&\"-\"&Oljedatabase[[#This Row],[Tidspunkt (timer)]]","v":"Avaldsnes (Johan Sverdrup) 2012-Sommerforhold-15-48"},{"$f":"Oljedatabase[[#This Row],[Sesong]]","v":"Sommerforhold"},15,15,"48",0.68,35500,"Ikke kjemisk dispergerbar",0.23,0.04,0.72,143,"Ingen eksplosjonsfare",13.1,"Kjemisk dispergerbar","Ja",0.13,"2012-03-05T01:00:00",891,"Vest-Agder til Hordaland",27,6588792,-215604,"Avaldsnes (Johan Sverdrup) 2012 Forvitringsrapport.pdf"]
["Avaldsnes (Johan Sverdrup) 2012","Vinterforhold",{"$f":"Oljedatabase[[#This Row],[Oljetype]]&\"-\"&Oljedatabase[[#This Row],[SesongNy]]&\"-\"&Oljedatabase[[#This Row],[Vind (m/s)]]&\"-\"&Oljedatabase[[#This Row],[Tidspunkt (timer)]]","v":"Avaldsnes (Johan Sverdrup) 2012-Vinterforhold-15-12"},{"$f":"Oljedatabase[[#This Row],[Sesong]]","v":"Vinterforhold"},5,15,"12",0.63,22600,"Redusert kjemisk dispergerbarhet",0.19,0.28999999999999998,0.51,107,"Ingen eksplosjonsfare",10.9,"Redusert kjemisk dispergerbarhet","Ja",0.81,"2012-03-05T01:00:00",891,"Vest-Agder til Hordaland",27,6588792,-215604,"Avaldsnes (Johan Sverdrup) 2012 Forvitringsrapport.pdf"]
["Balder Blend 2010","Sommerforhold",{"$f":"Oljedatabase[[#This Row],[Oljetype]]&\"-\"&Oljedatabase[[#This Row],[SesongNy]]&\"-\"&Oljedatabase[[#This Row],[Vind (m/s)]]&\"-\"&Oljedatabase[[#This Row],[Tidspunkt (timer)]]","v":"Balder Blend 2010-Sommerforhold-10-9"},{"$f":"Oljedatabase[[#This Row],[Sesong]]","v":"Sommerforhold"},15,10,"9",0.6,4900,"Redusert kjemisk dispergerbarhet",0.26,0.57999999999999996,0.16,106,"Ingen eksplosjonsfare",17.2,"Kjemisk dispergerbar","Nei",1.45,"2010-11-09T01:00:00",864,"Vest-Agder til Hordaland",32,6629664,-217792,"Balder Blend 2010 Forvitringsrapport.pdf"]
["Balder Blend 2010","Sommerforhold",{"$f":"Oljedatabase[[#This Row],[Oljetype]]&\"-\"&Oljedatabase[[#This Row],[SesongNy]]&\"-\"&Oljedatabase[[#This Row],[Vind (m/s)]]&\"-\"&Oljedatabase[[#This Row],[Tidspunkt (timer)]]","v":"Balder Blend 2010-Sommerforhold-2-96"},{"$f":"Oljedatabase[[#This Row],[Sesong]]","v":"Sommerforhold"},15,2,"96",0.55000000000000004,5200,"Redusert kjemisk dispergerbarhet",0.27,0.73,0,113,"Ingen eksplosjonsfare",18,"Kjemisk dispergerbar","Nei",1.64,"2010-11-09T01:00:00",864,"Vest-Agder til Hordaland",32,6629664,-217792,"Balder Blend 2010 Forvitringsrapport.pdf"]
["Avaldsnes (Johan Sverdrup) 2012","Vinterforhold",{"$f":"Oljedatabase[[#This Row],[Oljetype]]&\"-\"&Oljedatabase[[#This Row],[SesongNy]]&\"-\"&Oljedatabase[[#This Row],[Vind (m/s)]]&\"-\"&Oljedatabase[[#This Row],[Tidspunkt (timer)]]","v":"Avaldsnes (Johan Sverdrup) 2012-Vinterforhold-2-96"},{"$f":"Oljedatabase[[#This Row],[Sesong]]","v":"Vinterforhold"},5,2,"96",0.45,5630,"Kjemisk dispergerbar",0.19,0.79,0,100,"Ingen eksplosjonsfare",10.4,"Redusert kjemisk dispergerbarhet","Nei",1.46,"2012-03-05T01:00:00",891,"Vest-Agder til Hordaland",27,6588792,-215604,"Avaldsnes (Johan Sverdrup) 2012 Forvitringsrapport.pdf"]
["Balder Blend 2010","Sommerforhold",{"$f":"Oljedatabase[[#This Row],[Oljetype]]&\"-\"&Oljedatabase[[#This Row],[SesongNy]]&\"-\"&Oljedatabase[[#This Row],[Vind (m/s)]]&\"-\"&Oljedatabase[[#This Row],[Tidspunkt (timer)]]","v":"Balder Blend 2010-Sommerforhold-10-1"},{"$f":"Oljedatabase[[#This Row],[Sesong]]","v":"Sommerforhold"},15,10,"1",0.15,430,"Kjemisk dispergerbar",0.17,0.79,0.03,65,"Ingen eksplosjonsfare",12.5,"Kjemisk dispergerbar","Nei",0.92,"2010-11-09T01:00:00",864,"Vest-Agder til Hordaland",32,6629664,-217792,"Balder Blend 2010 Forvitringsrapport.pdf"]
["Balder Blend 2010","Sommerforhold",{"$f":"Oljedatabase[[#This Row],[Oljetype]]&\"-\"&Oljedatabase[[#This Row],[SesongNy]]&\"-\"&Oljedatabase[[#This Row],[Vind (m/s)]]&\"-\"&Oljedatabase[[#This Row],[Tidspunkt (timer)]]","v":"Balder Blend 2010-Sommerforhold-5-24"},{"$f":"Oljedatabase[[#This Row],[Sesong]]","v":"Sommerforhold"},15,5,"24",0.55000000000000004,4200,"Redusert kjemisk dispergerbarhet",0.26,0.72,0.03,105,"Ingen eksplosjonsfare",17,"Kjemisk dispergerbar","Nei",1.61,"2010-11-09T01:00:00",864,"Vest-Agder til Hordaland",32,6629664,-217792,"Balder Blend 2010 Forvitringsrapport.pdf"]
["Avaldsnes (Johan Sverdrup) 2012","Vinterforhold",{"$f":"Oljedatabase[[#This Row],[Oljetype]]&\"-\"&Oljedatabase[[#This Row],[SesongNy]]&\"-\"&Oljedatabase[[#This Row],[Vind (m/s)]]&\"-\"&Oljedatabase[[#This Row],[Tidspunkt (timer)]]","v":"Avaldsnes (Johan Sverdrup) 2012-Vinterforhold-2-120"},{"$f":"Oljedatabase[[#This Row],[Sesong]]","v":"Vinterforhold"},5,2,"120",0.5,8000,"Redusert kjemisk dispergerbarhet",0.2,0.79,0,103,"Ingen eksplosjonsfare",10.6,"Redusert kjemisk dispergerbarhet","Nei",1.59,"2012-03-05T01:00:00",891,"Vest-Agder til Hordaland",27,6588792,-215604,"Avaldsnes (Johan Sverdrup) 2012 Forvitringsrapport.pdf"]
["Avaldsnes (Johan Sverdrup) 2012","Vinterforhold",{"$f":"Oljedatabase[[#This Row],[Oljetype]]&\"-\"&Oljedatabase[[#This Row],[SesongNy]]&\"-\"&Oljedatabase[[#This Row],[Vind (m/s)]]&\"-\"&Oljedatabase[[#This Row],[Tidspunkt (timer)]]","v":"Avaldsnes (Johan Sverdrup) 2012-Vinterforhold-10-48"},{"$f":"Oljedatabase[[#This Row],[Sesong]]","v":"Vinterforhold"},5,10,"48",0.63,28300,"Ikke kjemisk dispergerbar",0.22,0.43,0.34,117,"Ingen eksplosjonsfare",11.5,"Redusert kjemisk dispergerbarhet","Ja",1.18,"2012-03-05T01:00:00",891,"Vest-Agder til Hordaland",27,6588792,-215604,"Avaldsnes (Johan Sverdrup) 2012 Forvitringsrapport.pdf"]
["Avaldsnes (Johan Sverdrup) 2012","Vinterforhold",{"$f":"Oljedatabase[[#This Row],[Oljetype]]&\"-\"&Oljedatabase[[#This Row],[SesongNy]]&\"-\"&Oljedatabase[[#This Row],[Vind (m/s)]]&\"-\"&Oljedatabase[[#This Row],[Tidspunkt (timer)]]","v":"Avaldsnes (Johan Sverdrup) 2012-Vinterforhold-5-48"},{"$f":"Oljedatabase[[#This Row],[Sesong]]","v":"Vinterforhold"},5,5,"48",0.59,14500,"Redusert kjemisk dispergerbarhet",0.2,0.75,0.03,102,"Ingen eksplosjonsfare",10.6,"Redusert kjemisk dispergerbarhet","Ja",1.88,"2012-03-05T01:00:00",891,"Vest-Agder til Hordaland",27,6588792,-215604,"Avaldsnes (Johan Sverdrup) 2012 Forvitringsrapport.pdf"]
["Avaldsnes (Johan Sverdrup) 2012","Sommerforhold",{"$f":"Oljedatabase[[#This Row],[Oljetype]]&\"-\"&Oljedatabase[[#This Row],[SesongNy]]&\"-\"&Oljedatabase[[#This Row],[Vind (m/s)]]&\"-\"&Oljedatabase[[#This Row],[Tidspunkt (timer)]]","v":"Avaldsnes (Johan Sverdrup) 2012-Sommerforhold-15-2"},{"$f":"Oljedatabase[[#This Row],[Sesong]]","v":"Sommerforhold"},15,15,"2",0.36,1580,"Kjemisk dispergerbar",0.18,0.56999999999999995,0.24,93,"Ingen eksplosjonsfare",9.9,"Kjemisk dispergerbar","Nei",0.89,"2012-03-05T01:00:00",891,"Vest-Agder til Hordaland",27,6588792,-215604,"Avaldsnes (Johan Sverdrup) 2012 Forvitringsrapport.pdf"]
["Avaldsnes (Johan Sverdrup) 2012","Vinterforhold",{"$f":"Oljedatabase[[#This Row],[Oljetype]]&\"-\"&Oljedatabase[[#This Row],[SesongNy]]&\"-\"&Oljedatabase[[#This Row],[Vind (m/s)]]&\"-\"&Oljedatabase[[#This Row],[Tidspunkt (timer)]]","v":"Avaldsnes (Johan Sverdrup) 2012-Vinterforhold-15-1"},{"$f":"Oljedatabase[[#This Row],[Sesong]]","v":"Vinterforhold"},5,15,"1",0.2,978,"Kjemisk dispergerbar",0.14000000000000001,0.72,0.12,72,"Ingen eksplosjonsfare",8.5,"Kjemisk dispergerbar","Nei",0.91,"2012-03-05T01:00:00",891,"Vest-Agder til Hordaland",27,6588792,-215604,"Avaldsnes (Johan Sverdrup) 2012 Forvitringsrapport.pdf"]
["Avaldsnes (Johan Sverdrup) 2012","Sommerforhold",{"$f":"Oljedatabase[[#This Row],[Oljetype]]&\"-\"&Oljedatabase[[#This Row],[SesongNy]]&\"-\"&Oljedatabase[[#This Row],[Vind (m/s)]]&\"-\"&Oljedatabase[[#This Row],[Tidspunkt (timer)]]","v":"Avaldsnes (Johan Sverdrup) 2012-Sommerforhold-10-9"},{"$f":"Oljedatabase[[#This Row],[Sesong]]","v":"Sommerforhold"},15,10,"9",0.55000000000000004,5780,"Kjemisk dispergerbar",0.2,0.62,0.17,106,"Ingen eksplosjonsfare",10.8,"Kjemisk dispergerbar","Nei",1.39,"2012-03-05T01:00:00",891,"Vest-Agder til Hordaland",27,6588792,-215604,"Avaldsnes (Johan Sverdrup) 2012 Forvitringsrapport.pdf"]
["Avaldsnes (Johan Sverdrup) 2012","Sommerforhold",{"$f":"Oljedatabase[[#This Row],[Oljetype]]&\"-\"&Oljedatabase[[#This Row],[SesongNy]]&\"-\"&Oljedatabase[[#This Row],[Vind (m/s)]]&\"-\"&Oljedatabase[[#This Row],[Tidspunkt (timer)]]","v":"Avaldsnes (Johan Sverdrup) 2012-Sommerforhold-15-96"},{"$f":"Oljedatabase[[#This Row],[Sesong]]","v":"Sommerforhold"},15,15,"96",0.68,49200,"Ikke kjemisk dispergerbar",0.23,0,0.76,159,"Ingen eksplosjonsfare",14,"Kjemisk dispergerbar","Ja",0.01,"2012-03-05T01:00:00",891,"Vest-Agder til Hordaland",27,6588792,-215604,"Avaldsnes (Johan Sverdrup) 2012 Forvitringsrapport.pdf"]
["Kneler (Alvheim) 2009","Vinterforhold",{"$f":"Oljedatabase[[#This Row],[Oljetype]]&\"-\"&Oljedatabase[[#This Row],[SesongNy]]&\"-\"&Oljedatabase[[#This Row],[Vind (m/s)]]&\"-\"&Oljedatabase[[#This Row],[Tidspunkt (timer)]]","v":"Kneler (Alvheim) 2009-Vinterforhold-15-96"},{"$f":"Oljedatabase[[#This Row],[Sesong]]","v":"Vinterforhold"},5,15,"96",0.66,11000,"Redusert kjemisk dispergerbarhet",0.28999999999999998,0,0.71,141,"Ingen eksplosjonsfare",18,"Redusert kjemisk dispergerbarhet","Ja",0,"2009-03-08T01:00:00",832,"Vest-Agder til Hordaland",38,6675281,-231532,"Kneler (Alvheim) 2009 Forvitringsrapport.pdf"]
["Avaldsnes (Johan Sverdrup) 2012","Vinterforhold",{"$f":"Oljedatabase[[#This Row],[Oljetype]]&\"-\"&Oljedatabase[[#This Row],[SesongNy]]&\"-\"&Oljedatabase[[#This Row],[Vind (m/s)]]&\"-\"&Oljedatabase[[#This Row],[Tidspunkt (timer)]]","v":"Avaldsnes (Johan Sverdrup) 2012-Vinterforhold-2-72"},{"$f":"Oljedatabase[[#This Row],[Sesong]]","v":"Vinterforhold"},5,2,"72",0.38,3650,"Kjemisk dispergerbar",0.19,0.8,0,96,"Ingen eksplosjonsfare",10.1,"Redusert kjemisk dispergerbarhet","Nei",1.3,"2012-03-05T01:00:00",891,"Vest-Agder til Hordaland",27,6588792,-215604,"Avaldsnes (Johan Sverdrup) 2012 Forvitringsrapport.pdf"]
["Balder Blend 2010","Sommerforhold",{"$f":"Oljedatabase[[#This Row],[Oljetype]]&\"-\"&Oljedatabase[[#This Row],[SesongNy]]&\"-\"&Oljedatabase[[#This Row],[Vind (m/s)]]&\"-\"&Oljedatabase[[#This Row],[Tidspunkt (timer)]]","v":"Balder Blend 2010-Sommerforhold-10-72"},{"$f":"Oljedatabase[[#This Row],[Sesong]]","v":"Sommerforhold"},15,10,"72",0.7,15000,"Redusert kjemisk dispergerbarhet",0.31,0.21,0.48,147,"Ingen eksplosjonsfare",21.4,"Redusert kjemisk dispergerbarhet","Ja",0.7,"2010-11-09T01:00:00",864,"Vest-Agder til Hordaland",32,6629664,-217792,"Balder Blend 2010 Forvitringsrapport.pdf"]
["Avaldsnes (Johan Sverdrup) 2012","Vinterforhold",{"$f":"Oljedatabase[[#This Row],[Oljetype]]&\"-\"&Oljedatabase[[#This Row],[SesongNy]]&\"-\"&Oljedatabase[[#This Row],[Vind (m/s)]]&\"-\"&Oljedatabase[[#This Row],[Tidspunkt (timer)]]","v":"Avaldsnes (Johan Sverdrup) 2012-Vinterforhold-15-3"},{"$f":"Oljedatabase[[#This Row],[Sesong]]","v":"Vinterforhold"},5,15,"3",0.44,3990,"Kjemisk dispergerbar",0.17,0.54,0.28000000000000003,88,"Ingen eksplosjonsfare",9.6,"Kjemisk dispergerbar","Nei",0.98,"2012-03-05T01:00:00",891,"Vest-Agder til Hordaland",27,6588792,-215604,"Avaldsnes (Johan Sverdrup) 2012 Forvitringsrapport.pdf"]
["Balder Blend 2010","Sommerforhold",{"$f":"Oljedatabase[[#This Row],[Oljetype]]&\"-\"&Oljedatabase[[#This Row],[SesongNy]]&\"-\"&Oljedatabase[[#This Row],[Vind (m/s)]]&\"-\"&Oljedatabase[[#This Row],[Tidspunkt (timer)]]","v":"Balder Blend 2010-Sommerforhold-2-72"},{"$f":"Oljedatabase[[#This Row],[Sesong]]","v":"Sommerforhold"},15,2,"72",0.48,3800,"Kjemisk dispergerbar",0.26,0.74,0,108,"Ingen eksplosjonsfare",17.399999999999999,"Kjemisk dispergerbar","Nei",1.44,"2010-11-09T01:00:00",864,"Vest-Agder til Hordaland",32,6629664,-217792,"Balder Blend 2010 Forvitringsrapport.pdf"]
["Balder Blend 2010","Sommerforhold",{"$f":"Oljedatabase[[#This Row],[Oljetype]]&\"-\"&Oljedatabase[[#This Row],[SesongNy]]&\"-\"&Oljedatabase[[#This Row],[Vind (m/s)]]&\"-\"&Oljedatabase[[#This Row],[Tidspunkt (timer)]]","v":"Balder Blend 2010-Sommerforhold-5-120"},{"$f":"Oljedatabase[[#This Row],[Sesong]]","v":"Sommerforhold"},15,5,"120",0.7,12000,"Redusert kjemisk dispergerbarhet",0.3,0.62,0.08,135,"Ingen eksplosjonsfare",20.2,"Redusert kjemisk dispergerbarhet","Ja",2.0699999999999998,"2010-11-09T01:00:00",864,"Vest-Agder til Hordaland",32,6629664,-217792,"Balder Blend 2010 Forvitringsrapport.pdf"]
["Balder Blend 2010","Sommerforhold",{"$f":"Oljedatabase[[#This Row],[Oljetype]]&\"-\"&Oljedatabase[[#This Row],[SesongNy]]&\"-\"&Oljedatabase[[#This Row],[Vind (m/s)]]&\"-\"&Oljedatabase[[#This Row],[Tidspunkt (timer)]]","v":"Balder Blend 2010-Sommerforhold-2-24"},{"$f":"Oljedatabase[[#This Row],[Sesong]]","v":"Sommerforhold"},15,2,"24",0.24,1100,"Kjemisk dispergerbar",0.23,0.78,0,89,"Ingen eksplosjonsfare",15.2,"Kjemisk dispergerbar","Nei",1.02,"2010-11-09T01:00:00",864,"Vest-Agder til Hordaland",32,6629664,-217792,"Balder Blend 2010 Forvitringsrapport.pdf"]
["Balder Blend 2010","Vinterforhold",{"$f":"Oljedatabase[[#This Row],[Oljetype]]&\"-\"&Oljedatabase[[#This Row],[SesongNy]]&\"-\"&Oljedatabase[[#This Row],[Vind (m/s)]]&\"-\"&Oljedatabase[[#This Row],[Tidspunkt (timer)]]","v":"Balder Blend 2010-Vinterforhold-15-9"},{"$f":"Oljedatabase[[#This Row],[Sesong]]","v":"Vinterforhold"},5,15,"9",0.62,9900,"Redusert kjemisk dispergerbarhet",0.23,0.28999999999999998,0.47,103,"Ingen eksplosjonsfare",16.899999999999999,"Redusert kjemisk dispergerbarhet","Nei",0.78,"2010-11-09T01:00:00",864,"Vest-Agder til Hordaland",32,6629664,-217792,"Balder Blend 2010 Forvitringsrapport.pdf"]
["Avaldsnes (Johan Sverdrup) 2012","Vinterforhold",{"$f":"Oljedatabase[[#This Row],[Oljetype]]&\"-\"&Oljedatabase[[#This Row],[SesongNy]]&\"-\"&Oljedatabase[[#This Row],[Vind (m/s)]]&\"-\"&Oljedatabase[[#This Row],[Tidspunkt (timer)]]","v":"Avaldsnes (Johan Sverdrup) 2012-Vinterforhold-15-96"},{"$f":"Oljedatabase[[#This Row],[Sesong]]","v":"Vinterforhold"},5,15,"96",0.63,47400,"Ikke kjemisk dispergerbar",0.21,0,0.78,138,"Ingen eksplosjonsfare",12.8,"Redusert kjemisk dispergerbarhet","Ja",0.02,"2012-03-05T01:00:00",891,"Vest-Agder til Hordaland",27,6588792,-215604,"Avaldsnes (Johan Sverdrup) 2012 Forvitringsrapport.pdf"]
["Balder Blend 2010","Vinterforhold",{"$f":"Oljedatabase[[#This Row],[Oljetype]]&\"-\"&Oljedatabase[[#This Row],[SesongNy]]&\"-\"&Oljedatabase[[#This Row],[Vind (m/s)]]&\"-\"&Oljedatabase[[#This Row],[Tidspunkt (timer)]]","v":"Balder Blend 2010-Vinterforhold-2-6"},{"$f":"Oljedatabase[[#This Row],[Sesong]]","v":"Vinterforhold"},5,2,"6",0.06,400,"Kjemisk dispergerbar",0.15,0.85,0,55,"Eksplosjonsfare ved tanking",11.3,"Redusert kjemisk dispergerbarhet","Nei",0.9,"2010-11-09T01:00:00",864,"Vest-Agder til Hordaland",32,6629664,-217792,"Balder Blend 2010 Forvitringsrapport.pdf"]
["Avaldsnes (Johan Sverdrup) 2012","Sommerforhold",{"$f":"Oljedatabase[[#This Row],[Oljetype]]&\"-\"&Oljedatabase[[#This Row],[SesongNy]]&\"-\"&Oljedatabase[[#This Row],[Vind (m/s)]]&\"-\"&Oljedatabase[[#This Row],[Tidspunkt (timer)]]","v":"Avaldsnes (Johan Sverdrup) 2012-Sommerforhold-10-3"},{"$f":"Oljedatabase[[#This Row],[Sesong]]","v":"Sommerforhold"},15,10,"3",0.27,1040,"Kjemisk dispergerbar",0.17,0.73,0.08,89,"Ingen eksplosjonsfare",9.6999999999999993,"Kjemisk dispergerbar","Nei",1.02,"2012-03-05T01:00:00",891,"Vest-Agder til Hordaland",27,6588792,-215604,"Avaldsnes (Johan Sverdrup) 2012 Forvitringsrapport.pdf"]
["Balder Blend 2010","Vinterforhold",{"$f":"Oljedatabase[[#This Row],[Oljetype]]&\"-\"&Oljedatabase[[#This Row],[SesongNy]]&\"-\"&Oljedatabase[[#This Row],[Vind (m/s)]]&\"-\"&Oljedatabase[[#This Row],[Tidspunkt (timer)]]","v":"Balder Blend 2010-Vinterforhold-2-24"},{"$f":"Oljedatabase[[#This Row],[Sesong]]","v":"Vinterforhold"},5,2,"24",0.2,1300,"Kjemisk dispergerbar",0.2,0.8,0,76,"Ingen eksplosjonsfare",13.8,"Redusert kjemisk dispergerbarhet","Nei",1,"2010-11-09T01:00:00",864,"Vest-Agder til Hordaland",32,6629664,-217792,"Balder Blend 2010 Forvitringsrapport.pdf"]
["Balder Blend 2010","Sommerforhold",{"$f":"Oljedatabase[[#This Row],[Oljetype]]&\"-\"&Oljedatabase[[#This Row],[SesongNy]]&\"-\"&Oljedatabase[[#This Row],[Vind (m/s)]]&\"-\"&Oljedatabase[[#This Row],[Tidspunkt (timer)]]","v":"Balder Blend 2010-Sommerforhold-5-72"},{"$f":"Oljedatabase[[#This Row],[Sesong]]","v":"Sommerforhold"},15,5,"72",0.69,9500,"Redusert kjemisk dispergerbarhet",0.28999999999999998,0.65,0.06,125,"Ingen eksplosjonsfare",19.2,"Kjemisk dispergerbar","Nei",2.12,"2010-11-09T01:00:00",864,"Vest-Agder til Hordaland",32,6629664,-217792,"Balder Blend 2010 Forvitringsrapport.pdf"]
["Balder Blend 2010","Sommerforhold",{"$f":"Oljedatabase[[#This Row],[Oljetype]]&\"-\"&Oljedatabase[[#This Row],[SesongNy]]&\"-\"&Oljedatabase[[#This Row],[Vind (m/s)]]&\"-\"&Oljedatabase[[#This Row],[Tidspunkt (timer)]]","v":"Balder Blend 2010-Sommerforhold-2-2"},{"$f":"Oljedatabase[[#This Row],[Sesong]]","v":"Sommerforhold"},15,2,"2",0.03,160,"Kjemisk dispergerbar",0.13,0.87,0,46,"Eksplosjonsfare ved tanking",10.1,"Kjemisk dispergerbar","Nei",0.9,"2010-11-09T01:00:00",864,"Vest-Agder til Hordaland",32,6629664,-217792,"Balder Blend 2010 Forvitringsrapport.pdf"]
["Avaldsnes (Johan Sverdrup) 2012","Vinterforhold",{"$f":"Oljedatabase[[#This Row],[Oljetype]]&\"-\"&Oljedatabase[[#This Row],[SesongNy]]&\"-\"&Oljedatabase[[#This Row],[Vind (m/s)]]&\"-\"&Oljedatabase[[#This Row],[Tidspunkt (timer)]]","v":"Avaldsnes (Johan Sverdrup) 2012-Vinterforhold-15-6"},{"$f":"Oljedatabase[[#This Row],[Sesong]]","v":"Vinterforhold"},5,15,"6",0.57999999999999996,12100,"Redusert kjemisk dispergerbarhet",0.18,0.41,0.39,98,"Ingen eksplosjonsfare",10.3,"Redusert kjemisk dispergerbarhet","Ja",1.01,"2012-03-05T01:00:00",891,"Vest-Agder til Hordaland",27,6588792,-215604,"Avaldsnes (Johan Sverdrup) 2012 Forvitringsrapport.pdf"]
["Balder Blend 2010","Sommerforhold",{"$f":"Oljedatabase[[#This Row],[Oljetype]]&\"-\"&Oljedatabase[[#This Row],[SesongNy]]&\"-\"&Oljedatabase[[#This Row],[Vind (m/s)]]&\"-\"&Oljedatabase[[#This Row],[Tidspunkt (timer)]]","v":"Balder Blend 2010-Sommerforhold-5-3"},{"$f":"Oljedatabase[[#This Row],[Sesong]]","v":"Sommerforhold"},15,5,"3",0.13,440,"Kjemisk dispergerbar",0.18,0.81,0.01,67,"Ingen eksplosjonsfare",12.7,"Kjemisk dispergerbar","Nei",0.94,"2010-11-09T01:00:00",864,"Vest-Agder til Hordaland",32,6629664,-217792,"Balder Blend 2010 Forvitringsrapport.pdf"]
["Balder Blend 2010","Sommerforhold",{"$f":"Oljedatabase[[#This Row],[Oljetype]]&\"-\"&Oljedatabase[[#This Row],[SesongNy]]&\"-\"&Oljedatabase[[#This Row],[Vind (m/s)]]&\"-\"&Oljedatabase[[#This Row],[Tidspunkt (timer)]]","v":"Balder Blend 2010-Sommerforhold-10-120"},{"$f":"Oljedatabase[[#This Row],[Sesong]]","v":"Sommerforhold"},15,10,"120",0.7,20000,"Redusert kjemisk dispergerbarhet",0.32,0.12,0.56000000000000005,159,"Ingen eksplosjonsfare",22.6,"Redusert kjemisk dispergerbarhet","Ja",0.4,"2010-11-09T01:00:00",864,"Vest-Agder til Hordaland",32,6629664,-217792,"Balder Blend 2010 Forvitringsrapport.pdf"]
["Balder Blend 2010","Vinterforhold",{"$f":"Oljedatabase[[#This Row],[Oljetype]]&\"-\"&Oljedatabase[[#This Row],[SesongNy]]&\"-\"&Oljedatabase[[#This Row],[Vind (m/s)]]&\"-\"&Oljedatabase[[#This Row],[Tidspunkt (timer)]]","v":"Balder Blend 2010-Vinterforhold-5-3"},{"$f":"Oljedatabase[[#This Row],[Sesong]]","v":"Vinterforhold"},5,5,"3",0.11,540,"Kjemisk dispergerbar",0.16,0.84,0.01,57,"Eksplosjonsfare ved tanking",11.5,"Redusert kjemisk dispergerbarhet","Nei",0.94,"2010-11-09T01:00:00",864,"Vest-Agder til Hordaland",32,6629664,-217792,"Balder Blend 2010 Forvitringsrapport.pdf"]
["Balder Blend 2010","Sommerforhold",{"$f":"Oljedatabase[[#This Row],[Oljetype]]&\"-\"&Oljedatabase[[#This Row],[SesongNy]]&\"-\"&Oljedatabase[[#This Row],[Vind (m/s)]]&\"-\"&Oljedatabase[[#This Row],[Tidspunkt (timer)]]","v":"Balder Blend 2010-Sommerforhold-10-24"},{"$f":"Oljedatabase[[#This Row],[Sesong]]","v":"Sommerforhold"},15,10,"24",0.69,9500,"Redusert kjemisk dispergerbarhet",0.28000000000000003,0.44,0.28000000000000003,125,"Ingen eksplosjonsfare",19.100000000000001,"Kjemisk dispergerbar","Nei",1.45,"2010-11-09T01:00:00",864,"Vest-Agder til Hordaland",32,6629664,-217792,"Balder Blend 2010 Forvitringsrapport.pdf"]
["Balder Blend 2010","Sommerforhold",{"$f":"Oljedatabase[[#This Row],[Oljetype]]&\"-\"&Oljedatabase[[#This Row],[SesongNy]]&\"-\"&Oljedatabase[[#This Row],[Vind (m/s)]]&\"-\"&Oljedatabase[[#This Row],[Tidspunkt (timer)]]","v":"Balder Blend 2010-Sommerforhold-5-1"},{"$f":"Oljedatabase[[#This Row],[Sesong]]","v":"Sommerforhold"},15,5,"1",0.05,180,"Kjemisk dispergerbar",0.13,0.87,0,46,"Eksplosjonsfare ved tanking",10.1,"Kjemisk dispergerbar","Nei",0.92,"2010-11-09T01:00:00",864,"Vest-Agder til Hordaland",32,6629664,-217792,"Balder Blend 2010 Forvitringsrapport.pdf"]
["Balder Blend 2010","Sommerforhold",{"$f":"Oljedatabase[[#This Row],[Oljetype]]&\"-\"&Oljedatabase[[#This Row],[SesongNy]]&\"-\"&Oljedatabase[[#This Row],[Vind (m/s)]]&\"-\"&Oljedatabase[[#This Row],[Tidspunkt (timer)]]","v":"Balder Blend 2010-Sommerforhold-10-2"},{"$f":"Oljedatabase[[#This Row],[Sesong]]","v":"Sommerforhold"},15,10,"2",0.25,890,"Kjemisk dispergerbar",0.2,0.74,0.06,78,"Ingen eksplosjonsfare",14.1,"Kjemisk dispergerbar","Nei",0.99,"2010-11-09T01:00:00",864,"Vest-Agder til Hordaland",32,6629664,-217792,"Balder Blend 2010 Forvitringsrapport.pdf"]
["Avaldsnes (Johan Sverdrup) 2012","Vinterforhold",{"$f":"Oljedatabase[[#This Row],[Oljetype]]&\"-\"&Oljedatabase[[#This Row],[SesongNy]]&\"-\"&Oljedatabase[[#This Row],[Vind (m/s)]]&\"-\"&Oljedatabase[[#This Row],[Tidspunkt (timer)]]","v":"Avaldsnes (Johan Sverdrup) 2012-Vinterforhold-15-24"},{"$f":"Oljedatabase[[#This Row],[Sesong]]","v":"Vinterforhold"},5,15,"24",0.63,28700,"Ikke kjemisk dispergerbar",0.2,0.15,0.63,117,"Ingen eksplosjonsfare",11.5,"Redusert kjemisk dispergerbarhet","Ja",0.44,"2012-03-05T01:00:00",891,"Vest-Agder til Hordaland",27,6588792,-215604,"Avaldsnes (Johan Sverdrup) 2012 Forvitringsrapport.pdf"]
["Balder Blend 2010","Sommerforhold",{"$f":"Oljedatabase[[#This Row],[Oljetype]]&\"-\"&Oljedatabase[[#This Row],[SesongNy]]&\"-\"&Oljedatabase[[#This Row],[Vind (m/s)]]&\"-\"&Oljedatabase[[#This Row],[Tidspunkt (timer)]]","v":"Balder Blend 2010-Sommerforhold-10-6"},{"$f":"Oljedatabase[[#This Row],[Sesong]]","v":"Sommerforhold"},15,10,"6",0.51,3200,"Kjemisk dispergerbar",0.24,0.63,0.13,99,"Ingen eksplosjonsfare",16.399999999999999,"Kjemisk dispergerbar","Nei",1.28,"2010-11-09T01:00:00",864,"Vest-Agder til Hordaland",32,6629664,-217792,"Balder Blend 2010 Forvitringsrapport.pdf"]
["Avaldsnes (Johan Sverdrup) 2012","Sommerforhold",{"$f":"Oljedatabase[[#This Row],[Oljetype]]&\"-\"&Oljedatabase[[#This Row],[SesongNy]]&\"-\"&Oljedatabase[[#This Row],[Vind (m/s)]]&\"-\"&Oljedatabase[[#This Row],[Tidspunkt (timer)]]","v":"Avaldsnes (Johan Sverdrup) 2012-Sommerforhold-15-9"},{"$f":"Oljedatabase[[#This Row],[Sesong]]","v":"Sommerforhold"},15,15,"9",0.67,17400,"Redusert kjemisk dispergerbarhet",0.21,0.28999999999999998,0.49,116,"Ingen eksplosjonsfare",11.4,"Kjemisk dispergerbar","Ja",0.91,"2012-03-05T01:00:00",891,"Vest-Agder til Hordaland",27,6588792,-215604,"Avaldsnes (Johan Sverdrup) 2012 Forvitringsrapport.pdf"]
["Balder Blend 2010","Sommerforhold",{"$f":"Oljedatabase[[#This Row],[Oljetype]]&\"-\"&Oljedatabase[[#This Row],[SesongNy]]&\"-\"&Oljedatabase[[#This Row],[Vind (m/s)]]&\"-\"&Oljedatabase[[#This Row],[Tidspunkt (timer)]]","v":"Balder Blend 2010-Sommerforhold-15-2"},{"$f":"Oljedatabase[[#This Row],[Sesong]]","v":"Sommerforhold"},15,15,"2",0.42,2100,"Kjemisk dispergerbar",0.22,0.54,0.24,91,"Ingen eksplosjonsfare",15.4,"Kjemisk dispergerbar","Nei",0.93,"2010-11-09T01:00:00",864,"Vest-Agder til Hordaland",32,6629664,-217792,"Balder Blend 2010 Forvitringsrapport.pdf"]
["Avaldsnes (Johan Sverdrup) 2012","Vinterforhold",{"$f":"Oljedatabase[[#This Row],[Oljetype]]&\"-\"&Oljedatabase[[#This Row],[SesongNy]]&\"-\"&Oljedatabase[[#This Row],[Vind (m/s)]]&\"-\"&Oljedatabase[[#This Row],[Tidspunkt (timer)]]","v":"Avaldsnes (Johan Sverdrup) 2012-Vinterforhold-10-96"},{"$f":"Oljedatabase[[#This Row],[Sesong]]","v":"Vinterforhold"},5,10,"96",0.63,36000,"Ikke kjemisk dispergerbar",0.23,0.28000000000000003,0.48,127,"Ingen eksplosjonsfare",12.1,"Redusert kjemisk dispergerbarhet","Ja",0.78,"2012-03-05T01:00:00",891,"Vest-Agder til Hordaland",27,6588792,-215604,"Avaldsnes (Johan Sverdrup) 2012 Forvitringsrapport.pdf"]
["Balder Blend 2010","Sommerforhold",{"$f":"Oljedatabase[[#This Row],[Oljetype]]&\"-\"&Oljedatabase[[#This Row],[SesongNy]]&\"-\"&Oljedatabase[[#This Row],[Vind (m/s)]]&\"-\"&Oljedatabase[[#This Row],[Tidspunkt (timer)]]","v":"Balder Blend 2010-Sommerforhold-5-48"},{"$f":"Oljedatabase[[#This Row],[Sesong]]","v":"Sommerforhold"},15,5,"48",0.67,7500,"Redusert kjemisk dispergerbarhet",0.28000000000000003,0.68,0.04,117,"Ingen eksplosjonsfare",18.399999999999999,"Kjemisk dispergerbar","Nei",2.06,"2010-11-09T01:00:00",864,"Vest-Agder til Hordaland",32,6629664,-217792,"Balder Blend 2010 Forvitringsrapport.pdf"]
["Balder Blend 2010","Sommerforhold",{"$f":"Oljedatabase[[#This Row],[Oljetype]]&\"-\"&Oljedatabase[[#This Row],[SesongNy]]&\"-\"&Oljedatabase[[#This Row],[Vind (m/s)]]&\"-\"&Oljedatabase[[#This Row],[Tidspunkt (timer)]]","v":"Balder Blend 2010-Sommerforhold-5-96"},{"$f":"Oljedatabase[[#This Row],[Sesong]]","v":"Sommerforhold"},15,5,"96",0.69,11000,"Redusert kjemisk dispergerbarhet",0.3,0.63,7.0000000000000007E-2,131,"Ingen eksplosjonsfare",19.7,"Kjemisk dispergerbar","Ja",2.09,"2010-11-09T01:00:00",864,"Vest-Agder til Hordaland",32,6629664,-217792,"Balder Blend 2010 Forvitringsrapport.pdf"]
["Balder Blend 2010","Sommerforhold",{"$f":"Oljedatabase[[#This Row],[Oljetype]]&\"-\"&Oljedatabase[[#This Row],[SesongNy]]&\"-\"&Oljedatabase[[#This Row],[Vind (m/s)]]&\"-\"&Oljedatabase[[#This Row],[Tidspunkt (timer)]]","v":"Balder Blend 2010-Sommerforhold-15-1"},{"$f":"Oljedatabase[[#This Row],[Sesong]]","v":"Sommerforhold"},15,15,"1",0.26,890,"Kjemisk dispergerbar",0.2,0.66,0.15,77,"Ingen eksplosjonsfare",13.9,"Kjemisk dispergerbar","Nei",0.9,"2010-11-09T01:00:00",864,"Vest-Agder til Hordaland",32,6629664,-217792,"Balder Blend 2010 Forvitringsrapport.pdf"]
["Balder Blend 2010","Sommerforhold",{"$f":"Oljedatabase[[#This Row],[Oljetype]]&\"-\"&Oljedatabase[[#This Row],[SesongNy]]&\"-\"&Oljedatabase[[#This Row],[Vind (m/s)]]&\"-\"&Oljedatabase[[#This Row],[Tidspunkt (timer)]]","v":"Balder Blend 2010-Sommerforhold-2-6"},{"$f":"Oljedatabase[[#This Row],[Sesong]]","v":"Sommerforhold"},15,2,"6",0.08,330,"Kjemisk dispergerbar",0.17,0.83,0,65,"Ingen eksplosjonsfare",12.4,"Kjemisk dispergerbar","Nei",0.9,"2010-11-09T01:00:00",864,"Vest-Agder til Hordaland",32,6629664,-217792,"Balder Blend 2010 Forvitringsrapport.pdf"]
["Avaldsnes (Johan Sverdrup) 2012","Vinterforhold",{"$f":"Oljedatabase[[#This Row],[Oljetype]]&\"-\"&Oljedatabase[[#This Row],[SesongNy]]&\"-\"&Oljedatabase[[#This Row],[Vind (m/s)]]&\"-\"&Oljedatabase[[#This Row],[Tidspunkt (timer)]]","v":"Avaldsnes (Johan Sverdrup) 2012-Vinterforhold-10-2"},{"$f":"Oljedatabase[[#This Row],[Sesong]]","v":"Vinterforhold"},5,10,"2",0.18,966,"Kjemisk dispergerbar",0.14000000000000001,0.8,0.05,73,"Ingen eksplosjonsfare",8.6,"Kjemisk dispergerbar","Nei",0.99,"2012-03-05T01:00:00",891,"Vest-Agder til Hordaland",27,6588792,-215604,"Avaldsnes (Johan Sverdrup) 2012 Forvitringsrapport.pdf"]
["Avaldsnes (Johan Sverdrup) 2012","Vinterforhold",{"$f":"Oljedatabase[[#This Row],[Oljetype]]&\"-\"&Oljedatabase[[#This Row],[SesongNy]]&\"-\"&Oljedatabase[[#This Row],[Vind (m/s)]]&\"-\"&Oljedatabase[[#This Row],[Tidspunkt (timer)]]","v":"Avaldsnes (Johan Sverdrup) 2012-Vinterforhold-15-9"},{"$f":"Oljedatabase[[#This Row],[Sesong]]","v":"Vinterforhold"},5,15,"9",0.63,19100,"Redusert kjemisk dispergerbarhet",0.19,0.34,0.46,103,"Ingen eksplosjonsfare",10.6,"Redusert kjemisk dispergerbarhet","Ja",0.94,"2012-03-05T01:00:00",891,"Vest-Agder til Hordaland",27,6588792,-215604,"Avaldsnes (Johan Sverdrup) 2012 Forvitringsrapport.pdf"]
["Balder Blend 2010","Sommerforhold",{"$f":"Oljedatabase[[#This Row],[Oljetype]]&\"-\"&Oljedatabase[[#This Row],[SesongNy]]&\"-\"&Oljedatabase[[#This Row],[Vind (m/s)]]&\"-\"&Oljedatabase[[#This Row],[Tidspunkt (timer)]]","v":"Balder Blend 2010-Sommerforhold-2-3"},{"$f":"Oljedatabase[[#This Row],[Sesong]]","v":"Sommerforhold"},15,2,"3",0.05,210,"Kjemisk dispergerbar",0.15,0.85,0,53,"Eksplosjonsfare ved tanking",11,"Kjemisk dispergerbar","Nei",0.89,"2010-11-09T01:00:00",864,"Vest-Agder til Hordaland",32,6629664,-217792,"Balder Blend 2010 Forvitringsrapport.pdf"]
["Balder Blend 2010","Sommerforhold",{"$f":"Oljedatabase[[#This Row],[Oljetype]]&\"-\"&Oljedatabase[[#This Row],[SesongNy]]&\"-\"&Oljedatabase[[#This Row],[Vind (m/s)]]&\"-\"&Oljedatabase[[#This Row],[Tidspunkt (timer)]]","v":"Balder Blend 2010-Sommerforhold-5-2"},{"$f":"Oljedatabase[[#This Row],[Sesong]]","v":"Sommerforhold"},15,5,"2",0.1,310,"Kjemisk dispergerbar",0.16,0.83,0,60,"Ingen eksplosjonsfare",11.8,"Kjemisk dispergerbar","Nei",0.92,"2010-11-09T01:00:00",864,"Vest-Agder til Hordaland",32,6629664,-217792,"Balder Blend 2010 Forvitringsrapport.pdf"]
["Balder Blend 2010","Vinterforhold",{"$f":"Oljedatabase[[#This Row],[Oljetype]]&\"-\"&Oljedatabase[[#This Row],[SesongNy]]&\"-\"&Oljedatabase[[#This Row],[Vind (m/s)]]&\"-\"&Oljedatabase[[#This Row],[Tidspunkt (timer)]]","v":"Balder Blend 2010-Vinterforhold-5-9"},{"$f":"Oljedatabase[[#This Row],[Sesong]]","v":"Vinterforhold"},5,5,"9",0.28000000000000003,1700,"Kjemisk dispergerbar",0.2,0.79,0.01,75,"Ingen eksplosjonsfare",13.6,"Redusert kjemisk dispergerbarhet","Nei",1.1000000000000001,"2010-11-09T01:00:00",864,"Vest-Agder til Hordaland",32,6629664,-217792,"Balder Blend 2010 Forvitringsrapport.pdf"]
["Avaldsnes (Johan Sverdrup) 2012","Vinterforhold",{"$f":"Oljedatabase[[#This Row],[Oljetype]]&\"-\"&Oljedatabase[[#This Row],[SesongNy]]&\"-\"&Oljedatabase[[#This Row],[Vind (m/s)]]&\"-\"&Oljedatabase[[#This Row],[Tidspunkt (timer)]]","v":"Avaldsnes (Johan Sverdrup) 2012-Vinterforhold-5-120"},{"$f":"Oljedatabase[[#This Row],[Sesong]]","v":"Vinterforhold"},5,5,"120",0.63,25900,"Ikke kjemisk dispergerbar",0.22,0.71,0.06,115,"Ingen eksplosjonsfare",11.4,"Redusert kjemisk dispergerbarhet","Ja",1.93,"2012-03-05T01:00:00",891,"Vest-Agder til Hordaland",27,6588792,-215604,"Avaldsnes (Johan Sverdrup) 2012 Forvitringsrapport.pdf"]
["Avaldsnes (Johan Sverdrup) 2012","Vinterforhold",{"$f":"Oljedatabase[[#This Row],[Oljetype]]&\"-\"&Oljedatabase[[#This Row],[SesongNy]]&\"-\"&Oljedatabase[[#This Row],[Vind (m/s)]]&\"-\"&Oljedatabase[[#This Row],[Tidspunkt (timer)]]","v":"Avaldsnes (Johan Sverdrup) 2012-Vinterforhold-15-2"},{"$f":"Oljedatabase[[#This Row],[Sesong]]","v":"Vinterforhold"},5,15,"2",0.34,2180,"Kjemisk dispergerbar",0.16,0.61,0.22,82,"Ingen eksplosjonsfare",9.1999999999999993,"Kjemisk dispergerbar","Nei",0.94,"2012-03-05T01:00:00",891,"Vest-Agder til Hordaland",27,6588792,-215604,"Avaldsnes (Johan Sverdrup) 2012 Forvitringsrapport.pdf"]
["Balder Blend 2010","Sommerforhold",{"$f":"Oljedatabase[[#This Row],[Oljetype]]&\"-\"&Oljedatabase[[#This Row],[SesongNy]]&\"-\"&Oljedatabase[[#This Row],[Vind (m/s)]]&\"-\"&Oljedatabase[[#This Row],[Tidspunkt (timer)]]","v":"Balder Blend 2010-Sommerforhold-5-9"},{"$f":"Oljedatabase[[#This Row],[Sesong]]","v":"Sommerforhold"},15,5,"9",0.31,1400,"Kjemisk dispergerbar",0.22,0.77,0.01,87,"Ingen eksplosjonsfare",15,"Kjemisk dispergerbar","Nei",1.1200000000000001,"2010-11-09T01:00:00",864,"Vest-Agder til Hordaland",32,6629664,-217792,"Balder Blend 2010 Forvitringsrapport.pdf"]
["Avaldsnes (Johan Sverdrup) 2012","Vinterforhold",{"$f":"Oljedatabase[[#This Row],[Oljetype]]&\"-\"&Oljedatabase[[#This Row],[SesongNy]]&\"-\"&Oljedatabase[[#This Row],[Vind (m/s)]]&\"-\"&Oljedatabase[[#This Row],[Tidspunkt (timer)]]","v":"Avaldsnes (Johan Sverdrup) 2012-Vinterforhold-15-48"},{"$f":"Oljedatabase[[#This Row],[Sesong]]","v":"Vinterforhold"},5,15,"48",0.63,36500,"Ikke kjemisk dispergerbar",0.21,0.05,0.73,127,"Ingen eksplosjonsfare",12.1,"Redusert kjemisk dispergerbarhet","Ja",0.15,"2012-03-05T01:00:00",891,"Vest-Agder til Hordaland",27,6588792,-215604,"Avaldsnes (Johan Sverdrup) 2012 Forvitringsrapport.pdf"]
["Balder Blend 2010","Vinterforhold",{"$f":"Oljedatabase[[#This Row],[Oljetype]]&\"-\"&Oljedatabase[[#This Row],[SesongNy]]&\"-\"&Oljedatabase[[#This Row],[Vind (m/s)]]&\"-\"&Oljedatabase[[#This Row],[Tidspunkt (timer)]]","v":"Balder Blend 2010-Vinterforhold-10-120"},{"$f":"Oljedatabase[[#This Row],[Sesong]]","v":"Vinterforhold"},5,10,"120",0.64,24000,"Lav/dårlig kjemisk dispergerbarhet",0.28999999999999998,0.15,0.56000000000000005,137,"Ingen eksplosjonsfare",20.5,"Lav/dårlig dispergerbarhet","Ja",0.41,"2010-11-09T01:00:00",864,"Vest-Agder til Hordaland",32,6629664,-217792,"Balder Blend 2010 Forvitringsrapport.pdf"]
["Balder Blend 2010","Sommerforhold",{"$f":"Oljedatabase[[#This Row],[Oljetype]]&\"-\"&Oljedatabase[[#This Row],[SesongNy]]&\"-\"&Oljedatabase[[#This Row],[Vind (m/s)]]&\"-\"&Oljedatabase[[#This Row],[Tidspunkt (timer)]]","v":"Balder Blend 2010-Sommerforhold-15-24"},{"$f":"Oljedatabase[[#This Row],[Sesong]]","v":"Sommerforhold"},15,15,"24",0.7,13000,"Redusert kjemisk dispergerbarhet",0.28000000000000003,7.0000000000000007E-2,0.65,137,"Ingen eksplosjonsfare",20.5,"Redusert kjemisk dispergerbarhet","Ja",0.23,"2010-11-09T01:00:00",864,"Vest-Agder til Hordaland",32,6629664,-217792,"Balder Blend 2010 Forvitringsrapport.pdf"]
["Balder Blend 2010","Vinterforhold",{"$f":"Oljedatabase[[#This Row],[Oljetype]]&\"-\"&Oljedatabase[[#This Row],[SesongNy]]&\"-\"&Oljedatabase[[#This Row],[Vind (m/s)]]&\"-\"&Oljedatabase[[#This Row],[Tidspunkt (timer)]]","v":"Balder Blend 2010-Vinterforhold-2-1"},{"$f":"Oljedatabase[[#This Row],[Sesong]]","v":"Vinterforhold"},5,2,"1",0.01,130,"Kjemisk dispergerbar",0.08,0.92,0,26,"Eksplosjonsfare ved tanking",7.5,"Kjemisk dispergerbar","Nei",0.93,"2010-11-09T01:00:00",864,"Vest-Agder til Hordaland",32,6629664,-217792,"Balder Blend 2010 Forvitringsrapport.pdf"]
["Balder Blend 2010","Sommerforhold",{"$f":"Oljedatabase[[#This Row],[Oljetype]]&\"-\"&Oljedatabase[[#This Row],[SesongNy]]&\"-\"&Oljedatabase[[#This Row],[Vind (m/s)]]&\"-\"&Oljedatabase[[#This Row],[Tidspunkt (timer)]]","v":"Balder Blend 2010-Sommerforhold-5-12"},{"$f":"Oljedatabase[[#This Row],[Sesong]]","v":"Sommerforhold"},15,5,"12",0.38,1900,"Kjemisk dispergerbar",0.23,0.75,0.02,92,"Ingen eksplosjonsfare",15.6,"Kjemisk dispergerbar","Nei",1.21,"2010-11-09T01:00:00",864,"Vest-Agder til Hordaland",32,6629664,-217792,"Balder Blend 2010 Forvitringsrapport.pdf"]
["Balder Blend 2010","Vinterforhold",{"$f":"Oljedatabase[[#This Row],[Oljetype]]&\"-\"&Oljedatabase[[#This Row],[SesongNy]]&\"-\"&Oljedatabase[[#This Row],[Vind (m/s)]]&\"-\"&Oljedatabase[[#This Row],[Tidspunkt (timer)]]","v":"Balder Blend 2010-Vinterforhold-10-24"},{"$f":"Oljedatabase[[#This Row],[Sesong]]","v":"Vinterforhold"},5,10,"24",0.63,12000,"Redusert kjemisk dispergerbarhet",0.26,0.48,0.27,109,"Ingen eksplosjonsfare",17.5,"Redusert kjemisk dispergerbarhet","Ja",1.31,"2010-11-09T01:00:00",864,"Vest-Agder til Hordaland",32,6629664,-217792,"Balder Blend 2010 Forvitringsrapport.pdf"]
["Balder Blend 2010","Sommerforhold",{"$f":"Oljedatabase[[#This Row],[Oljetype]]&\"-\"&Oljedatabase[[#This Row],[SesongNy]]&\"-\"&Oljedatabase[[#This Row],[Vind (m/s)]]&\"-\"&Oljedatabase[[#This Row],[Tidspunkt (timer)]]","v":"Balder Blend 2010-Sommerforhold-2-12"},{"$f":"Oljedatabase[[#This Row],[Sesong]]","v":"Sommerforhold"},15,2,"12",0.14000000000000001,560,"Kjemisk dispergerbar",0.2,0.8,0,77,"Ingen eksplosjonsfare",13.8,"Kjemisk dispergerbar","Nei",0.93,"2010-11-09T01:00:00",864,"Vest-Agder til Hordaland",32,6629664,-217792,"Balder Blend 2010 Forvitringsrapport.pdf"]
["Balder Blend 2010","Sommerforhold",{"$f":"Oljedatabase[[#This Row],[Oljetype]]&\"-\"&Oljedatabase[[#This Row],[SesongNy]]&\"-\"&Oljedatabase[[#This Row],[Vind (m/s)]]&\"-\"&Oljedatabase[[#This Row],[Tidspunkt (timer)]]","v":"Balder Blend 2010-Sommerforhold-5-6"},{"$f":"Oljedatabase[[#This Row],[Sesong]]","v":"Sommerforhold"},15,5,"6",0.23,860,"Kjemisk dispergerbar",0.21,0.78,0.01,80,"Ingen eksplosjonsfare",14.2,"Kjemisk dispergerbar","Nei",1.02,"2010-11-09T01:00:00",864,"Vest-Agder til Hordaland",32,6629664,-217792,"Balder Blend 2010 Forvitringsrapport.pdf"]
["Balder Blend 2010","Sommerforhold",{"$f":"Oljedatabase[[#This Row],[Oljetype]]&\"-\"&Oljedatabase[[#This Row],[SesongNy]]&\"-\"&Oljedatabase[[#This Row],[Vind (m/s)]]&\"-\"&Oljedatabase[[#This Row],[Tidspunkt (timer)]]","v":"Balder Blend 2010-Sommerforhold-10-3"},{"$f":"Oljedatabase[[#This Row],[Sesong]]","v":"Sommerforhold"},15,10,"3",0.34,1400,"Kjemisk dispergerbar",0.22,0.7,0.08,86,"Ingen eksplosjonsfare",14.9,"Kjemisk dispergerbar","Nei",1.06,"2010-11-09T01:00:00",864,"Vest-Agder til Hordaland",32,6629664,-217792,"Balder Blend 2010 Forvitringsrapport.pdf"]
["Balder Blend 2010","Vinterforhold",{"$f":"Oljedatabase[[#This Row],[Oljetype]]&\"-\"&Oljedatabase[[#This Row],[SesongNy]]&\"-\"&Oljedatabase[[#This Row],[Vind (m/s)]]&\"-\"&Oljedatabase[[#This Row],[Tidspunkt (timer)]]","v":"Balder Blend 2010-Vinterforhold-5-6"},{"$f":"Oljedatabase[[#This Row],[Sesong]]","v":"Vinterforhold"},5,5,"6",0.2,1100,"Kjemisk dispergerbar",0.18,0.81,0.01,68,"Ingen eksplosjonsfare",12.8,"Redusert kjemisk dispergerbarhet","Nei",1.02,"2010-11-09T01:00:00",864,"Vest-Agder til Hordaland",32,6629664,-217792,"Balder Blend 2010 Forvitringsrapport.pdf"]
["Balder Blend 2010","Sommerforhold",{"$f":"Oljedatabase[[#This Row],[Oljetype]]&\"-\"&Oljedatabase[[#This Row],[SesongNy]]&\"-\"&Oljedatabase[[#This Row],[Vind (m/s)]]&\"-\"&Oljedatabase[[#This Row],[Tidspunkt (timer)]]","v":"Balder Blend 2010-Sommerforhold-15-72"},{"$f":"Oljedatabase[[#This Row],[Sesong]]","v":"Sommerforhold"},15,15,"72",0.7,22000,"Lav/dårlig kjemisk dispergerbarhet",0.28000000000000003,0,0.72,163,"Ingen eksplosjonsfare",23,"Redusert kjemisk dispergerbarhet","Ja",0,"2010-11-09T01:00:00",864,"Vest-Agder til Hordaland",32,6629664,-217792,"Balder Blend 2010 Forvitringsrapport.pdf"]
["Avaldsnes (Johan Sverdrup) 2012","Vinterforhold",{"$f":"Oljedatabase[[#This Row],[Oljetype]]&\"-\"&Oljedatabase[[#This Row],[SesongNy]]&\"-\"&Oljedatabase[[#This Row],[Vind (m/s)]]&\"-\"&Oljedatabase[[#This Row],[Tidspunkt (timer)]]","v":"Avaldsnes (Johan Sverdrup) 2012-Vinterforhold-2-9"},{"$f":"Oljedatabase[[#This Row],[Sesong]]","v":"Vinterforhold"},5,2,"9",0.05,578,"Kjemisk dispergerbar",0.13,0.86,0,68,"Ingen eksplosjonsfare",8.3000000000000007,"Kjemisk dispergerbar","Nei",0.92,"2012-03-05T01:00:00",891,"Vest-Agder til Hordaland",27,6588792,-215604,"Avaldsnes (Johan Sverdrup) 2012 Forvitringsrapport.pdf"]
["Balder Blend 2010","Sommerforhold",{"$f":"Oljedatabase[[#This Row],[Oljetype]]&\"-\"&Oljedatabase[[#This Row],[SesongNy]]&\"-\"&Oljedatabase[[#This Row],[Vind (m/s)]]&\"-\"&Oljedatabase[[#This Row],[Tidspunkt (timer)]]","v":"Balder Blend 2010-Sommerforhold-2-9"},{"$f":"Oljedatabase[[#This Row],[Sesong]]","v":"Sommerforhold"},15,2,"9",0.11,440,"Kjemisk dispergerbar",0.19,0.81,0,72,"Ingen eksplosjonsfare",13.3,"Kjemisk dispergerbar","Nei",0.91,"2010-11-09T01:00:00",864,"Vest-Agder til Hordaland",32,6629664,-217792,"Balder Blend 2010 Forvitringsrapport.pdf"]
["Balder Blend 2010","Sommerforhold",{"$f":"Oljedatabase[[#This Row],[Oljetype]]&\"-\"&Oljedatabase[[#This Row],[SesongNy]]&\"-\"&Oljedatabase[[#This Row],[Vind (m/s)]]&\"-\"&Oljedatabase[[#This Row],[Tidspunkt (timer)]]","v":"Balder Blend 2010-Sommerforhold-15-3"},{"$f":"Oljedatabase[[#This Row],[Sesong]]","v":"Sommerforhold"},15,15,"3",0.52,3300,"Kjemisk dispergerbar",0.23,0.47,0.3,98,"Ingen eksplosjonsfare",16.3,"Kjemisk dispergerbar","Nei",0.98,"2010-11-09T01:00:00",864,"Vest-Agder til Hordaland",32,6629664,-217792,"Balder Blend 2010 Forvitringsrapport.pdf"]
["Balder Blend 2010","Vinterforhold",{"$f":"Oljedatabase[[#This Row],[Oljetype]]&\"-\"&Oljedatabase[[#This Row],[SesongNy]]&\"-\"&Oljedatabase[[#This Row],[Vind (m/s)]]&\"-\"&Oljedatabase[[#This Row],[Tidspunkt (timer)]]","v":"Balder Blend 2010-Vinterforhold-10-12"},{"$f":"Oljedatabase[[#This Row],[Sesong]]","v":"Vinterforhold"},5,10,"12",0.59,7600,"Redusert kjemisk dispergerbarhet",0.24,0.59,0.18,97,"Ingen eksplosjonsfare",16.2,"Redusert kjemisk dispergerbarhet","Nei",1.44,"2010-11-09T01:00:00",864,"Vest-Agder til Hordaland",32,6629664,-217792,"Balder Blend 2010 Forvitringsrapport.pdf"]
["Balder Blend 2010","Vinterforhold",{"$f":"Oljedatabase[[#This Row],[Oljetype]]&\"-\"&Oljedatabase[[#This Row],[SesongNy]]&\"-\"&Oljedatabase[[#This Row],[Vind (m/s)]]&\"-\"&Oljedatabase[[#This Row],[Tidspunkt (timer)]]","v":"Balder Blend 2010-Vinterforhold-15-6"},{"$f":"Oljedatabase[[#This Row],[Sesong]]","v":"Vinterforhold"},5,15,"6",0.59,7600,"Redusert kjemisk dispergerbarhet",0.23,0.37,0.4,96,"Ingen eksplosjonsfare",16.100000000000001,"Redusert kjemisk dispergerbarhet","Nei",0.92,"2010-11-09T01:00:00",864,"Vest-Agder til Hordaland",32,6629664,-217792,"Balder Blend 2010 Forvitringsrapport.pdf"]
["Brage 2013","Sommerforhold",{"$f":"Oljedatabase[[#This Row],[Oljetype]]&\"-\"&Oljedatabase[[#This Row],[SesongNy]]&\"-\"&Oljedatabase[[#This Row],[Vind (m/s)]]&\"-\"&Oljedatabase[[#This Row],[Tidspunkt (timer)]]","v":"Brage 2013-Sommerforhold-5-2"},{"$f":"Oljedatabase[[#This Row],[Sesong]]","v":"Sommerforhold"},15,5,"2",0.21,336,"Kjemisk dispergerbar",0.23,0.75,0,60,"Eksplosjonsfare ved tanking",16.899999999999999,"Kjemisk dispergerbar","Nei",0.96,"2013-08-13T02:00:00",826,"Vestlandet",39,6771495,-153295,"Brage 2013 Forvitringsrapport.pdf"]
["Balder Blend 2010","Sommerforhold",{"$f":"Oljedatabase[[#This Row],[Oljetype]]&\"-\"&Oljedatabase[[#This Row],[SesongNy]]&\"-\"&Oljedatabase[[#This Row],[Vind (m/s)]]&\"-\"&Oljedatabase[[#This Row],[Tidspunkt (timer)]]","v":"Balder Blend 2010-Sommerforhold-15-96"},{"$f":"Oljedatabase[[#This Row],[Sesong]]","v":"Sommerforhold"},15,15,"96",0.7,25000,"Lav/dårlig kjemisk dispergerbarhet",0.28000000000000003,0,0.72,171,"Ingen eksplosjonsfare",23.8,"Redusert kjemisk dispergerbarhet","Ja",0,"2010-11-09T01:00:00",864,"Vest-Agder til Hordaland",32,6629664,-217792,"Balder Blend 2010 Forvitringsrapport.pdf"]
["Balder Blend 2010","Vinterforhold",{"$f":"Oljedatabase[[#This Row],[Oljetype]]&\"-\"&Oljedatabase[[#This Row],[SesongNy]]&\"-\"&Oljedatabase[[#This Row],[Vind (m/s)]]&\"-\"&Oljedatabase[[#This Row],[Tidspunkt (timer)]]","v":"Balder Blend 2010-Vinterforhold-15-2"},{"$f":"Oljedatabase[[#This Row],[Sesong]]","v":"Vinterforhold"},5,15,"2",0.38,2500,"Kjemisk dispergerbar",0.2,0.57999999999999996,0.22,78,"Ingen eksplosjonsfare",14,"Redusert kjemisk dispergerbarhet","Nei",0.94,"2010-11-09T01:00:00",864,"Vest-Agder til Hordaland",32,6629664,-217792,"Balder Blend 2010 Forvitringsrapport.pdf"]
["Balder Blend 2010","Vinterforhold",{"$f":"Oljedatabase[[#This Row],[Oljetype]]&\"-\"&Oljedatabase[[#This Row],[SesongNy]]&\"-\"&Oljedatabase[[#This Row],[Vind (m/s)]]&\"-\"&Oljedatabase[[#This Row],[Tidspunkt (timer)]]","v":"Balder Blend 2010-Vinterforhold-15-24"},{"$f":"Oljedatabase[[#This Row],[Sesong]]","v":"Vinterforhold"},5,15,"24",0.64,16000,"Redusert kjemisk dispergerbarhet",0.25,0.1,0.65,120,"Ingen eksplosjonsfare",18.7,"Redusert kjemisk dispergerbarhet","Ja",0.27,"2010-11-09T01:00:00",864,"Vest-Agder til Hordaland",32,6629664,-217792,"Balder Blend 2010 Forvitringsrapport.pdf"]
["Balder Blend 2010","Vinterforhold",{"$f":"Oljedatabase[[#This Row],[Oljetype]]&\"-\"&Oljedatabase[[#This Row],[SesongNy]]&\"-\"&Oljedatabase[[#This Row],[Vind (m/s)]]&\"-\"&Oljedatabase[[#This Row],[Tidspunkt (timer)]]","v":"Balder Blend 2010-Vinterforhold-2-96"},{"$f":"Oljedatabase[[#This Row],[Sesong]]","v":"Vinterforhold"},5,2,"96",0.5,6300,"Redusert kjemisk dispergerbarhet",0.25,0.76,0,99,"Ingen eksplosjonsfare",16.3,"Redusert kjemisk dispergerbarhet","Nei",1.53,"2010-11-09T01:00:00",864,"Vest-Agder til Hordaland",32,6629664,-217792,"Balder Blend 2010 Forvitringsrapport.pdf"]
["Balder Blend 2010","Vinterforhold",{"$f":"Oljedatabase[[#This Row],[Oljetype]]&\"-\"&Oljedatabase[[#This Row],[SesongNy]]&\"-\"&Oljedatabase[[#This Row],[Vind (m/s)]]&\"-\"&Oljedatabase[[#This Row],[Tidspunkt (timer)]]","v":"Balder Blend 2010-Vinterforhold-5-2"},{"$f":"Oljedatabase[[#This Row],[Sesong]]","v":"Vinterforhold"},5,5,"2",7.0000000000000007E-2,380,"Kjemisk dispergerbar",0.14000000000000001,0.85,0,51,"Eksplosjonsfare ved tanking",10.7,"Redusert kjemisk dispergerbarhet","Nei",0.92,"2010-11-09T01:00:00",864,"Vest-Agder til Hordaland",32,6629664,-217792,"Balder Blend 2010 Forvitringsrapport.pdf"]
["Balder Blend 2010","Vinterforhold",{"$f":"Oljedatabase[[#This Row],[Oljetype]]&\"-\"&Oljedatabase[[#This Row],[SesongNy]]&\"-\"&Oljedatabase[[#This Row],[Vind (m/s)]]&\"-\"&Oljedatabase[[#This Row],[Tidspunkt (timer)]]","v":"Balder Blend 2010-Vinterforhold-2-2"},{"$f":"Oljedatabase[[#This Row],[Sesong]]","v":"Vinterforhold"},5,2,"2",0.02,200,"Kjemisk dispergerbar",0.11,0.89,0,38,"Eksplosjonsfare ved tanking",9.1,"Kjemisk dispergerbar","Nei",0.9,"2010-11-09T01:00:00",864,"Vest-Agder til Hordaland",32,6629664,-217792,"Balder Blend 2010 Forvitringsrapport.pdf"]
["Balder Blend 2010","Vinterforhold",{"$f":"Oljedatabase[[#This Row],[Oljetype]]&\"-\"&Oljedatabase[[#This Row],[SesongNy]]&\"-\"&Oljedatabase[[#This Row],[Vind (m/s)]]&\"-\"&Oljedatabase[[#This Row],[Tidspunkt (timer)]]","v":"Balder Blend 2010-Vinterforhold-5-120"},{"$f":"Oljedatabase[[#This Row],[Sesong]]","v":"Vinterforhold"},5,5,"120",0.64,15000,"Redusert kjemisk dispergerbarhet",0.28000000000000003,0.65,7.0000000000000007E-2,118,"Ingen eksplosjonsfare",18.399999999999999,"Redusert kjemisk dispergerbarhet","Ja",1.8,"2010-11-09T01:00:00",864,"Vest-Agder til Hordaland",32,6629664,-217792,"Balder Blend 2010 Forvitringsrapport.pdf"]
["Brage 2013","Sommerforhold",{"$f":"Oljedatabase[[#This Row],[Oljetype]]&\"-\"&Oljedatabase[[#This Row],[SesongNy]]&\"-\"&Oljedatabase[[#This Row],[Vind (m/s)]]&\"-\"&Oljedatabase[[#This Row],[Tidspunkt (timer)]]","v":"Brage 2013-Sommerforhold-15-120"},{"$f":"Oljedatabase[[#This Row],[Sesong]]","v":"Sommerforhold"},15,15,"120",0.8,7470,"Redusert kjemisk dispergerbarhet",0.34,0,0.65,134,"Ingen eksplosjonsfare",35.9,"Lav/dårlig dispergerbarhet","Nei",0,"2013-08-13T02:00:00",826,"Vestlandet",39,6771495,-153295,"Brage 2013 Forvitringsrapport.pdf"]
["Balder Blend 2010","Vinterforhold",{"$f":"Oljedatabase[[#This Row],[Oljetype]]&\"-\"&Oljedatabase[[#This Row],[SesongNy]]&\"-\"&Oljedatabase[[#This Row],[Vind (m/s)]]&\"-\"&Oljedatabase[[#This Row],[Tidspunkt (timer)]]","v":"Balder Blend 2010-Vinterforhold-15-12"},{"$f":"Oljedatabase[[#This Row],[Sesong]]","v":"Vinterforhold"},5,15,"12",0.63,12000,"Redusert kjemisk dispergerbarhet",0.24,0.23,0.53,108,"Ingen eksplosjonsfare",17.399999999999999,"Redusert kjemisk dispergerbarhet","Ja",0.63,"2010-11-09T01:00:00",864,"Vest-Agder til Hordaland",32,6629664,-217792,"Balder Blend 2010 Forvitringsrapport.pdf"]
["Brage 2013","Sommerforhold",{"$f":"Oljedatabase[[#This Row],[Oljetype]]&\"-\"&Oljedatabase[[#This Row],[SesongNy]]&\"-\"&Oljedatabase[[#This Row],[Vind (m/s)]]&\"-\"&Oljedatabase[[#This Row],[Tidspunkt (timer)]]","v":"Brage 2013-Sommerforhold-5-72"},{"$f":"Oljedatabase[[#This Row],[Sesong]]","v":"Sommerforhold"},15,5,"72",0.8,3270,"Redusert kjemisk dispergerbarhet",0.36,0.56000000000000005,7.0000000000000007E-2,102,"Ingen eksplosjonsfare",28.1,"Redusert kjemisk dispergerbarhet","Nei",2.8,"2013-08-13T02:00:00",826,"Vestlandet",39,6771495,-153295,"Brage 2013 Forvitringsrapport.pdf"]
["Avaldsnes (Johan Sverdrup) 2012","Vinterforhold",{"$f":"Oljedatabase[[#This Row],[Oljetype]]&\"-\"&Oljedatabase[[#This Row],[SesongNy]]&\"-\"&Oljedatabase[[#This Row],[Vind (m/s)]]&\"-\"&Oljedatabase[[#This Row],[Tidspunkt (timer)]]","v":"Avaldsnes (Johan Sverdrup) 2012-Vinterforhold-10-72"},{"$f":"Oljedatabase[[#This Row],[Sesong]]","v":"Vinterforhold"},5,10,"72",0.63,32500,"Ikke kjemisk dispergerbar",0.22,0.34,0.42,123,"Ingen eksplosjonsfare",11.9,"Redusert kjemisk dispergerbarhet","Ja",0.96,"2012-03-05T01:00:00",891,"Vest-Agder til Hordaland",27,6588792,-215604,"Avaldsnes (Johan Sverdrup) 2012 Forvitringsrapport.pdf"]
["Balder Blend 2010","Vinterforhold",{"$f":"Oljedatabase[[#This Row],[Oljetype]]&\"-\"&Oljedatabase[[#This Row],[SesongNy]]&\"-\"&Oljedatabase[[#This Row],[Vind (m/s)]]&\"-\"&Oljedatabase[[#This Row],[Tidspunkt (timer)]]","v":"Balder Blend 2010-Vinterforhold-15-48"},{"$f":"Oljedatabase[[#This Row],[Sesong]]","v":"Vinterforhold"},5,15,"48",0.64,21000,"Lav/dårlig kjemisk dispergerbarhet",0.26,0.02,0.72,133,"Ingen eksplosjonsfare",20,"Redusert kjemisk dispergerbarhet","Ja",0.05,"2010-11-09T01:00:00",864,"Vest-Agder til Hordaland",32,6629664,-217792,"Balder Blend 2010 Forvitringsrapport.pdf"]
["Avaldsnes (Johan Sverdrup) 2012","Vinterforhold",{"$f":"Oljedatabase[[#This Row],[Oljetype]]&\"-\"&Oljedatabase[[#This Row],[SesongNy]]&\"-\"&Oljedatabase[[#This Row],[Vind (m/s)]]&\"-\"&Oljedatabase[[#This Row],[Tidspunkt (timer)]]","v":"Avaldsnes (Johan Sverdrup) 2012-Vinterforhold-10-120"},{"$f":"Oljedatabase[[#This Row],[Sesong]]","v":"Vinterforhold"},5,10,"120",0.63,39000,"Ikke kjemisk dispergerbar",0.23,0.23,0.53,131,"Ingen eksplosjonsfare",12.3,"Redusert kjemisk dispergerbarhet","Ja",0.65,"2012-03-05T01:00:00",891,"Vest-Agder til Hordaland",27,6588792,-215604,"Avaldsnes (Johan Sverdrup) 2012 Forvitringsrapport.pdf"]
["Balder Blend 2010","Sommerforhold",{"$f":"Oljedatabase[[#This Row],[Oljetype]]&\"-\"&Oljedatabase[[#This Row],[SesongNy]]&\"-\"&Oljedatabase[[#This Row],[Vind (m/s)]]&\"-\"&Oljedatabase[[#This Row],[Tidspunkt (timer)]]","v":"Balder Blend 2010-Sommerforhold-10-48"},{"$f":"Oljedatabase[[#This Row],[Sesong]]","v":"Sommerforhold"},15,10,"48",0.7,13000,"Redusert kjemisk dispergerbarhet",0.3,0.3,0.4,138,"Ingen eksplosjonsfare",20.5,"Redusert kjemisk dispergerbarhet","Ja",1,"2010-11-09T01:00:00",864,"Vest-Agder til Hordaland",32,6629664,-217792,"Balder Blend 2010 Forvitringsrapport.pdf"]
["Balder Blend 2010","Vinterforhold",{"$f":"Oljedatabase[[#This Row],[Oljetype]]&\"-\"&Oljedatabase[[#This Row],[SesongNy]]&\"-\"&Oljedatabase[[#This Row],[Vind (m/s)]]&\"-\"&Oljedatabase[[#This Row],[Tidspunkt (timer)]]","v":"Balder Blend 2010-Vinterforhold-2-72"},{"$f":"Oljedatabase[[#This Row],[Sesong]]","v":"Vinterforhold"},5,2,"72",0.44,4600,"Redusert kjemisk dispergerbarhet",0.24,0.77,0,94,"Ingen eksplosjonsfare",15.8,"Redusert kjemisk dispergerbarhet","Nei",1.37,"2010-11-09T01:00:00",864,"Vest-Agder til Hordaland",32,6629664,-217792,"Balder Blend 2010 Forvitringsrapport.pdf"]
["Balder Blend 2010","Vinterforhold",{"$f":"Oljedatabase[[#This Row],[Oljetype]]&\"-\"&Oljedatabase[[#This Row],[SesongNy]]&\"-\"&Oljedatabase[[#This Row],[Vind (m/s)]]&\"-\"&Oljedatabase[[#This Row],[Tidspunkt (timer)]]","v":"Balder Blend 2010-Vinterforhold-10-2"},{"$f":"Oljedatabase[[#This Row],[Sesong]]","v":"Vinterforhold"},5,10,"2",0.22,1100,"Kjemisk dispergerbar",0.18,0.77,0.06,67,"Ingen eksplosjonsfare",12.7,"Redusert kjemisk dispergerbarhet","Nei",0.99,"2010-11-09T01:00:00",864,"Vest-Agder til Hordaland",32,6629664,-217792,"Balder Blend 2010 Forvitringsrapport.pdf"]
["Balder Blend 2010","Vinterforhold",{"$f":"Oljedatabase[[#This Row],[Oljetype]]&\"-\"&Oljedatabase[[#This Row],[SesongNy]]&\"-\"&Oljedatabase[[#This Row],[Vind (m/s)]]&\"-\"&Oljedatabase[[#This Row],[Tidspunkt (timer)]]","v":"Balder Blend 2010-Vinterforhold-10-3"},{"$f":"Oljedatabase[[#This Row],[Sesong]]","v":"Vinterforhold"},5,10,"3",0.3,1700,"Kjemisk dispergerbar",0.19,0.73,7.0000000000000007E-2,74,"Ingen eksplosjonsfare",13.5,"Redusert kjemisk dispergerbarhet","Nei",1.05,"2010-11-09T01:00:00",864,"Vest-Agder til Hordaland",32,6629664,-217792,"Balder Blend 2010 Forvitringsrapport.pdf"]
["Balder Blend 2010","Vinterforhold",{"$f":"Oljedatabase[[#This Row],[Oljetype]]&\"-\"&Oljedatabase[[#This Row],[SesongNy]]&\"-\"&Oljedatabase[[#This Row],[Vind (m/s)]]&\"-\"&Oljedatabase[[#This Row],[Tidspunkt (timer)]]","v":"Balder Blend 2010-Vinterforhold-5-24"},{"$f":"Oljedatabase[[#This Row],[Sesong]]","v":"Vinterforhold"},5,5,"24",0.5,5100,"Redusert kjemisk dispergerbarhet",0.23,0.75,0.03,91,"Ingen eksplosjonsfare",15.5,"Redusert kjemisk dispergerbarhet","Nei",1.51,"2010-11-09T01:00:00",864,"Vest-Agder til Hordaland",32,6629664,-217792,"Balder Blend 2010 Forvitringsrapport.pdf"]
["Balder Blend 2010","Vinterforhold",{"$f":"Oljedatabase[[#This Row],[Oljetype]]&\"-\"&Oljedatabase[[#This Row],[SesongNy]]&\"-\"&Oljedatabase[[#This Row],[Vind (m/s)]]&\"-\"&Oljedatabase[[#This Row],[Tidspunkt (timer)]]","v":"Balder Blend 2010-Vinterforhold-10-9"},{"$f":"Oljedatabase[[#This Row],[Sesong]]","v":"Vinterforhold"},5,10,"9",0.54,6000,"Redusert kjemisk dispergerbarhet",0.23,0.62,0.15,92,"Ingen eksplosjonsfare",15.6,"Redusert kjemisk dispergerbarhet","Nei",1.37,"2010-11-09T01:00:00",864,"Vest-Agder til Hordaland",32,6629664,-217792,"Balder Blend 2010 Forvitringsrapport.pdf"]
["Balder Blend 2010","Sommerforhold",{"$f":"Oljedatabase[[#This Row],[Oljetype]]&\"-\"&Oljedatabase[[#This Row],[SesongNy]]&\"-\"&Oljedatabase[[#This Row],[Vind (m/s)]]&\"-\"&Oljedatabase[[#This Row],[Tidspunkt (timer)]]","v":"Balder Blend 2010-Sommerforhold-15-120"},{"$f":"Oljedatabase[[#This Row],[Sesong]]","v":"Sommerforhold"},15,15,"120",0.7,29000,"Lav/dårlig kjemisk dispergerbarhet",0.28000000000000003,0,0.72,177,"Ingen eksplosjonsfare",24.4,"Redusert kjemisk dispergerbarhet","Ja",0,"2010-11-09T01:00:00",864,"Vest-Agder til Hordaland",32,6629664,-217792,"Balder Blend 2010 Forvitringsrapport.pdf"]
["Balder Blend 2010","Vinterforhold",{"$f":"Oljedatabase[[#This Row],[Oljetype]]&\"-\"&Oljedatabase[[#This Row],[SesongNy]]&\"-\"&Oljedatabase[[#This Row],[Vind (m/s)]]&\"-\"&Oljedatabase[[#This Row],[Tidspunkt (timer)]]","v":"Balder Blend 2010-Vinterforhold-10-96"},{"$f":"Oljedatabase[[#This Row],[Sesong]]","v":"Vinterforhold"},5,10,"96",0.64,22000,"Lav/dårlig kjemisk dispergerbarhet",0.28999999999999998,0.2,0.52,133,"Ingen eksplosjonsfare",20,"Redusert kjemisk dispergerbarhet","Ja",0.55000000000000004,"2010-11-09T01:00:00",864,"Vest-Agder til Hordaland",32,6629664,-217792,"Balder Blend 2010 Forvitringsrapport.pdf"]
["Brage 2013","Sommerforhold",{"$f":"Oljedatabase[[#This Row],[Oljetype]]&\"-\"&Oljedatabase[[#This Row],[SesongNy]]&\"-\"&Oljedatabase[[#This Row],[Vind (m/s)]]&\"-\"&Oljedatabase[[#This Row],[Tidspunkt (timer)]]","v":"Brage 2013-Sommerforhold-15-12"},{"$f":"Oljedatabase[[#This Row],[Sesong]]","v":"Sommerforhold"},15,15,"12",0.8,3220,"Redusert kjemisk dispergerbarhet",0.33,0.08,0.57999999999999996,102,"Ingen eksplosjonsfare",27.9,"Redusert kjemisk dispergerbarhet","Nei",0.41,"2013-08-13T02:00:00",826,"Vestlandet",39,6771495,-153295,"Brage 2013 Forvitringsrapport.pdf"]
["Avaldsnes (Johan Sverdrup) 2012","Vinterforhold",{"$f":"Oljedatabase[[#This Row],[Oljetype]]&\"-\"&Oljedatabase[[#This Row],[SesongNy]]&\"-\"&Oljedatabase[[#This Row],[Vind (m/s)]]&\"-\"&Oljedatabase[[#This Row],[Tidspunkt (timer)]]","v":"Avaldsnes (Johan Sverdrup) 2012-Vinterforhold-15-120"},{"$f":"Oljedatabase[[#This Row],[Sesong]]","v":"Vinterforhold"},5,15,"120",0.63,52300,"Ikke kjemisk dispergerbar",0.21,0,0.78,142,"Ingen eksplosjonsfare",13,"Redusert kjemisk dispergerbarhet","Ja",0,"2012-03-05T01:00:00",891,"Vest-Agder til Hordaland",27,6588792,-215604,"Avaldsnes (Johan Sverdrup) 2012 Forvitringsrapport.pdf"]
["Brage 2013","Sommerforhold",{"$f":"Oljedatabase[[#This Row],[Oljetype]]&\"-\"&Oljedatabase[[#This Row],[SesongNy]]&\"-\"&Oljedatabase[[#This Row],[Vind (m/s)]]&\"-\"&Oljedatabase[[#This Row],[Tidspunkt (timer)]]","v":"Brage 2013-Sommerforhold-15-2"},{"$f":"Oljedatabase[[#This Row],[Sesong]]","v":"Sommerforhold"},15,15,"2",0.69,1600,"Redusert kjemisk dispergerbarhet",0.28999999999999998,0.45,0.25,81,"Ingen eksplosjonsfare",22.6,"Redusert kjemisk dispergerbarhet","Nei",1.49,"2013-08-13T02:00:00",826,"Vestlandet",39,6771495,-153295,"Brage 2013 Forvitringsrapport.pdf"]
["Balder Blend 2010","Vinterforhold",{"$f":"Oljedatabase[[#This Row],[Oljetype]]&\"-\"&Oljedatabase[[#This Row],[SesongNy]]&\"-\"&Oljedatabase[[#This Row],[Vind (m/s)]]&\"-\"&Oljedatabase[[#This Row],[Tidspunkt (timer)]]","v":"Balder Blend 2010-Vinterforhold-5-48"},{"$f":"Oljedatabase[[#This Row],[Sesong]]","v":"Vinterforhold"},5,5,"48",0.61,9200,"Redusert kjemisk dispergerbarhet",0.25,0.71,0.04,102,"Ingen eksplosjonsfare",16.7,"Redusert kjemisk dispergerbarhet","Nei",1.82,"2010-11-09T01:00:00",864,"Vest-Agder til Hordaland",32,6629664,-217792,"Balder Blend 2010 Forvitringsrapport.pdf"]
["Balder Blend 2010","Sommerforhold",{"$f":"Oljedatabase[[#This Row],[Oljetype]]&\"-\"&Oljedatabase[[#This Row],[SesongNy]]&\"-\"&Oljedatabase[[#This Row],[Vind (m/s)]]&\"-\"&Oljedatabase[[#This Row],[Tidspunkt (timer)]]","v":"Balder Blend 2010-Sommerforhold-15-48"},{"$f":"Oljedatabase[[#This Row],[Sesong]]","v":"Sommerforhold"},15,15,"48",0.7,17000,"Redusert kjemisk dispergerbarhet",0.28000000000000003,0.01,0.71,153,"Ingen eksplosjonsfare",22,"Redusert kjemisk dispergerbarhet","Ja",0.03,"2010-11-09T01:00:00",864,"Vest-Agder til Hordaland",32,6629664,-217792,"Balder Blend 2010 Forvitringsrapport.pdf"]
["Balder Blend 2010","Vinterforhold",{"$f":"Oljedatabase[[#This Row],[Oljetype]]&\"-\"&Oljedatabase[[#This Row],[SesongNy]]&\"-\"&Oljedatabase[[#This Row],[Vind (m/s)]]&\"-\"&Oljedatabase[[#This Row],[Tidspunkt (timer)]]","v":"Balder Blend 2010-Vinterforhold-5-96"},{"$f":"Oljedatabase[[#This Row],[Sesong]]","v":"Vinterforhold"},5,5,"96",0.63,13000,"Redusert kjemisk dispergerbarhet",0.27,0.67,0.06,114,"Ingen eksplosjonsfare",18,"Redusert kjemisk dispergerbarhet","Ja",1.85,"2010-11-09T01:00:00",864,"Vest-Agder til Hordaland",32,6629664,-217792,"Balder Blend 2010 Forvitringsrapport.pdf"]
["Balder Blend 2010","Vinterforhold",{"$f":"Oljedatabase[[#This Row],[Oljetype]]&\"-\"&Oljedatabase[[#This Row],[SesongNy]]&\"-\"&Oljedatabase[[#This Row],[Vind (m/s)]]&\"-\"&Oljedatabase[[#This Row],[Tidspunkt (timer)]]","v":"Balder Blend 2010-Vinterforhold-2-9"},{"$f":"Oljedatabase[[#This Row],[Sesong]]","v":"Vinterforhold"},5,2,"9",0.08,540,"Kjemisk dispergerbar",0.17,0.83,0,61,"Ingen eksplosjonsfare",12,"Redusert kjemisk dispergerbarhet","Nei",0.91,"2010-11-09T01:00:00",864,"Vest-Agder til Hordaland",32,6629664,-217792,"Balder Blend 2010 Forvitringsrapport.pdf"]
["Balder Blend 2010","Vinterforhold",{"$f":"Oljedatabase[[#This Row],[Oljetype]]&\"-\"&Oljedatabase[[#This Row],[SesongNy]]&\"-\"&Oljedatabase[[#This Row],[Vind (m/s)]]&\"-\"&Oljedatabase[[#This Row],[Tidspunkt (timer)]]","v":"Balder Blend 2010-Vinterforhold-2-3"},{"$f":"Oljedatabase[[#This Row],[Sesong]]","v":"Vinterforhold"},5,2,"3",0.03,260,"Kjemisk dispergerbar",0.13,0.87,0,45,"Eksplosjonsfare ved tanking",9.9,"Kjemisk dispergerbar","Nei",0.89,"2010-11-09T01:00:00",864,"Vest-Agder til Hordaland",32,6629664,-217792,"Balder Blend 2010 Forvitringsrapport.pdf"]
["Balder Blend 2010","Vinterforhold",{"$f":"Oljedatabase[[#This Row],[Oljetype]]&\"-\"&Oljedatabase[[#This Row],[SesongNy]]&\"-\"&Oljedatabase[[#This Row],[Vind (m/s)]]&\"-\"&Oljedatabase[[#This Row],[Tidspunkt (timer)]]","v":"Balder Blend 2010-Vinterforhold-10-48"},{"$f":"Oljedatabase[[#This Row],[Sesong]]","v":"Vinterforhold"},5,10,"48",0.64,16000,"Redusert kjemisk dispergerbarhet",0.27,0.35,0.38,121,"Ingen eksplosjonsfare",18.7,"Redusert kjemisk dispergerbarhet","Ja",0.97,"2010-11-09T01:00:00",864,"Vest-Agder til Hordaland",32,6629664,-217792,"Balder Blend 2010 Forvitringsrapport.pdf"]
["Brage 2013","Sommerforhold",{"$f":"Oljedatabase[[#This Row],[Oljetype]]&\"-\"&Oljedatabase[[#This Row],[SesongNy]]&\"-\"&Oljedatabase[[#This Row],[Vind (m/s)]]&\"-\"&Oljedatabase[[#This Row],[Tidspunkt (timer)]]","v":"Brage 2013-Sommerforhold-2-2"},{"$f":"Oljedatabase[[#This Row],[Sesong]]","v":"Sommerforhold"},15,2,"2",7.0000000000000007E-2,145,"Kjemisk dispergerbar",0.2,0.79,0,48,"Eksplosjonsfare ved tanking",13.7,"Kjemisk dispergerbar","Nei",0.86,"2013-08-13T02:00:00",826,"Vestlandet",39,6771495,-153295,"Brage 2013 Forvitringsrapport.pdf"]
["Brage 2013","Sommerforhold",{"$f":"Oljedatabase[[#This Row],[Oljetype]]&\"-\"&Oljedatabase[[#This Row],[SesongNy]]&\"-\"&Oljedatabase[[#This Row],[Vind (m/s)]]&\"-\"&Oljedatabase[[#This Row],[Tidspunkt (timer)]]","v":"Brage 2013-Sommerforhold-5-96"},{"$f":"Oljedatabase[[#This Row],[Sesong]]","v":"Sommerforhold"},15,5,"96",0.8,3570,"Redusert kjemisk dispergerbarhet",0.37,0.53,0.09,105,"Ingen eksplosjonsfare",28.9,"Redusert kjemisk dispergerbarhet","Nei",2.67,"2013-08-13T02:00:00",826,"Vestlandet",39,6771495,-153295,"Brage 2013 Forvitringsrapport.pdf"]
["Balder Blend 2010","Vinterforhold",{"$f":"Oljedatabase[[#This Row],[Oljetype]]&\"-\"&Oljedatabase[[#This Row],[SesongNy]]&\"-\"&Oljedatabase[[#This Row],[Vind (m/s)]]&\"-\"&Oljedatabase[[#This Row],[Tidspunkt (timer)]]","v":"Balder Blend 2010-Vinterforhold-2-48"},{"$f":"Oljedatabase[[#This Row],[Sesong]]","v":"Vinterforhold"},5,2,"48",0.34,2900,"Kjemisk dispergerbar",0.22,0.78,0,87,"Ingen eksplosjonsfare",15.1,"Redusert kjemisk dispergerbarhet","Nei",1.19,"2010-11-09T01:00:00",864,"Vest-Agder til Hordaland",32,6629664,-217792,"Balder Blend 2010 Forvitringsrapport.pdf"]
["Balder Blend 2010","Sommerforhold",{"$f":"Oljedatabase[[#This Row],[Oljetype]]&\"-\"&Oljedatabase[[#This Row],[SesongNy]]&\"-\"&Oljedatabase[[#This Row],[Vind (m/s)]]&\"-\"&Oljedatabase[[#This Row],[Tidspunkt (timer)]]","v":"Balder Blend 2010-Sommerforhold-15-9"},{"$f":"Oljedatabase[[#This Row],[Sesong]]","v":"Sommerforhold"},15,15,"9",0.68,8100,"Redusert kjemisk dispergerbarhet",0.26,0.25,0.49,119,"Ingen eksplosjonsfare",18.5,"Kjemisk dispergerbar","Nei",0.8,"2010-11-09T01:00:00",864,"Vest-Agder til Hordaland",32,6629664,-217792,"Balder Blend 2010 Forvitringsrapport.pdf"]
["Brage 2013","Sommerforhold",{"$f":"Oljedatabase[[#This Row],[Oljetype]]&\"-\"&Oljedatabase[[#This Row],[SesongNy]]&\"-\"&Oljedatabase[[#This Row],[Vind (m/s)]]&\"-\"&Oljedatabase[[#This Row],[Tidspunkt (timer)]]","v":"Brage 2013-Sommerforhold-5-120"},{"$f":"Oljedatabase[[#This Row],[Sesong]]","v":"Sommerforhold"},15,5,"120",0.8,3830,"Redusert kjemisk dispergerbarhet",0.38,0.5,0.1,108,"Ingen eksplosjonsfare",29.5,"Redusert kjemisk dispergerbarhet","Nei",2.5499999999999998,"2013-08-13T02:00:00",826,"Vestlandet",39,6771495,-153295,"Brage 2013 Forvitringsrapport.pdf"]
["Balder Blend 2010","Vinterforhold",{"$f":"Oljedatabase[[#This Row],[Oljetype]]&\"-\"&Oljedatabase[[#This Row],[SesongNy]]&\"-\"&Oljedatabase[[#This Row],[Vind (m/s)]]&\"-\"&Oljedatabase[[#This Row],[Tidspunkt (timer)]]","v":"Balder Blend 2010-Vinterforhold-2-120"},{"$f":"Oljedatabase[[#This Row],[Sesong]]","v":"Vinterforhold"},5,2,"120",0.54,7800,"Redusert kjemisk dispergerbarhet",0.25,0.75,0,102,"Ingen eksplosjonsfare",16.8,"Redusert kjemisk dispergerbarhet","Nei",1.65,"2010-11-09T01:00:00",864,"Vest-Agder til Hordaland",32,6629664,-217792,"Balder Blend 2010 Forvitringsrapport.pdf"]
["Balder Blend 2010","Sommerforhold",{"$f":"Oljedatabase[[#This Row],[Oljetype]]&\"-\"&Oljedatabase[[#This Row],[SesongNy]]&\"-\"&Oljedatabase[[#This Row],[Vind (m/s)]]&\"-\"&Oljedatabase[[#This Row],[Tidspunkt (timer)]]","v":"Balder Blend 2010-Sommerforhold-10-12"},{"$f":"Oljedatabase[[#This Row],[Sesong]]","v":"Sommerforhold"},15,10,"12",0.64,6300,"Redusert kjemisk dispergerbarhet",0.26,0.54,0.19,112,"Ingen eksplosjonsfare",17.8,"Kjemisk dispergerbar","Nei",1.52,"2010-11-09T01:00:00",864,"Vest-Agder til Hordaland",32,6629664,-217792,"Balder Blend 2010 Forvitringsrapport.pdf"]
["Balder Blend 2010","Vinterforhold",{"$f":"Oljedatabase[[#This Row],[Oljetype]]&\"-\"&Oljedatabase[[#This Row],[SesongNy]]&\"-\"&Oljedatabase[[#This Row],[Vind (m/s)]]&\"-\"&Oljedatabase[[#This Row],[Tidspunkt (timer)]]","v":"Balder Blend 2010-Vinterforhold-10-72"},{"$f":"Oljedatabase[[#This Row],[Sesong]]","v":"Vinterforhold"},5,10,"72",0.64,19000,"Redusert kjemisk dispergerbarhet",0.28000000000000003,0.26,0.46,128,"Ingen eksplosjonsfare",19.5,"Redusert kjemisk dispergerbarhet","Ja",0.72,"2010-11-09T01:00:00",864,"Vest-Agder til Hordaland",32,6629664,-217792,"Balder Blend 2010 Forvitringsrapport.pdf"]
["Balder Blend 2010","Sommerforhold",{"$f":"Oljedatabase[[#This Row],[Oljetype]]&\"-\"&Oljedatabase[[#This Row],[SesongNy]]&\"-\"&Oljedatabase[[#This Row],[Vind (m/s)]]&\"-\"&Oljedatabase[[#This Row],[Tidspunkt (timer)]]","v":"Balder Blend 2010-Sommerforhold-2-120"},{"$f":"Oljedatabase[[#This Row],[Sesong]]","v":"Sommerforhold"},15,2,"120",0.6,6400,"Redusert kjemisk dispergerbarhet",0.28000000000000003,0.72,0,118,"Ingen eksplosjonsfare",18.399999999999999,"Kjemisk dispergerbar","Nei",1.81,"2010-11-09T01:00:00",864,"Vest-Agder til Hordaland",32,6629664,-217792,"Balder Blend 2010 Forvitringsrapport.pdf"]
["Brage 2013","Sommerforhold",{"$f":"Oljedatabase[[#This Row],[Oljetype]]&\"-\"&Oljedatabase[[#This Row],[SesongNy]]&\"-\"&Oljedatabase[[#This Row],[Vind (m/s)]]&\"-\"&Oljedatabase[[#This Row],[Tidspunkt (timer)]]","v":"Brage 2013-Sommerforhold-15-1"},{"$f":"Oljedatabase[[#This Row],[Sesong]]","v":"Sommerforhold"},15,15,"1",0.51,958,"Kjemisk dispergerbar",0.27,0.56999999999999995,0.15,73,"Ingen eksplosjonsfare",20.3,"Redusert kjemisk dispergerbarhet","Nei",1.18,"2013-08-13T02:00:00",826,"Vestlandet",39,6771495,-153295,"Brage 2013 Forvitringsrapport.pdf"]
["Balder Blend 2010","Vinterforhold",{"$f":"Oljedatabase[[#This Row],[Oljetype]]&\"-\"&Oljedatabase[[#This Row],[SesongNy]]&\"-\"&Oljedatabase[[#This Row],[Vind (m/s)]]&\"-\"&Oljedatabase[[#This Row],[Tidspunkt (timer)]]","v":"Balder Blend 2010-Vinterforhold-10-1"},{"$f":"Oljedatabase[[#This Row],[Sesong]]","v":"Vinterforhold"},5,10,"1",0.12,530,"Kjemisk dispergerbar",0.15,0.82,0.03,55,"Eksplosjonsfare ved tanking",11.3,"Redusert kjemisk dispergerbarhet","Nei",0.93,"2010-11-09T01:00:00",864,"Vest-Agder til Hordaland",32,6629664,-217792,"Balder Blend 2010 Forvitringsrapport.pdf"]
["Balder Blend 2010","Vinterforhold",{"$f":"Oljedatabase[[#This Row],[Oljetype]]&\"-\"&Oljedatabase[[#This Row],[SesongNy]]&\"-\"&Oljedatabase[[#This Row],[Vind (m/s)]]&\"-\"&Oljedatabase[[#This Row],[Tidspunkt (timer)]]","v":"Balder Blend 2010-Vinterforhold-5-72"},{"$f":"Oljedatabase[[#This Row],[Sesong]]","v":"Vinterforhold"},5,5,"72",0.63,12000,"Redusert kjemisk dispergerbarhet",0.26,0.69,0.05,109,"Ingen eksplosjonsfare",17.5,"Redusert kjemisk dispergerbarhet","Ja",1.88,"2010-11-09T01:00:00",864,"Vest-Agder til Hordaland",32,6629664,-217792,"Balder Blend 2010 Forvitringsrapport.pdf"]
["Brage 2013","Sommerforhold",{"$f":"Oljedatabase[[#This Row],[Oljetype]]&\"-\"&Oljedatabase[[#This Row],[SesongNy]]&\"-\"&Oljedatabase[[#This Row],[Vind (m/s)]]&\"-\"&Oljedatabase[[#This Row],[Tidspunkt (timer)]]","v":"Brage 2013-Sommerforhold-15-96"},{"$f":"Oljedatabase[[#This Row],[Sesong]]","v":"Sommerforhold"},15,15,"96",0.8,6860,"Redusert kjemisk dispergerbarhet",0.34,0,0.65,131,"Ingen eksplosjonsfare",35.1,"Lav/dårlig dispergerbarhet","Nei",0,"2013-08-13T02:00:00",826,"Vestlandet",39,6771495,-153295,"Brage 2013 Forvitringsrapport.pdf"]
["Brage 2013","Vinterforhold",{"$f":"Oljedatabase[[#This Row],[Oljetype]]&\"-\"&Oljedatabase[[#This Row],[SesongNy]]&\"-\"&Oljedatabase[[#This Row],[Vind (m/s)]]&\"-\"&Oljedatabase[[#This Row],[Tidspunkt (timer)]]","v":"Brage 2013-Vinterforhold-5-48"},{"$f":"Oljedatabase[[#This Row],[Sesong]]","v":"Vinterforhold"},5,5,"48",0.79,4210,"Redusert kjemisk dispergerbarhet",0.32,0.62,0.04,88,"Ingen eksplosjonsfare",24.5,"Lav/dårlig dispergerbarhet","Nei",3.11,"2013-08-13T02:00:00",826,"Vestlandet",39,6771495,-153295,"Brage 2013 Forvitringsrapport.pdf"]
["Balder Blend 2010","Vinterforhold",{"$f":"Oljedatabase[[#This Row],[Oljetype]]&\"-\"&Oljedatabase[[#This Row],[SesongNy]]&\"-\"&Oljedatabase[[#This Row],[Vind (m/s)]]&\"-\"&Oljedatabase[[#This Row],[Tidspunkt (timer)]]","v":"Balder Blend 2010-Vinterforhold-10-6"},{"$f":"Oljedatabase[[#This Row],[Sesong]]","v":"Vinterforhold"},5,10,"6",0.46,3900,"Kjemisk dispergerbar",0.22,0.67,0.12,85,"Ingen eksplosjonsfare",14.8,"Redusert kjemisk dispergerbarhet","Nei",1.25,"2010-11-09T01:00:00",864,"Vest-Agder til Hordaland",32,6629664,-217792,"Balder Blend 2010 Forvitringsrapport.pdf"]
["Balder Blend 2010","Vinterforhold",{"$f":"Oljedatabase[[#This Row],[Oljetype]]&\"-\"&Oljedatabase[[#This Row],[SesongNy]]&\"-\"&Oljedatabase[[#This Row],[Vind (m/s)]]&\"-\"&Oljedatabase[[#This Row],[Tidspunkt (timer)]]","v":"Balder Blend 2010-Vinterforhold-5-1"},{"$f":"Oljedatabase[[#This Row],[Sesong]]","v":"Vinterforhold"},5,5,"1",0.04,220,"Kjemisk dispergerbar",0.11,0.89,0,38,"Eksplosjonsfare ved tanking",9.1,"Kjemisk dispergerbar","Nei",0.92,"2010-11-09T01:00:00",864,"Vest-Agder til Hordaland",32,6629664,-217792,"Balder Blend 2010 Forvitringsrapport.pdf"]
["Brage 2013","Sommerforhold",{"$f":"Oljedatabase[[#This Row],[Oljetype]]&\"-\"&Oljedatabase[[#This Row],[SesongNy]]&\"-\"&Oljedatabase[[#This Row],[Vind (m/s)]]&\"-\"&Oljedatabase[[#This Row],[Tidspunkt (timer)]]","v":"Brage 2013-Sommerforhold-5-9"},{"$f":"Oljedatabase[[#This Row],[Sesong]]","v":"Sommerforhold"},15,5,"9",0.57999999999999996,1280,"Kjemisk dispergerbar",0.28999999999999998,0.68,0.01,79,"Ingen eksplosjonsfare",22,"Redusert kjemisk dispergerbarhet","Nei",1.64,"2013-08-13T02:00:00",826,"Vestlandet",39,6771495,-153295,"Brage 2013 Forvitringsrapport.pdf"]
["Bream 2011","Sommerforhold",{"$f":"Oljedatabase[[#This Row],[Oljetype]]&\"-\"&Oljedatabase[[#This Row],[SesongNy]]&\"-\"&Oljedatabase[[#This Row],[Vind (m/s)]]&\"-\"&Oljedatabase[[#This Row],[Tidspunkt (timer)]]","v":"Bream 2011-Sommerforhold-2-12"},{"$f":"Oljedatabase[[#This Row],[Sesong]]","v":"Sommerforhold"},15,2,"12",0.14000000000000001,3000,"Kjemisk dispergerbar",0.18,0.81,0,83,"Ingen eksplosjonsfare",24.8,"Redusert kjemisk dispergerbarhet","Nei",0.95,"2011-05-24T02:00:00",857,"Vest-Agder til Hordaland",33,6502083,-149887,"Bream 2011 Forvitringsrapport.pdf"]
["Brage 2013","Sommerforhold",{"$f":"Oljedatabase[[#This Row],[Oljetype]]&\"-\"&Oljedatabase[[#This Row],[SesongNy]]&\"-\"&Oljedatabase[[#This Row],[Vind (m/s)]]&\"-\"&Oljedatabase[[#This Row],[Tidspunkt (timer)]]","v":"Brage 2013-Sommerforhold-10-12"},{"$f":"Oljedatabase[[#This Row],[Sesong]]","v":"Sommerforhold"},15,10,"12",0.79,2620,"Redusert kjemisk dispergerbarhet",0.33,0.43,0.22,94,"Ingen eksplosjonsfare",26,"Redusert kjemisk dispergerbarhet","Nei",2.16,"2013-08-13T02:00:00",826,"Vestlandet",39,6771495,-153295,"Brage 2013 Forvitringsrapport.pdf"]
["Brage 2013","Sommerforhold",{"$f":"Oljedatabase[[#This Row],[Oljetype]]&\"-\"&Oljedatabase[[#This Row],[SesongNy]]&\"-\"&Oljedatabase[[#This Row],[Vind (m/s)]]&\"-\"&Oljedatabase[[#This Row],[Tidspunkt (timer)]]","v":"Brage 2013-Sommerforhold-15-48"},{"$f":"Oljedatabase[[#This Row],[Sesong]]","v":"Sommerforhold"},15,15,"48",0.8,5120,"Redusert kjemisk dispergerbarhet",0.34,0,0.65,119,"Ingen eksplosjonsfare",32.299999999999997,"Lav/dårlig dispergerbarhet","Nei",0,"2013-08-13T02:00:00",826,"Vestlandet",39,6771495,-153295,"Brage 2013 Forvitringsrapport.pdf"]
["Brage 2013","Vinterforhold",{"$f":"Oljedatabase[[#This Row],[Oljetype]]&\"-\"&Oljedatabase[[#This Row],[SesongNy]]&\"-\"&Oljedatabase[[#This Row],[Vind (m/s)]]&\"-\"&Oljedatabase[[#This Row],[Tidspunkt (timer)]]","v":"Brage 2013-Vinterforhold-2-1"},{"$f":"Oljedatabase[[#This Row],[Sesong]]","v":"Vinterforhold"},5,2,"1",0.03,103,"Kjemisk dispergerbar",0.13,0.86,0,30,"Eksplosjonsfare ved tanking",8.4,"Kjemisk dispergerbar","Nei",0.9,"2013-08-13T02:00:00",826,"Vestlandet",39,6771495,-153295,"Brage 2013 Forvitringsrapport.pdf"]
["Balder Blend 2010","Sommerforhold",{"$f":"Oljedatabase[[#This Row],[Oljetype]]&\"-\"&Oljedatabase[[#This Row],[SesongNy]]&\"-\"&Oljedatabase[[#This Row],[Vind (m/s)]]&\"-\"&Oljedatabase[[#This Row],[Tidspunkt (timer)]]","v":"Balder Blend 2010-Sommerforhold-15-6"},{"$f":"Oljedatabase[[#This Row],[Sesong]]","v":"Sommerforhold"},15,15,"6",0.65,6300,"Redusert kjemisk dispergerbarhet",0.25,0.33,0.42,111,"Ingen eksplosjonsfare",17.7,"Kjemisk dispergerbar","Nei",0.95,"2010-11-09T01:00:00",864,"Vest-Agder til Hordaland",32,6629664,-217792,"Balder Blend 2010 Forvitringsrapport.pdf"]
["Balder Blend 2010","Vinterforhold",{"$f":"Oljedatabase[[#This Row],[Oljetype]]&\"-\"&Oljedatabase[[#This Row],[SesongNy]]&\"-\"&Oljedatabase[[#This Row],[Vind (m/s)]]&\"-\"&Oljedatabase[[#This Row],[Tidspunkt (timer)]]","v":"Balder Blend 2010-Vinterforhold-15-3"},{"$f":"Oljedatabase[[#This Row],[Sesong]]","v":"Vinterforhold"},5,15,"3",0.47,4000,"Kjemisk dispergerbar",0.21,0.51,0.28000000000000003,85,"Ingen eksplosjonsfare",14.8,"Redusert kjemisk dispergerbarhet","Nei",0.97,"2010-11-09T01:00:00",864,"Vest-Agder til Hordaland",32,6629664,-217792,"Balder Blend 2010 Forvitringsrapport.pdf"]
["Brage 2013","Sommerforhold",{"$f":"Oljedatabase[[#This Row],[Oljetype]]&\"-\"&Oljedatabase[[#This Row],[SesongNy]]&\"-\"&Oljedatabase[[#This Row],[Vind (m/s)]]&\"-\"&Oljedatabase[[#This Row],[Tidspunkt (timer)]]","v":"Brage 2013-Sommerforhold-10-48"},{"$f":"Oljedatabase[[#This Row],[Sesong]]","v":"Sommerforhold"},15,10,"48",0.8,4040,"Redusert kjemisk dispergerbarhet",0.37,0.15,0.47,110,"Ingen eksplosjonsfare",30,"Redusert kjemisk dispergerbarhet","Nei",0.77,"2013-08-13T02:00:00",826,"Vestlandet",39,6771495,-153295,"Brage 2013 Forvitringsrapport.pdf"]
["Brage 2013","Vinterforhold",{"$f":"Oljedatabase[[#This Row],[Oljetype]]&\"-\"&Oljedatabase[[#This Row],[SesongNy]]&\"-\"&Oljedatabase[[#This Row],[Vind (m/s)]]&\"-\"&Oljedatabase[[#This Row],[Tidspunkt (timer)]]","v":"Brage 2013-Vinterforhold-2-3"},{"$f":"Oljedatabase[[#This Row],[Sesong]]","v":"Vinterforhold"},5,2,"3",0.08,243,"Kjemisk dispergerbar",0.19,0.8,0,47,"Eksplosjonsfare ved tanking",13.4,"Redusert kjemisk dispergerbarhet","Nei",0.88,"2013-08-13T02:00:00",826,"Vestlandet",39,6771495,-153295,"Brage 2013 Forvitringsrapport.pdf"]
["Brage 2013","Sommerforhold",{"$f":"Oljedatabase[[#This Row],[Oljetype]]&\"-\"&Oljedatabase[[#This Row],[SesongNy]]&\"-\"&Oljedatabase[[#This Row],[Vind (m/s)]]&\"-\"&Oljedatabase[[#This Row],[Tidspunkt (timer)]]","v":"Brage 2013-Sommerforhold-10-72"},{"$f":"Oljedatabase[[#This Row],[Sesong]]","v":"Sommerforhold"},15,10,"72",0.8,4640,"Redusert kjemisk dispergerbarhet",0.37,0.08,0.54,115,"Ingen eksplosjonsfare",31.3,"Lav/dårlig dispergerbarhet","Nei",0.41,"2013-08-13T02:00:00",826,"Vestlandet",39,6771495,-153295,"Brage 2013 Forvitringsrapport.pdf"]
["Balder Blend 2010","Sommerforhold",{"$f":"Oljedatabase[[#This Row],[Oljetype]]&\"-\"&Oljedatabase[[#This Row],[SesongNy]]&\"-\"&Oljedatabase[[#This Row],[Vind (m/s)]]&\"-\"&Oljedatabase[[#This Row],[Tidspunkt (timer)]]","v":"Balder Blend 2010-Sommerforhold-15-12"},{"$f":"Oljedatabase[[#This Row],[Sesong]]","v":"Sommerforhold"},15,15,"12",0.69,9300,"Redusert kjemisk dispergerbarhet",0.27,0.19,0.55000000000000004,124,"Ingen eksplosjonsfare",19.100000000000001,"Kjemisk dispergerbar","Nei",0.62,"2010-11-09T01:00:00",864,"Vest-Agder til Hordaland",32,6629664,-217792,"Balder Blend 2010 Forvitringsrapport.pdf"]
["Brage 2013","Sommerforhold",{"$f":"Oljedatabase[[#This Row],[Oljetype]]&\"-\"&Oljedatabase[[#This Row],[SesongNy]]&\"-\"&Oljedatabase[[#This Row],[Vind (m/s)]]&\"-\"&Oljedatabase[[#This Row],[Tidspunkt (timer)]]","v":"Brage 2013-Sommerforhold-5-6"},{"$f":"Oljedatabase[[#This Row],[Sesong]]","v":"Sommerforhold"},15,5,"6",0.46,918,"Kjemisk dispergerbar",0.28000000000000003,0.7,0.01,74,"Ingen eksplosjonsfare",20.7,"Redusert kjemisk dispergerbarhet","Nei",1.32,"2013-08-13T02:00:00",826,"Vestlandet",39,6771495,-153295,"Brage 2013 Forvitringsrapport.pdf"]
["Bream 2011","Sommerforhold",{"$f":"Oljedatabase[[#This Row],[Oljetype]]&\"-\"&Oljedatabase[[#This Row],[SesongNy]]&\"-\"&Oljedatabase[[#This Row],[Vind (m/s)]]&\"-\"&Oljedatabase[[#This Row],[Tidspunkt (timer)]]","v":"Bream 2011-Sommerforhold-2-1"},{"$f":"Oljedatabase[[#This Row],[Sesong]]","v":"Sommerforhold"},15,2,"1",0.01,970,"Kjemisk dispergerbar",0.06,0.93,0,38,"Eksplosjonsfare ved tanking",20.5,"Redusert kjemisk dispergerbarhet","Nei",0.94,"2011-05-24T02:00:00",857,"Vest-Agder til Hordaland",33,6502083,-149887,"Bream 2011 Forvitringsrapport.pdf"]
["Brage 2013","Sommerforhold",{"$f":"Oljedatabase[[#This Row],[Oljetype]]&\"-\"&Oljedatabase[[#This Row],[SesongNy]]&\"-\"&Oljedatabase[[#This Row],[Vind (m/s)]]&\"-\"&Oljedatabase[[#This Row],[Tidspunkt (timer)]]","v":"Brage 2013-Sommerforhold-2-12"},{"$f":"Oljedatabase[[#This Row],[Sesong]]","v":"Sommerforhold"},15,2,"12",0.28999999999999998,590,"Kjemisk dispergerbar",0.27,0.72,0,72,"Ingen eksplosjonsfare",20.100000000000001,"Redusert kjemisk dispergerbarhet","Nei",1.02,"2013-08-13T02:00:00",826,"Vestlandet",39,6771495,-153295,"Brage 2013 Forvitringsrapport.pdf"]
["Brage 2013","Sommerforhold",{"$f":"Oljedatabase[[#This Row],[Oljetype]]&\"-\"&Oljedatabase[[#This Row],[SesongNy]]&\"-\"&Oljedatabase[[#This Row],[Vind (m/s)]]&\"-\"&Oljedatabase[[#This Row],[Tidspunkt (timer)]]","v":"Brage 2013-Sommerforhold-10-2"},{"$f":"Oljedatabase[[#This Row],[Sesong]]","v":"Sommerforhold"},15,10,"2",0.49,951,"Kjemisk dispergerbar",0.28000000000000003,0.65,0.06,73,"Ingen eksplosjonsfare",20.5,"Redusert kjemisk dispergerbarhet","Nei",1.31,"2013-08-13T02:00:00",826,"Vestlandet",39,6771495,-153295,"Brage 2013 Forvitringsrapport.pdf"]
["Brage 2013","Sommerforhold",{"$f":"Oljedatabase[[#This Row],[Oljetype]]&\"-\"&Oljedatabase[[#This Row],[SesongNy]]&\"-\"&Oljedatabase[[#This Row],[Vind (m/s)]]&\"-\"&Oljedatabase[[#This Row],[Tidspunkt (timer)]]","v":"Brage 2013-Sommerforhold-15-9"},{"$f":"Oljedatabase[[#This Row],[Sesong]]","v":"Sommerforhold"},15,15,"9",0.8,2950,"Redusert kjemisk dispergerbarhet",0.33,0.13,0.53,98,"Ingen eksplosjonsfare",27.1,"Redusert kjemisk dispergerbarhet","Nei",0.67,"2013-08-13T02:00:00",826,"Vestlandet",39,6771495,-153295,"Brage 2013 Forvitringsrapport.pdf"]
["Brage 2013","Sommerforhold",{"$f":"Oljedatabase[[#This Row],[Oljetype]]&\"-\"&Oljedatabase[[#This Row],[SesongNy]]&\"-\"&Oljedatabase[[#This Row],[Vind (m/s)]]&\"-\"&Oljedatabase[[#This Row],[Tidspunkt (timer)]]","v":"Brage 2013-Sommerforhold-2-3"},{"$f":"Oljedatabase[[#This Row],[Sesong]]","v":"Sommerforhold"},15,2,"3",0.1,194,"Kjemisk dispergerbar",0.22,0.77,0,55,"Eksplosjonsfare ved tanking",15.4,"Kjemisk dispergerbar","Nei",0.87,"2013-08-13T02:00:00",826,"Vestlandet",39,6771495,-153295,"Brage 2013 Forvitringsrapport.pdf"]
["Brage 2013","Vinterforhold",{"$f":"Oljedatabase[[#This Row],[Oljetype]]&\"-\"&Oljedatabase[[#This Row],[SesongNy]]&\"-\"&Oljedatabase[[#This Row],[Vind (m/s)]]&\"-\"&Oljedatabase[[#This Row],[Tidspunkt (timer)]]","v":"Brage 2013-Vinterforhold-15-48"},{"$f":"Oljedatabase[[#This Row],[Sesong]]","v":"Vinterforhold"},5,15,"48",0.8,7360,"Redusert kjemisk dispergerbarhet",0.31,0,0.68,107,"Ingen eksplosjonsfare",29.2,"Lav/dårlig dispergerbarhet","Nei",0,"2013-08-13T02:00:00",826,"Vestlandet",39,6771495,-153295,"Brage 2013 Forvitringsrapport.pdf"]
["Brage 2013","Sommerforhold",{"$f":"Oljedatabase[[#This Row],[Oljetype]]&\"-\"&Oljedatabase[[#This Row],[SesongNy]]&\"-\"&Oljedatabase[[#This Row],[Vind (m/s)]]&\"-\"&Oljedatabase[[#This Row],[Tidspunkt (timer)]]","v":"Brage 2013-Sommerforhold-15-3"},{"$f":"Oljedatabase[[#This Row],[Sesong]]","v":"Sommerforhold"},15,15,"3",0.76,1990,"Redusert kjemisk dispergerbarhet",0.3,0.37,0.32,86,"Ingen eksplosjonsfare",23.9,"Redusert kjemisk dispergerbarhet","Nei",1.56,"2013-08-13T02:00:00",826,"Vestlandet",39,6771495,-153295,"Brage 2013 Forvitringsrapport.pdf"]
["Balder Blend 2010","Vinterforhold",{"$f":"Oljedatabase[[#This Row],[Oljetype]]&\"-\"&Oljedatabase[[#This Row],[SesongNy]]&\"-\"&Oljedatabase[[#This Row],[Vind (m/s)]]&\"-\"&Oljedatabase[[#This Row],[Tidspunkt (timer)]]","v":"Balder Blend 2010-Vinterforhold-2-12"},{"$f":"Oljedatabase[[#This Row],[Sesong]]","v":"Vinterforhold"},5,2,"12",0.11,680,"Kjemisk dispergerbar",0.18,0.82,0,65,"Ingen eksplosjonsfare",12.5,"Redusert kjemisk dispergerbarhet","Nei",0.92,"2010-11-09T01:00:00",864,"Vest-Agder til Hordaland",32,6629664,-217792,"Balder Blend 2010 Forvitringsrapport.pdf"]
["Brage 2013","Sommerforhold",{"$f":"Oljedatabase[[#This Row],[Oljetype]]&\"-\"&Oljedatabase[[#This Row],[SesongNy]]&\"-\"&Oljedatabase[[#This Row],[Vind (m/s)]]&\"-\"&Oljedatabase[[#This Row],[Tidspunkt (timer)]]","v":"Brage 2013-Sommerforhold-2-120"},{"$f":"Oljedatabase[[#This Row],[Sesong]]","v":"Sommerforhold"},15,2,"120",0.78,2860,"Redusert kjemisk dispergerbarhet",0.35,0.64,0,98,"Ingen eksplosjonsfare",26.9,"Redusert kjemisk dispergerbarhet","Nei",3.03,"2013-08-13T02:00:00",826,"Vestlandet",39,6771495,-153295,"Brage 2013 Forvitringsrapport.pdf"]
["Brage 2013","Sommerforhold",{"$f":"Oljedatabase[[#This Row],[Oljetype]]&\"-\"&Oljedatabase[[#This Row],[SesongNy]]&\"-\"&Oljedatabase[[#This Row],[Vind (m/s)]]&\"-\"&Oljedatabase[[#This Row],[Tidspunkt (timer)]]","v":"Brage 2013-Sommerforhold-2-96"},{"$f":"Oljedatabase[[#This Row],[Sesong]]","v":"Sommerforhold"},15,2,"96",0.77,2630,"Redusert kjemisk dispergerbarhet",0.35,0.64,0,95,"Ingen eksplosjonsfare",26.3,"Redusert kjemisk dispergerbarhet","Nei",2.87,"2013-08-13T02:00:00",826,"Vestlandet",39,6771495,-153295,"Brage 2013 Forvitringsrapport.pdf"]
["Brage 2013","Vinterforhold",{"$f":"Oljedatabase[[#This Row],[Oljetype]]&\"-\"&Oljedatabase[[#This Row],[SesongNy]]&\"-\"&Oljedatabase[[#This Row],[Vind (m/s)]]&\"-\"&Oljedatabase[[#This Row],[Tidspunkt (timer)]]","v":"Brage 2013-Vinterforhold-10-9"},{"$f":"Oljedatabase[[#This Row],[Sesong]]","v":"Vinterforhold"},5,10,"9",0.78,3410,"Redusert kjemisk dispergerbarhet",0.3,0.53,0.16,82,"Ingen eksplosjonsfare",22.8,"Lav/dårlig dispergerbarhet","Nei",2.5099999999999998,"2013-08-13T02:00:00",826,"Vestlandet",39,6771495,-153295,"Brage 2013 Forvitringsrapport.pdf"]
["Brage 2013","Sommerforhold",{"$f":"Oljedatabase[[#This Row],[Oljetype]]&\"-\"&Oljedatabase[[#This Row],[SesongNy]]&\"-\"&Oljedatabase[[#This Row],[Vind (m/s)]]&\"-\"&Oljedatabase[[#This Row],[Tidspunkt (timer)]]","v":"Brage 2013-Sommerforhold-15-6"},{"$f":"Oljedatabase[[#This Row],[Sesong]]","v":"Sommerforhold"},15,15,"6",0.79,2600,"Redusert kjemisk dispergerbarhet",0.32,0.21,0.45,94,"Ingen eksplosjonsfare",25.9,"Redusert kjemisk dispergerbarhet","Nei",1.08,"2013-08-13T02:00:00",826,"Vestlandet",39,6771495,-153295,"Brage 2013 Forvitringsrapport.pdf"]
["Brage 2013","Vinterforhold",{"$f":"Oljedatabase[[#This Row],[Oljetype]]&\"-\"&Oljedatabase[[#This Row],[SesongNy]]&\"-\"&Oljedatabase[[#This Row],[Vind (m/s)]]&\"-\"&Oljedatabase[[#This Row],[Tidspunkt (timer)]]","v":"Brage 2013-Vinterforhold-10-12"},{"$f":"Oljedatabase[[#This Row],[Sesong]]","v":"Vinterforhold"},5,10,"12",0.79,3790,"Redusert kjemisk dispergerbarhet",0.31,0.48,0.2,85,"Ingen eksplosjonsfare",23.6,"Lav/dårlig dispergerbarhet","Nei",2.39,"2013-08-13T02:00:00",826,"Vestlandet",39,6771495,-153295,"Brage 2013 Forvitringsrapport.pdf"]
["Brage 2013","Sommerforhold",{"$f":"Oljedatabase[[#This Row],[Oljetype]]&\"-\"&Oljedatabase[[#This Row],[SesongNy]]&\"-\"&Oljedatabase[[#This Row],[Vind (m/s)]]&\"-\"&Oljedatabase[[#This Row],[Tidspunkt (timer)]]","v":"Brage 2013-Sommerforhold-10-120"},{"$f":"Oljedatabase[[#This Row],[Sesong]]","v":"Sommerforhold"},15,10,"120",0.8,5700,"Redusert kjemisk dispergerbarhet",0.38,0.02,0.59,123,"Ingen eksplosjonsfare",33.299999999999997,"Lav/dårlig dispergerbarhet","Nei",0.13,"2013-08-13T02:00:00",826,"Vestlandet",39,6771495,-153295,"Brage 2013 Forvitringsrapport.pdf"]
["Brage 2013","Sommerforhold",{"$f":"Oljedatabase[[#This Row],[Oljetype]]&\"-\"&Oljedatabase[[#This Row],[SesongNy]]&\"-\"&Oljedatabase[[#This Row],[Vind (m/s)]]&\"-\"&Oljedatabase[[#This Row],[Tidspunkt (timer)]]","v":"Brage 2013-Sommerforhold-10-9"},{"$f":"Oljedatabase[[#This Row],[Sesong]]","v":"Sommerforhold"},15,10,"9",0.78,2370,"Redusert kjemisk dispergerbarhet",0.33,0.48,0.18,91,"Ingen eksplosjonsfare",25.2,"Redusert kjemisk dispergerbarhet","Nei",2.2999999999999998,"2013-08-13T02:00:00",826,"Vestlandet",39,6771495,-153295,"Brage 2013 Forvitringsrapport.pdf"]
["Brage 2013","Vinterforhold",{"$f":"Oljedatabase[[#This Row],[Oljetype]]&\"-\"&Oljedatabase[[#This Row],[SesongNy]]&\"-\"&Oljedatabase[[#This Row],[Vind (m/s)]]&\"-\"&Oljedatabase[[#This Row],[Tidspunkt (timer)]]","v":"Brage 2013-Vinterforhold-10-6"},{"$f":"Oljedatabase[[#This Row],[Sesong]]","v":"Vinterforhold"},5,10,"6",0.75,2840,"Redusert kjemisk dispergerbarhet",0.28999999999999998,0.57999999999999996,0.12,78,"Ingen eksplosjonsfare",21.7,"Lav/dårlig dispergerbarhet","Nei",2.37,"2013-08-13T02:00:00",826,"Vestlandet",39,6771495,-153295,"Brage 2013 Forvitringsrapport.pdf"]
["Balder Blend 2010","Vinterforhold",{"$f":"Oljedatabase[[#This Row],[Oljetype]]&\"-\"&Oljedatabase[[#This Row],[SesongNy]]&\"-\"&Oljedatabase[[#This Row],[Vind (m/s)]]&\"-\"&Oljedatabase[[#This Row],[Tidspunkt (timer)]]","v":"Balder Blend 2010-Vinterforhold-15-1"},{"$f":"Oljedatabase[[#This Row],[Sesong]]","v":"Vinterforhold"},5,15,"1",0.23,1100,"Kjemisk dispergerbar",0.17,0.69,0.14000000000000001,66,"Ingen eksplosjonsfare",12.6,"Redusert kjemisk dispergerbarhet","Nei",0.9,"2010-11-09T01:00:00",864,"Vest-Agder til Hordaland",32,6629664,-217792,"Balder Blend 2010 Forvitringsrapport.pdf"]
["Balder Blend 2010","Vinterforhold",{"$f":"Oljedatabase[[#This Row],[Oljetype]]&\"-\"&Oljedatabase[[#This Row],[SesongNy]]&\"-\"&Oljedatabase[[#This Row],[Vind (m/s)]]&\"-\"&Oljedatabase[[#This Row],[Tidspunkt (timer)]]","v":"Balder Blend 2010-Vinterforhold-5-12"},{"$f":"Oljedatabase[[#This Row],[Sesong]]","v":"Vinterforhold"},5,5,"12",0.34,2300,"Kjemisk dispergerbar",0.21,0.78,0.02,79,"Ingen eksplosjonsfare",14.1,"Redusert kjemisk dispergerbarhet","Nei",1.19,"2010-11-09T01:00:00",864,"Vest-Agder til Hordaland",32,6629664,-217792,"Balder Blend 2010 Forvitringsrapport.pdf"]
["Brage 2013","Sommerforhold",{"$f":"Oljedatabase[[#This Row],[Oljetype]]&\"-\"&Oljedatabase[[#This Row],[SesongNy]]&\"-\"&Oljedatabase[[#This Row],[Vind (m/s)]]&\"-\"&Oljedatabase[[#This Row],[Tidspunkt (timer)]]","v":"Brage 2013-Sommerforhold-2-72"},{"$f":"Oljedatabase[[#This Row],[Sesong]]","v":"Sommerforhold"},15,2,"72",0.73,2310,"Redusert kjemisk dispergerbarhet",0.34,0.65,0,92,"Ingen eksplosjonsfare",25.5,"Redusert kjemisk dispergerbarhet","Nei",2.52,"2013-08-13T02:00:00",826,"Vestlandet",39,6771495,-153295,"Brage 2013 Forvitringsrapport.pdf"]
["Brage 2013","Sommerforhold",{"$f":"Oljedatabase[[#This Row],[Oljetype]]&\"-\"&Oljedatabase[[#This Row],[SesongNy]]&\"-\"&Oljedatabase[[#This Row],[Vind (m/s)]]&\"-\"&Oljedatabase[[#This Row],[Tidspunkt (timer)]]","v":"Brage 2013-Sommerforhold-10-3"},{"$f":"Oljedatabase[[#This Row],[Sesong]]","v":"Sommerforhold"},15,10,"3",0.61,1320,"Kjemisk dispergerbar",0.28999999999999998,0.61,0.08,78,"Ingen eksplosjonsfare",21.8,"Redusert kjemisk dispergerbarhet","Nei",1.6,"2013-08-13T02:00:00",826,"Vestlandet",39,6771495,-153295,"Brage 2013 Forvitringsrapport.pdf"]
["Brage 2013","Sommerforhold",{"$f":"Oljedatabase[[#This Row],[Oljetype]]&\"-\"&Oljedatabase[[#This Row],[SesongNy]]&\"-\"&Oljedatabase[[#This Row],[Vind (m/s)]]&\"-\"&Oljedatabase[[#This Row],[Tidspunkt (timer)]]","v":"Brage 2013-Sommerforhold-10-6"},{"$f":"Oljedatabase[[#This Row],[Sesong]]","v":"Sommerforhold"},15,10,"6",0.75,2000,"Redusert kjemisk dispergerbarhet",0.31,0.54,0.14000000000000001,86,"Ingen eksplosjonsfare",24,"Redusert kjemisk dispergerbarhet","Nei",2.21,"2013-08-13T02:00:00",826,"Vestlandet",39,6771495,-153295,"Brage 2013 Forvitringsrapport.pdf"]
["Bream 2011","Sommerforhold",{"$f":"Oljedatabase[[#This Row],[Oljetype]]&\"-\"&Oljedatabase[[#This Row],[SesongNy]]&\"-\"&Oljedatabase[[#This Row],[Vind (m/s)]]&\"-\"&Oljedatabase[[#This Row],[Tidspunkt (timer)]]","v":"Bream 2011-Sommerforhold-2-9"},{"$f":"Oljedatabase[[#This Row],[Sesong]]","v":"Sommerforhold"},15,2,"9",0.11,2590,"Kjemisk dispergerbar",0.16,0.83,0,77,"Ingen eksplosjonsfare",24.3,"Redusert kjemisk dispergerbarhet","Nei",0.93,"2011-05-24T02:00:00",857,"Vest-Agder til Hordaland",33,6502083,-149887,"Bream 2011 Forvitringsrapport.pdf"]
["Brage 2013","Sommerforhold",{"$f":"Oljedatabase[[#This Row],[Oljetype]]&\"-\"&Oljedatabase[[#This Row],[SesongNy]]&\"-\"&Oljedatabase[[#This Row],[Vind (m/s)]]&\"-\"&Oljedatabase[[#This Row],[Tidspunkt (timer)]]","v":"Brage 2013-Sommerforhold-2-24"},{"$f":"Oljedatabase[[#This Row],[Sesong]]","v":"Sommerforhold"},15,2,"24",0.46,1090,"Kjemisk dispergerbar",0.3,0.69,0,80,"Ingen eksplosjonsfare",22.2,"Redusert kjemisk dispergerbarhet","Nei",1.31,"2013-08-13T02:00:00",826,"Vestlandet",39,6771495,-153295,"Brage 2013 Forvitringsrapport.pdf"]
["Brage 2013","Sommerforhold",{"$f":"Oljedatabase[[#This Row],[Oljetype]]&\"-\"&Oljedatabase[[#This Row],[SesongNy]]&\"-\"&Oljedatabase[[#This Row],[Vind (m/s)]]&\"-\"&Oljedatabase[[#This Row],[Tidspunkt (timer)]]","v":"Brage 2013-Sommerforhold-2-48"},{"$f":"Oljedatabase[[#This Row],[Sesong]]","v":"Sommerforhold"},15,2,"48",0.65,1830,"Redusert kjemisk dispergerbarhet",0.32,0.67,0,88,"Ingen eksplosjonsfare",24.3,"Redusert kjemisk dispergerbarhet","Nei",1.96,"2013-08-13T02:00:00",826,"Vestlandet",39,6771495,-153295,"Brage 2013 Forvitringsrapport.pdf"]
["Brage 2013","Sommerforhold",{"$f":"Oljedatabase[[#This Row],[Oljetype]]&\"-\"&Oljedatabase[[#This Row],[SesongNy]]&\"-\"&Oljedatabase[[#This Row],[Vind (m/s)]]&\"-\"&Oljedatabase[[#This Row],[Tidspunkt (timer)]]","v":"Brage 2013-Sommerforhold-5-48"},{"$f":"Oljedatabase[[#This Row],[Sesong]]","v":"Sommerforhold"},15,5,"48",0.79,2890,"Redusert kjemisk dispergerbarhet",0.35,0.59,0.05,98,"Ingen eksplosjonsfare",26.9,"Redusert kjemisk dispergerbarhet","Nei",2.94,"2013-08-13T02:00:00",826,"Vestlandet",39,6771495,-153295,"Brage 2013 Forvitringsrapport.pdf"]
["Brage 2013","Sommerforhold",{"$f":"Oljedatabase[[#This Row],[Oljetype]]&\"-\"&Oljedatabase[[#This Row],[SesongNy]]&\"-\"&Oljedatabase[[#This Row],[Vind (m/s)]]&\"-\"&Oljedatabase[[#This Row],[Tidspunkt (timer)]]","v":"Brage 2013-Sommerforhold-5-3"},{"$f":"Oljedatabase[[#This Row],[Sesong]]","v":"Sommerforhold"},15,5,"3",0.28999999999999998,489,"Kjemisk dispergerbar",0.25,0.73,0,65,"Ingen eksplosjonsfare",18.399999999999999,"Kjemisk dispergerbar","Nei",1.04,"2013-08-13T02:00:00",826,"Vestlandet",39,6771495,-153295,"Brage 2013 Forvitringsrapport.pdf"]
["Bream 2011","Sommerforhold",{"$f":"Oljedatabase[[#This Row],[Oljetype]]&\"-\"&Oljedatabase[[#This Row],[SesongNy]]&\"-\"&Oljedatabase[[#This Row],[Vind (m/s)]]&\"-\"&Oljedatabase[[#This Row],[Tidspunkt (timer)]]","v":"Bream 2011-Sommerforhold-10-3"},{"$f":"Oljedatabase[[#This Row],[Sesong]]","v":"Sommerforhold"},15,10,"3",0.38,3830,"Kjemisk dispergerbar",0.15,0.81,0.02,84,"Ingen eksplosjonsfare",24.9,"Redusert kjemisk dispergerbarhet","Nei",1.33,"2011-05-24T02:00:00",857,"Vest-Agder til Hordaland",33,6502083,-149887,"Bream 2011 Forvitringsrapport.pdf"]
["Brage 2013","Sommerforhold",{"$f":"Oljedatabase[[#This Row],[Oljetype]]&\"-\"&Oljedatabase[[#This Row],[SesongNy]]&\"-\"&Oljedatabase[[#This Row],[Vind (m/s)]]&\"-\"&Oljedatabase[[#This Row],[Tidspunkt (timer)]]","v":"Brage 2013-Sommerforhold-5-12"},{"$f":"Oljedatabase[[#This Row],[Sesong]]","v":"Sommerforhold"},15,5,"12",0.65,1570,"Redusert kjemisk dispergerbarhet",0.3,0.67,0.01,82,"Ingen eksplosjonsfare",22.9,"Redusert kjemisk dispergerbarhet","Nei",1.96,"2013-08-13T02:00:00",826,"Vestlandet",39,6771495,-153295,"Brage 2013 Forvitringsrapport.pdf"]
["Brage 2013","Sommerforhold",{"$f":"Oljedatabase[[#This Row],[Oljetype]]&\"-\"&Oljedatabase[[#This Row],[SesongNy]]&\"-\"&Oljedatabase[[#This Row],[Vind (m/s)]]&\"-\"&Oljedatabase[[#This Row],[Tidspunkt (timer)]]","v":"Brage 2013-Sommerforhold-10-24"},{"$f":"Oljedatabase[[#This Row],[Sesong]]","v":"Sommerforhold"},15,10,"24",0.8,3250,"Redusert kjemisk dispergerbarhet",0.35,0.3,0.34,102,"Ingen eksplosjonsfare",28,"Redusert kjemisk dispergerbarhet","Nei",1.52,"2013-08-13T02:00:00",826,"Vestlandet",39,6771495,-153295,"Brage 2013 Forvitringsrapport.pdf"]
["Bream 2011","Vinterforhold",{"$f":"Oljedatabase[[#This Row],[Oljetype]]&\"-\"&Oljedatabase[[#This Row],[SesongNy]]&\"-\"&Oljedatabase[[#This Row],[Vind (m/s)]]&\"-\"&Oljedatabase[[#This Row],[Tidspunkt (timer)]]","v":"Bream 2011-Vinterforhold-5-1"},{"$f":"Oljedatabase[[#This Row],[Sesong]]","v":"Vinterforhold"},5,5,"1",0.04,2370,"Kjemisk dispergerbar",0.06,0.93,0,42,"Eksplosjonsfare ved tanking",20.9,"Lav/dårlig dispergerbarhet","Nei",0.98,"2011-05-24T02:00:00",857,"Vest-Agder til Hordaland",33,6502083,-149887,"Bream 2011 Forvitringsrapport.pdf"]
["Brage 2013","Vinterforhold",{"$f":"Oljedatabase[[#This Row],[Oljetype]]&\"-\"&Oljedatabase[[#This Row],[SesongNy]]&\"-\"&Oljedatabase[[#This Row],[Vind (m/s)]]&\"-\"&Oljedatabase[[#This Row],[Tidspunkt (timer)]]","v":"Brage 2013-Vinterforhold-2-48"},{"$f":"Oljedatabase[[#This Row],[Sesong]]","v":"Vinterforhold"},5,2,"48",0.65,2600,"Redusert kjemisk dispergerbarhet",0.3,0.69,0,79,"Ingen eksplosjonsfare",22,"Lav/dårlig dispergerbarhet","Nei",2.0299999999999998,"2013-08-13T02:00:00",826,"Vestlandet",39,6771495,-153295,"Brage 2013 Forvitringsrapport.pdf"]
["Bream 2011","Sommerforhold",{"$f":"Oljedatabase[[#This Row],[Oljetype]]&\"-\"&Oljedatabase[[#This Row],[SesongNy]]&\"-\"&Oljedatabase[[#This Row],[Vind (m/s)]]&\"-\"&Oljedatabase[[#This Row],[Tidspunkt (timer)]]","v":"Bream 2011-Sommerforhold-2-24"},{"$f":"Oljedatabase[[#This Row],[Sesong]]","v":"Sommerforhold"},15,2,"24",0.25,4270,"Redusert kjemisk dispergerbarhet",0.21,0.79,0,95,"Ingen eksplosjonsfare",25.9,"Redusert kjemisk dispergerbarhet","Nei",1.06,"2011-05-24T02:00:00",857,"Vest-Agder til Hordaland",33,6502083,-149887,"Bream 2011 Forvitringsrapport.pdf"]
["Brage 2013","Vinterforhold",{"$f":"Oljedatabase[[#This Row],[Oljetype]]&\"-\"&Oljedatabase[[#This Row],[SesongNy]]&\"-\"&Oljedatabase[[#This Row],[Vind (m/s)]]&\"-\"&Oljedatabase[[#This Row],[Tidspunkt (timer)]]","v":"Brage 2013-Vinterforhold-15-1"},{"$f":"Oljedatabase[[#This Row],[Sesong]]","v":"Vinterforhold"},5,15,"1",0.51,1310,"Kjemisk dispergerbar",0.24,0.6,0.14000000000000001,64,"Ingen eksplosjonsfare",18.2,"Redusert kjemisk dispergerbarhet","Nei",1.25,"2013-08-13T02:00:00",826,"Vestlandet",39,6771495,-153295,"Brage 2013 Forvitringsrapport.pdf"]
["Brage 2013","Sommerforhold",{"$f":"Oljedatabase[[#This Row],[Oljetype]]&\"-\"&Oljedatabase[[#This Row],[SesongNy]]&\"-\"&Oljedatabase[[#This Row],[Vind (m/s)]]&\"-\"&Oljedatabase[[#This Row],[Tidspunkt (timer)]]","v":"Brage 2013-Sommerforhold-10-96"},{"$f":"Oljedatabase[[#This Row],[Sesong]]","v":"Sommerforhold"},15,10,"96",0.8,5190,"Redusert kjemisk dispergerbarhet",0.38,0.04,0.56999999999999995,120,"Ingen eksplosjonsfare",32.4,"Lav/dårlig dispergerbarhet","Nei",0.23,"2013-08-13T02:00:00",826,"Vestlandet",39,6771495,-153295,"Brage 2013 Forvitringsrapport.pdf"]
["Balder Blend 2010","Vinterforhold",{"$f":"Oljedatabase[[#This Row],[Oljetype]]&\"-\"&Oljedatabase[[#This Row],[SesongNy]]&\"-\"&Oljedatabase[[#This Row],[Vind (m/s)]]&\"-\"&Oljedatabase[[#This Row],[Tidspunkt (timer)]]","v":"Balder Blend 2010-Vinterforhold-15-72"},{"$f":"Oljedatabase[[#This Row],[Sesong]]","v":"Vinterforhold"},5,15,"72",0.64,25000,"Lav/dårlig kjemisk dispergerbarhet",0.26,0.01,0.74,140,"Ingen eksplosjonsfare",20.7,"Lav/dårlig dispergerbarhet","Ja",0.02,"2010-11-09T01:00:00",864,"Vest-Agder til Hordaland",32,6629664,-217792,"Balder Blend 2010 Forvitringsrapport.pdf"]
["Brage 2013","Vinterforhold",{"$f":"Oljedatabase[[#This Row],[Oljetype]]&\"-\"&Oljedatabase[[#This Row],[SesongNy]]&\"-\"&Oljedatabase[[#This Row],[Vind (m/s)]]&\"-\"&Oljedatabase[[#This Row],[Tidspunkt (timer)]]","v":"Brage 2013-Vinterforhold-2-2"},{"$f":"Oljedatabase[[#This Row],[Sesong]]","v":"Vinterforhold"},5,2,"2",0.06,177,"Kjemisk dispergerbar",0.17,0.82,0,41,"Eksplosjonsfare ved tanking",11.7,"Redusert kjemisk dispergerbarhet","Nei",0.88,"2013-08-13T02:00:00",826,"Vestlandet",39,6771495,-153295,"Brage 2013 Forvitringsrapport.pdf"]
["Brage 2013","Sommerforhold",{"$f":"Oljedatabase[[#This Row],[Oljetype]]&\"-\"&Oljedatabase[[#This Row],[SesongNy]]&\"-\"&Oljedatabase[[#This Row],[Vind (m/s)]]&\"-\"&Oljedatabase[[#This Row],[Tidspunkt (timer)]]","v":"Brage 2013-Sommerforhold-15-72"},{"$f":"Oljedatabase[[#This Row],[Sesong]]","v":"Sommerforhold"},15,15,"72",0.8,6080,"Redusert kjemisk dispergerbarhet",0.34,0,0.65,126,"Ingen eksplosjonsfare",33.9,"Lav/dårlig dispergerbarhet","Nei",0,"2013-08-13T02:00:00",826,"Vestlandet",39,6771495,-153295,"Brage 2013 Forvitringsrapport.pdf"]
["Balder Blend 2010","Vinterforhold",{"$f":"Oljedatabase[[#This Row],[Oljetype]]&\"-\"&Oljedatabase[[#This Row],[SesongNy]]&\"-\"&Oljedatabase[[#This Row],[Vind (m/s)]]&\"-\"&Oljedatabase[[#This Row],[Tidspunkt (timer)]]","v":"Balder Blend 2010-Vinterforhold-15-120"},{"$f":"Oljedatabase[[#This Row],[Sesong]]","v":"Vinterforhold"},5,15,"120",0.64,33000,"Lav/dårlig kjemisk dispergerbarhet",0.26,0,0.74,151,"Ingen eksplosjonsfare",21.8,"Lav/dårlig dispergerbarhet","Ja",0,"2010-11-09T01:00:00",864,"Vest-Agder til Hordaland",32,6629664,-217792,"Balder Blend 2010 Forvitringsrapport.pdf"]
["Bream 2011","Sommerforhold",{"$f":"Oljedatabase[[#This Row],[Oljetype]]&\"-\"&Oljedatabase[[#This Row],[SesongNy]]&\"-\"&Oljedatabase[[#This Row],[Vind (m/s)]]&\"-\"&Oljedatabase[[#This Row],[Tidspunkt (timer)]]","v":"Bream 2011-Sommerforhold-2-3"},{"$f":"Oljedatabase[[#This Row],[Sesong]]","v":"Sommerforhold"},15,2,"3",0.03,1510,"Kjemisk dispergerbar",0.11,0.88,0,56,"Eksplosjonsfare ved tanking",22.3,"Redusert kjemisk dispergerbarhet","Nei",0.92,"2011-05-24T02:00:00",857,"Vest-Agder til Hordaland",33,6502083,-149887,"Bream 2011 Forvitringsrapport.pdf"]
["Brage 2013","Sommerforhold",{"$f":"Oljedatabase[[#This Row],[Oljetype]]&\"-\"&Oljedatabase[[#This Row],[SesongNy]]&\"-\"&Oljedatabase[[#This Row],[Vind (m/s)]]&\"-\"&Oljedatabase[[#This Row],[Tidspunkt (timer)]]","v":"Brage 2013-Sommerforhold-2-9"},{"$f":"Oljedatabase[[#This Row],[Sesong]]","v":"Sommerforhold"},15,2,"9",0.23,458,"Kjemisk dispergerbar",0.26,0.73,0,68,"Ingen eksplosjonsfare",19.2,"Kjemisk dispergerbar","Nei",0.96,"2013-08-13T02:00:00",826,"Vestlandet",39,6771495,-153295,"Brage 2013 Forvitringsrapport.pdf"]
["Brage 2013","Vinterforhold",{"$f":"Oljedatabase[[#This Row],[Oljetype]]&\"-\"&Oljedatabase[[#This Row],[SesongNy]]&\"-\"&Oljedatabase[[#This Row],[Vind (m/s)]]&\"-\"&Oljedatabase[[#This Row],[Tidspunkt (timer)]]","v":"Brage 2013-Vinterforhold-15-6"},{"$f":"Oljedatabase[[#This Row],[Sesong]]","v":"Vinterforhold"},5,15,"6",0.79,3750,"Redusert kjemisk dispergerbarhet",0.28999999999999998,0.27,0.42,85,"Ingen eksplosjonsfare",23.5,"Lav/dårlig dispergerbarhet","Nei",1.35,"2013-08-13T02:00:00",826,"Vestlandet",39,6771495,-153295,"Brage 2013 Forvitringsrapport.pdf"]
["Brage 2013","Sommerforhold",{"$f":"Oljedatabase[[#This Row],[Oljetype]]&\"-\"&Oljedatabase[[#This Row],[SesongNy]]&\"-\"&Oljedatabase[[#This Row],[Vind (m/s)]]&\"-\"&Oljedatabase[[#This Row],[Tidspunkt (timer)]]","v":"Brage 2013-Sommerforhold-5-24"},{"$f":"Oljedatabase[[#This Row],[Sesong]]","v":"Sommerforhold"},15,5,"24",0.77,2270,"Redusert kjemisk dispergerbarhet",0.33,0.63,0.03,90,"Ingen eksplosjonsfare",24.9,"Redusert kjemisk dispergerbarhet","Nei",2.81,"2013-08-13T02:00:00",826,"Vestlandet",39,6771495,-153295,"Brage 2013 Forvitringsrapport.pdf"]
["Brage 2013","Vinterforhold",{"$f":"Oljedatabase[[#This Row],[Oljetype]]&\"-\"&Oljedatabase[[#This Row],[SesongNy]]&\"-\"&Oljedatabase[[#This Row],[Vind (m/s)]]&\"-\"&Oljedatabase[[#This Row],[Tidspunkt (timer)]]","v":"Brage 2013-Vinterforhold-15-24"},{"$f":"Oljedatabase[[#This Row],[Sesong]]","v":"Vinterforhold"},5,15,"24",0.8,5900,"Redusert kjemisk dispergerbarhet",0.31,0.02,0.65,99,"Ingen eksplosjonsfare",27.3,"Lav/dårlig dispergerbarhet","Nei",0.13,"2013-08-13T02:00:00",826,"Vestlandet",39,6771495,-153295,"Brage 2013 Forvitringsrapport.pdf"]
["Brage 2013","Vinterforhold",{"$f":"Oljedatabase[[#This Row],[Oljetype]]&\"-\"&Oljedatabase[[#This Row],[SesongNy]]&\"-\"&Oljedatabase[[#This Row],[Vind (m/s)]]&\"-\"&Oljedatabase[[#This Row],[Tidspunkt (timer)]]","v":"Brage 2013-Vinterforhold-15-3"},{"$f":"Oljedatabase[[#This Row],[Sesong]]","v":"Vinterforhold"},5,15,"3",0.76,2830,"Redusert kjemisk dispergerbarhet",0.28000000000000003,0.42,0.28999999999999998,77,"Ingen eksplosjonsfare",21.6,"Lav/dårlig dispergerbarhet","Nei",1.77,"2013-08-13T02:00:00",826,"Vestlandet",39,6771495,-153295,"Brage 2013 Forvitringsrapport.pdf"]
["Brage 2013","Sommerforhold",{"$f":"Oljedatabase[[#This Row],[Oljetype]]&\"-\"&Oljedatabase[[#This Row],[SesongNy]]&\"-\"&Oljedatabase[[#This Row],[Vind (m/s)]]&\"-\"&Oljedatabase[[#This Row],[Tidspunkt (timer)]]","v":"Brage 2013-Sommerforhold-2-1"},{"$f":"Oljedatabase[[#This Row],[Sesong]]","v":"Sommerforhold"},15,2,"1",0.05,87,"Kjemisk dispergerbar",0.15,0.84,0,36,"Eksplosjonsfare ved tanking",10.199999999999999,"Kjemisk dispergerbar","Nei",0.89,"2013-08-13T02:00:00",826,"Vestlandet",39,6771495,-153295,"Brage 2013 Forvitringsrapport.pdf"]
["Brage 2013","Sommerforhold",{"$f":"Oljedatabase[[#This Row],[Oljetype]]&\"-\"&Oljedatabase[[#This Row],[SesongNy]]&\"-\"&Oljedatabase[[#This Row],[Vind (m/s)]]&\"-\"&Oljedatabase[[#This Row],[Tidspunkt (timer)]]","v":"Brage 2013-Sommerforhold-2-6"},{"$f":"Oljedatabase[[#This Row],[Sesong]]","v":"Sommerforhold"},15,2,"6",0.17,327,"Kjemisk dispergerbar",0.25,0.74,0,63,"Ingen eksplosjonsfare",17.899999999999999,"Kjemisk dispergerbar","Nei",0.9,"2013-08-13T02:00:00",826,"Vestlandet",39,6771495,-153295,"Brage 2013 Forvitringsrapport.pdf"]
["Brage 2013","Vinterforhold",{"$f":"Oljedatabase[[#This Row],[Oljetype]]&\"-\"&Oljedatabase[[#This Row],[SesongNy]]&\"-\"&Oljedatabase[[#This Row],[Vind (m/s)]]&\"-\"&Oljedatabase[[#This Row],[Tidspunkt (timer)]]","v":"Brage 2013-Vinterforhold-15-12"},{"$f":"Oljedatabase[[#This Row],[Sesong]]","v":"Vinterforhold"},5,15,"12",0.8,4730,"Redusert kjemisk dispergerbarhet",0.31,0.12,0.56000000000000005,92,"Ingen eksplosjonsfare",25.5,"Lav/dårlig dispergerbarhet","Nei",0.61,"2013-08-13T02:00:00",826,"Vestlandet",39,6771495,-153295,"Brage 2013 Forvitringsrapport.pdf"]
["Brage 2013","Vinterforhold",{"$f":"Oljedatabase[[#This Row],[Oljetype]]&\"-\"&Oljedatabase[[#This Row],[SesongNy]]&\"-\"&Oljedatabase[[#This Row],[Vind (m/s)]]&\"-\"&Oljedatabase[[#This Row],[Tidspunkt (timer)]]","v":"Brage 2013-Vinterforhold-5-1"},{"$f":"Oljedatabase[[#This Row],[Sesong]]","v":"Vinterforhold"},5,5,"1",0.11,220,"Kjemisk dispergerbar",0.17,0.82,0,42,"Eksplosjonsfare ved tanking",11.9,"Redusert kjemisk dispergerbarhet","Nei",0.92,"2013-08-13T02:00:00",826,"Vestlandet",39,6771495,-153295,"Brage 2013 Forvitringsrapport.pdf"]
["Brage 2013","Vinterforhold",{"$f":"Oljedatabase[[#This Row],[Oljetype]]&\"-\"&Oljedatabase[[#This Row],[SesongNy]]&\"-\"&Oljedatabase[[#This Row],[Vind (m/s)]]&\"-\"&Oljedatabase[[#This Row],[Tidspunkt (timer)]]","v":"Brage 2013-Vinterforhold-5-96"},{"$f":"Oljedatabase[[#This Row],[Sesong]]","v":"Vinterforhold"},5,5,"96",0.8,5280,"Redusert kjemisk dispergerbarhet",0.34,0.56999999999999995,7.0000000000000007E-2,96,"Ingen eksplosjonsfare",26.4,"Lav/dårlig dispergerbarhet","Nei",2.86,"2013-08-13T02:00:00",826,"Vestlandet",39,6771495,-153295,"Brage 2013 Forvitringsrapport.pdf"]
["Bream 2011","Sommerforhold",{"$f":"Oljedatabase[[#This Row],[Oljetype]]&\"-\"&Oljedatabase[[#This Row],[SesongNy]]&\"-\"&Oljedatabase[[#This Row],[Vind (m/s)]]&\"-\"&Oljedatabase[[#This Row],[Tidspunkt (timer)]]","v":"Bream 2011-Sommerforhold-2-72"},{"$f":"Oljedatabase[[#This Row],[Sesong]]","v":"Sommerforhold"},15,2,"72",0.53,7780,"Redusert kjemisk dispergerbarhet",0.25,0.74,0,113,"Ingen eksplosjonsfare",27.5,"Redusert kjemisk dispergerbarhet","Nei",1.58,"2011-05-24T02:00:00",857,"Vest-Agder til Hordaland",33,6502083,-149887,"Bream 2011 Forvitringsrapport.pdf"]
["Brage 2013","Vinterforhold",{"$f":"Oljedatabase[[#This Row],[Oljetype]]&\"-\"&Oljedatabase[[#This Row],[SesongNy]]&\"-\"&Oljedatabase[[#This Row],[Vind (m/s)]]&\"-\"&Oljedatabase[[#This Row],[Tidspunkt (timer)]]","v":"Brage 2013-Vinterforhold-2-72"},{"$f":"Oljedatabase[[#This Row],[Sesong]]","v":"Vinterforhold"},5,2,"72",0.73,3320,"Redusert kjemisk dispergerbarhet",0.31,0.68,0,83,"Ingen eksplosjonsfare",23.1,"Lav/dårlig dispergerbarhet","Nei",2.61,"2013-08-13T02:00:00",826,"Vestlandet",39,6771495,-153295,"Brage 2013 Forvitringsrapport.pdf"]
["Bream 2011","Vinterforhold",{"$f":"Oljedatabase[[#This Row],[Oljetype]]&\"-\"&Oljedatabase[[#This Row],[SesongNy]]&\"-\"&Oljedatabase[[#This Row],[Vind (m/s)]]&\"-\"&Oljedatabase[[#This Row],[Tidspunkt (timer)]]","v":"Bream 2011-Vinterforhold-2-24"},{"$f":"Oljedatabase[[#This Row],[Sesong]]","v":"Vinterforhold"},5,2,"24",0.18,7600,"Redusert kjemisk dispergerbarhet",0.15,0.84,0,84,"Ingen eksplosjonsfare",24.9,"Lav/dårlig dispergerbarhet","Nei",1.03,"2011-05-24T02:00:00",857,"Vest-Agder til Hordaland",33,6502083,-149887,"Bream 2011 Forvitringsrapport.pdf"]
["Brage 2013","Vinterforhold",{"$f":"Oljedatabase[[#This Row],[Oljetype]]&\"-\"&Oljedatabase[[#This Row],[SesongNy]]&\"-\"&Oljedatabase[[#This Row],[Vind (m/s)]]&\"-\"&Oljedatabase[[#This Row],[Tidspunkt (timer)]]","v":"Brage 2013-Vinterforhold-10-72"},{"$f":"Oljedatabase[[#This Row],[Sesong]]","v":"Vinterforhold"},5,10,"72",0.8,6780,"Redusert kjemisk dispergerbarhet",0.34,0.12,0.52,104,"Ingen eksplosjonsfare",28.5,"Lav/dårlig dispergerbarhet","Nei",0.63,"2013-08-13T02:00:00",826,"Vestlandet",39,6771495,-153295,"Brage 2013 Forvitringsrapport.pdf"]
["Brage 2013","Vinterforhold",{"$f":"Oljedatabase[[#This Row],[Oljetype]]&\"-\"&Oljedatabase[[#This Row],[SesongNy]]&\"-\"&Oljedatabase[[#This Row],[Vind (m/s)]]&\"-\"&Oljedatabase[[#This Row],[Tidspunkt (timer)]]","v":"Brage 2013-Vinterforhold-10-48"},{"$f":"Oljedatabase[[#This Row],[Sesong]]","v":"Vinterforhold"},5,10,"48",0.8,5960,"Redusert kjemisk dispergerbarhet",0.34,0.2,0.45,100,"Ingen eksplosjonsfare",27.4,"Lav/dårlig dispergerbarhet","Nei",1.04,"2013-08-13T02:00:00",826,"Vestlandet",39,6771495,-153295,"Brage 2013 Forvitringsrapport.pdf"]
["Brage 2013","Vinterforhold",{"$f":"Oljedatabase[[#This Row],[Oljetype]]&\"-\"&Oljedatabase[[#This Row],[SesongNy]]&\"-\"&Oljedatabase[[#This Row],[Vind (m/s)]]&\"-\"&Oljedatabase[[#This Row],[Tidspunkt (timer)]]","v":"Brage 2013-Vinterforhold-5-9"},{"$f":"Oljedatabase[[#This Row],[Sesong]]","v":"Vinterforhold"},5,5,"9",0.56999999999999995,1780,"Redusert kjemisk dispergerbarhet",0.27,0.71,0.01,70,"Ingen eksplosjonsfare",19.8,"Redusert kjemisk dispergerbarhet","Nei",1.7,"2013-08-13T02:00:00",826,"Vestlandet",39,6771495,-153295,"Brage 2013 Forvitringsrapport.pdf"]
["Bream 2011","Sommerforhold",{"$f":"Oljedatabase[[#This Row],[Oljetype]]&\"-\"&Oljedatabase[[#This Row],[SesongNy]]&\"-\"&Oljedatabase[[#This Row],[Vind (m/s)]]&\"-\"&Oljedatabase[[#This Row],[Tidspunkt (timer)]]","v":"Bream 2011-Sommerforhold-10-96"},{"$f":"Oljedatabase[[#This Row],[Sesong]]","v":"Sommerforhold"},15,10,"96",0.74,19400,"Lav/dårlig kjemisk dispergerbarhet",0.28000000000000003,0.18,0.53,154,"Ingen eksplosjonsfare",30.7,"Lav/dårlig dispergerbarhet","Ja",0.73,"2011-05-24T02:00:00",857,"Vest-Agder til Hordaland",33,6502083,-149887,"Bream 2011 Forvitringsrapport.pdf"]
["Balder Blend 2010","Vinterforhold",{"$f":"Oljedatabase[[#This Row],[Oljetype]]&\"-\"&Oljedatabase[[#This Row],[SesongNy]]&\"-\"&Oljedatabase[[#This Row],[Vind (m/s)]]&\"-\"&Oljedatabase[[#This Row],[Tidspunkt (timer)]]","v":"Balder Blend 2010-Vinterforhold-15-96"},{"$f":"Oljedatabase[[#This Row],[Sesong]]","v":"Vinterforhold"},5,15,"96",0.64,29000,"Lav/dårlig kjemisk dispergerbarhet",0.26,0,0.74,146,"Ingen eksplosjonsfare",21.3,"Lav/dårlig dispergerbarhet","Ja",0,"2010-11-09T01:00:00",864,"Vest-Agder til Hordaland",32,6629664,-217792,"Balder Blend 2010 Forvitringsrapport.pdf"]
["Brage 2013","Vinterforhold",{"$f":"Oljedatabase[[#This Row],[Oljetype]]&\"-\"&Oljedatabase[[#This Row],[SesongNy]]&\"-\"&Oljedatabase[[#This Row],[Vind (m/s)]]&\"-\"&Oljedatabase[[#This Row],[Tidspunkt (timer)]]","v":"Brage 2013-Vinterforhold-15-96"},{"$f":"Oljedatabase[[#This Row],[Sesong]]","v":"Vinterforhold"},5,15,"96",0.8,9380,"Redusert kjemisk dispergerbarhet",0.31,0,0.68,115,"Ingen eksplosjonsfare",31.2,"Lav/dårlig dispergerbarhet","Nei",0,"2013-08-13T02:00:00",826,"Vestlandet",39,6771495,-153295,"Brage 2013 Forvitringsrapport.pdf"]
["Bream 2011","Vinterforhold",{"$f":"Oljedatabase[[#This Row],[Oljetype]]&\"-\"&Oljedatabase[[#This Row],[SesongNy]]&\"-\"&Oljedatabase[[#This Row],[Vind (m/s)]]&\"-\"&Oljedatabase[[#This Row],[Tidspunkt (timer)]]","v":"Bream 2011-Vinterforhold-2-120"},{"$f":"Oljedatabase[[#This Row],[Sesong]]","v":"Vinterforhold"},5,2,"120",0.52,17600,"Lav/dårlig kjemisk dispergerbarhet",0.2,0.79,0,108,"Ingen eksplosjonsfare",27,"Lav/dårlig dispergerbarhet","Ja",1.67,"2011-05-24T02:00:00",857,"Vest-Agder til Hordaland",33,6502083,-149887,"Bream 2011 Forvitringsrapport.pdf"]
["Bream 2011","Sommerforhold",{"$f":"Oljedatabase[[#This Row],[Oljetype]]&\"-\"&Oljedatabase[[#This Row],[SesongNy]]&\"-\"&Oljedatabase[[#This Row],[Vind (m/s)]]&\"-\"&Oljedatabase[[#This Row],[Tidspunkt (timer)]]","v":"Bream 2011-Sommerforhold-10-120"},{"$f":"Oljedatabase[[#This Row],[Sesong]]","v":"Sommerforhold"},15,10,"120",0.74,21300,"Lav/dårlig kjemisk dispergerbarhet",0.28000000000000003,0.13,0.56999999999999995,159,"Ingen eksplosjonsfare",31.1,"Lav/dårlig dispergerbarhet","Ja",0.53,"2011-05-24T02:00:00",857,"Vest-Agder til Hordaland",33,6502083,-149887,"Bream 2011 Forvitringsrapport.pdf"]
["Brage 2013","Vinterforhold",{"$f":"Oljedatabase[[#This Row],[Oljetype]]&\"-\"&Oljedatabase[[#This Row],[SesongNy]]&\"-\"&Oljedatabase[[#This Row],[Vind (m/s)]]&\"-\"&Oljedatabase[[#This Row],[Tidspunkt (timer)]]","v":"Brage 2013-Vinterforhold-5-120"},{"$f":"Oljedatabase[[#This Row],[Sesong]]","v":"Vinterforhold"},5,5,"120",0.8,5660,"Redusert kjemisk dispergerbarhet",0.35,0.55000000000000004,0.09,98,"Ingen eksplosjonsfare",27,"Lav/dårlig dispergerbarhet","Nei",2.76,"2013-08-13T02:00:00",826,"Vestlandet",39,6771495,-153295,"Brage 2013 Forvitringsrapport.pdf"]
["Brage 2013","Sommerforhold",{"$f":"Oljedatabase[[#This Row],[Oljetype]]&\"-\"&Oljedatabase[[#This Row],[SesongNy]]&\"-\"&Oljedatabase[[#This Row],[Vind (m/s)]]&\"-\"&Oljedatabase[[#This Row],[Tidspunkt (timer)]]","v":"Brage 2013-Sommerforhold-15-24"},{"$f":"Oljedatabase[[#This Row],[Sesong]]","v":"Sommerforhold"},15,15,"24",0.8,4000,"Redusert kjemisk dispergerbarhet",0.34,0.01,0.64,110,"Ingen eksplosjonsfare",29.9,"Redusert kjemisk dispergerbarhet","Nei",0.06,"2013-08-13T02:00:00",826,"Vestlandet",39,6771495,-153295,"Brage 2013 Forvitringsrapport.pdf"]
["Brage 2013","Sommerforhold",{"$f":"Oljedatabase[[#This Row],[Oljetype]]&\"-\"&Oljedatabase[[#This Row],[SesongNy]]&\"-\"&Oljedatabase[[#This Row],[Vind (m/s)]]&\"-\"&Oljedatabase[[#This Row],[Tidspunkt (timer)]]","v":"Brage 2013-Sommerforhold-5-1"},{"$f":"Oljedatabase[[#This Row],[Sesong]]","v":"Sommerforhold"},15,5,"1",0.12,179,"Kjemisk dispergerbar",0.2,0.79,0,49,"Eksplosjonsfare ved tanking",13.9,"Kjemisk dispergerbar","Nei",0.91,"2013-08-13T02:00:00",826,"Vestlandet",39,6771495,-153295,"Brage 2013 Forvitringsrapport.pdf"]
["Bream 2011","Vinterforhold",{"$f":"Oljedatabase[[#This Row],[Oljetype]]&\"-\"&Oljedatabase[[#This Row],[SesongNy]]&\"-\"&Oljedatabase[[#This Row],[Vind (m/s)]]&\"-\"&Oljedatabase[[#This Row],[Tidspunkt (timer)]]","v":"Bream 2011-Vinterforhold-10-72"},{"$f":"Oljedatabase[[#This Row],[Sesong]]","v":"Vinterforhold"},5,10,"72",0.6,30400,"Lav/dårlig kjemisk dispergerbarhet",0.24,0.34,0.41,131,"Ingen eksplosjonsfare",28.9,"Lav/dårlig dispergerbarhet","Ja",0.87,"2011-05-24T02:00:00",857,"Vest-Agder til Hordaland",33,6502083,-149887,"Bream 2011 Forvitringsrapport.pdf"]
["Brage 2013","Vinterforhold",{"$f":"Oljedatabase[[#This Row],[Oljetype]]&\"-\"&Oljedatabase[[#This Row],[SesongNy]]&\"-\"&Oljedatabase[[#This Row],[Vind (m/s)]]&\"-\"&Oljedatabase[[#This Row],[Tidspunkt (timer)]]","v":"Brage 2013-Vinterforhold-5-12"},{"$f":"Oljedatabase[[#This Row],[Sesong]]","v":"Vinterforhold"},5,5,"12",0.65,2200,"Redusert kjemisk dispergerbarhet",0.28000000000000003,0.7,0.01,74,"Ingen eksplosjonsfare",20.6,"Lav/dårlig dispergerbarhet","Nei",2.0299999999999998,"2013-08-13T02:00:00",826,"Vestlandet",39,6771495,-153295,"Brage 2013 Forvitringsrapport.pdf"]
["Bream 2011","Vinterforhold",{"$f":"Oljedatabase[[#This Row],[Oljetype]]&\"-\"&Oljedatabase[[#This Row],[SesongNy]]&\"-\"&Oljedatabase[[#This Row],[Vind (m/s)]]&\"-\"&Oljedatabase[[#This Row],[Tidspunkt (timer)]]","v":"Bream 2011-Vinterforhold-2-3"},{"$f":"Oljedatabase[[#This Row],[Sesong]]","v":"Vinterforhold"},5,2,"3",0.02,2780,"Kjemisk dispergerbar",7.0000000000000007E-2,0.92,0,49,"Eksplosjonsfare ved tanking",21.6,"Lav/dårlig dispergerbarhet","Nei",0.94,"2011-05-24T02:00:00",857,"Vest-Agder til Hordaland",33,6502083,-149887,"Bream 2011 Forvitringsrapport.pdf"]
["Bream 2011","Sommerforhold",{"$f":"Oljedatabase[[#This Row],[Oljetype]]&\"-\"&Oljedatabase[[#This Row],[SesongNy]]&\"-\"&Oljedatabase[[#This Row],[Vind (m/s)]]&\"-\"&Oljedatabase[[#This Row],[Tidspunkt (timer)]]","v":"Bream 2011-Sommerforhold-15-1"},{"$f":"Oljedatabase[[#This Row],[Sesong]]","v":"Sommerforhold"},15,15,"1",0.28999999999999998,2770,"Kjemisk dispergerbar",0.12,0.83,0.03,72,"Ingen eksplosjonsfare",23.9,"Redusert kjemisk dispergerbarhet","Nei",1.19,"2011-05-24T02:00:00",857,"Vest-Agder til Hordaland",33,6502083,-149887,"Bream 2011 Forvitringsrapport.pdf"]
["Brage 2013","Vinterforhold",{"$f":"Oljedatabase[[#This Row],[Oljetype]]&\"-\"&Oljedatabase[[#This Row],[SesongNy]]&\"-\"&Oljedatabase[[#This Row],[Vind (m/s)]]&\"-\"&Oljedatabase[[#This Row],[Tidspunkt (timer)]]","v":"Brage 2013-Vinterforhold-15-72"},{"$f":"Oljedatabase[[#This Row],[Sesong]]","v":"Vinterforhold"},5,15,"72",0.8,8430,"Redusert kjemisk dispergerbarhet",0.31,0,0.68,111,"Ingen eksplosjonsfare",30.3,"Lav/dårlig dispergerbarhet","Nei",0,"2013-08-13T02:00:00",826,"Vestlandet",39,6771495,-153295,"Brage 2013 Forvitringsrapport.pdf"]
["Bream 2011","Sommerforhold",{"$f":"Oljedatabase[[#This Row],[Oljetype]]&\"-\"&Oljedatabase[[#This Row],[SesongNy]]&\"-\"&Oljedatabase[[#This Row],[Vind (m/s)]]&\"-\"&Oljedatabase[[#This Row],[Tidspunkt (timer)]]","v":"Bream 2011-Sommerforhold-5-3"},{"$f":"Oljedatabase[[#This Row],[Sesong]]","v":"Sommerforhold"},15,5,"3",0.14000000000000001,2170,"Kjemisk dispergerbar",0.14000000000000001,0.85,0,68,"Ingen eksplosjonsfare",23.4,"Redusert kjemisk dispergerbarhet","Nei",0.99,"2011-05-24T02:00:00",857,"Vest-Agder til Hordaland",33,6502083,-149887,"Bream 2011 Forvitringsrapport.pdf"]
["Brage 2013","Vinterforhold",{"$f":"Oljedatabase[[#This Row],[Oljetype]]&\"-\"&Oljedatabase[[#This Row],[SesongNy]]&\"-\"&Oljedatabase[[#This Row],[Vind (m/s)]]&\"-\"&Oljedatabase[[#This Row],[Tidspunkt (timer)]]","v":"Brage 2013-Vinterforhold-15-120"},{"$f":"Oljedatabase[[#This Row],[Sesong]]","v":"Vinterforhold"},5,15,"120",0.8,10300,"Redusert kjemisk dispergerbarhet",0.31,0,0.68,118,"Ingen eksplosjonsfare",32,"Lav/dårlig dispergerbarhet","Ja",0,"2013-08-13T02:00:00",826,"Vestlandet",39,6771495,-153295,"Brage 2013 Forvitringsrapport.pdf"]
["Brage 2013","Vinterforhold",{"$f":"Oljedatabase[[#This Row],[Oljetype]]&\"-\"&Oljedatabase[[#This Row],[SesongNy]]&\"-\"&Oljedatabase[[#This Row],[Vind (m/s)]]&\"-\"&Oljedatabase[[#This Row],[Tidspunkt (timer)]]","v":"Brage 2013-Vinterforhold-5-3"},{"$f":"Oljedatabase[[#This Row],[Sesong]]","v":"Vinterforhold"},5,5,"3",0.28000000000000003,650,"Kjemisk dispergerbar",0.23,0.76,0,58,"Eksplosjonsfare ved tanking",16.3,"Redusert kjemisk dispergerbarhet","Nei",1.06,"2013-08-13T02:00:00",826,"Vestlandet",39,6771495,-153295,"Brage 2013 Forvitringsrapport.pdf"]
["Brage 2013","Vinterforhold",{"$f":"Oljedatabase[[#This Row],[Oljetype]]&\"-\"&Oljedatabase[[#This Row],[SesongNy]]&\"-\"&Oljedatabase[[#This Row],[Vind (m/s)]]&\"-\"&Oljedatabase[[#This Row],[Tidspunkt (timer)]]","v":"Brage 2013-Vinterforhold-5-6"},{"$f":"Oljedatabase[[#This Row],[Sesong]]","v":"Vinterforhold"},5,5,"6",0.46,1260,"Kjemisk dispergerbar",0.25,0.73,0.01,66,"Ingen eksplosjonsfare",18.5,"Redusert kjemisk dispergerbarhet","Nei",1.36,"2013-08-13T02:00:00",826,"Vestlandet",39,6771495,-153295,"Brage 2013 Forvitringsrapport.pdf"]
["Brage 2013","Vinterforhold",{"$f":"Oljedatabase[[#This Row],[Oljetype]]&\"-\"&Oljedatabase[[#This Row],[SesongNy]]&\"-\"&Oljedatabase[[#This Row],[Vind (m/s)]]&\"-\"&Oljedatabase[[#This Row],[Tidspunkt (timer)]]","v":"Brage 2013-Vinterforhold-10-120"},{"$f":"Oljedatabase[[#This Row],[Sesong]]","v":"Vinterforhold"},5,10,"120",0.8,8010,"Redusert kjemisk dispergerbarhet",0.35,0.04,0.59,110,"Ingen eksplosjonsfare",29.9,"Lav/dårlig dispergerbarhet","Nei",0.24,"2013-08-13T02:00:00",826,"Vestlandet",39,6771495,-153295,"Brage 2013 Forvitringsrapport.pdf"]
["Brage 2013","Vinterforhold",{"$f":"Oljedatabase[[#This Row],[Oljetype]]&\"-\"&Oljedatabase[[#This Row],[SesongNy]]&\"-\"&Oljedatabase[[#This Row],[Vind (m/s)]]&\"-\"&Oljedatabase[[#This Row],[Tidspunkt (timer)]]","v":"Brage 2013-Vinterforhold-15-2"},{"$f":"Oljedatabase[[#This Row],[Sesong]]","v":"Vinterforhold"},5,15,"2",0.69,2250,"Redusert kjemisk dispergerbarhet",0.27,0.49,0.22,73,"Ingen eksplosjonsfare",20.3,"Lav/dårlig dispergerbarhet","Nei",1.63,"2013-08-13T02:00:00",826,"Vestlandet",39,6771495,-153295,"Brage 2013 Forvitringsrapport.pdf"]
["Bream 2011","Vinterforhold",{"$f":"Oljedatabase[[#This Row],[Oljetype]]&\"-\"&Oljedatabase[[#This Row],[SesongNy]]&\"-\"&Oljedatabase[[#This Row],[Vind (m/s)]]&\"-\"&Oljedatabase[[#This Row],[Tidspunkt (timer)]]","v":"Bream 2011-Vinterforhold-5-2"},{"$f":"Oljedatabase[[#This Row],[Sesong]]","v":"Vinterforhold"},5,5,"2",0.08,3220,"Kjemisk dispergerbar",0.08,0.91,0,53,"Eksplosjonsfare ved tanking",22,"Lav/dårlig dispergerbarhet","Nei",0.99,"2011-05-24T02:00:00",857,"Vest-Agder til Hordaland",33,6502083,-149887,"Bream 2011 Forvitringsrapport.pdf"]
["Brage 2013","Vinterforhold",{"$f":"Oljedatabase[[#This Row],[Oljetype]]&\"-\"&Oljedatabase[[#This Row],[SesongNy]]&\"-\"&Oljedatabase[[#This Row],[Vind (m/s)]]&\"-\"&Oljedatabase[[#This Row],[Tidspunkt (timer)]]","v":"Brage 2013-Vinterforhold-10-96"},{"$f":"Oljedatabase[[#This Row],[Sesong]]","v":"Vinterforhold"},5,10,"96",0.8,7440,"Redusert kjemisk dispergerbarhet",0.35,7.0000000000000007E-2,0.56999999999999995,107,"Ingen eksplosjonsfare",29.3,"Lav/dårlig dispergerbarhet","Nei",0.38,"2013-08-13T02:00:00",826,"Vestlandet",39,6771495,-153295,"Brage 2013 Forvitringsrapport.pdf"]
["Brage 2013","Vinterforhold",{"$f":"Oljedatabase[[#This Row],[Oljetype]]&\"-\"&Oljedatabase[[#This Row],[SesongNy]]&\"-\"&Oljedatabase[[#This Row],[Vind (m/s)]]&\"-\"&Oljedatabase[[#This Row],[Tidspunkt (timer)]]","v":"Brage 2013-Vinterforhold-10-1"},{"$f":"Oljedatabase[[#This Row],[Sesong]]","v":"Vinterforhold"},5,10,"1",0.3,660,"Kjemisk dispergerbar",0.22,0.74,0.03,56,"Eksplosjonsfare ved tanking",15.9,"Redusert kjemisk dispergerbarhet","Nei",1.07,"2013-08-13T02:00:00",826,"Vestlandet",39,6771495,-153295,"Brage 2013 Forvitringsrapport.pdf"]
["Brynhild 2015","Sommerforhold",{"$f":"Oljedatabase[[#This Row],[Oljetype]]&\"-\"&Oljedatabase[[#This Row],[SesongNy]]&\"-\"&Oljedatabase[[#This Row],[Vind (m/s)]]&\"-\"&Oljedatabase[[#This Row],[Tidspunkt (timer)]]","v":"Brynhild 2015-Sommerforhold-5-24"},{"$f":"Oljedatabase[[#This Row],[Sesong]]","v":"Sommerforhold"},15,5,"24",0.67,12800,"Redusert kjemisk dispergerbarhet",0.22,0.75,0.02,97,"Ingen eksplosjonsfare",6.7,"Kjemisk dispergerbar","Ja",2.2999999999999998,"2015-08-25T02:00:00",880,"Vest-Agder til Hordaland",29,6443576,-258445,"Brynhild 2015 Forvitringsrapport.pdf"]
["Brage 2013","Sommerforhold",{"$f":"Oljedatabase[[#This Row],[Oljetype]]&\"-\"&Oljedatabase[[#This Row],[SesongNy]]&\"-\"&Oljedatabase[[#This Row],[Vind (m/s)]]&\"-\"&Oljedatabase[[#This Row],[Tidspunkt (timer)]]","v":"Brage 2013-Sommerforhold-10-1"},{"$f":"Oljedatabase[[#This Row],[Sesong]]","v":"Sommerforhold"},15,10,"1",0.31,499,"Kjemisk dispergerbar",0.25,0.71,0.03,64,"Ingen eksplosjonsfare",18,"Kjemisk dispergerbar","Nei",1.04,"2013-08-13T02:00:00",826,"Vestlandet",39,6771495,-153295,"Brage 2013 Forvitringsrapport.pdf"]
["Bream 2011","Sommerforhold",{"$f":"Oljedatabase[[#This Row],[Oljetype]]&\"-\"&Oljedatabase[[#This Row],[SesongNy]]&\"-\"&Oljedatabase[[#This Row],[Vind (m/s)]]&\"-\"&Oljedatabase[[#This Row],[Tidspunkt (timer)]]","v":"Bream 2011-Sommerforhold-2-48"},{"$f":"Oljedatabase[[#This Row],[Sesong]]","v":"Sommerforhold"},15,2,"48",0.42,6220,"Redusert kjemisk dispergerbarhet",0.23,0.76,0,107,"Ingen eksplosjonsfare",26.9,"Redusert kjemisk dispergerbarhet","Nei",1.31,"2011-05-24T02:00:00",857,"Vest-Agder til Hordaland",33,6502083,-149887,"Bream 2011 Forvitringsrapport.pdf"]
["Brage 2013","Vinterforhold",{"$f":"Oljedatabase[[#This Row],[Oljetype]]&\"-\"&Oljedatabase[[#This Row],[SesongNy]]&\"-\"&Oljedatabase[[#This Row],[Vind (m/s)]]&\"-\"&Oljedatabase[[#This Row],[Tidspunkt (timer)]]","v":"Brage 2013-Vinterforhold-5-72"},{"$f":"Oljedatabase[[#This Row],[Sesong]]","v":"Vinterforhold"},5,5,"72",0.8,4820,"Redusert kjemisk dispergerbarhet",0.34,0.59,0.06,93,"Ingen eksplosjonsfare",25.6,"Lav/dårlig dispergerbarhet","Nei",2.99,"2013-08-13T02:00:00",826,"Vestlandet",39,6771495,-153295,"Brage 2013 Forvitringsrapport.pdf"]
["Brage 2013","Vinterforhold",{"$f":"Oljedatabase[[#This Row],[Oljetype]]&\"-\"&Oljedatabase[[#This Row],[SesongNy]]&\"-\"&Oljedatabase[[#This Row],[Vind (m/s)]]&\"-\"&Oljedatabase[[#This Row],[Tidspunkt (timer)]]","v":"Brage 2013-Vinterforhold-10-3"},{"$f":"Oljedatabase[[#This Row],[Sesong]]","v":"Vinterforhold"},5,10,"3",0.61,1830,"Kjemisk dispergerbar",0.26,0.65,7.0000000000000007E-2,70,"Ingen eksplosjonsfare",19.600000000000001,"Redusert kjemisk dispergerbarhet","Nei",1.68,"2013-08-13T02:00:00",826,"Vestlandet",39,6771495,-153295,"Brage 2013 Forvitringsrapport.pdf"]
["Brage 2013","Vinterforhold",{"$f":"Oljedatabase[[#This Row],[Oljetype]]&\"-\"&Oljedatabase[[#This Row],[SesongNy]]&\"-\"&Oljedatabase[[#This Row],[Vind (m/s)]]&\"-\"&Oljedatabase[[#This Row],[Tidspunkt (timer)]]","v":"Brage 2013-Vinterforhold-2-120"},{"$f":"Oljedatabase[[#This Row],[Sesong]]","v":"Vinterforhold"},5,2,"120",0.78,4170,"Redusert kjemisk dispergerbarhet",0.32,0.66,0,88,"Ingen eksplosjonsfare",24.5,"Lav/dårlig dispergerbarhet","Nei",3.17,"2013-08-13T02:00:00",826,"Vestlandet",39,6771495,-153295,"Brage 2013 Forvitringsrapport.pdf"]
["Brage 2013","Vinterforhold",{"$f":"Oljedatabase[[#This Row],[Oljetype]]&\"-\"&Oljedatabase[[#This Row],[SesongNy]]&\"-\"&Oljedatabase[[#This Row],[Vind (m/s)]]&\"-\"&Oljedatabase[[#This Row],[Tidspunkt (timer)]]","v":"Brage 2013-Vinterforhold-5-2"},{"$f":"Oljedatabase[[#This Row],[Sesong]]","v":"Vinterforhold"},5,5,"2",0.2,436,"Kjemisk dispergerbar",0.21,0.78,0,53,"Eksplosjonsfare ved tanking",14.9,"Redusert kjemisk dispergerbarhet","Nei",0.98,"2013-08-13T02:00:00",826,"Vestlandet",39,6771495,-153295,"Brage 2013 Forvitringsrapport.pdf"]
["Bream 2011","Sommerforhold",{"$f":"Oljedatabase[[#This Row],[Oljetype]]&\"-\"&Oljedatabase[[#This Row],[SesongNy]]&\"-\"&Oljedatabase[[#This Row],[Vind (m/s)]]&\"-\"&Oljedatabase[[#This Row],[Tidspunkt (timer)]]","v":"Bream 2011-Sommerforhold-15-96"},{"$f":"Oljedatabase[[#This Row],[Sesong]]","v":"Sommerforhold"},15,15,"96",0.75,25800,"Lav/dårlig kjemisk dispergerbarhet",0.25,0,0.74,170,"Ingen eksplosjonsfare",32,"Lav/dårlig dispergerbarhet","Ja",0,"2011-05-24T02:00:00",857,"Vest-Agder til Hordaland",33,6502083,-149887,"Bream 2011 Forvitringsrapport.pdf"]
["Brage 2013","Vinterforhold",{"$f":"Oljedatabase[[#This Row],[Oljetype]]&\"-\"&Oljedatabase[[#This Row],[SesongNy]]&\"-\"&Oljedatabase[[#This Row],[Vind (m/s)]]&\"-\"&Oljedatabase[[#This Row],[Tidspunkt (timer)]]","v":"Brage 2013-Vinterforhold-2-6"},{"$f":"Oljedatabase[[#This Row],[Sesong]]","v":"Vinterforhold"},5,2,"6",0.16,428,"Kjemisk dispergerbar",0.22,0.77,0,56,"Eksplosjonsfare ved tanking",15.8,"Redusert kjemisk dispergerbarhet","Nei",0.92,"2013-08-13T02:00:00",826,"Vestlandet",39,6771495,-153295,"Brage 2013 Forvitringsrapport.pdf"]
["Bream 2011","Vinterforhold",{"$f":"Oljedatabase[[#This Row],[Oljetype]]&\"-\"&Oljedatabase[[#This Row],[SesongNy]]&\"-\"&Oljedatabase[[#This Row],[Vind (m/s)]]&\"-\"&Oljedatabase[[#This Row],[Tidspunkt (timer)]]","v":"Bream 2011-Vinterforhold-2-2"},{"$f":"Oljedatabase[[#This Row],[Sesong]]","v":"Vinterforhold"},5,2,"2",0.02,2360,"Kjemisk dispergerbar",0.06,0.93,0,43,"Eksplosjonsfare ved tanking",21,"Lav/dårlig dispergerbarhet","Nei",0.95,"2011-05-24T02:00:00",857,"Vest-Agder til Hordaland",33,6502083,-149887,"Bream 2011 Forvitringsrapport.pdf"]
["Brage 2013","Vinterforhold",{"$f":"Oljedatabase[[#This Row],[Oljetype]]&\"-\"&Oljedatabase[[#This Row],[SesongNy]]&\"-\"&Oljedatabase[[#This Row],[Vind (m/s)]]&\"-\"&Oljedatabase[[#This Row],[Tidspunkt (timer)]]","v":"Brage 2013-Vinterforhold-10-2"},{"$f":"Oljedatabase[[#This Row],[Sesong]]","v":"Vinterforhold"},5,10,"2",0.49,1300,"Kjemisk dispergerbar",0.25,0.68,0.05,65,"Ingen eksplosjonsfare",18.3,"Redusert kjemisk dispergerbarhet","Nei",1.36,"2013-08-13T02:00:00",826,"Vestlandet",39,6771495,-153295,"Brage 2013 Forvitringsrapport.pdf"]
["Bream 2011","Sommerforhold",{"$f":"Oljedatabase[[#This Row],[Oljetype]]&\"-\"&Oljedatabase[[#This Row],[SesongNy]]&\"-\"&Oljedatabase[[#This Row],[Vind (m/s)]]&\"-\"&Oljedatabase[[#This Row],[Tidspunkt (timer)]]","v":"Bream 2011-Sommerforhold-15-72"},{"$f":"Oljedatabase[[#This Row],[Sesong]]","v":"Sommerforhold"},15,15,"72",0.75,22700,"Lav/dårlig kjemisk dispergerbarhet",0.25,0,0.74,163,"Ingen eksplosjonsfare",31.4,"Lav/dårlig dispergerbarhet","Ja",0,"2011-05-24T02:00:00",857,"Vest-Agder til Hordaland",33,6502083,-149887,"Bream 2011 Forvitringsrapport.pdf"]
["Bream 2011","Sommerforhold",{"$f":"Oljedatabase[[#This Row],[Oljetype]]&\"-\"&Oljedatabase[[#This Row],[SesongNy]]&\"-\"&Oljedatabase[[#This Row],[Vind (m/s)]]&\"-\"&Oljedatabase[[#This Row],[Tidspunkt (timer)]]","v":"Bream 2011-Sommerforhold-5-24"},{"$f":"Oljedatabase[[#This Row],[Sesong]]","v":"Sommerforhold"},15,5,"24",0.61,7680,"Redusert kjemisk dispergerbarhet",0.24,0.74,0.01,109,"Ingen eksplosjonsfare",27.1,"Redusert kjemisk dispergerbarhet","Nei",1.91,"2011-05-24T02:00:00",857,"Vest-Agder til Hordaland",33,6502083,-149887,"Bream 2011 Forvitringsrapport.pdf"]
["Bream 2011","Vinterforhold",{"$f":"Oljedatabase[[#This Row],[Oljetype]]&\"-\"&Oljedatabase[[#This Row],[SesongNy]]&\"-\"&Oljedatabase[[#This Row],[Vind (m/s)]]&\"-\"&Oljedatabase[[#This Row],[Tidspunkt (timer)]]","v":"Bream 2011-Vinterforhold-2-72"},{"$f":"Oljedatabase[[#This Row],[Sesong]]","v":"Vinterforhold"},5,2,"72",0.42,13600,"Redusert kjemisk dispergerbarhet",0.19,0.8,0,101,"Ingen eksplosjonsfare",26.4,"Lav/dårlig dispergerbarhet","Ja",1.4,"2011-05-24T02:00:00",857,"Vest-Agder til Hordaland",33,6502083,-149887,"Bream 2011 Forvitringsrapport.pdf"]
["Bream 2011","Vinterforhold",{"$f":"Oljedatabase[[#This Row],[Oljetype]]&\"-\"&Oljedatabase[[#This Row],[SesongNy]]&\"-\"&Oljedatabase[[#This Row],[Vind (m/s)]]&\"-\"&Oljedatabase[[#This Row],[Tidspunkt (timer)]]","v":"Bream 2011-Vinterforhold-5-6"},{"$f":"Oljedatabase[[#This Row],[Sesong]]","v":"Vinterforhold"},5,5,"6",0.2,5860,"Redusert kjemisk dispergerbarhet",0.12,0.86,0,72,"Ingen eksplosjonsfare",23.8,"Lav/dårlig dispergerbarhet","Nei",1.0900000000000001,"2011-05-24T02:00:00",857,"Vest-Agder til Hordaland",33,6502083,-149887,"Bream 2011 Forvitringsrapport.pdf"]
["Bream 2011","Sommerforhold",{"$f":"Oljedatabase[[#This Row],[Oljetype]]&\"-\"&Oljedatabase[[#This Row],[SesongNy]]&\"-\"&Oljedatabase[[#This Row],[Vind (m/s)]]&\"-\"&Oljedatabase[[#This Row],[Tidspunkt (timer)]]","v":"Bream 2011-Sommerforhold-5-6"},{"$f":"Oljedatabase[[#This Row],[Sesong]]","v":"Sommerforhold"},15,5,"6",0.26,3290,"Kjemisk dispergerbar",0.18,0.81,0,82,"Ingen eksplosjonsfare",24.7,"Redusert kjemisk dispergerbarhet","Nei",1.1000000000000001,"2011-05-24T02:00:00",857,"Vest-Agder til Hordaland",33,6502083,-149887,"Bream 2011 Forvitringsrapport.pdf"]
["Bream 2011","Sommerforhold",{"$f":"Oljedatabase[[#This Row],[Oljetype]]&\"-\"&Oljedatabase[[#This Row],[SesongNy]]&\"-\"&Oljedatabase[[#This Row],[Vind (m/s)]]&\"-\"&Oljedatabase[[#This Row],[Tidspunkt (timer)]]","v":"Bream 2011-Sommerforhold-10-9"},{"$f":"Oljedatabase[[#This Row],[Sesong]]","v":"Sommerforhold"},15,10,"9",0.67,7910,"Redusert kjemisk dispergerbarhet",0.2,0.69,0.09,108,"Ingen eksplosjonsfare",27.1,"Redusert kjemisk dispergerbarhet","Nei",2.11,"2011-05-24T02:00:00",857,"Vest-Agder til Hordaland",33,6502083,-149887,"Bream 2011 Forvitringsrapport.pdf"]
["Brage 2013","Vinterforhold",{"$f":"Oljedatabase[[#This Row],[Oljetype]]&\"-\"&Oljedatabase[[#This Row],[SesongNy]]&\"-\"&Oljedatabase[[#This Row],[Vind (m/s)]]&\"-\"&Oljedatabase[[#This Row],[Tidspunkt (timer)]]","v":"Brage 2013-Vinterforhold-2-96"},{"$f":"Oljedatabase[[#This Row],[Sesong]]","v":"Vinterforhold"},5,2,"96",0.77,3810,"Redusert kjemisk dispergerbarhet",0.32,0.67,0,86,"Ingen eksplosjonsfare",23.9,"Lav/dårlig dispergerbarhet","Nei",2.98,"2013-08-13T02:00:00",826,"Vestlandet",39,6771495,-153295,"Brage 2013 Forvitringsrapport.pdf"]
["Bream 2011","Sommerforhold",{"$f":"Oljedatabase[[#This Row],[Oljetype]]&\"-\"&Oljedatabase[[#This Row],[SesongNy]]&\"-\"&Oljedatabase[[#This Row],[Vind (m/s)]]&\"-\"&Oljedatabase[[#This Row],[Tidspunkt (timer)]]","v":"Bream 2011-Sommerforhold-5-120"},{"$f":"Oljedatabase[[#This Row],[Sesong]]","v":"Sommerforhold"},15,5,"120",0.74,14400,"Redusert kjemisk dispergerbarhet",0.3,0.63,0.06,137,"Ingen eksplosjonsfare",29.4,"Redusert kjemisk dispergerbarhet","Ja",2.4500000000000002,"2011-05-24T02:00:00",857,"Vest-Agder til Hordaland",33,6502083,-149887,"Bream 2011 Forvitringsrapport.pdf"]
["Brage 2013","Vinterforhold",{"$f":"Oljedatabase[[#This Row],[Oljetype]]&\"-\"&Oljedatabase[[#This Row],[SesongNy]]&\"-\"&Oljedatabase[[#This Row],[Vind (m/s)]]&\"-\"&Oljedatabase[[#This Row],[Tidspunkt (timer)]]","v":"Brage 2013-Vinterforhold-2-12"},{"$f":"Oljedatabase[[#This Row],[Sesong]]","v":"Vinterforhold"},5,2,"12",0.28000000000000003,798,"Kjemisk dispergerbar",0.25,0.74,0,64,"Ingen eksplosjonsfare",18,"Redusert kjemisk dispergerbarhet","Nei",1.04,"2013-08-13T02:00:00",826,"Vestlandet",39,6771495,-153295,"Brage 2013 Forvitringsrapport.pdf"]
["Bream 2011","Sommerforhold",{"$f":"Oljedatabase[[#This Row],[Oljetype]]&\"-\"&Oljedatabase[[#This Row],[SesongNy]]&\"-\"&Oljedatabase[[#This Row],[Vind (m/s)]]&\"-\"&Oljedatabase[[#This Row],[Tidspunkt (timer)]]","v":"Bream 2011-Sommerforhold-2-6"},{"$f":"Oljedatabase[[#This Row],[Sesong]]","v":"Sommerforhold"},15,2,"6",7.0000000000000007E-2,2100,"Kjemisk dispergerbar",0.14000000000000001,0.85,0,69,"Ingen eksplosjonsfare",23.5,"Redusert kjemisk dispergerbarhet","Nei",0.92,"2011-05-24T02:00:00",857,"Vest-Agder til Hordaland",33,6502083,-149887,"Bream 2011 Forvitringsrapport.pdf"]
["Brage 2013","Vinterforhold",{"$f":"Oljedatabase[[#This Row],[Oljetype]]&\"-\"&Oljedatabase[[#This Row],[SesongNy]]&\"-\"&Oljedatabase[[#This Row],[Vind (m/s)]]&\"-\"&Oljedatabase[[#This Row],[Tidspunkt (timer)]]","v":"Brage 2013-Vinterforhold-2-24"},{"$f":"Oljedatabase[[#This Row],[Sesong]]","v":"Vinterforhold"},5,2,"24",0.46,1510,"Redusert kjemisk dispergerbarhet",0.27,0.72,0,71,"Ingen eksplosjonsfare",20,"Redusert kjemisk dispergerbarhet","Nei",1.34,"2013-08-13T02:00:00",826,"Vestlandet",39,6771495,-153295,"Brage 2013 Forvitringsrapport.pdf"]
["Bream 2011","Sommerforhold",{"$f":"Oljedatabase[[#This Row],[Oljetype]]&\"-\"&Oljedatabase[[#This Row],[SesongNy]]&\"-\"&Oljedatabase[[#This Row],[Vind (m/s)]]&\"-\"&Oljedatabase[[#This Row],[Tidspunkt (timer)]]","v":"Bream 2011-Sommerforhold-15-24"},{"$f":"Oljedatabase[[#This Row],[Sesong]]","v":"Sommerforhold"},15,15,"24",0.75,14900,"Redusert kjemisk dispergerbarhet",0.24,0.11,0.64,139,"Ingen eksplosjonsfare",29.6,"Redusert kjemisk dispergerbarhet","Ja",0.44,"2011-05-24T02:00:00",857,"Vest-Agder til Hordaland",33,6502083,-149887,"Bream 2011 Forvitringsrapport.pdf"]
["Brynhild 2015","Sommerforhold",{"$f":"Oljedatabase[[#This Row],[Oljetype]]&\"-\"&Oljedatabase[[#This Row],[SesongNy]]&\"-\"&Oljedatabase[[#This Row],[Vind (m/s)]]&\"-\"&Oljedatabase[[#This Row],[Tidspunkt (timer)]]","v":"Brynhild 2015-Sommerforhold-5-2"},{"$f":"Oljedatabase[[#This Row],[Sesong]]","v":"Sommerforhold"},15,5,"2",0.12,270,"Kjemisk dispergerbar",0.13,0.85,0,58,"Eksplosjonsfare ved tanking",1.8,"Kjemisk dispergerbar","Nei",0.98,"2015-08-25T02:00:00",880,"Vest-Agder til Hordaland",29,6443576,-258445,"Brynhild 2015 Forvitringsrapport.pdf"]
["Bream 2011","Vinterforhold",{"$f":"Oljedatabase[[#This Row],[Oljetype]]&\"-\"&Oljedatabase[[#This Row],[SesongNy]]&\"-\"&Oljedatabase[[#This Row],[Vind (m/s)]]&\"-\"&Oljedatabase[[#This Row],[Tidspunkt (timer)]]","v":"Bream 2011-Vinterforhold-2-9"},{"$f":"Oljedatabase[[#This Row],[Sesong]]","v":"Vinterforhold"},5,2,"9",7.0000000000000007E-2,4670,"Redusert kjemisk dispergerbarhet",0.11,0.88,0,68,"Ingen eksplosjonsfare",23.5,"Lav/dårlig dispergerbarhet","Nei",0.94,"2011-05-24T02:00:00",857,"Vest-Agder til Hordaland",33,6502083,-149887,"Bream 2011 Forvitringsrapport.pdf"]
["Bream 2011","Vinterforhold",{"$f":"Oljedatabase[[#This Row],[Oljetype]]&\"-\"&Oljedatabase[[#This Row],[SesongNy]]&\"-\"&Oljedatabase[[#This Row],[Vind (m/s)]]&\"-\"&Oljedatabase[[#This Row],[Tidspunkt (timer)]]","v":"Bream 2011-Vinterforhold-2-1"},{"$f":"Oljedatabase[[#This Row],[Sesong]]","v":"Vinterforhold"},5,2,"1",0.01,1830,"Kjemisk dispergerbar",0.04,0.95,0,34,"Eksplosjonsfare ved tanking",20.100000000000001,"Lav/dårlig dispergerbarhet","Nei",0.96,"2011-05-24T02:00:00",857,"Vest-Agder til Hordaland",33,6502083,-149887,"Bream 2011 Forvitringsrapport.pdf"]
["Bream 2011","Sommerforhold",{"$f":"Oljedatabase[[#This Row],[Oljetype]]&\"-\"&Oljedatabase[[#This Row],[SesongNy]]&\"-\"&Oljedatabase[[#This Row],[Vind (m/s)]]&\"-\"&Oljedatabase[[#This Row],[Tidspunkt (timer)]]","v":"Bream 2011-Sommerforhold-10-12"},{"$f":"Oljedatabase[[#This Row],[Sesong]]","v":"Sommerforhold"},15,10,"12",0.71,9160,"Redusert kjemisk dispergerbarhet",0.21,0.65,0.12,114,"Ingen eksplosjonsfare",27.5,"Redusert kjemisk dispergerbarhet","Nei",2.2799999999999998,"2011-05-24T02:00:00",857,"Vest-Agder til Hordaland",33,6502083,-149887,"Bream 2011 Forvitringsrapport.pdf"]
["Bream 2011","Vinterforhold",{"$f":"Oljedatabase[[#This Row],[Oljetype]]&\"-\"&Oljedatabase[[#This Row],[SesongNy]]&\"-\"&Oljedatabase[[#This Row],[Vind (m/s)]]&\"-\"&Oljedatabase[[#This Row],[Tidspunkt (timer)]]","v":"Bream 2011-Vinterforhold-2-6"},{"$f":"Oljedatabase[[#This Row],[Sesong]]","v":"Vinterforhold"},5,2,"6",0.04,3810,"Kjemisk dispergerbar",0.1,0.89,0,61,"Ingen eksplosjonsfare",22.8,"Lav/dårlig dispergerbarhet","Nei",0.94,"2011-05-24T02:00:00",857,"Vest-Agder til Hordaland",33,6502083,-149887,"Bream 2011 Forvitringsrapport.pdf"]
["Bream 2011","Sommerforhold",{"$f":"Oljedatabase[[#This Row],[Oljetype]]&\"-\"&Oljedatabase[[#This Row],[SesongNy]]&\"-\"&Oljedatabase[[#This Row],[Vind (m/s)]]&\"-\"&Oljedatabase[[#This Row],[Tidspunkt (timer)]]","v":"Bream 2011-Sommerforhold-5-72"},{"$f":"Oljedatabase[[#This Row],[Sesong]]","v":"Sommerforhold"},15,5,"72",0.74,12200,"Redusert kjemisk dispergerbarhet",0.28000000000000003,0.67,0.04,128,"Ingen eksplosjonsfare",28.7,"Redusert kjemisk dispergerbarhet","Ja",2.61,"2011-05-24T02:00:00",857,"Vest-Agder til Hordaland",33,6502083,-149887,"Bream 2011 Forvitringsrapport.pdf"]
["Bream 2011","Sommerforhold",{"$f":"Oljedatabase[[#This Row],[Oljetype]]&\"-\"&Oljedatabase[[#This Row],[SesongNy]]&\"-\"&Oljedatabase[[#This Row],[Vind (m/s)]]&\"-\"&Oljedatabase[[#This Row],[Tidspunkt (timer)]]","v":"Bream 2011-Sommerforhold-10-1"},{"$f":"Oljedatabase[[#This Row],[Sesong]]","v":"Sommerforhold"},15,10,"1",0.15,1950,"Kjemisk dispergerbar",0.1,0.88,0,62,"Ingen eksplosjonsfare",22.9,"Redusert kjemisk dispergerbarhet","Nei",1.05,"2011-05-24T02:00:00",857,"Vest-Agder til Hordaland",33,6502083,-149887,"Bream 2011 Forvitringsrapport.pdf"]
["Brynhild 2015","Sommerforhold",{"$f":"Oljedatabase[[#This Row],[Oljetype]]&\"-\"&Oljedatabase[[#This Row],[SesongNy]]&\"-\"&Oljedatabase[[#This Row],[Vind (m/s)]]&\"-\"&Oljedatabase[[#This Row],[Tidspunkt (timer)]]","v":"Brynhild 2015-Sommerforhold-2-72"},{"$f":"Oljedatabase[[#This Row],[Sesong]]","v":"Sommerforhold"},15,2,"72",0.6,7520,"Redusert kjemisk dispergerbarhet",0.22,0.76,0,100,"Ingen eksplosjonsfare",7.1,"Kjemisk dispergerbar","Nei",1.94,"2015-08-25T02:00:00",880,"Vest-Agder til Hordaland",29,6443576,-258445,"Brynhild 2015 Forvitringsrapport.pdf"]
["Bream 2011","Vinterforhold",{"$f":"Oljedatabase[[#This Row],[Oljetype]]&\"-\"&Oljedatabase[[#This Row],[SesongNy]]&\"-\"&Oljedatabase[[#This Row],[Vind (m/s)]]&\"-\"&Oljedatabase[[#This Row],[Tidspunkt (timer)]]","v":"Bream 2011-Vinterforhold-15-12"},{"$f":"Oljedatabase[[#This Row],[Sesong]]","v":"Vinterforhold"},5,15,"12",0.61,20400,"Lav/dårlig kjemisk dispergerbarhet",0.2,0.38,0.4,112,"Ingen eksplosjonsfare",27.3,"Lav/dårlig dispergerbarhet","Ja",1.01,"2011-05-24T02:00:00",857,"Vest-Agder til Hordaland",33,6502083,-149887,"Bream 2011 Forvitringsrapport.pdf"]
["Brage 2013","Vinterforhold",{"$f":"Oljedatabase[[#This Row],[Oljetype]]&\"-\"&Oljedatabase[[#This Row],[SesongNy]]&\"-\"&Oljedatabase[[#This Row],[Vind (m/s)]]&\"-\"&Oljedatabase[[#This Row],[Tidspunkt (timer)]]","v":"Brage 2013-Vinterforhold-5-24"},{"$f":"Oljedatabase[[#This Row],[Sesong]]","v":"Vinterforhold"},5,5,"24",0.77,3250,"Redusert kjemisk dispergerbarhet",0.3,0.66,0.02,81,"Ingen eksplosjonsfare",22.6,"Lav/dårlig dispergerbarhet","Nei",2.94,"2013-08-13T02:00:00",826,"Vestlandet",39,6771495,-153295,"Brage 2013 Forvitringsrapport.pdf"]
["Brynhild 2015","Sommerforhold",{"$f":"Oljedatabase[[#This Row],[Oljetype]]&\"-\"&Oljedatabase[[#This Row],[SesongNy]]&\"-\"&Oljedatabase[[#This Row],[Vind (m/s)]]&\"-\"&Oljedatabase[[#This Row],[Tidspunkt (timer)]]","v":"Brynhild 2015-Sommerforhold-5-12"},{"$f":"Oljedatabase[[#This Row],[Sesong]]","v":"Sommerforhold"},15,5,"12",0.49,2600,"Kjemisk dispergerbar",0.2,0.78,0.01,87,"Ingen eksplosjonsfare",5.5,"Kjemisk dispergerbar","Nei",1.56,"2015-08-25T02:00:00",880,"Vest-Agder til Hordaland",29,6443576,-258445,"Brynhild 2015 Forvitringsrapport.pdf"]
["Bream 2011","Sommerforhold",{"$f":"Oljedatabase[[#This Row],[Oljetype]]&\"-\"&Oljedatabase[[#This Row],[SesongNy]]&\"-\"&Oljedatabase[[#This Row],[Vind (m/s)]]&\"-\"&Oljedatabase[[#This Row],[Tidspunkt (timer)]]","v":"Bream 2011-Sommerforhold-2-2"},{"$f":"Oljedatabase[[#This Row],[Sesong]]","v":"Sommerforhold"},15,2,"2",0.02,1270,"Kjemisk dispergerbar",0.09,0.9,0,49,"Eksplosjonsfare ved tanking",21.6,"Redusert kjemisk dispergerbarhet","Nei",0.92,"2011-05-24T02:00:00",857,"Vest-Agder til Hordaland",33,6502083,-149887,"Bream 2011 Forvitringsrapport.pdf"]
["Bream 2011","Vinterforhold",{"$f":"Oljedatabase[[#This Row],[Oljetype]]&\"-\"&Oljedatabase[[#This Row],[SesongNy]]&\"-\"&Oljedatabase[[#This Row],[Vind (m/s)]]&\"-\"&Oljedatabase[[#This Row],[Tidspunkt (timer)]]","v":"Bream 2011-Vinterforhold-2-12"},{"$f":"Oljedatabase[[#This Row],[Sesong]]","v":"Vinterforhold"},5,2,"12",0.09,5380,"Redusert kjemisk dispergerbarhet",0.13,0.86,0,73,"Ingen eksplosjonsfare",23.9,"Lav/dårlig dispergerbarhet","Nei",0.96,"2011-05-24T02:00:00",857,"Vest-Agder til Hordaland",33,6502083,-149887,"Bream 2011 Forvitringsrapport.pdf"]
["Bream 2011","Sommerforhold",{"$f":"Oljedatabase[[#This Row],[Oljetype]]&\"-\"&Oljedatabase[[#This Row],[SesongNy]]&\"-\"&Oljedatabase[[#This Row],[Vind (m/s)]]&\"-\"&Oljedatabase[[#This Row],[Tidspunkt (timer)]]","v":"Bream 2011-Sommerforhold-15-6"},{"$f":"Oljedatabase[[#This Row],[Sesong]]","v":"Sommerforhold"},15,15,"6",0.72,8800,"Redusert kjemisk dispergerbarhet",0.2,0.51,0.27,112,"Ingen eksplosjonsfare",27.3,"Redusert kjemisk dispergerbarhet","Nei",1.87,"2011-05-24T02:00:00",857,"Vest-Agder til Hordaland",33,6502083,-149887,"Bream 2011 Forvitringsrapport.pdf"]
["Bream 2011","Vinterforhold",{"$f":"Oljedatabase[[#This Row],[Oljetype]]&\"-\"&Oljedatabase[[#This Row],[SesongNy]]&\"-\"&Oljedatabase[[#This Row],[Vind (m/s)]]&\"-\"&Oljedatabase[[#This Row],[Tidspunkt (timer)]]","v":"Bream 2011-Vinterforhold-15-24"},{"$f":"Oljedatabase[[#This Row],[Sesong]]","v":"Vinterforhold"},5,15,"24",0.61,26200,"Lav/dårlig kjemisk dispergerbarhet",0.22,0.18,0.59,124,"Ingen eksplosjonsfare",28.3,"Lav/dårlig dispergerbarhet","Ja",0.47,"2011-05-24T02:00:00",857,"Vest-Agder til Hordaland",33,6502083,-149887,"Bream 2011 Forvitringsrapport.pdf"]
["Brynhild 2015","Vinterforhold",{"$f":"Oljedatabase[[#This Row],[Oljetype]]&\"-\"&Oljedatabase[[#This Row],[SesongNy]]&\"-\"&Oljedatabase[[#This Row],[Vind (m/s)]]&\"-\"&Oljedatabase[[#This Row],[Tidspunkt (timer)]]","v":"Brynhild 2015-Vinterforhold-10-2"},{"$f":"Oljedatabase[[#This Row],[Sesong]]","v":"Vinterforhold"},5,10,"2",0.32,1130,"Kjemisk dispergerbar",0.15,0.79,0.05,65,"Ingen eksplosjonsfare",2.7,"Kjemisk dispergerbar","Nei",1.18,"2015-08-25T02:00:00",880,"Vest-Agder til Hordaland",29,6443576,-258445,"Brynhild 2015 Forvitringsrapport.pdf"]
["Bream 2011","Sommerforhold",{"$f":"Oljedatabase[[#This Row],[Oljetype]]&\"-\"&Oljedatabase[[#This Row],[SesongNy]]&\"-\"&Oljedatabase[[#This Row],[Vind (m/s)]]&\"-\"&Oljedatabase[[#This Row],[Tidspunkt (timer)]]","v":"Bream 2011-Sommerforhold-15-48"},{"$f":"Oljedatabase[[#This Row],[Sesong]]","v":"Sommerforhold"},15,15,"48",0.75,19200,"Lav/dårlig kjemisk dispergerbarhet",0.25,0.01,0.72,153,"Ingen eksplosjonsfare",30.7,"Lav/dårlig dispergerbarhet","Ja",7.0000000000000007E-2,"2011-05-24T02:00:00",857,"Vest-Agder til Hordaland",33,6502083,-149887,"Bream 2011 Forvitringsrapport.pdf"]
["Bream 2011","Sommerforhold",{"$f":"Oljedatabase[[#This Row],[Oljetype]]&\"-\"&Oljedatabase[[#This Row],[SesongNy]]&\"-\"&Oljedatabase[[#This Row],[Vind (m/s)]]&\"-\"&Oljedatabase[[#This Row],[Tidspunkt (timer)]]","v":"Bream 2011-Sommerforhold-5-96"},{"$f":"Oljedatabase[[#This Row],[Sesong]]","v":"Sommerforhold"},15,5,"96",0.74,13400,"Redusert kjemisk dispergerbarhet",0.28999999999999998,0.65,0.05,133,"Ingen eksplosjonsfare",29.1,"Redusert kjemisk dispergerbarhet","Ja",2.52,"2011-05-24T02:00:00",857,"Vest-Agder til Hordaland",33,6502083,-149887,"Bream 2011 Forvitringsrapport.pdf"]
["Bream 2011","Vinterforhold",{"$f":"Oljedatabase[[#This Row],[Oljetype]]&\"-\"&Oljedatabase[[#This Row],[SesongNy]]&\"-\"&Oljedatabase[[#This Row],[Vind (m/s)]]&\"-\"&Oljedatabase[[#This Row],[Tidspunkt (timer)]]","v":"Bream 2011-Vinterforhold-5-72"},{"$f":"Oljedatabase[[#This Row],[Sesong]]","v":"Vinterforhold"},5,5,"72",0.6,21200,"Lav/dårlig kjemisk dispergerbarhet",0.22,0.74,0.03,114,"Ingen eksplosjonsfare",27.6,"Lav/dårlig dispergerbarhet","Ja",1.86,"2011-05-24T02:00:00",857,"Vest-Agder til Hordaland",33,6502083,-149887,"Bream 2011 Forvitringsrapport.pdf"]
["Brynhild 2015","Sommerforhold",{"$f":"Oljedatabase[[#This Row],[Oljetype]]&\"-\"&Oljedatabase[[#This Row],[SesongNy]]&\"-\"&Oljedatabase[[#This Row],[Vind (m/s)]]&\"-\"&Oljedatabase[[#This Row],[Tidspunkt (timer)]]","v":"Brynhild 2015-Sommerforhold-5-48"},{"$f":"Oljedatabase[[#This Row],[Sesong]]","v":"Sommerforhold"},15,5,"48",0.75,40700,"Ikke kjemisk dispergerbar",0.24,0.72,0.03,108,"Ingen eksplosjonsfare",8,"Kjemisk dispergerbar","Ja",2.89,"2015-08-25T02:00:00",880,"Vest-Agder til Hordaland",29,6443576,-258445,"Brynhild 2015 Forvitringsrapport.pdf"]
["Bream 2011","Vinterforhold",{"$f":"Oljedatabase[[#This Row],[Oljetype]]&\"-\"&Oljedatabase[[#This Row],[SesongNy]]&\"-\"&Oljedatabase[[#This Row],[Vind (m/s)]]&\"-\"&Oljedatabase[[#This Row],[Tidspunkt (timer)]]","v":"Bream 2011-Vinterforhold-15-9"},{"$f":"Oljedatabase[[#This Row],[Sesong]]","v":"Vinterforhold"},5,15,"9",0.61,18200,"Lav/dårlig kjemisk dispergerbarhet",0.19,0.47,0.32,107,"Ingen eksplosjonsfare",26.9,"Lav/dårlig dispergerbarhet","Ja",1.23,"2011-05-24T02:00:00",857,"Vest-Agder til Hordaland",33,6502083,-149887,"Bream 2011 Forvitringsrapport.pdf"]
["Bream 2011","Sommerforhold",{"$f":"Oljedatabase[[#This Row],[Oljetype]]&\"-\"&Oljedatabase[[#This Row],[SesongNy]]&\"-\"&Oljedatabase[[#This Row],[Vind (m/s)]]&\"-\"&Oljedatabase[[#This Row],[Tidspunkt (timer)]]","v":"Bream 2011-Sommerforhold-10-24"},{"$f":"Oljedatabase[[#This Row],[Sesong]]","v":"Sommerforhold"},15,10,"24",0.74,12000,"Redusert kjemisk dispergerbarhet",0.24,0.52,0.23,127,"Ingen eksplosjonsfare",28.6,"Redusert kjemisk dispergerbarhet","Ja",2.0699999999999998,"2011-05-24T02:00:00",857,"Vest-Agder til Hordaland",33,6502083,-149887,"Bream 2011 Forvitringsrapport.pdf"]
["Brage 2013","Vinterforhold",{"$f":"Oljedatabase[[#This Row],[Oljetype]]&\"-\"&Oljedatabase[[#This Row],[SesongNy]]&\"-\"&Oljedatabase[[#This Row],[Vind (m/s)]]&\"-\"&Oljedatabase[[#This Row],[Tidspunkt (timer)]]","v":"Brage 2013-Vinterforhold-2-9"},{"$f":"Oljedatabase[[#This Row],[Sesong]]","v":"Vinterforhold"},5,2,"9",0.22,612,"Kjemisk dispergerbar",0.24,0.75,0,61,"Ingen eksplosjonsfare",17.100000000000001,"Redusert kjemisk dispergerbarhet","Nei",0.98,"2013-08-13T02:00:00",826,"Vestlandet",39,6771495,-153295,"Brage 2013 Forvitringsrapport.pdf"]
["Bream 2011","Vinterforhold",{"$f":"Oljedatabase[[#This Row],[Oljetype]]&\"-\"&Oljedatabase[[#This Row],[SesongNy]]&\"-\"&Oljedatabase[[#This Row],[Vind (m/s)]]&\"-\"&Oljedatabase[[#This Row],[Tidspunkt (timer)]]","v":"Bream 2011-Vinterforhold-5-3"},{"$f":"Oljedatabase[[#This Row],[Sesong]]","v":"Vinterforhold"},5,5,"3",0.11,3950,"Kjemisk dispergerbar",0.09,0.9,0,60,"Ingen eksplosjonsfare",22.7,"Lav/dårlig dispergerbarhet","Nei",1.01,"2011-05-24T02:00:00",857,"Vest-Agder til Hordaland",33,6502083,-149887,"Bream 2011 Forvitringsrapport.pdf"]
["Bream 2011","Sommerforhold",{"$f":"Oljedatabase[[#This Row],[Oljetype]]&\"-\"&Oljedatabase[[#This Row],[SesongNy]]&\"-\"&Oljedatabase[[#This Row],[Vind (m/s)]]&\"-\"&Oljedatabase[[#This Row],[Tidspunkt (timer)]]","v":"Bream 2011-Sommerforhold-10-72"},{"$f":"Oljedatabase[[#This Row],[Sesong]]","v":"Sommerforhold"},15,10,"72",0.74,17400,"Lav/dårlig kjemisk dispergerbarhet",0.27,0.25,0.46,148,"Ingen eksplosjonsfare",30.3,"Lav/dårlig dispergerbarhet","Ja",1.01,"2011-05-24T02:00:00",857,"Vest-Agder til Hordaland",33,6502083,-149887,"Bream 2011 Forvitringsrapport.pdf"]
["Bream 2011","Sommerforhold",{"$f":"Oljedatabase[[#This Row],[Oljetype]]&\"-\"&Oljedatabase[[#This Row],[SesongNy]]&\"-\"&Oljedatabase[[#This Row],[Vind (m/s)]]&\"-\"&Oljedatabase[[#This Row],[Tidspunkt (timer)]]","v":"Bream 2011-Sommerforhold-15-9"},{"$f":"Oljedatabase[[#This Row],[Sesong]]","v":"Sommerforhold"},15,15,"9",0.74,10500,"Redusert kjemisk dispergerbarhet",0.22,0.38,0.39,120,"Ingen eksplosjonsfare",28,"Redusert kjemisk dispergerbarhet","Ja",1.53,"2011-05-24T02:00:00",857,"Vest-Agder til Hordaland",33,6502083,-149887,"Bream 2011 Forvitringsrapport.pdf"]
["Brynhild 2015","Sommerforhold",{"$f":"Oljedatabase[[#This Row],[Oljetype]]&\"-\"&Oljedatabase[[#This Row],[SesongNy]]&\"-\"&Oljedatabase[[#This Row],[Vind (m/s)]]&\"-\"&Oljedatabase[[#This Row],[Tidspunkt (timer)]]","v":"Brynhild 2015-Sommerforhold-15-6"},{"$f":"Oljedatabase[[#This Row],[Sesong]]","v":"Sommerforhold"},15,15,"6",0.74,34300,"Redusert kjemisk dispergerbarhet",0.21,0.41,0.36,102,"Ingen eksplosjonsfare",7.4,"Kjemisk dispergerbar","Ja",1.65,"2015-08-25T02:00:00",880,"Vest-Agder til Hordaland",29,6443576,-258445,"Brynhild 2015 Forvitringsrapport.pdf"]
["Bream 2011","Sommerforhold",{"$f":"Oljedatabase[[#This Row],[Oljetype]]&\"-\"&Oljedatabase[[#This Row],[SesongNy]]&\"-\"&Oljedatabase[[#This Row],[Vind (m/s)]]&\"-\"&Oljedatabase[[#This Row],[Tidspunkt (timer)]]","v":"Bream 2011-Sommerforhold-5-48"},{"$f":"Oljedatabase[[#This Row],[Sesong]]","v":"Sommerforhold"},15,5,"48",0.72,10600,"Redusert kjemisk dispergerbarhet",0.26,0.7,0.02,121,"Ingen eksplosjonsfare",28.1,"Redusert kjemisk dispergerbarhet","Ja",2.5499999999999998,"2011-05-24T02:00:00",857,"Vest-Agder til Hordaland",33,6502083,-149887,"Bream 2011 Forvitringsrapport.pdf"]
["Bream 2011","Sommerforhold",{"$f":"Oljedatabase[[#This Row],[Oljetype]]&\"-\"&Oljedatabase[[#This Row],[SesongNy]]&\"-\"&Oljedatabase[[#This Row],[Vind (m/s)]]&\"-\"&Oljedatabase[[#This Row],[Tidspunkt (timer)]]","v":"Bream 2011-Sommerforhold-5-12"},{"$f":"Oljedatabase[[#This Row],[Sesong]]","v":"Sommerforhold"},15,5,"12",0.43,5130,"Redusert kjemisk dispergerbarhet",0.21,0.77,0,96,"Ingen eksplosjonsfare",26,"Redusert kjemisk dispergerbarhet","Nei",1.36,"2011-05-24T02:00:00",857,"Vest-Agder til Hordaland",33,6502083,-149887,"Bream 2011 Forvitringsrapport.pdf"]
["Brynhild 2015","Sommerforhold",{"$f":"Oljedatabase[[#This Row],[Oljetype]]&\"-\"&Oljedatabase[[#This Row],[SesongNy]]&\"-\"&Oljedatabase[[#This Row],[Vind (m/s)]]&\"-\"&Oljedatabase[[#This Row],[Tidspunkt (timer)]]","v":"Brynhild 2015-Sommerforhold-2-9"},{"$f":"Oljedatabase[[#This Row],[Sesong]]","v":"Sommerforhold"},15,2,"9",0.13,382,"Kjemisk dispergerbar",0.16,0.83,0,69,"Ingen eksplosjonsfare",3.2,"Kjemisk dispergerbar","Nei",0.97,"2015-08-25T02:00:00",880,"Vest-Agder til Hordaland",29,6443576,-258445,"Brynhild 2015 Forvitringsrapport.pdf"]
["Brynhild 2015","Sommerforhold",{"$f":"Oljedatabase[[#This Row],[Oljetype]]&\"-\"&Oljedatabase[[#This Row],[SesongNy]]&\"-\"&Oljedatabase[[#This Row],[Vind (m/s)]]&\"-\"&Oljedatabase[[#This Row],[Tidspunkt (timer)]]","v":"Brynhild 2015-Sommerforhold-2-6"},{"$f":"Oljedatabase[[#This Row],[Sesong]]","v":"Sommerforhold"},15,2,"6",0.09,287,"Kjemisk dispergerbar",0.14000000000000001,0.85,0,63,"Ingen eksplosjonsfare",2.4,"Kjemisk dispergerbar","Nei",0.94,"2015-08-25T02:00:00",880,"Vest-Agder til Hordaland",29,6443576,-258445,"Brynhild 2015 Forvitringsrapport.pdf"]
["Bream 2011","Sommerforhold",{"$f":"Oljedatabase[[#This Row],[Oljetype]]&\"-\"&Oljedatabase[[#This Row],[SesongNy]]&\"-\"&Oljedatabase[[#This Row],[Vind (m/s)]]&\"-\"&Oljedatabase[[#This Row],[Tidspunkt (timer)]]","v":"Bream 2011-Sommerforhold-15-12"},{"$f":"Oljedatabase[[#This Row],[Sesong]]","v":"Sommerforhold"},15,15,"12",0.75,11700,"Redusert kjemisk dispergerbarhet",0.23,0.28999999999999998,0.47,126,"Ingen eksplosjonsfare",28.5,"Redusert kjemisk dispergerbarhet","Ja",1.19,"2011-05-24T02:00:00",857,"Vest-Agder til Hordaland",33,6502083,-149887,"Bream 2011 Forvitringsrapport.pdf"]
["Brage 2013","Vinterforhold",{"$f":"Oljedatabase[[#This Row],[Oljetype]]&\"-\"&Oljedatabase[[#This Row],[SesongNy]]&\"-\"&Oljedatabase[[#This Row],[Vind (m/s)]]&\"-\"&Oljedatabase[[#This Row],[Tidspunkt (timer)]]","v":"Brage 2013-Vinterforhold-10-24"},{"$f":"Oljedatabase[[#This Row],[Sesong]]","v":"Vinterforhold"},5,10,"24",0.8,4790,"Redusert kjemisk dispergerbarhet",0.32,0.35,0.31,92,"Ingen eksplosjonsfare",25.6,"Lav/dårlig dispergerbarhet","Nei",1.79,"2013-08-13T02:00:00",826,"Vestlandet",39,6771495,-153295,"Brage 2013 Forvitringsrapport.pdf"]
["Bream 2011","Vinterforhold",{"$f":"Oljedatabase[[#This Row],[Oljetype]]&\"-\"&Oljedatabase[[#This Row],[SesongNy]]&\"-\"&Oljedatabase[[#This Row],[Vind (m/s)]]&\"-\"&Oljedatabase[[#This Row],[Tidspunkt (timer)]]","v":"Bream 2011-Vinterforhold-10-2"},{"$f":"Oljedatabase[[#This Row],[Sesong]]","v":"Vinterforhold"},5,10,"2",0.23,5240,"Redusert kjemisk dispergerbarhet",0.11,0.87,0.01,67,"Ingen eksplosjonsfare",23.3,"Lav/dårlig dispergerbarhet","Nei",1.1399999999999999,"2011-05-24T02:00:00",857,"Vest-Agder til Hordaland",33,6502083,-149887,"Bream 2011 Forvitringsrapport.pdf"]
["Bream 2011","Vinterforhold",{"$f":"Oljedatabase[[#This Row],[Oljetype]]&\"-\"&Oljedatabase[[#This Row],[SesongNy]]&\"-\"&Oljedatabase[[#This Row],[Vind (m/s)]]&\"-\"&Oljedatabase[[#This Row],[Tidspunkt (timer)]]","v":"Bream 2011-Vinterforhold-10-120"},{"$f":"Oljedatabase[[#This Row],[Sesong]]","v":"Vinterforhold"},5,10,"120",0.6,36200,"Lav/dårlig kjemisk dispergerbarhet",0.25,0.21,0.53,140,"Ingen eksplosjonsfare",29.6,"Lav/dårlig dispergerbarhet","Ja",0.53,"2011-05-24T02:00:00",857,"Vest-Agder til Hordaland",33,6502083,-149887,"Bream 2011 Forvitringsrapport.pdf"]
["Brynhild 2015","Sommerforhold",{"$f":"Oljedatabase[[#This Row],[Oljetype]]&\"-\"&Oljedatabase[[#This Row],[SesongNy]]&\"-\"&Oljedatabase[[#This Row],[Vind (m/s)]]&\"-\"&Oljedatabase[[#This Row],[Tidspunkt (timer)]]","v":"Brynhild 2015-Sommerforhold-5-6"},{"$f":"Oljedatabase[[#This Row],[Sesong]]","v":"Sommerforhold"},15,5,"6",0.31,816,"Kjemisk dispergerbar",0.17,0.81,0.01,76,"Ingen eksplosjonsfare",4.0999999999999996,"Kjemisk dispergerbar","Nei",1.18,"2015-08-25T02:00:00",880,"Vest-Agder til Hordaland",29,6443576,-258445,"Brynhild 2015 Forvitringsrapport.pdf"]
["Brynhild 2015","Sommerforhold",{"$f":"Oljedatabase[[#This Row],[Oljetype]]&\"-\"&Oljedatabase[[#This Row],[SesongNy]]&\"-\"&Oljedatabase[[#This Row],[Vind (m/s)]]&\"-\"&Oljedatabase[[#This Row],[Tidspunkt (timer)]]","v":"Brynhild 2015-Sommerforhold-2-48"},{"$f":"Oljedatabase[[#This Row],[Sesong]]","v":"Sommerforhold"},15,2,"48",0.49,3080,"Kjemisk dispergerbar",0.21,0.78,0,94,"Ingen eksplosjonsfare",6.4,"Kjemisk dispergerbar","Nei",1.55,"2015-08-25T02:00:00",880,"Vest-Agder til Hordaland",29,6443576,-258445,"Brynhild 2015 Forvitringsrapport.pdf"]
["Bream 2011","Sommerforhold",{"$f":"Oljedatabase[[#This Row],[Oljetype]]&\"-\"&Oljedatabase[[#This Row],[SesongNy]]&\"-\"&Oljedatabase[[#This Row],[Vind (m/s)]]&\"-\"&Oljedatabase[[#This Row],[Tidspunkt (timer)]]","v":"Bream 2011-Sommerforhold-10-48"},{"$f":"Oljedatabase[[#This Row],[Sesong]]","v":"Sommerforhold"},15,10,"48",0.74,15200,"Lav/dårlig kjemisk dispergerbarhet",0.26,0.36,0.37,140,"Ingen eksplosjonsfare",29.6,"Redusert kjemisk dispergerbarhet","Ja",1.42,"2011-05-24T02:00:00",857,"Vest-Agder til Hordaland",33,6502083,-149887,"Bream 2011 Forvitringsrapport.pdf"]
["Bream 2011","Vinterforhold",{"$f":"Oljedatabase[[#This Row],[Oljetype]]&\"-\"&Oljedatabase[[#This Row],[SesongNy]]&\"-\"&Oljedatabase[[#This Row],[Vind (m/s)]]&\"-\"&Oljedatabase[[#This Row],[Tidspunkt (timer)]]","v":"Bream 2011-Vinterforhold-5-96"},{"$f":"Oljedatabase[[#This Row],[Sesong]]","v":"Vinterforhold"},5,5,"96",0.6,23400,"Lav/dårlig kjemisk dispergerbarhet",0.23,0.72,0.04,119,"Ingen eksplosjonsfare",27.9,"Lav/dårlig dispergerbarhet","Ja",1.81,"2011-05-24T02:00:00",857,"Vest-Agder til Hordaland",33,6502083,-149887,"Bream 2011 Forvitringsrapport.pdf"]
["Bream 2011","Vinterforhold",{"$f":"Oljedatabase[[#This Row],[Oljetype]]&\"-\"&Oljedatabase[[#This Row],[SesongNy]]&\"-\"&Oljedatabase[[#This Row],[Vind (m/s)]]&\"-\"&Oljedatabase[[#This Row],[Tidspunkt (timer)]]","v":"Bream 2011-Vinterforhold-10-12"},{"$f":"Oljedatabase[[#This Row],[Sesong]]","v":"Vinterforhold"},5,10,"12",0.59,15800,"Lav/dårlig kjemisk dispergerbarhet",0.19,0.7,0.1,101,"Ingen eksplosjonsfare",26.4,"Lav/dårlig dispergerbarhet","Ja",1.71,"2011-05-24T02:00:00",857,"Vest-Agder til Hordaland",33,6502083,-149887,"Bream 2011 Forvitringsrapport.pdf"]
["Brynhild 2015","Sommerforhold",{"$f":"Oljedatabase[[#This Row],[Oljetype]]&\"-\"&Oljedatabase[[#This Row],[SesongNy]]&\"-\"&Oljedatabase[[#This Row],[Vind (m/s)]]&\"-\"&Oljedatabase[[#This Row],[Tidspunkt (timer)]]","v":"Brynhild 2015-Sommerforhold-2-120"},{"$f":"Oljedatabase[[#This Row],[Sesong]]","v":"Sommerforhold"},15,2,"120",0.7,23500,"Redusert kjemisk dispergerbarhet",0.24,0.75,0,108,"Ingen eksplosjonsfare",8,"Kjemisk dispergerbar","Ja",2.5499999999999998,"2015-08-25T02:00:00",880,"Vest-Agder til Hordaland",29,6443576,-258445,"Brynhild 2015 Forvitringsrapport.pdf"]
["Brynhild 2015","Sommerforhold",{"$f":"Oljedatabase[[#This Row],[Oljetype]]&\"-\"&Oljedatabase[[#This Row],[SesongNy]]&\"-\"&Oljedatabase[[#This Row],[Vind (m/s)]]&\"-\"&Oljedatabase[[#This Row],[Tidspunkt (timer)]]","v":"Brynhild 2015-Sommerforhold-5-96"},{"$f":"Oljedatabase[[#This Row],[Sesong]]","v":"Sommerforhold"},15,5,"96",0.75,57100,"Ikke kjemisk dispergerbar",0.26,0.69,0.04,118,"Ingen eksplosjonsfare",9.1999999999999993,"Kjemisk dispergerbar","Ja",2.84,"2015-08-25T02:00:00",880,"Vest-Agder til Hordaland",29,6443576,-258445,"Brynhild 2015 Forvitringsrapport.pdf"]
["Bream 2011","Sommerforhold",{"$f":"Oljedatabase[[#This Row],[Oljetype]]&\"-\"&Oljedatabase[[#This Row],[SesongNy]]&\"-\"&Oljedatabase[[#This Row],[Vind (m/s)]]&\"-\"&Oljedatabase[[#This Row],[Tidspunkt (timer)]]","v":"Bream 2011-Sommerforhold-5-9"},{"$f":"Oljedatabase[[#This Row],[Sesong]]","v":"Sommerforhold"},15,5,"9",0.35,4290,"Redusert kjemisk dispergerbarhet",0.2,0.79,0,91,"Ingen eksplosjonsfare",25.5,"Redusert kjemisk dispergerbarhet","Nei",1.23,"2011-05-24T02:00:00",857,"Vest-Agder til Hordaland",33,6502083,-149887,"Bream 2011 Forvitringsrapport.pdf"]
["Bream 2011","Sommerforhold",{"$f":"Oljedatabase[[#This Row],[Oljetype]]&\"-\"&Oljedatabase[[#This Row],[SesongNy]]&\"-\"&Oljedatabase[[#This Row],[Vind (m/s)]]&\"-\"&Oljedatabase[[#This Row],[Tidspunkt (timer)]]","v":"Bream 2011-Sommerforhold-2-96"},{"$f":"Oljedatabase[[#This Row],[Sesong]]","v":"Sommerforhold"},15,2,"96",0.6,9050,"Redusert kjemisk dispergerbarhet",0.26,0.73,0,118,"Ingen eksplosjonsfare",27.9,"Redusert kjemisk dispergerbarhet","Nei",1.84,"2011-05-24T02:00:00",857,"Vest-Agder til Hordaland",33,6502083,-149887,"Bream 2011 Forvitringsrapport.pdf"]
["Brynhild 2015","Sommerforhold",{"$f":"Oljedatabase[[#This Row],[Oljetype]]&\"-\"&Oljedatabase[[#This Row],[SesongNy]]&\"-\"&Oljedatabase[[#This Row],[Vind (m/s)]]&\"-\"&Oljedatabase[[#This Row],[Tidspunkt (timer)]]","v":"Brynhild 2015-Sommerforhold-2-24"},{"$f":"Oljedatabase[[#This Row],[Sesong]]","v":"Sommerforhold"},15,2,"24",0.31,994,"Kjemisk dispergerbar",0.19,0.8,0,84,"Ingen eksplosjonsfare",5.0999999999999996,"Kjemisk dispergerbar","Nei",1.17,"2015-08-25T02:00:00",880,"Vest-Agder til Hordaland",29,6443576,-258445,"Brynhild 2015 Forvitringsrapport.pdf"]
["Brynhild 2015","Vinterforhold",{"$f":"Oljedatabase[[#This Row],[Oljetype]]&\"-\"&Oljedatabase[[#This Row],[SesongNy]]&\"-\"&Oljedatabase[[#This Row],[Vind (m/s)]]&\"-\"&Oljedatabase[[#This Row],[Tidspunkt (timer)]]","v":"Brynhild 2015-Vinterforhold-10-1"},{"$f":"Oljedatabase[[#This Row],[Sesong]]","v":"Vinterforhold"},5,10,"1",0.19,497,"Kjemisk dispergerbar",0.12,0.84,0.02,54,"Eksplosjonsfare ved tanking",1.2,"Kjemisk dispergerbar","Nei",1.04,"2015-08-25T02:00:00",880,"Vest-Agder til Hordaland",29,6443576,-258445,"Brynhild 2015 Forvitringsrapport.pdf"]
["Bream 2011","Vinterforhold",{"$f":"Oljedatabase[[#This Row],[Oljetype]]&\"-\"&Oljedatabase[[#This Row],[SesongNy]]&\"-\"&Oljedatabase[[#This Row],[Vind (m/s)]]&\"-\"&Oljedatabase[[#This Row],[Tidspunkt (timer)]]","v":"Bream 2011-Vinterforhold-15-96"},{"$f":"Oljedatabase[[#This Row],[Sesong]]","v":"Vinterforhold"},5,15,"96",0.61,42400,"Lav/dårlig kjemisk dispergerbarhet",0.23,0,0.76,148,"Ingen eksplosjonsfare",30.2,"Lav/dårlig dispergerbarhet","Ja",0,"2011-05-24T02:00:00",857,"Vest-Agder til Hordaland",33,6502083,-149887,"Bream 2011 Forvitringsrapport.pdf"]
["Bream 2011","Sommerforhold",{"$f":"Oljedatabase[[#This Row],[Oljetype]]&\"-\"&Oljedatabase[[#This Row],[SesongNy]]&\"-\"&Oljedatabase[[#This Row],[Vind (m/s)]]&\"-\"&Oljedatabase[[#This Row],[Tidspunkt (timer)]]","v":"Bream 2011-Sommerforhold-5-1"},{"$f":"Oljedatabase[[#This Row],[Sesong]]","v":"Sommerforhold"},15,5,"1",0.05,1270,"Kjemisk dispergerbar",0.09,0.9,0,48,"Eksplosjonsfare ved tanking",21.5,"Redusert kjemisk dispergerbarhet","Nei",0.95,"2011-05-24T02:00:00",857,"Vest-Agder til Hordaland",33,6502083,-149887,"Bream 2011 Forvitringsrapport.pdf"]
["Bream 2011","Sommerforhold",{"$f":"Oljedatabase[[#This Row],[Oljetype]]&\"-\"&Oljedatabase[[#This Row],[SesongNy]]&\"-\"&Oljedatabase[[#This Row],[Vind (m/s)]]&\"-\"&Oljedatabase[[#This Row],[Tidspunkt (timer)]]","v":"Bream 2011-Sommerforhold-10-2"},{"$f":"Oljedatabase[[#This Row],[Sesong]]","v":"Sommerforhold"},15,10,"2",0.28000000000000003,2930,"Kjemisk dispergerbar",0.13,0.84,0.01,76,"Ingen eksplosjonsfare",24.1,"Redusert kjemisk dispergerbarhet","Nei",1.18,"2011-05-24T02:00:00",857,"Vest-Agder til Hordaland",33,6502083,-149887,"Bream 2011 Forvitringsrapport.pdf"]
["Brynhild 2015","Sommerforhold",{"$f":"Oljedatabase[[#This Row],[Oljetype]]&\"-\"&Oljedatabase[[#This Row],[SesongNy]]&\"-\"&Oljedatabase[[#This Row],[Vind (m/s)]]&\"-\"&Oljedatabase[[#This Row],[Tidspunkt (timer)]]","v":"Brynhild 2015-Sommerforhold-10-6"},{"$f":"Oljedatabase[[#This Row],[Sesong]]","v":"Sommerforhold"},15,10,"6",0.63,8100,"Redusert kjemisk dispergerbarhet",0.2,0.66,0.12,92,"Ingen eksplosjonsfare",6.1,"Kjemisk dispergerbar","Nei",1.84,"2015-08-25T02:00:00",880,"Vest-Agder til Hordaland",29,6443576,-258445,"Brynhild 2015 Forvitringsrapport.pdf"]
["Brynhild 2015","Vinterforhold",{"$f":"Oljedatabase[[#This Row],[Oljetype]]&\"-\"&Oljedatabase[[#This Row],[SesongNy]]&\"-\"&Oljedatabase[[#This Row],[Vind (m/s)]]&\"-\"&Oljedatabase[[#This Row],[Tidspunkt (timer)]]","v":"Brynhild 2015-Vinterforhold-2-1"},{"$f":"Oljedatabase[[#This Row],[Sesong]]","v":"Vinterforhold"},5,2,"1",0.01,133,"Kjemisk dispergerbar",0.06,0.93,0,29,"Eksplosjonsfare ved tanking",-2.4,"Kjemisk dispergerbar","Nei",0.95,"2015-08-25T02:00:00",880,"Vest-Agder til Hordaland",29,6443576,-258445,"Brynhild 2015 Forvitringsrapport.pdf"]
["Brynhild 2015","Vinterforhold",{"$f":"Oljedatabase[[#This Row],[Oljetype]]&\"-\"&Oljedatabase[[#This Row],[SesongNy]]&\"-\"&Oljedatabase[[#This Row],[Vind (m/s)]]&\"-\"&Oljedatabase[[#This Row],[Tidspunkt (timer)]]","v":"Brynhild 2015-Vinterforhold-5-6"},{"$f":"Oljedatabase[[#This Row],[Sesong]]","v":"Vinterforhold"},5,5,"6",0.28999999999999998,1050,"Kjemisk dispergerbar",0.15,0.83,0.01,66,"Ingen eksplosjonsfare",2.8,"Kjemisk dispergerbar","Nei",1.19,"2015-08-25T02:00:00",880,"Vest-Agder til Hordaland",29,6443576,-258445,"Brynhild 2015 Forvitringsrapport.pdf"]
["Bream 2011","Vinterforhold",{"$f":"Oljedatabase[[#This Row],[Oljetype]]&\"-\"&Oljedatabase[[#This Row],[SesongNy]]&\"-\"&Oljedatabase[[#This Row],[Vind (m/s)]]&\"-\"&Oljedatabase[[#This Row],[Tidspunkt (timer)]]","v":"Bream 2011-Vinterforhold-10-24"},{"$f":"Oljedatabase[[#This Row],[Sesong]]","v":"Vinterforhold"},5,10,"24",0.6,20900,"Lav/dårlig kjemisk dispergerbarhet",0.21,0.59,0.19,113,"Ingen eksplosjonsfare",27.5,"Lav/dårlig dispergerbarhet","Ja",1.52,"2011-05-24T02:00:00",857,"Vest-Agder til Hordaland",33,6502083,-149887,"Bream 2011 Forvitringsrapport.pdf"]
["Brynhild 2015","Vinterforhold",{"$f":"Oljedatabase[[#This Row],[Oljetype]]&\"-\"&Oljedatabase[[#This Row],[SesongNy]]&\"-\"&Oljedatabase[[#This Row],[Vind (m/s)]]&\"-\"&Oljedatabase[[#This Row],[Tidspunkt (timer)]]","v":"Brynhild 2015-Vinterforhold-10-3"},{"$f":"Oljedatabase[[#This Row],[Sesong]]","v":"Vinterforhold"},5,10,"3",0.43,2150,"Kjemisk dispergerbar",0.16,0.76,7.0000000000000007E-2,71,"Ingen eksplosjonsfare",3.4,"Kjemisk dispergerbar","Nei",1.34,"2015-08-25T02:00:00",880,"Vest-Agder til Hordaland",29,6443576,-258445,"Brynhild 2015 Forvitringsrapport.pdf"]
["Bream 2011","Sommerforhold",{"$f":"Oljedatabase[[#This Row],[Oljetype]]&\"-\"&Oljedatabase[[#This Row],[SesongNy]]&\"-\"&Oljedatabase[[#This Row],[Vind (m/s)]]&\"-\"&Oljedatabase[[#This Row],[Tidspunkt (timer)]]","v":"Bream 2011-Sommerforhold-15-3"},{"$f":"Oljedatabase[[#This Row],[Sesong]]","v":"Sommerforhold"},15,15,"3",0.59,5780,"Redusert kjemisk dispergerbarhet",0.17,0.69,0.12,96,"Ingen eksplosjonsfare",25.9,"Redusert kjemisk dispergerbarhet","Nei",1.71,"2011-05-24T02:00:00",857,"Vest-Agder til Hordaland",33,6502083,-149887,"Bream 2011 Forvitringsrapport.pdf"]
["Brynhild 2015","Sommerforhold",{"$f":"Oljedatabase[[#This Row],[Oljetype]]&\"-\"&Oljedatabase[[#This Row],[SesongNy]]&\"-\"&Oljedatabase[[#This Row],[Vind (m/s)]]&\"-\"&Oljedatabase[[#This Row],[Tidspunkt (timer)]]","v":"Brynhild 2015-Sommerforhold-5-72"},{"$f":"Oljedatabase[[#This Row],[Sesong]]","v":"Sommerforhold"},15,5,"72",0.75,51200,"Ikke kjemisk dispergerbar",0.25,0.7,0.04,113,"Ingen eksplosjonsfare",8.6999999999999993,"Kjemisk dispergerbar","Ja",2.89,"2015-08-25T02:00:00",880,"Vest-Agder til Hordaland",29,6443576,-258445,"Brynhild 2015 Forvitringsrapport.pdf"]
["Bream 2011","Vinterforhold",{"$f":"Oljedatabase[[#This Row],[Oljetype]]&\"-\"&Oljedatabase[[#This Row],[SesongNy]]&\"-\"&Oljedatabase[[#This Row],[Vind (m/s)]]&\"-\"&Oljedatabase[[#This Row],[Tidspunkt (timer)]]","v":"Bream 2011-Vinterforhold-15-1"},{"$f":"Oljedatabase[[#This Row],[Sesong]]","v":"Vinterforhold"},5,15,"1",0.25,4970,"Redusert kjemisk dispergerbarhet",0.1,0.86,0.02,64,"Ingen eksplosjonsfare",23,"Lav/dårlig dispergerbarhet","Nei",1.1599999999999999,"2011-05-24T02:00:00",857,"Vest-Agder til Hordaland",33,6502083,-149887,"Bream 2011 Forvitringsrapport.pdf"]
["Bream 2011","Vinterforhold",{"$f":"Oljedatabase[[#This Row],[Oljetype]]&\"-\"&Oljedatabase[[#This Row],[SesongNy]]&\"-\"&Oljedatabase[[#This Row],[Vind (m/s)]]&\"-\"&Oljedatabase[[#This Row],[Tidspunkt (timer)]]","v":"Bream 2011-Vinterforhold-10-1"},{"$f":"Oljedatabase[[#This Row],[Sesong]]","v":"Vinterforhold"},5,10,"1",0.13,3550,"Kjemisk dispergerbar",0.08,0.9,0,55,"Eksplosjonsfare ved tanking",22.2,"Lav/dårlig dispergerbarhet","Nei",1.04,"2011-05-24T02:00:00",857,"Vest-Agder til Hordaland",33,6502083,-149887,"Bream 2011 Forvitringsrapport.pdf"]
["Brynhild 2015","Sommerforhold",{"$f":"Oljedatabase[[#This Row],[Oljetype]]&\"-\"&Oljedatabase[[#This Row],[SesongNy]]&\"-\"&Oljedatabase[[#This Row],[Vind (m/s)]]&\"-\"&Oljedatabase[[#This Row],[Tidspunkt (timer)]]","v":"Brynhild 2015-Sommerforhold-2-96"},{"$f":"Oljedatabase[[#This Row],[Sesong]]","v":"Sommerforhold"},15,2,"96",0.66,14700,"Redusert kjemisk dispergerbarhet",0.23,0.76,0,104,"Ingen eksplosjonsfare",7.6,"Kjemisk dispergerbar","Ja",2.29,"2015-08-25T02:00:00",880,"Vest-Agder til Hordaland",29,6443576,-258445,"Brynhild 2015 Forvitringsrapport.pdf"]
["Bream 2011","Vinterforhold",{"$f":"Oljedatabase[[#This Row],[Oljetype]]&\"-\"&Oljedatabase[[#This Row],[SesongNy]]&\"-\"&Oljedatabase[[#This Row],[Vind (m/s)]]&\"-\"&Oljedatabase[[#This Row],[Tidspunkt (timer)]]","v":"Bream 2011-Vinterforhold-15-6"},{"$f":"Oljedatabase[[#This Row],[Sesong]]","v":"Vinterforhold"},5,15,"6",0.6,15200,"Lav/dårlig kjemisk dispergerbarhet",0.18,0.57999999999999996,0.22,99,"Ingen eksplosjonsfare",26.2,"Lav/dårlig dispergerbarhet","Ja",1.47,"2011-05-24T02:00:00",857,"Vest-Agder til Hordaland",33,6502083,-149887,"Bream 2011 Forvitringsrapport.pdf"]
["Brynhild 2015","Vinterforhold",{"$f":"Oljedatabase[[#This Row],[Oljetype]]&\"-\"&Oljedatabase[[#This Row],[SesongNy]]&\"-\"&Oljedatabase[[#This Row],[Vind (m/s)]]&\"-\"&Oljedatabase[[#This Row],[Tidspunkt (timer)]]","v":"Brynhild 2015-Vinterforhold-2-2"},{"$f":"Oljedatabase[[#This Row],[Sesong]]","v":"Vinterforhold"},5,2,"2",0.03,199,"Kjemisk dispergerbar",0.09,0.91,0,39,"Eksplosjonsfare ved tanking",-0.9,"Kjemisk dispergerbar","Nei",0.94,"2015-08-25T02:00:00",880,"Vest-Agder til Hordaland",29,6443576,-258445,"Brynhild 2015 Forvitringsrapport.pdf"]
["Brynhild 2015","Sommerforhold",{"$f":"Oljedatabase[[#This Row],[Oljetype]]&\"-\"&Oljedatabase[[#This Row],[SesongNy]]&\"-\"&Oljedatabase[[#This Row],[Vind (m/s)]]&\"-\"&Oljedatabase[[#This Row],[Tidspunkt (timer)]]","v":"Brynhild 2015-Sommerforhold-2-2"},{"$f":"Oljedatabase[[#This Row],[Sesong]]","v":"Sommerforhold"},15,2,"2",0.03,147,"Kjemisk dispergerbar",0.1,0.89,0,46,"Eksplosjonsfare ved tanking",0,"Kjemisk dispergerbar","Nei",0.93,"2015-08-25T02:00:00",880,"Vest-Agder til Hordaland",29,6443576,-258445,"Brynhild 2015 Forvitringsrapport.pdf"]
["Bream 2011","Vinterforhold",{"$f":"Oljedatabase[[#This Row],[Oljetype]]&\"-\"&Oljedatabase[[#This Row],[SesongNy]]&\"-\"&Oljedatabase[[#This Row],[Vind (m/s)]]&\"-\"&Oljedatabase[[#This Row],[Tidspunkt (timer)]]","v":"Bream 2011-Vinterforhold-2-96"},{"$f":"Oljedatabase[[#This Row],[Sesong]]","v":"Vinterforhold"},5,2,"96",0.48,15800,"Lav/dårlig kjemisk dispergerbarhet",0.2,0.79,0,105,"Ingen eksplosjonsfare",26.8,"Lav/dårlig dispergerbarhet","Ja",1.55,"2011-05-24T02:00:00",857,"Vest-Agder til Hordaland",33,6502083,-149887,"Bream 2011 Forvitringsrapport.pdf"]
["Brynhild 2015","Sommerforhold",{"$f":"Oljedatabase[[#This Row],[Oljetype]]&\"-\"&Oljedatabase[[#This Row],[SesongNy]]&\"-\"&Oljedatabase[[#This Row],[Vind (m/s)]]&\"-\"&Oljedatabase[[#This Row],[Tidspunkt (timer)]]","v":"Brynhild 2015-Sommerforhold-5-1"},{"$f":"Oljedatabase[[#This Row],[Sesong]]","v":"Sommerforhold"},15,5,"1",0.06,160,"Kjemisk dispergerbar",0.1,0.89,0,46,"Eksplosjonsfare ved tanking",0.1,"Kjemisk dispergerbar","Nei",0.95,"2015-08-25T02:00:00",880,"Vest-Agder til Hordaland",29,6443576,-258445,"Brynhild 2015 Forvitringsrapport.pdf"]
["Brynhild 2015","Vinterforhold",{"$f":"Oljedatabase[[#This Row],[Oljetype]]&\"-\"&Oljedatabase[[#This Row],[SesongNy]]&\"-\"&Oljedatabase[[#This Row],[Vind (m/s)]]&\"-\"&Oljedatabase[[#This Row],[Tidspunkt (timer)]]","v":"Brynhild 2015-Vinterforhold-2-96"},{"$f":"Oljedatabase[[#This Row],[Sesong]]","v":"Vinterforhold"},5,2,"96",0.62,14500,"Redusert kjemisk dispergerbarhet",0.21,0.78,0,92,"Ingen eksplosjonsfare",6.1,"Kjemisk dispergerbar","Ja",2.1,"2015-08-25T02:00:00",880,"Vest-Agder til Hordaland",29,6443576,-258445,"Brynhild 2015 Forvitringsrapport.pdf"]
["Bream 2011","Vinterforhold",{"$f":"Oljedatabase[[#This Row],[Oljetype]]&\"-\"&Oljedatabase[[#This Row],[SesongNy]]&\"-\"&Oljedatabase[[#This Row],[Vind (m/s)]]&\"-\"&Oljedatabase[[#This Row],[Tidspunkt (timer)]]","v":"Bream 2011-Vinterforhold-2-48"},{"$f":"Oljedatabase[[#This Row],[Sesong]]","v":"Vinterforhold"},5,2,"48",0.33,11000,"Redusert kjemisk dispergerbarhet",0.18,0.81,0,94,"Ingen eksplosjonsfare",25.8,"Lav/dårlig dispergerbarhet","Ja",1.22,"2011-05-24T02:00:00",857,"Vest-Agder til Hordaland",33,6502083,-149887,"Bream 2011 Forvitringsrapport.pdf"]
["Bøyla 2016","Sommerforhold",{"$f":"Oljedatabase[[#This Row],[Oljetype]]&\"-\"&Oljedatabase[[#This Row],[SesongNy]]&\"-\"&Oljedatabase[[#This Row],[Vind (m/s)]]&\"-\"&Oljedatabase[[#This Row],[Tidspunkt (timer)]]","v":"Bøyla 2016-Sommerforhold-10-48"},{"$f":"Oljedatabase[[#This Row],[Sesong]]","v":"Sommerforhold"},15,10,"48",0.77,18000,"Redusert kjemisk dispergerbarhet",0.26,0.36,0.37,134,"Ingen eksplosjonsfare",12.9,"Kjemisk dispergerbar","Ja",1.57,"2016-01-27T01:00:00",874,"Vest-Agder til Hordaland",30,6652496,-245846,"Bøyla 2016 Forvitringsrapport.pdf"]
["Bream 2011","Vinterforhold",{"$f":"Oljedatabase[[#This Row],[Oljetype]]&\"-\"&Oljedatabase[[#This Row],[SesongNy]]&\"-\"&Oljedatabase[[#This Row],[Vind (m/s)]]&\"-\"&Oljedatabase[[#This Row],[Tidspunkt (timer)]]","v":"Bream 2011-Vinterforhold-10-6"},{"$f":"Oljedatabase[[#This Row],[Sesong]]","v":"Vinterforhold"},5,10,"6",0.47,10700,"Redusert kjemisk dispergerbarhet",0.16,0.78,0.04,88,"Ingen eksplosjonsfare",25.3,"Lav/dårlig dispergerbarhet","Ja",1.51,"2011-05-24T02:00:00",857,"Vest-Agder til Hordaland",33,6502083,-149887,"Bream 2011 Forvitringsrapport.pdf"]
["Bream 2011","Sommerforhold",{"$f":"Oljedatabase[[#This Row],[Oljetype]]&\"-\"&Oljedatabase[[#This Row],[SesongNy]]&\"-\"&Oljedatabase[[#This Row],[Vind (m/s)]]&\"-\"&Oljedatabase[[#This Row],[Tidspunkt (timer)]]","v":"Bream 2011-Sommerforhold-5-2"},{"$f":"Oljedatabase[[#This Row],[Sesong]]","v":"Sommerforhold"},15,5,"2",0.09,1760,"Kjemisk dispergerbar",0.12,0.87,0,60,"Ingen eksplosjonsfare",22.7,"Redusert kjemisk dispergerbarhet","Nei",0.96,"2011-05-24T02:00:00",857,"Vest-Agder til Hordaland",33,6502083,-149887,"Bream 2011 Forvitringsrapport.pdf"]
["Brynhild 2015","Sommerforhold",{"$f":"Oljedatabase[[#This Row],[Oljetype]]&\"-\"&Oljedatabase[[#This Row],[SesongNy]]&\"-\"&Oljedatabase[[#This Row],[Vind (m/s)]]&\"-\"&Oljedatabase[[#This Row],[Tidspunkt (timer)]]","v":"Brynhild 2015-Sommerforhold-15-12"},{"$f":"Oljedatabase[[#This Row],[Sesong]]","v":"Sommerforhold"},15,15,"12",0.75,52200,"Ikke kjemisk dispergerbar",0.23,0.31,0.45,113,"Ingen eksplosjonsfare",8.6,"Kjemisk dispergerbar","Ja",1.32,"2015-08-25T02:00:00",880,"Vest-Agder til Hordaland",29,6443576,-258445,"Brynhild 2015 Forvitringsrapport.pdf"]
["Bream 2011","Vinterforhold",{"$f":"Oljedatabase[[#This Row],[Oljetype]]&\"-\"&Oljedatabase[[#This Row],[SesongNy]]&\"-\"&Oljedatabase[[#This Row],[Vind (m/s)]]&\"-\"&Oljedatabase[[#This Row],[Tidspunkt (timer)]]","v":"Bream 2011-Vinterforhold-5-120"},{"$f":"Oljedatabase[[#This Row],[Sesong]]","v":"Vinterforhold"},5,5,"120",0.6,25200,"Lav/dårlig kjemisk dispergerbarhet",0.23,0.7,0.05,122,"Ingen eksplosjonsfare",28.2,"Lav/dårlig dispergerbarhet","Ja",1.77,"2011-05-24T02:00:00",857,"Vest-Agder til Hordaland",33,6502083,-149887,"Bream 2011 Forvitringsrapport.pdf"]
["Bream 2011","Sommerforhold",{"$f":"Oljedatabase[[#This Row],[Oljetype]]&\"-\"&Oljedatabase[[#This Row],[SesongNy]]&\"-\"&Oljedatabase[[#This Row],[Vind (m/s)]]&\"-\"&Oljedatabase[[#This Row],[Tidspunkt (timer)]]","v":"Bream 2011-Sommerforhold-2-120"},{"$f":"Oljedatabase[[#This Row],[Sesong]]","v":"Sommerforhold"},15,2,"120",0.65,10100,"Redusert kjemisk dispergerbarhet",0.27,0.72,0,122,"Ingen eksplosjonsfare",28.2,"Redusert kjemisk dispergerbarhet","Ja",2.08,"2011-05-24T02:00:00",857,"Vest-Agder til Hordaland",33,6502083,-149887,"Bream 2011 Forvitringsrapport.pdf"]
["Brynhild 2015","Vinterforhold",{"$f":"Oljedatabase[[#This Row],[Oljetype]]&\"-\"&Oljedatabase[[#This Row],[SesongNy]]&\"-\"&Oljedatabase[[#This Row],[Vind (m/s)]]&\"-\"&Oljedatabase[[#This Row],[Tidspunkt (timer)]]","v":"Brynhild 2015-Vinterforhold-2-120"},{"$f":"Oljedatabase[[#This Row],[Sesong]]","v":"Vinterforhold"},5,2,"120",0.66,21600,"Redusert kjemisk dispergerbarhet",0.21,0.77,0,95,"Ingen eksplosjonsfare",6.5,"Kjemisk dispergerbar","Ja",2.29,"2015-08-25T02:00:00",880,"Vest-Agder til Hordaland",29,6443576,-258445,"Brynhild 2015 Forvitringsrapport.pdf"]
["Bream 2011","Vinterforhold",{"$f":"Oljedatabase[[#This Row],[Oljetype]]&\"-\"&Oljedatabase[[#This Row],[SesongNy]]&\"-\"&Oljedatabase[[#This Row],[Vind (m/s)]]&\"-\"&Oljedatabase[[#This Row],[Tidspunkt (timer)]]","v":"Bream 2011-Vinterforhold-15-2"},{"$f":"Oljedatabase[[#This Row],[Sesong]]","v":"Vinterforhold"},5,15,"2",0.4,7710,"Redusert kjemisk dispergerbarhet",0.13,0.8,0.06,76,"Ingen eksplosjonsfare",24.2,"Lav/dårlig dispergerbarhet","Nei",1.35,"2011-05-24T02:00:00",857,"Vest-Agder til Hordaland",33,6502083,-149887,"Bream 2011 Forvitringsrapport.pdf"]
["Brynhild 2015","Vinterforhold",{"$f":"Oljedatabase[[#This Row],[Oljetype]]&\"-\"&Oljedatabase[[#This Row],[SesongNy]]&\"-\"&Oljedatabase[[#This Row],[Vind (m/s)]]&\"-\"&Oljedatabase[[#This Row],[Tidspunkt (timer)]]","v":"Brynhild 2015-Vinterforhold-15-96"},{"$f":"Oljedatabase[[#This Row],[Sesong]]","v":"Vinterforhold"},5,15,"96",0.71,98600,"Ikke kjemisk dispergerbar",0.23,0.02,0.75,130,"Ingen eksplosjonsfare",10.6,"Redusert kjemisk dispergerbarhet","Ja",7.0000000000000007E-2,"2015-08-25T02:00:00",880,"Vest-Agder til Hordaland",29,6443576,-258445,"Brynhild 2015 Forvitringsrapport.pdf"]
["Brynhild 2015","Sommerforhold",{"$f":"Oljedatabase[[#This Row],[Oljetype]]&\"-\"&Oljedatabase[[#This Row],[SesongNy]]&\"-\"&Oljedatabase[[#This Row],[Vind (m/s)]]&\"-\"&Oljedatabase[[#This Row],[Tidspunkt (timer)]]","v":"Brynhild 2015-Sommerforhold-10-48"},{"$f":"Oljedatabase[[#This Row],[Sesong]]","v":"Sommerforhold"},15,10,"48",0.75,67800,"Ikke kjemisk dispergerbar",0.26,0.44,0.28999999999999998,124,"Ingen eksplosjonsfare",9.9,"Kjemisk dispergerbar","Ja",1.85,"2015-08-25T02:00:00",880,"Vest-Agder til Hordaland",29,6443576,-258445,"Brynhild 2015 Forvitringsrapport.pdf"]
["Brynhild 2015","Sommerforhold",{"$f":"Oljedatabase[[#This Row],[Oljetype]]&\"-\"&Oljedatabase[[#This Row],[SesongNy]]&\"-\"&Oljedatabase[[#This Row],[Vind (m/s)]]&\"-\"&Oljedatabase[[#This Row],[Tidspunkt (timer)]]","v":"Brynhild 2015-Sommerforhold-15-120"},{"$f":"Oljedatabase[[#This Row],[Sesong]]","v":"Sommerforhold"},15,15,"120",0.75,143000,"Ikke kjemisk dispergerbar",0.25,0,0.73,154,"Ingen eksplosjonsfare",13.3,"Kjemisk dispergerbar","Ja",0.04,"2015-08-25T02:00:00",880,"Vest-Agder til Hordaland",29,6443576,-258445,"Brynhild 2015 Forvitringsrapport.pdf"]
["Bream 2011","Sommerforhold",{"$f":"Oljedatabase[[#This Row],[Oljetype]]&\"-\"&Oljedatabase[[#This Row],[SesongNy]]&\"-\"&Oljedatabase[[#This Row],[Vind (m/s)]]&\"-\"&Oljedatabase[[#This Row],[Tidspunkt (timer)]]","v":"Bream 2011-Sommerforhold-15-2"},{"$f":"Oljedatabase[[#This Row],[Sesong]]","v":"Sommerforhold"},15,15,"2",0.48,4390,"Redusert kjemisk dispergerbarhet",0.16,0.76,7.0000000000000007E-2,87,"Ingen eksplosjonsfare",25.1,"Redusert kjemisk dispergerbarhet","Nei",1.47,"2011-05-24T02:00:00",857,"Vest-Agder til Hordaland",33,6502083,-149887,"Bream 2011 Forvitringsrapport.pdf"]
["Brynhild 2015","Sommerforhold",{"$f":"Oljedatabase[[#This Row],[Oljetype]]&\"-\"&Oljedatabase[[#This Row],[SesongNy]]&\"-\"&Oljedatabase[[#This Row],[Vind (m/s)]]&\"-\"&Oljedatabase[[#This Row],[Tidspunkt (timer)]]","v":"Brynhild 2015-Sommerforhold-2-1"},{"$f":"Oljedatabase[[#This Row],[Sesong]]","v":"Sommerforhold"},15,2,"1",0.01,99,"Kjemisk dispergerbar",7.0000000000000007E-2,0.92,0,34,"Eksplosjonsfare ved tanking",-1.6,"Kjemisk dispergerbar","Nei",0.94,"2015-08-25T02:00:00",880,"Vest-Agder til Hordaland",29,6443576,-258445,"Brynhild 2015 Forvitringsrapport.pdf"]
["Brynhild 2015","Vinterforhold",{"$f":"Oljedatabase[[#This Row],[Oljetype]]&\"-\"&Oljedatabase[[#This Row],[SesongNy]]&\"-\"&Oljedatabase[[#This Row],[Vind (m/s)]]&\"-\"&Oljedatabase[[#This Row],[Tidspunkt (timer)]]","v":"Brynhild 2015-Vinterforhold-5-48"},{"$f":"Oljedatabase[[#This Row],[Sesong]]","v":"Vinterforhold"},5,5,"48",0.7,33600,"Redusert kjemisk dispergerbarhet",0.21,0.75,0.03,95,"Ingen eksplosjonsfare",6.5,"Kjemisk dispergerbar","Ja",2.5299999999999998,"2015-08-25T02:00:00",880,"Vest-Agder til Hordaland",29,6443576,-258445,"Brynhild 2015 Forvitringsrapport.pdf"]
["Bream 2011","Vinterforhold",{"$f":"Oljedatabase[[#This Row],[Oljetype]]&\"-\"&Oljedatabase[[#This Row],[SesongNy]]&\"-\"&Oljedatabase[[#This Row],[Vind (m/s)]]&\"-\"&Oljedatabase[[#This Row],[Tidspunkt (timer)]]","v":"Bream 2011-Vinterforhold-15-120"},{"$f":"Oljedatabase[[#This Row],[Sesong]]","v":"Vinterforhold"},5,15,"120",0.61,46300,"Lav/dårlig kjemisk dispergerbarhet",0.23,0,0.76,152,"Ingen eksplosjonsfare",30.6,"Lav/dårlig dispergerbarhet","Ja",0,"2011-05-24T02:00:00",857,"Vest-Agder til Hordaland",33,6502083,-149887,"Bream 2011 Forvitringsrapport.pdf"]
["Brynhild 2015","Sommerforhold",{"$f":"Oljedatabase[[#This Row],[Oljetype]]&\"-\"&Oljedatabase[[#This Row],[SesongNy]]&\"-\"&Oljedatabase[[#This Row],[Vind (m/s)]]&\"-\"&Oljedatabase[[#This Row],[Tidspunkt (timer)]]","v":"Brynhild 2015-Sommerforhold-15-1"},{"$f":"Oljedatabase[[#This Row],[Sesong]]","v":"Sommerforhold"},15,15,"1",0.35,914,"Kjemisk dispergerbar",0.16,0.67,0.15,74,"Ingen eksplosjonsfare",3.8,"Kjemisk dispergerbar","Nei",1.06,"2015-08-25T02:00:00",880,"Vest-Agder til Hordaland",29,6443576,-258445,"Brynhild 2015 Forvitringsrapport.pdf"]
["Brynhild 2015","Vinterforhold",{"$f":"Oljedatabase[[#This Row],[Oljetype]]&\"-\"&Oljedatabase[[#This Row],[SesongNy]]&\"-\"&Oljedatabase[[#This Row],[Vind (m/s)]]&\"-\"&Oljedatabase[[#This Row],[Tidspunkt (timer)]]","v":"Brynhild 2015-Vinterforhold-5-12"},{"$f":"Oljedatabase[[#This Row],[Sesong]]","v":"Vinterforhold"},5,5,"12",0.47,3120,"Kjemisk dispergerbar",0.17,0.8,0.01,76,"Ingen eksplosjonsfare",4.0999999999999996,"Kjemisk dispergerbar","Nei",1.53,"2015-08-25T02:00:00",880,"Vest-Agder til Hordaland",29,6443576,-258445,"Brynhild 2015 Forvitringsrapport.pdf"]
["Brynhild 2015","Vinterforhold",{"$f":"Oljedatabase[[#This Row],[Oljetype]]&\"-\"&Oljedatabase[[#This Row],[SesongNy]]&\"-\"&Oljedatabase[[#This Row],[Vind (m/s)]]&\"-\"&Oljedatabase[[#This Row],[Tidspunkt (timer)]]","v":"Brynhild 2015-Vinterforhold-10-9"},{"$f":"Oljedatabase[[#This Row],[Sesong]]","v":"Vinterforhold"},5,10,"9",0.67,19000,"Redusert kjemisk dispergerbarhet",0.19,0.66,0.13,87,"Ingen eksplosjonsfare",5.4,"Kjemisk dispergerbar","Ja",2.0499999999999998,"2015-08-25T02:00:00",880,"Vest-Agder til Hordaland",29,6443576,-258445,"Brynhild 2015 Forvitringsrapport.pdf"]
["Bream 2011","Sommerforhold",{"$f":"Oljedatabase[[#This Row],[Oljetype]]&\"-\"&Oljedatabase[[#This Row],[SesongNy]]&\"-\"&Oljedatabase[[#This Row],[Vind (m/s)]]&\"-\"&Oljedatabase[[#This Row],[Tidspunkt (timer)]]","v":"Bream 2011-Sommerforhold-10-6"},{"$f":"Oljedatabase[[#This Row],[Sesong]]","v":"Sommerforhold"},15,10,"6",0.56999999999999995,6180,"Redusert kjemisk dispergerbarhet",0.19,0.74,0.06,100,"Ingen eksplosjonsfare",26.3,"Redusert kjemisk dispergerbarhet","Nei",1.77,"2011-05-24T02:00:00",857,"Vest-Agder til Hordaland",33,6502083,-149887,"Bream 2011 Forvitringsrapport.pdf"]
["Brynhild 2015","Sommerforhold",{"$f":"Oljedatabase[[#This Row],[Oljetype]]&\"-\"&Oljedatabase[[#This Row],[SesongNy]]&\"-\"&Oljedatabase[[#This Row],[Vind (m/s)]]&\"-\"&Oljedatabase[[#This Row],[Tidspunkt (timer)]]","v":"Brynhild 2015-Sommerforhold-10-9"},{"$f":"Oljedatabase[[#This Row],[Sesong]]","v":"Sommerforhold"},15,10,"9",0.71,20300,"Redusert kjemisk dispergerbarhet",0.22,0.63,0.14000000000000001,99,"Ingen eksplosjonsfare",6.9,"Kjemisk dispergerbar","Ja",2.2000000000000002,"2015-08-25T02:00:00",880,"Vest-Agder til Hordaland",29,6443576,-258445,"Brynhild 2015 Forvitringsrapport.pdf"]
["Brynhild 2015","Sommerforhold",{"$f":"Oljedatabase[[#This Row],[Oljetype]]&\"-\"&Oljedatabase[[#This Row],[SesongNy]]&\"-\"&Oljedatabase[[#This Row],[Vind (m/s)]]&\"-\"&Oljedatabase[[#This Row],[Tidspunkt (timer)]]","v":"Brynhild 2015-Sommerforhold-2-3"},{"$f":"Oljedatabase[[#This Row],[Sesong]]","v":"Sommerforhold"},15,2,"3",0.05,187,"Kjemisk dispergerbar",0.12,0.87,0,52,"Eksplosjonsfare ved tanking",1,"Kjemisk dispergerbar","Nei",0.92,"2015-08-25T02:00:00",880,"Vest-Agder til Hordaland",29,6443576,-258445,"Brynhild 2015 Forvitringsrapport.pdf"]
["Brynhild 2015","Vinterforhold",{"$f":"Oljedatabase[[#This Row],[Oljetype]]&\"-\"&Oljedatabase[[#This Row],[SesongNy]]&\"-\"&Oljedatabase[[#This Row],[Vind (m/s)]]&\"-\"&Oljedatabase[[#This Row],[Tidspunkt (timer)]]","v":"Brynhild 2015-Vinterforhold-5-2"},{"$f":"Oljedatabase[[#This Row],[Sesong]]","v":"Vinterforhold"},5,5,"2",0.12,359,"Kjemisk dispergerbar",0.11,0.88,0,50,"Eksplosjonsfare ved tanking",0.6,"Kjemisk dispergerbar","Nei",1,"2015-08-25T02:00:00",880,"Vest-Agder til Hordaland",29,6443576,-258445,"Brynhild 2015 Forvitringsrapport.pdf"]
["Bøyla 2016","Sommerforhold",{"$f":"Oljedatabase[[#This Row],[Oljetype]]&\"-\"&Oljedatabase[[#This Row],[SesongNy]]&\"-\"&Oljedatabase[[#This Row],[Vind (m/s)]]&\"-\"&Oljedatabase[[#This Row],[Tidspunkt (timer)]]","v":"Bøyla 2016-Sommerforhold-10-24"},{"$f":"Oljedatabase[[#This Row],[Sesong]]","v":"Sommerforhold"},15,10,"24",0.75,12700,"Redusert kjemisk dispergerbarhet",0.24,0.49,0.26,122,"Ingen eksplosjonsfare",10.5,"Kjemisk dispergerbar","Ja",2.0299999999999998,"2016-01-27T01:00:00",874,"Vest-Agder til Hordaland",30,6652496,-245846,"Bøyla 2016 Forvitringsrapport.pdf"]
["Bøyla 2016","Sommerforhold",{"$f":"Oljedatabase[[#This Row],[Oljetype]]&\"-\"&Oljedatabase[[#This Row],[SesongNy]]&\"-\"&Oljedatabase[[#This Row],[Vind (m/s)]]&\"-\"&Oljedatabase[[#This Row],[Tidspunkt (timer)]]","v":"Bøyla 2016-Sommerforhold-10-72"},{"$f":"Oljedatabase[[#This Row],[Sesong]]","v":"Sommerforhold"},15,10,"72",0.77,21400,"Redusert kjemisk dispergerbarhet",0.27,0.27,0.45,142,"Ingen eksplosjonsfare",14.3,"Kjemisk dispergerbar","Ja",1.2,"2016-01-27T01:00:00",874,"Vest-Agder til Hordaland",30,6652496,-245846,"Bøyla 2016 Forvitringsrapport.pdf"]
["Bream 2011","Vinterforhold",{"$f":"Oljedatabase[[#This Row],[Oljetype]]&\"-\"&Oljedatabase[[#This Row],[SesongNy]]&\"-\"&Oljedatabase[[#This Row],[Vind (m/s)]]&\"-\"&Oljedatabase[[#This Row],[Tidspunkt (timer)]]","v":"Bream 2011-Vinterforhold-10-3"},{"$f":"Oljedatabase[[#This Row],[Sesong]]","v":"Vinterforhold"},5,10,"3",0.32,6770,"Redusert kjemisk dispergerbarhet",0.13,0.84,0.02,74,"Ingen eksplosjonsfare",24,"Lav/dårlig dispergerbarhet","Nei",1.24,"2011-05-24T02:00:00",857,"Vest-Agder til Hordaland",33,6502083,-149887,"Bream 2011 Forvitringsrapport.pdf"]
["Brynhild 2015","Vinterforhold",{"$f":"Oljedatabase[[#This Row],[Oljetype]]&\"-\"&Oljedatabase[[#This Row],[SesongNy]]&\"-\"&Oljedatabase[[#This Row],[Vind (m/s)]]&\"-\"&Oljedatabase[[#This Row],[Tidspunkt (timer)]]","v":"Brynhild 2015-Vinterforhold-5-3"},{"$f":"Oljedatabase[[#This Row],[Sesong]]","v":"Vinterforhold"},5,5,"3",0.16,502,"Kjemisk dispergerbar",0.13,0.86,0,56,"Eksplosjonsfare ved tanking",1.5,"Kjemisk dispergerbar","Nei",1.04,"2015-08-25T02:00:00",880,"Vest-Agder til Hordaland",29,6443576,-258445,"Brynhild 2015 Forvitringsrapport.pdf"]
["Brynhild 2015","Vinterforhold",{"$f":"Oljedatabase[[#This Row],[Oljetype]]&\"-\"&Oljedatabase[[#This Row],[SesongNy]]&\"-\"&Oljedatabase[[#This Row],[Vind (m/s)]]&\"-\"&Oljedatabase[[#This Row],[Tidspunkt (timer)]]","v":"Brynhild 2015-Vinterforhold-10-96"},{"$f":"Oljedatabase[[#This Row],[Sesong]]","v":"Vinterforhold"},5,10,"96",0.7,72900,"Ikke kjemisk dispergerbar",0.25,0.33,0.41,120,"Ingen eksplosjonsfare",9.4,"Kjemisk dispergerbar","Ja",1.1499999999999999,"2015-08-25T02:00:00",880,"Vest-Agder til Hordaland",29,6443576,-258445,"Brynhild 2015 Forvitringsrapport.pdf"]
["Bream 2011","Vinterforhold",{"$f":"Oljedatabase[[#This Row],[Oljetype]]&\"-\"&Oljedatabase[[#This Row],[SesongNy]]&\"-\"&Oljedatabase[[#This Row],[Vind (m/s)]]&\"-\"&Oljedatabase[[#This Row],[Tidspunkt (timer)]]","v":"Bream 2011-Vinterforhold-15-72"},{"$f":"Oljedatabase[[#This Row],[Sesong]]","v":"Vinterforhold"},5,15,"72",0.61,38200,"Lav/dårlig kjemisk dispergerbarhet",0.23,0.01,0.75,142,"Ingen eksplosjonsfare",29.8,"Lav/dårlig dispergerbarhet","Ja",0.03,"2011-05-24T02:00:00",857,"Vest-Agder til Hordaland",33,6502083,-149887,"Bream 2011 Forvitringsrapport.pdf"]
["Bream 2011","Vinterforhold",{"$f":"Oljedatabase[[#This Row],[Oljetype]]&\"-\"&Oljedatabase[[#This Row],[SesongNy]]&\"-\"&Oljedatabase[[#This Row],[Vind (m/s)]]&\"-\"&Oljedatabase[[#This Row],[Tidspunkt (timer)]]","v":"Bream 2011-Vinterforhold-5-24"},{"$f":"Oljedatabase[[#This Row],[Sesong]]","v":"Vinterforhold"},5,5,"24",0.5,13400,"Redusert kjemisk dispergerbarhet",0.18,0.8,0.01,97,"Ingen eksplosjonsfare",26.1,"Lav/dårlig dispergerbarhet","Ja",1.61,"2011-05-24T02:00:00",857,"Vest-Agder til Hordaland",33,6502083,-149887,"Bream 2011 Forvitringsrapport.pdf"]
["Bøyla 2016","Sommerforhold",{"$f":"Oljedatabase[[#This Row],[Oljetype]]&\"-\"&Oljedatabase[[#This Row],[SesongNy]]&\"-\"&Oljedatabase[[#This Row],[Vind (m/s)]]&\"-\"&Oljedatabase[[#This Row],[Tidspunkt (timer)]]","v":"Bøyla 2016-Sommerforhold-5-96"},{"$f":"Oljedatabase[[#This Row],[Sesong]]","v":"Sommerforhold"},15,5,"96",0.76,14800,"Redusert kjemisk dispergerbarhet",0.26,0.67,0.06,127,"Ingen eksplosjonsfare",11.6,"Kjemisk dispergerbar","Ja",2.86,"2016-01-27T01:00:00",874,"Vest-Agder til Hordaland",30,6652496,-245846,"Bøyla 2016 Forvitringsrapport.pdf"]
["Bream 2011","Vinterforhold",{"$f":"Oljedatabase[[#This Row],[Oljetype]]&\"-\"&Oljedatabase[[#This Row],[SesongNy]]&\"-\"&Oljedatabase[[#This Row],[Vind (m/s)]]&\"-\"&Oljedatabase[[#This Row],[Tidspunkt (timer)]]","v":"Bream 2011-Vinterforhold-10-48"},{"$f":"Oljedatabase[[#This Row],[Sesong]]","v":"Vinterforhold"},5,10,"48",0.6,26500,"Lav/dårlig kjemisk dispergerbarhet",0.23,0.44,0.32,125,"Ingen eksplosjonsfare",28.4,"Lav/dårlig dispergerbarhet","Ja",1.1399999999999999,"2011-05-24T02:00:00",857,"Vest-Agder til Hordaland",33,6502083,-149887,"Bream 2011 Forvitringsrapport.pdf"]
["Brynhild 2015","Vinterforhold",{"$f":"Oljedatabase[[#This Row],[Oljetype]]&\"-\"&Oljedatabase[[#This Row],[SesongNy]]&\"-\"&Oljedatabase[[#This Row],[Vind (m/s)]]&\"-\"&Oljedatabase[[#This Row],[Tidspunkt (timer)]]","v":"Brynhild 2015-Vinterforhold-5-96"},{"$f":"Oljedatabase[[#This Row],[Sesong]]","v":"Vinterforhold"},5,5,"96",0.7,46000,"Ikke kjemisk dispergerbar",0.23,0.71,0.04,105,"Ingen eksplosjonsfare",7.7,"Kjemisk dispergerbar","Ja",2.44,"2015-08-25T02:00:00",880,"Vest-Agder til Hordaland",29,6443576,-258445,"Brynhild 2015 Forvitringsrapport.pdf"]
["Brynhild 2015","Sommerforhold",{"$f":"Oljedatabase[[#This Row],[Oljetype]]&\"-\"&Oljedatabase[[#This Row],[SesongNy]]&\"-\"&Oljedatabase[[#This Row],[Vind (m/s)]]&\"-\"&Oljedatabase[[#This Row],[Tidspunkt (timer)]]","v":"Brynhild 2015-Sommerforhold-5-3"},{"$f":"Oljedatabase[[#This Row],[Sesong]]","v":"Sommerforhold"},15,5,"3",0.17,383,"Kjemisk dispergerbar",0.15,0.84,0,65,"Ingen eksplosjonsfare",2.7,"Kjemisk dispergerbar","Nei",1.03,"2015-08-25T02:00:00",880,"Vest-Agder til Hordaland",29,6443576,-258445,"Brynhild 2015 Forvitringsrapport.pdf"]
["Brynhild 2015","Vinterforhold",{"$f":"Oljedatabase[[#This Row],[Oljetype]]&\"-\"&Oljedatabase[[#This Row],[SesongNy]]&\"-\"&Oljedatabase[[#This Row],[Vind (m/s)]]&\"-\"&Oljedatabase[[#This Row],[Tidspunkt (timer)]]","v":"Brynhild 2015-Vinterforhold-5-9"},{"$f":"Oljedatabase[[#This Row],[Sesong]]","v":"Vinterforhold"},5,5,"9",0.39,1880,"Kjemisk dispergerbar",0.16,0.82,0.01,72,"Ingen eksplosjonsfare",3.5,"Kjemisk dispergerbar","Nei",1.36,"2015-08-25T02:00:00",880,"Vest-Agder til Hordaland",29,6443576,-258445,"Brynhild 2015 Forvitringsrapport.pdf"]
["Brynhild 2015","Sommerforhold",{"$f":"Oljedatabase[[#This Row],[Oljetype]]&\"-\"&Oljedatabase[[#This Row],[SesongNy]]&\"-\"&Oljedatabase[[#This Row],[Vind (m/s)]]&\"-\"&Oljedatabase[[#This Row],[Tidspunkt (timer)]]","v":"Brynhild 2015-Sommerforhold-15-24"},{"$f":"Oljedatabase[[#This Row],[Sesong]]","v":"Sommerforhold"},15,15,"24",0.75,68100,"Ikke kjemisk dispergerbar",0.24,0.19,0.55000000000000004,123,"Ingen eksplosjonsfare",9.8000000000000007,"Kjemisk dispergerbar","Ja",0.83,"2015-08-25T02:00:00",880,"Vest-Agder til Hordaland",29,6443576,-258445,"Brynhild 2015 Forvitringsrapport.pdf"]
["Bream 2011","Vinterforhold",{"$f":"Oljedatabase[[#This Row],[Oljetype]]&\"-\"&Oljedatabase[[#This Row],[SesongNy]]&\"-\"&Oljedatabase[[#This Row],[Vind (m/s)]]&\"-\"&Oljedatabase[[#This Row],[Tidspunkt (timer)]]","v":"Bream 2011-Vinterforhold-15-3"},{"$f":"Oljedatabase[[#This Row],[Sesong]]","v":"Vinterforhold"},5,15,"3",0.5,10100,"Redusert kjemisk dispergerbarhet",0.15,0.74,0.1,84,"Ingen eksplosjonsfare",24.9,"Lav/dårlig dispergerbarhet","Ja",1.48,"2011-05-24T02:00:00",857,"Vest-Agder til Hordaland",33,6502083,-149887,"Bream 2011 Forvitringsrapport.pdf"]
["Bream 2011","Vinterforhold",{"$f":"Oljedatabase[[#This Row],[Oljetype]]&\"-\"&Oljedatabase[[#This Row],[SesongNy]]&\"-\"&Oljedatabase[[#This Row],[Vind (m/s)]]&\"-\"&Oljedatabase[[#This Row],[Tidspunkt (timer)]]","v":"Bream 2011-Vinterforhold-5-9"},{"$f":"Oljedatabase[[#This Row],[Sesong]]","v":"Vinterforhold"},5,5,"9",0.28000000000000003,7580,"Redusert kjemisk dispergerbarhet",0.14000000000000001,0.84,0,80,"Ingen eksplosjonsfare",24.6,"Lav/dårlig dispergerbarhet","Nei",1.18,"2011-05-24T02:00:00",857,"Vest-Agder til Hordaland",33,6502083,-149887,"Bream 2011 Forvitringsrapport.pdf"]
["Brynhild 2015","Sommerforhold",{"$f":"Oljedatabase[[#This Row],[Oljetype]]&\"-\"&Oljedatabase[[#This Row],[SesongNy]]&\"-\"&Oljedatabase[[#This Row],[Vind (m/s)]]&\"-\"&Oljedatabase[[#This Row],[Tidspunkt (timer)]]","v":"Brynhild 2015-Sommerforhold-15-2"},{"$f":"Oljedatabase[[#This Row],[Sesong]]","v":"Sommerforhold"},15,15,"2",0.54,3420,"Kjemisk dispergerbar",0.19,0.56999999999999995,0.23,85,"Ingen eksplosjonsfare",5.3,"Kjemisk dispergerbar","Nei",1.27,"2015-08-25T02:00:00",880,"Vest-Agder til Hordaland",29,6443576,-258445,"Brynhild 2015 Forvitringsrapport.pdf"]
["Brynhild 2015","Sommerforhold",{"$f":"Oljedatabase[[#This Row],[Oljetype]]&\"-\"&Oljedatabase[[#This Row],[SesongNy]]&\"-\"&Oljedatabase[[#This Row],[Vind (m/s)]]&\"-\"&Oljedatabase[[#This Row],[Tidspunkt (timer)]]","v":"Brynhild 2015-Sommerforhold-5-9"},{"$f":"Oljedatabase[[#This Row],[Sesong]]","v":"Sommerforhold"},15,5,"9",0.41,1510,"Kjemisk dispergerbar",0.19,0.79,0.01,82,"Ingen eksplosjonsfare",4.9000000000000004,"Kjemisk dispergerbar","Nei",1.36,"2015-08-25T02:00:00",880,"Vest-Agder til Hordaland",29,6443576,-258445,"Brynhild 2015 Forvitringsrapport.pdf"]
["Brynhild 2015","Vinterforhold",{"$f":"Oljedatabase[[#This Row],[Oljetype]]&\"-\"&Oljedatabase[[#This Row],[SesongNy]]&\"-\"&Oljedatabase[[#This Row],[Vind (m/s)]]&\"-\"&Oljedatabase[[#This Row],[Tidspunkt (timer)]]","v":"Brynhild 2015-Vinterforhold-10-6"},{"$f":"Oljedatabase[[#This Row],[Sesong]]","v":"Vinterforhold"},5,10,"6",0.6,8670,"Redusert kjemisk dispergerbarhet",0.18,0.7,0.11,81,"Ingen eksplosjonsfare",4.7,"Kjemisk dispergerbar","Nei",1.78,"2015-08-25T02:00:00",880,"Vest-Agder til Hordaland",29,6443576,-258445,"Brynhild 2015 Forvitringsrapport.pdf"]
["Brynhild 2015","Sommerforhold",{"$f":"Oljedatabase[[#This Row],[Oljetype]]&\"-\"&Oljedatabase[[#This Row],[SesongNy]]&\"-\"&Oljedatabase[[#This Row],[Vind (m/s)]]&\"-\"&Oljedatabase[[#This Row],[Tidspunkt (timer)]]","v":"Brynhild 2015-Sommerforhold-10-24"},{"$f":"Oljedatabase[[#This Row],[Sesong]]","v":"Sommerforhold"},15,10,"24",0.75,52000,"Ikke kjemisk dispergerbar",0.24,0.54,0.21,113,"Ingen eksplosjonsfare",8.6999999999999993,"Kjemisk dispergerbar","Ja",2.2400000000000002,"2015-08-25T02:00:00",880,"Vest-Agder til Hordaland",29,6443576,-258445,"Brynhild 2015 Forvitringsrapport.pdf"]
["Brynhild 2015","Sommerforhold",{"$f":"Oljedatabase[[#This Row],[Oljetype]]&\"-\"&Oljedatabase[[#This Row],[SesongNy]]&\"-\"&Oljedatabase[[#This Row],[Vind (m/s)]]&\"-\"&Oljedatabase[[#This Row],[Tidspunkt (timer)]]","v":"Brynhild 2015-Sommerforhold-15-96"},{"$f":"Oljedatabase[[#This Row],[Sesong]]","v":"Sommerforhold"},15,15,"96",0.75,129000,"Ikke kjemisk dispergerbar",0.25,0.02,0.72,149,"Ingen eksplosjonsfare",12.8,"Kjemisk dispergerbar","Ja",0.08,"2015-08-25T02:00:00",880,"Vest-Agder til Hordaland",29,6443576,-258445,"Brynhild 2015 Forvitringsrapport.pdf"]
["Brynhild 2015","Sommerforhold",{"$f":"Oljedatabase[[#This Row],[Oljetype]]&\"-\"&Oljedatabase[[#This Row],[SesongNy]]&\"-\"&Oljedatabase[[#This Row],[Vind (m/s)]]&\"-\"&Oljedatabase[[#This Row],[Tidspunkt (timer)]]","v":"Brynhild 2015-Sommerforhold-10-96"},{"$f":"Oljedatabase[[#This Row],[Sesong]]","v":"Sommerforhold"},15,10,"96",0.75,90800,"Ikke kjemisk dispergerbar",0.27,0.32,0.39,135,"Ingen eksplosjonsfare",11.2,"Kjemisk dispergerbar","Ja",1.33,"2015-08-25T02:00:00",880,"Vest-Agder til Hordaland",29,6443576,-258445,"Brynhild 2015 Forvitringsrapport.pdf"]
["Bøyla 2016","Vinterforhold",{"$f":"Oljedatabase[[#This Row],[Oljetype]]&\"-\"&Oljedatabase[[#This Row],[SesongNy]]&\"-\"&Oljedatabase[[#This Row],[Vind (m/s)]]&\"-\"&Oljedatabase[[#This Row],[Tidspunkt (timer)]]","v":"Bøyla 2016-Vinterforhold-15-3"},{"$f":"Oljedatabase[[#This Row],[Sesong]]","v":"Vinterforhold"},5,15,"3",0.65,5540,"Redusert kjemisk dispergerbarhet",0.16,0.55000000000000004,0.27,85,"Ingen eksplosjonsfare",3.3,"Kjemisk dispergerbar","Nei",1.59,"2016-01-27T01:00:00",874,"Vest-Agder til Hordaland",30,6652496,-245846,"Bøyla 2016 Forvitringsrapport.pdf"]
["Bøyla 2016","Sommerforhold",{"$f":"Oljedatabase[[#This Row],[Oljetype]]&\"-\"&Oljedatabase[[#This Row],[SesongNy]]&\"-\"&Oljedatabase[[#This Row],[Vind (m/s)]]&\"-\"&Oljedatabase[[#This Row],[Tidspunkt (timer)]]","v":"Bøyla 2016-Sommerforhold-5-9"},{"$f":"Oljedatabase[[#This Row],[Sesong]]","v":"Sommerforhold"},15,5,"9",0.53,1770,"Kjemisk dispergerbar",0.18,0.8,0.01,88,"Ingen eksplosjonsfare",3.8,"Kjemisk dispergerbar","Nei",1.73,"2016-01-27T01:00:00",874,"Vest-Agder til Hordaland",30,6652496,-245846,"Bøyla 2016 Forvitringsrapport.pdf"]
["Brynhild 2015","Sommerforhold",{"$f":"Oljedatabase[[#This Row],[Oljetype]]&\"-\"&Oljedatabase[[#This Row],[SesongNy]]&\"-\"&Oljedatabase[[#This Row],[Vind (m/s)]]&\"-\"&Oljedatabase[[#This Row],[Tidspunkt (timer)]]","v":"Brynhild 2015-Sommerforhold-15-48"},{"$f":"Oljedatabase[[#This Row],[Sesong]]","v":"Sommerforhold"},15,15,"48",0.75,91000,"Ikke kjemisk dispergerbar",0.25,0.08,0.66,135,"Ingen eksplosjonsfare",11.2,"Kjemisk dispergerbar","Ja",0.36,"2015-08-25T02:00:00",880,"Vest-Agder til Hordaland",29,6443576,-258445,"Brynhild 2015 Forvitringsrapport.pdf"]
["Bøyla 2016","Sommerforhold",{"$f":"Oljedatabase[[#This Row],[Oljetype]]&\"-\"&Oljedatabase[[#This Row],[SesongNy]]&\"-\"&Oljedatabase[[#This Row],[Vind (m/s)]]&\"-\"&Oljedatabase[[#This Row],[Tidspunkt (timer)]]","v":"Bøyla 2016-Sommerforhold-5-12"},{"$f":"Oljedatabase[[#This Row],[Sesong]]","v":"Sommerforhold"},15,5,"12",0.6,2790,"Kjemisk dispergerbar",0.19,0.79,0.01,92,"Ingen eksplosjonsfare",4.7,"Kjemisk dispergerbar","Nei",2,"2016-01-27T01:00:00",874,"Vest-Agder til Hordaland",30,6652496,-245846,"Bøyla 2016 Forvitringsrapport.pdf"]
["Bøyla 2016","Vinterforhold",{"$f":"Oljedatabase[[#This Row],[Oljetype]]&\"-\"&Oljedatabase[[#This Row],[SesongNy]]&\"-\"&Oljedatabase[[#This Row],[Vind (m/s)]]&\"-\"&Oljedatabase[[#This Row],[Tidspunkt (timer)]]","v":"Bøyla 2016-Vinterforhold-2-9"},{"$f":"Oljedatabase[[#This Row],[Sesong]]","v":"Vinterforhold"},5,2,"9",0.2,434,"Kjemisk dispergerbar",0.12,0.87,0,64,"Ingen eksplosjonsfare",-1.1000000000000001,"Kjemisk dispergerbar","Nei",1.1000000000000001,"2016-01-27T01:00:00",874,"Vest-Agder til Hordaland",30,6652496,-245846,"Bøyla 2016 Forvitringsrapport.pdf"]
["Brynhild 2015","Vinterforhold",{"$f":"Oljedatabase[[#This Row],[Oljetype]]&\"-\"&Oljedatabase[[#This Row],[SesongNy]]&\"-\"&Oljedatabase[[#This Row],[Vind (m/s)]]&\"-\"&Oljedatabase[[#This Row],[Tidspunkt (timer)]]","v":"Brynhild 2015-Vinterforhold-2-24"},{"$f":"Oljedatabase[[#This Row],[Sesong]]","v":"Vinterforhold"},5,2,"24",0.28999999999999998,1280,"Kjemisk dispergerbar",0.17,0.82,0,73,"Ingen eksplosjonsfare",3.7,"Kjemisk dispergerbar","Nei",1.17,"2015-08-25T02:00:00",880,"Vest-Agder til Hordaland",29,6443576,-258445,"Brynhild 2015 Forvitringsrapport.pdf"]
["Brynhild 2015","Vinterforhold",{"$f":"Oljedatabase[[#This Row],[Oljetype]]&\"-\"&Oljedatabase[[#This Row],[SesongNy]]&\"-\"&Oljedatabase[[#This Row],[Vind (m/s)]]&\"-\"&Oljedatabase[[#This Row],[Tidspunkt (timer)]]","v":"Brynhild 2015-Vinterforhold-15-24"},{"$f":"Oljedatabase[[#This Row],[Sesong]]","v":"Vinterforhold"},5,15,"24",0.71,56300,"Ikke kjemisk dispergerbar",0.21,0.21,0.56999999999999995,110,"Ingen eksplosjonsfare",8.3000000000000007,"Kjemisk dispergerbar","Ja",0.73,"2015-08-25T02:00:00",880,"Vest-Agder til Hordaland",29,6443576,-258445,"Brynhild 2015 Forvitringsrapport.pdf"]
["Bream 2011","Vinterforhold",{"$f":"Oljedatabase[[#This Row],[Oljetype]]&\"-\"&Oljedatabase[[#This Row],[SesongNy]]&\"-\"&Oljedatabase[[#This Row],[Vind (m/s)]]&\"-\"&Oljedatabase[[#This Row],[Tidspunkt (timer)]]","v":"Bream 2011-Vinterforhold-15-48"},{"$f":"Oljedatabase[[#This Row],[Sesong]]","v":"Vinterforhold"},5,15,"48",0.61,33200,"Lav/dårlig kjemisk dispergerbarhet",0.23,0.04,0.72,135,"Ingen eksplosjonsfare",29.3,"Lav/dårlig dispergerbarhet","Ja",0.11,"2011-05-24T02:00:00",857,"Vest-Agder til Hordaland",33,6502083,-149887,"Bream 2011 Forvitringsrapport.pdf"]
["Bream 2011","Vinterforhold",{"$f":"Oljedatabase[[#This Row],[Oljetype]]&\"-\"&Oljedatabase[[#This Row],[SesongNy]]&\"-\"&Oljedatabase[[#This Row],[Vind (m/s)]]&\"-\"&Oljedatabase[[#This Row],[Tidspunkt (timer)]]","v":"Bream 2011-Vinterforhold-5-12"},{"$f":"Oljedatabase[[#This Row],[Sesong]]","v":"Vinterforhold"},5,5,"12",0.34,9040,"Redusert kjemisk dispergerbarhet",0.16,0.83,0,85,"Ingen eksplosjonsfare",25,"Lav/dårlig dispergerbarhet","Nei",1.27,"2011-05-24T02:00:00",857,"Vest-Agder til Hordaland",33,6502083,-149887,"Bream 2011 Forvitringsrapport.pdf"]
["Bøyla 2016","Sommerforhold",{"$f":"Oljedatabase[[#This Row],[Oljetype]]&\"-\"&Oljedatabase[[#This Row],[SesongNy]]&\"-\"&Oljedatabase[[#This Row],[Vind (m/s)]]&\"-\"&Oljedatabase[[#This Row],[Tidspunkt (timer)]]","v":"Bøyla 2016-Sommerforhold-2-24"},{"$f":"Oljedatabase[[#This Row],[Sesong]]","v":"Sommerforhold"},15,2,"24",0.43,1170,"Kjemisk dispergerbar",0.18,0.81,0,89,"Ingen eksplosjonsfare",4,"Kjemisk dispergerbar","Nei",1.45,"2016-01-27T01:00:00",874,"Vest-Agder til Hordaland",30,6652496,-245846,"Bøyla 2016 Forvitringsrapport.pdf"]
["Brynhild 2015","Sommerforhold",{"$f":"Oljedatabase[[#This Row],[Oljetype]]&\"-\"&Oljedatabase[[#This Row],[SesongNy]]&\"-\"&Oljedatabase[[#This Row],[Vind (m/s)]]&\"-\"&Oljedatabase[[#This Row],[Tidspunkt (timer)]]","v":"Brynhild 2015-Sommerforhold-10-12"},{"$f":"Oljedatabase[[#This Row],[Sesong]]","v":"Sommerforhold"},15,10,"12",0.74,32600,"Redusert kjemisk dispergerbarhet",0.22,0.61,0.16,103,"Ingen eksplosjonsfare",7.4,"Kjemisk dispergerbar","Ja",2.36,"2015-08-25T02:00:00",880,"Vest-Agder til Hordaland",29,6443576,-258445,"Brynhild 2015 Forvitringsrapport.pdf"]
["Bream 2011","Vinterforhold",{"$f":"Oljedatabase[[#This Row],[Oljetype]]&\"-\"&Oljedatabase[[#This Row],[SesongNy]]&\"-\"&Oljedatabase[[#This Row],[Vind (m/s)]]&\"-\"&Oljedatabase[[#This Row],[Tidspunkt (timer)]]","v":"Bream 2011-Vinterforhold-10-96"},{"$f":"Oljedatabase[[#This Row],[Sesong]]","v":"Vinterforhold"},5,10,"96",0.6,33500,"Lav/dårlig kjemisk dispergerbarhet",0.25,0.26,0.48,136,"Ingen eksplosjonsfare",29.3,"Lav/dårlig dispergerbarhet","Ja",0.68,"2011-05-24T02:00:00",857,"Vest-Agder til Hordaland",33,6502083,-149887,"Bream 2011 Forvitringsrapport.pdf"]
["Brynhild 2015","Vinterforhold",{"$f":"Oljedatabase[[#This Row],[Oljetype]]&\"-\"&Oljedatabase[[#This Row],[SesongNy]]&\"-\"&Oljedatabase[[#This Row],[Vind (m/s)]]&\"-\"&Oljedatabase[[#This Row],[Tidspunkt (timer)]]","v":"Brynhild 2015-Vinterforhold-2-12"},{"$f":"Oljedatabase[[#This Row],[Sesong]]","v":"Vinterforhold"},5,2,"12",0.16,631,"Kjemisk dispergerbar",0.14000000000000001,0.85,0,64,"Ingen eksplosjonsfare",2.5,"Kjemisk dispergerbar","Nei",1.02,"2015-08-25T02:00:00",880,"Vest-Agder til Hordaland",29,6443576,-258445,"Brynhild 2015 Forvitringsrapport.pdf"]
["Brynhild 2015","Vinterforhold",{"$f":"Oljedatabase[[#This Row],[Oljetype]]&\"-\"&Oljedatabase[[#This Row],[SesongNy]]&\"-\"&Oljedatabase[[#This Row],[Vind (m/s)]]&\"-\"&Oljedatabase[[#This Row],[Tidspunkt (timer)]]","v":"Brynhild 2015-Vinterforhold-2-9"},{"$f":"Oljedatabase[[#This Row],[Sesong]]","v":"Vinterforhold"},5,2,"9",0.12,502,"Kjemisk dispergerbar",0.14000000000000001,0.86,0,60,"Ingen eksplosjonsfare",1.9,"Kjemisk dispergerbar","Nei",0.98,"2015-08-25T02:00:00",880,"Vest-Agder til Hordaland",29,6443576,-258445,"Brynhild 2015 Forvitringsrapport.pdf"]
["Bøyla 2016","Sommerforhold",{"$f":"Oljedatabase[[#This Row],[Oljetype]]&\"-\"&Oljedatabase[[#This Row],[SesongNy]]&\"-\"&Oljedatabase[[#This Row],[Vind (m/s)]]&\"-\"&Oljedatabase[[#This Row],[Tidspunkt (timer)]]","v":"Bøyla 2016-Sommerforhold-10-1"},{"$f":"Oljedatabase[[#This Row],[Sesong]]","v":"Sommerforhold"},15,10,"1",0.28999999999999998,381,"Kjemisk dispergerbar",0.13,0.83,0.03,68,"Ingen eksplosjonsfare",-0.4,"Kjemisk dispergerbar","Nei",1.17,"2016-01-27T01:00:00",874,"Vest-Agder til Hordaland",30,6652496,-245846,"Bøyla 2016 Forvitringsrapport.pdf"]
["Bøyla 2016","Sommerforhold",{"$f":"Oljedatabase[[#This Row],[Oljetype]]&\"-\"&Oljedatabase[[#This Row],[SesongNy]]&\"-\"&Oljedatabase[[#This Row],[Vind (m/s)]]&\"-\"&Oljedatabase[[#This Row],[Tidspunkt (timer)]]","v":"Bøyla 2016-Sommerforhold-10-120"},{"$f":"Oljedatabase[[#This Row],[Sesong]]","v":"Sommerforhold"},15,10,"120",0.77,27000,"Redusert kjemisk dispergerbarhet",0.28000000000000003,0.16,0.55000000000000004,154,"Ingen eksplosjonsfare",16.5,"Kjemisk dispergerbar","Ja",0.72,"2016-01-27T01:00:00",874,"Vest-Agder til Hordaland",30,6652496,-245846,"Bøyla 2016 Forvitringsrapport.pdf"]
["Bøyla 2016","Sommerforhold",{"$f":"Oljedatabase[[#This Row],[Oljetype]]&\"-\"&Oljedatabase[[#This Row],[SesongNy]]&\"-\"&Oljedatabase[[#This Row],[Vind (m/s)]]&\"-\"&Oljedatabase[[#This Row],[Tidspunkt (timer)]]","v":"Bøyla 2016-Sommerforhold-2-12"},{"$f":"Oljedatabase[[#This Row],[Sesong]]","v":"Sommerforhold"},15,2,"12",0.27,470,"Kjemisk dispergerbar",0.16,0.83,0,78,"Ingen eksplosjonsfare",1.8,"Kjemisk dispergerbar","Nei",1.1599999999999999,"2016-01-27T01:00:00",874,"Vest-Agder til Hordaland",30,6652496,-245846,"Bøyla 2016 Forvitringsrapport.pdf"]
["Bøyla 2016","Vinterforhold",{"$f":"Oljedatabase[[#This Row],[Oljetype]]&\"-\"&Oljedatabase[[#This Row],[SesongNy]]&\"-\"&Oljedatabase[[#This Row],[Vind (m/s)]]&\"-\"&Oljedatabase[[#This Row],[Tidspunkt (timer)]]","v":"Bøyla 2016-Vinterforhold-15-2"},{"$f":"Oljedatabase[[#This Row],[Sesong]]","v":"Vinterforhold"},5,15,"2",0.59,3470,"Kjemisk dispergerbar",0.15,0.61,0.22,79,"Ingen eksplosjonsfare",2,"Kjemisk dispergerbar","Nei",1.52,"2016-01-27T01:00:00",874,"Vest-Agder til Hordaland",30,6652496,-245846,"Bøyla 2016 Forvitringsrapport.pdf"]
["Bream 2011","Vinterforhold",{"$f":"Oljedatabase[[#This Row],[Oljetype]]&\"-\"&Oljedatabase[[#This Row],[SesongNy]]&\"-\"&Oljedatabase[[#This Row],[Vind (m/s)]]&\"-\"&Oljedatabase[[#This Row],[Tidspunkt (timer)]]","v":"Bream 2011-Vinterforhold-5-48"},{"$f":"Oljedatabase[[#This Row],[Sesong]]","v":"Vinterforhold"},5,5,"48",0.59,18400,"Lav/dårlig kjemisk dispergerbarhet",0.2,0.76,0.02,108,"Ingen eksplosjonsfare",27,"Lav/dårlig dispergerbarhet","Ja",1.88,"2011-05-24T02:00:00",857,"Vest-Agder til Hordaland",33,6502083,-149887,"Bream 2011 Forvitringsrapport.pdf"]
["Brynhild 2015","Vinterforhold",{"$f":"Oljedatabase[[#This Row],[Oljetype]]&\"-\"&Oljedatabase[[#This Row],[SesongNy]]&\"-\"&Oljedatabase[[#This Row],[Vind (m/s)]]&\"-\"&Oljedatabase[[#This Row],[Tidspunkt (timer)]]","v":"Brynhild 2015-Vinterforhold-15-3"},{"$f":"Oljedatabase[[#This Row],[Sesong]]","v":"Vinterforhold"},5,15,"3",0.61,9530,"Redusert kjemisk dispergerbarhet",0.17,0.55000000000000004,0.26,80,"Ingen eksplosjonsfare",4.5999999999999996,"Kjemisk dispergerbar","Nei",1.45,"2015-08-25T02:00:00",880,"Vest-Agder til Hordaland",29,6443576,-258445,"Brynhild 2015 Forvitringsrapport.pdf"]
["Bøyla 2016","Sommerforhold",{"$f":"Oljedatabase[[#This Row],[Oljetype]]&\"-\"&Oljedatabase[[#This Row],[SesongNy]]&\"-\"&Oljedatabase[[#This Row],[Vind (m/s)]]&\"-\"&Oljedatabase[[#This Row],[Tidspunkt (timer)]]","v":"Bøyla 2016-Sommerforhold-2-48"},{"$f":"Oljedatabase[[#This Row],[Sesong]]","v":"Sommerforhold"},15,2,"48",0.61,3490,"Kjemisk dispergerbar",0.2,0.79,0,100,"Ingen eksplosjonsfare",6.3,"Kjemisk dispergerbar","Nei",2.04,"2016-01-27T01:00:00",874,"Vest-Agder til Hordaland",30,6652496,-245846,"Bøyla 2016 Forvitringsrapport.pdf"]
["Brynhild 2015","Vinterforhold",{"$f":"Oljedatabase[[#This Row],[Oljetype]]&\"-\"&Oljedatabase[[#This Row],[SesongNy]]&\"-\"&Oljedatabase[[#This Row],[Vind (m/s)]]&\"-\"&Oljedatabase[[#This Row],[Tidspunkt (timer)]]","v":"Brynhild 2015-Vinterforhold-2-72"},{"$f":"Oljedatabase[[#This Row],[Sesong]]","v":"Vinterforhold"},5,2,"72",0.56000000000000005,8170,"Redusert kjemisk dispergerbarhet",0.2,0.79,0,88,"Ingen eksplosjonsfare",5.6,"Kjemisk dispergerbar","Nei",1.84,"2015-08-25T02:00:00",880,"Vest-Agder til Hordaland",29,6443576,-258445,"Brynhild 2015 Forvitringsrapport.pdf"]
["Bøyla 2016","Sommerforhold",{"$f":"Oljedatabase[[#This Row],[Oljetype]]&\"-\"&Oljedatabase[[#This Row],[SesongNy]]&\"-\"&Oljedatabase[[#This Row],[Vind (m/s)]]&\"-\"&Oljedatabase[[#This Row],[Tidspunkt (timer)]]","v":"Bøyla 2016-Sommerforhold-15-9"},{"$f":"Oljedatabase[[#This Row],[Sesong]]","v":"Sommerforhold"},15,15,"9",0.74,10800,"Redusert kjemisk dispergerbarhet",0.22,0.3,0.47,116,"Ingen eksplosjonsfare",9.5,"Kjemisk dispergerbar","Ja",1.22,"2016-01-27T01:00:00",874,"Vest-Agder til Hordaland",30,6652496,-245846,"Bøyla 2016 Forvitringsrapport.pdf"]
["Bøyla 2016","Sommerforhold",{"$f":"Oljedatabase[[#This Row],[Oljetype]]&\"-\"&Oljedatabase[[#This Row],[SesongNy]]&\"-\"&Oljedatabase[[#This Row],[Vind (m/s)]]&\"-\"&Oljedatabase[[#This Row],[Tidspunkt (timer)]]","v":"Bøyla 2016-Sommerforhold-2-1"},{"$f":"Oljedatabase[[#This Row],[Sesong]]","v":"Sommerforhold"},15,2,"1",0.04,78,"Kjemisk dispergerbar",0.06,0.93,0,39,"Eksplosjonsfare ved tanking",-6.6,"Kjemisk dispergerbar","Nei",0.97,"2016-01-27T01:00:00",874,"Vest-Agder til Hordaland",30,6652496,-245846,"Bøyla 2016 Forvitringsrapport.pdf"]
["Brynhild 2015","Vinterforhold",{"$f":"Oljedatabase[[#This Row],[Oljetype]]&\"-\"&Oljedatabase[[#This Row],[SesongNy]]&\"-\"&Oljedatabase[[#This Row],[Vind (m/s)]]&\"-\"&Oljedatabase[[#This Row],[Tidspunkt (timer)]]","v":"Brynhild 2015-Vinterforhold-10-120"},{"$f":"Oljedatabase[[#This Row],[Sesong]]","v":"Vinterforhold"},5,10,"120",0.7,79700,"Ikke kjemisk dispergerbar",0.25,0.28000000000000003,0.45,123,"Ingen eksplosjonsfare",9.8000000000000007,"Kjemisk dispergerbar","Ja",0.99,"2015-08-25T02:00:00",880,"Vest-Agder til Hordaland",29,6443576,-258445,"Brynhild 2015 Forvitringsrapport.pdf"]
["Brynhild 2015","Sommerforhold",{"$f":"Oljedatabase[[#This Row],[Oljetype]]&\"-\"&Oljedatabase[[#This Row],[SesongNy]]&\"-\"&Oljedatabase[[#This Row],[Vind (m/s)]]&\"-\"&Oljedatabase[[#This Row],[Tidspunkt (timer)]]","v":"Brynhild 2015-Sommerforhold-10-2"},{"$f":"Oljedatabase[[#This Row],[Sesong]]","v":"Sommerforhold"},15,10,"2",0.34,885,"Kjemisk dispergerbar",0.17,0.76,0.06,75,"Ingen eksplosjonsfare",4,"Kjemisk dispergerbar","Nei",1.17,"2015-08-25T02:00:00",880,"Vest-Agder til Hordaland",29,6443576,-258445,"Brynhild 2015 Forvitringsrapport.pdf"]
["Bøyla 2016","Sommerforhold",{"$f":"Oljedatabase[[#This Row],[Oljetype]]&\"-\"&Oljedatabase[[#This Row],[SesongNy]]&\"-\"&Oljedatabase[[#This Row],[Vind (m/s)]]&\"-\"&Oljedatabase[[#This Row],[Tidspunkt (timer)]]","v":"Bøyla 2016-Sommerforhold-5-120"},{"$f":"Oljedatabase[[#This Row],[Sesong]]","v":"Sommerforhold"},15,5,"120",0.76,16600,"Redusert kjemisk dispergerbarhet",0.27,0.66,7.0000000000000007E-2,131,"Ingen eksplosjonsfare",12.3,"Kjemisk dispergerbar","Ja",2.83,"2016-01-27T01:00:00",874,"Vest-Agder til Hordaland",30,6652496,-245846,"Bøyla 2016 Forvitringsrapport.pdf"]
["Brynhild 2015","Vinterforhold",{"$f":"Oljedatabase[[#This Row],[Oljetype]]&\"-\"&Oljedatabase[[#This Row],[SesongNy]]&\"-\"&Oljedatabase[[#This Row],[Vind (m/s)]]&\"-\"&Oljedatabase[[#This Row],[Tidspunkt (timer)]]","v":"Brynhild 2015-Vinterforhold-5-24"},{"$f":"Oljedatabase[[#This Row],[Sesong]]","v":"Vinterforhold"},5,5,"24",0.63,12900,"Redusert kjemisk dispergerbarhet",0.19,0.78,0.02,86,"Ingen eksplosjonsfare",5.3,"Kjemisk dispergerbar","Ja",2.14,"2015-08-25T02:00:00",880,"Vest-Agder til Hordaland",29,6443576,-258445,"Brynhild 2015 Forvitringsrapport.pdf"]
["Brynhild 2015","Sommerforhold",{"$f":"Oljedatabase[[#This Row],[Oljetype]]&\"-\"&Oljedatabase[[#This Row],[SesongNy]]&\"-\"&Oljedatabase[[#This Row],[Vind (m/s)]]&\"-\"&Oljedatabase[[#This Row],[Tidspunkt (timer)]]","v":"Brynhild 2015-Sommerforhold-15-3"},{"$f":"Oljedatabase[[#This Row],[Sesong]]","v":"Sommerforhold"},15,15,"3",0.65,9020,"Redusert kjemisk dispergerbarhet",0.2,0.51,0.28000000000000003,92,"Ingen eksplosjonsfare",6.1,"Kjemisk dispergerbar","Nei",1.46,"2015-08-25T02:00:00",880,"Vest-Agder til Hordaland",29,6443576,-258445,"Brynhild 2015 Forvitringsrapport.pdf"]
["Brynhild 2015","Sommerforhold",{"$f":"Oljedatabase[[#This Row],[Oljetype]]&\"-\"&Oljedatabase[[#This Row],[SesongNy]]&\"-\"&Oljedatabase[[#This Row],[Vind (m/s)]]&\"-\"&Oljedatabase[[#This Row],[Tidspunkt (timer)]]","v":"Brynhild 2015-Sommerforhold-5-120"},{"$f":"Oljedatabase[[#This Row],[Sesong]]","v":"Sommerforhold"},15,5,"120",0.75,62200,"Ikke kjemisk dispergerbar",0.26,0.67,0.05,121,"Ingen eksplosjonsfare",9.6,"Kjemisk dispergerbar","Ja",2.78,"2015-08-25T02:00:00",880,"Vest-Agder til Hordaland",29,6443576,-258445,"Brynhild 2015 Forvitringsrapport.pdf"]
["Brynhild 2015","Vinterforhold",{"$f":"Oljedatabase[[#This Row],[Oljetype]]&\"-\"&Oljedatabase[[#This Row],[SesongNy]]&\"-\"&Oljedatabase[[#This Row],[Vind (m/s)]]&\"-\"&Oljedatabase[[#This Row],[Tidspunkt (timer)]]","v":"Brynhild 2015-Vinterforhold-5-72"},{"$f":"Oljedatabase[[#This Row],[Sesong]]","v":"Vinterforhold"},5,5,"72",0.7,40900,"Ikke kjemisk dispergerbar",0.22,0.73,0.03,101,"Ingen eksplosjonsfare",7.2,"Kjemisk dispergerbar","Ja",2.4900000000000002,"2015-08-25T02:00:00",880,"Vest-Agder til Hordaland",29,6443576,-258445,"Brynhild 2015 Forvitringsrapport.pdf"]
["Brynhild 2015","Vinterforhold",{"$f":"Oljedatabase[[#This Row],[Oljetype]]&\"-\"&Oljedatabase[[#This Row],[SesongNy]]&\"-\"&Oljedatabase[[#This Row],[Vind (m/s)]]&\"-\"&Oljedatabase[[#This Row],[Tidspunkt (timer)]]","v":"Brynhild 2015-Vinterforhold-2-6"},{"$f":"Oljedatabase[[#This Row],[Sesong]]","v":"Vinterforhold"},5,2,"6",0.08,380,"Kjemisk dispergerbar",0.12,0.87,0,54,"Eksplosjonsfare ved tanking",1.2,"Kjemisk dispergerbar","Nei",0.96,"2015-08-25T02:00:00",880,"Vest-Agder til Hordaland",29,6443576,-258445,"Brynhild 2015 Forvitringsrapport.pdf"]
["Brynhild 2015","Vinterforhold",{"$f":"Oljedatabase[[#This Row],[Oljetype]]&\"-\"&Oljedatabase[[#This Row],[SesongNy]]&\"-\"&Oljedatabase[[#This Row],[Vind (m/s)]]&\"-\"&Oljedatabase[[#This Row],[Tidspunkt (timer)]]","v":"Brynhild 2015-Vinterforhold-15-9"},{"$f":"Oljedatabase[[#This Row],[Sesong]]","v":"Vinterforhold"},5,15,"9",0.71,37700,"Redusert kjemisk dispergerbarhet",0.2,0.39,0.4,96,"Ingen eksplosjonsfare",6.6,"Kjemisk dispergerbar","Ja",1.36,"2015-08-25T02:00:00",880,"Vest-Agder til Hordaland",29,6443576,-258445,"Brynhild 2015 Forvitringsrapport.pdf"]
["Bøyla 2016","Vinterforhold",{"$f":"Oljedatabase[[#This Row],[Oljetype]]&\"-\"&Oljedatabase[[#This Row],[SesongNy]]&\"-\"&Oljedatabase[[#This Row],[Vind (m/s)]]&\"-\"&Oljedatabase[[#This Row],[Tidspunkt (timer)]]","v":"Bøyla 2016-Vinterforhold-10-9"},{"$f":"Oljedatabase[[#This Row],[Sesong]]","v":"Vinterforhold"},5,10,"9",0.68,7700,"Redusert kjemisk dispergerbarhet",0.18,0.66,0.14000000000000001,92,"Ingen eksplosjonsfare",4.7,"Kjemisk dispergerbar","Nei",2.08,"2016-01-27T01:00:00",874,"Vest-Agder til Hordaland",30,6652496,-245846,"Bøyla 2016 Forvitringsrapport.pdf"]
["Bøyla 2016","Vinterforhold",{"$f":"Oljedatabase[[#This Row],[Oljetype]]&\"-\"&Oljedatabase[[#This Row],[SesongNy]]&\"-\"&Oljedatabase[[#This Row],[Vind (m/s)]]&\"-\"&Oljedatabase[[#This Row],[Tidspunkt (timer)]]","v":"Bøyla 2016-Vinterforhold-15-6"},{"$f":"Oljedatabase[[#This Row],[Sesong]]","v":"Vinterforhold"},5,15,"6",0.68,8960,"Redusert kjemisk dispergerbarhet",0.18,0.42,0.38,96,"Ingen eksplosjonsfare",5.5,"Kjemisk dispergerbar","Nei",1.36,"2016-01-27T01:00:00",874,"Vest-Agder til Hordaland",30,6652496,-245846,"Bøyla 2016 Forvitringsrapport.pdf"]
["Bøyla 2016","Sommerforhold",{"$f":"Oljedatabase[[#This Row],[Oljetype]]&\"-\"&Oljedatabase[[#This Row],[SesongNy]]&\"-\"&Oljedatabase[[#This Row],[Vind (m/s)]]&\"-\"&Oljedatabase[[#This Row],[Tidspunkt (timer)]]","v":"Bøyla 2016-Sommerforhold-5-48"},{"$f":"Oljedatabase[[#This Row],[Sesong]]","v":"Sommerforhold"},15,5,"48",0.74,10500,"Redusert kjemisk dispergerbarhet",0.23,0.72,0.03,115,"Ingen eksplosjonsfare",9.3000000000000007,"Kjemisk dispergerbar","Ja",2.87,"2016-01-27T01:00:00",874,"Vest-Agder til Hordaland",30,6652496,-245846,"Bøyla 2016 Forvitringsrapport.pdf"]
["Bøyla 2016","Sommerforhold",{"$f":"Oljedatabase[[#This Row],[Oljetype]]&\"-\"&Oljedatabase[[#This Row],[SesongNy]]&\"-\"&Oljedatabase[[#This Row],[Vind (m/s)]]&\"-\"&Oljedatabase[[#This Row],[Tidspunkt (timer)]]","v":"Bøyla 2016-Sommerforhold-10-96"},{"$f":"Oljedatabase[[#This Row],[Sesong]]","v":"Sommerforhold"},15,10,"96",0.77,24300,"Redusert kjemisk dispergerbarhet",0.28000000000000003,0.21,0.5,148,"Ingen eksplosjonsfare",15.5,"Kjemisk dispergerbar","Ja",0.92,"2016-01-27T01:00:00",874,"Vest-Agder til Hordaland",30,6652496,-245846,"Bøyla 2016 Forvitringsrapport.pdf"]
["Brynhild 2015","Sommerforhold",{"$f":"Oljedatabase[[#This Row],[Oljetype]]&\"-\"&Oljedatabase[[#This Row],[SesongNy]]&\"-\"&Oljedatabase[[#This Row],[Vind (m/s)]]&\"-\"&Oljedatabase[[#This Row],[Tidspunkt (timer)]]","v":"Brynhild 2015-Sommerforhold-10-1"},{"$f":"Oljedatabase[[#This Row],[Sesong]]","v":"Sommerforhold"},15,10,"1",0.19,379,"Kjemisk dispergerbar",0.14000000000000001,0.82,0.03,63,"Ingen eksplosjonsfare",2.4,"Kjemisk dispergerbar","Nei",1.02,"2015-08-25T02:00:00",880,"Vest-Agder til Hordaland",29,6443576,-258445,"Brynhild 2015 Forvitringsrapport.pdf"]
["Brynhild 2015","Vinterforhold",{"$f":"Oljedatabase[[#This Row],[Oljetype]]&\"-\"&Oljedatabase[[#This Row],[SesongNy]]&\"-\"&Oljedatabase[[#This Row],[Vind (m/s)]]&\"-\"&Oljedatabase[[#This Row],[Tidspunkt (timer)]]","v":"Brynhild 2015-Vinterforhold-2-48"},{"$f":"Oljedatabase[[#This Row],[Sesong]]","v":"Vinterforhold"},5,2,"48",0.46,3680,"Kjemisk dispergerbar",0.19,0.8,0,83,"Ingen eksplosjonsfare",4.9000000000000004,"Kjemisk dispergerbar","Nei",1.51,"2015-08-25T02:00:00",880,"Vest-Agder til Hordaland",29,6443576,-258445,"Brynhild 2015 Forvitringsrapport.pdf"]
["Bøyla 2016","Vinterforhold",{"$f":"Oljedatabase[[#This Row],[Oljetype]]&\"-\"&Oljedatabase[[#This Row],[SesongNy]]&\"-\"&Oljedatabase[[#This Row],[Vind (m/s)]]&\"-\"&Oljedatabase[[#This Row],[Tidspunkt (timer)]]","v":"Bøyla 2016-Vinterforhold-5-2"},{"$f":"Oljedatabase[[#This Row],[Sesong]]","v":"Vinterforhold"},5,5,"2",0.18,308,"Kjemisk dispergerbar",0.1,0.89,0,55,"Eksplosjonsfare ved tanking",-3.2,"Kjemisk dispergerbar","Nei",1.0900000000000001,"2016-01-27T01:00:00",874,"Vest-Agder til Hordaland",30,6652496,-245846,"Bøyla 2016 Forvitringsrapport.pdf"]
["Bøyla 2016","Sommerforhold",{"$f":"Oljedatabase[[#This Row],[Oljetype]]&\"-\"&Oljedatabase[[#This Row],[SesongNy]]&\"-\"&Oljedatabase[[#This Row],[Vind (m/s)]]&\"-\"&Oljedatabase[[#This Row],[Tidspunkt (timer)]]","v":"Bøyla 2016-Sommerforhold-10-3"},{"$f":"Oljedatabase[[#This Row],[Sesong]]","v":"Sommerforhold"},15,10,"3",0.56000000000000005,1960,"Kjemisk dispergerbar",0.17,0.73,0.08,87,"Ingen eksplosjonsfare",3.6,"Kjemisk dispergerbar","Nei",1.68,"2016-01-27T01:00:00",874,"Vest-Agder til Hordaland",30,6652496,-245846,"Bøyla 2016 Forvitringsrapport.pdf"]
["Bøyla 2016","Vinterforhold",{"$f":"Oljedatabase[[#This Row],[Oljetype]]&\"-\"&Oljedatabase[[#This Row],[SesongNy]]&\"-\"&Oljedatabase[[#This Row],[Vind (m/s)]]&\"-\"&Oljedatabase[[#This Row],[Tidspunkt (timer)]]","v":"Bøyla 2016-Vinterforhold-10-1"},{"$f":"Oljedatabase[[#This Row],[Sesong]]","v":"Vinterforhold"},5,10,"1",0.26,472,"Kjemisk dispergerbar",0.11,0.85,0.03,59,"Eksplosjonsfare ved tanking",-2.2999999999999998,"Kjemisk dispergerbar","Nei",1.17,"2016-01-27T01:00:00",874,"Vest-Agder til Hordaland",30,6652496,-245846,"Bøyla 2016 Forvitringsrapport.pdf"]
["Bøyla 2016","Vinterforhold",{"$f":"Oljedatabase[[#This Row],[Oljetype]]&\"-\"&Oljedatabase[[#This Row],[SesongNy]]&\"-\"&Oljedatabase[[#This Row],[Vind (m/s)]]&\"-\"&Oljedatabase[[#This Row],[Tidspunkt (timer)]]","v":"Bøyla 2016-Vinterforhold-10-24"},{"$f":"Oljedatabase[[#This Row],[Sesong]]","v":"Vinterforhold"},5,10,"24",0.7,12700,"Redusert kjemisk dispergerbarhet",0.21,0.52,0.25,107,"Ingen eksplosjonsfare",7.7,"Kjemisk dispergerbar","Ja",1.77,"2016-01-27T01:00:00",874,"Vest-Agder til Hordaland",30,6652496,-245846,"Bøyla 2016 Forvitringsrapport.pdf"]
["Bøyla 2016","Sommerforhold",{"$f":"Oljedatabase[[#This Row],[Oljetype]]&\"-\"&Oljedatabase[[#This Row],[SesongNy]]&\"-\"&Oljedatabase[[#This Row],[Vind (m/s)]]&\"-\"&Oljedatabase[[#This Row],[Tidspunkt (timer)]]","v":"Bøyla 2016-Sommerforhold-5-2"},{"$f":"Oljedatabase[[#This Row],[Sesong]]","v":"Sommerforhold"},15,5,"2",0.19,243,"Kjemisk dispergerbar",0.12,0.87,0,63,"Ingen eksplosjonsfare",-1.4,"Kjemisk dispergerbar","Nei",1.0900000000000001,"2016-01-27T01:00:00",874,"Vest-Agder til Hordaland",30,6652496,-245846,"Bøyla 2016 Forvitringsrapport.pdf"]
["Bøyla 2016","Vinterforhold",{"$f":"Oljedatabase[[#This Row],[Oljetype]]&\"-\"&Oljedatabase[[#This Row],[SesongNy]]&\"-\"&Oljedatabase[[#This Row],[Vind (m/s)]]&\"-\"&Oljedatabase[[#This Row],[Tidspunkt (timer)]]","v":"Bøyla 2016-Vinterforhold-15-12"},{"$f":"Oljedatabase[[#This Row],[Sesong]]","v":"Vinterforhold"},5,15,"12",0.7,12500,"Redusert kjemisk dispergerbarhet",0.2,0.27,0.52,107,"Ingen eksplosjonsfare",7.6,"Kjemisk dispergerbar","Ja",0.92,"2016-01-27T01:00:00",874,"Vest-Agder til Hordaland",30,6652496,-245846,"Bøyla 2016 Forvitringsrapport.pdf"]
["Bøyla 2016","Sommerforhold",{"$f":"Oljedatabase[[#This Row],[Oljetype]]&\"-\"&Oljedatabase[[#This Row],[SesongNy]]&\"-\"&Oljedatabase[[#This Row],[Vind (m/s)]]&\"-\"&Oljedatabase[[#This Row],[Tidspunkt (timer)]]","v":"Bøyla 2016-Sommerforhold-5-1"},{"$f":"Oljedatabase[[#This Row],[Sesong]]","v":"Sommerforhold"},15,5,"1",0.11,133,"Kjemisk dispergerbar",0.09,0.9,0,51,"Eksplosjonsfare ved tanking",-4.0999999999999996,"Kjemisk dispergerbar","Nei",1.02,"2016-01-27T01:00:00",874,"Vest-Agder til Hordaland",30,6652496,-245846,"Bøyla 2016 Forvitringsrapport.pdf"]
["Brynhild 2015","Vinterforhold",{"$f":"Oljedatabase[[#This Row],[Oljetype]]&\"-\"&Oljedatabase[[#This Row],[SesongNy]]&\"-\"&Oljedatabase[[#This Row],[Vind (m/s)]]&\"-\"&Oljedatabase[[#This Row],[Tidspunkt (timer)]]","v":"Brynhild 2015-Vinterforhold-15-1"},{"$f":"Oljedatabase[[#This Row],[Sesong]]","v":"Vinterforhold"},5,15,"1",0.34,1170,"Kjemisk dispergerbar",0.14000000000000001,0.71,0.13,64,"Ingen eksplosjonsfare",2.5,"Kjemisk dispergerbar","Nei",1.0900000000000001,"2015-08-25T02:00:00",880,"Vest-Agder til Hordaland",29,6443576,-258445,"Brynhild 2015 Forvitringsrapport.pdf"]
["Bøyla 2016","Sommerforhold",{"$f":"Oljedatabase[[#This Row],[Oljetype]]&\"-\"&Oljedatabase[[#This Row],[SesongNy]]&\"-\"&Oljedatabase[[#This Row],[Vind (m/s)]]&\"-\"&Oljedatabase[[#This Row],[Tidspunkt (timer)]]","v":"Bøyla 2016-Sommerforhold-2-120"},{"$f":"Oljedatabase[[#This Row],[Sesong]]","v":"Sommerforhold"},15,2,"120",0.73,9990,"Redusert kjemisk dispergerbarhet",0.24,0.75,0,115,"Ingen eksplosjonsfare",9.3000000000000007,"Kjemisk dispergerbar","Nei",2.9,"2016-01-27T01:00:00",874,"Vest-Agder til Hordaland",30,6652496,-245846,"Bøyla 2016 Forvitringsrapport.pdf"]
["Bøyla 2016","Vinterforhold",{"$f":"Oljedatabase[[#This Row],[Oljetype]]&\"-\"&Oljedatabase[[#This Row],[SesongNy]]&\"-\"&Oljedatabase[[#This Row],[Vind (m/s)]]&\"-\"&Oljedatabase[[#This Row],[Tidspunkt (timer)]]","v":"Bøyla 2016-Vinterforhold-5-120"},{"$f":"Oljedatabase[[#This Row],[Sesong]]","v":"Vinterforhold"},5,5,"120",0.7,16300,"Redusert kjemisk dispergerbarhet",0.24,0.69,0.06,116,"Ingen eksplosjonsfare",9.4,"Kjemisk dispergerbar","Ja",2.37,"2016-01-27T01:00:00",874,"Vest-Agder til Hordaland",30,6652496,-245846,"Bøyla 2016 Forvitringsrapport.pdf"]
["Bøyla 2016","Sommerforhold",{"$f":"Oljedatabase[[#This Row],[Oljetype]]&\"-\"&Oljedatabase[[#This Row],[SesongNy]]&\"-\"&Oljedatabase[[#This Row],[Vind (m/s)]]&\"-\"&Oljedatabase[[#This Row],[Tidspunkt (timer)]]","v":"Bøyla 2016-Sommerforhold-10-9"},{"$f":"Oljedatabase[[#This Row],[Sesong]]","v":"Sommerforhold"},15,10,"9",0.72,7430,"Redusert kjemisk dispergerbarhet",0.21,0.63,0.15,105,"Ingen eksplosjonsfare",7.3,"Kjemisk dispergerbar","Nei",2.3199999999999998,"2016-01-27T01:00:00",874,"Vest-Agder til Hordaland",30,6652496,-245846,"Bøyla 2016 Forvitringsrapport.pdf"]
["Bøyla 2016","Vinterforhold",{"$f":"Oljedatabase[[#This Row],[Oljetype]]&\"-\"&Oljedatabase[[#This Row],[SesongNy]]&\"-\"&Oljedatabase[[#This Row],[Vind (m/s)]]&\"-\"&Oljedatabase[[#This Row],[Tidspunkt (timer)]]","v":"Bøyla 2016-Vinterforhold-5-3"},{"$f":"Oljedatabase[[#This Row],[Sesong]]","v":"Vinterforhold"},5,5,"3",0.24,464,"Kjemisk dispergerbar",0.12,0.87,0,61,"Ingen eksplosjonsfare",-1.9,"Kjemisk dispergerbar","Nei",1.1599999999999999,"2016-01-27T01:00:00",874,"Vest-Agder til Hordaland",30,6652496,-245846,"Bøyla 2016 Forvitringsrapport.pdf"]
["Brynhild 2015","Sommerforhold",{"$f":"Oljedatabase[[#This Row],[Oljetype]]&\"-\"&Oljedatabase[[#This Row],[SesongNy]]&\"-\"&Oljedatabase[[#This Row],[Vind (m/s)]]&\"-\"&Oljedatabase[[#This Row],[Tidspunkt (timer)]]","v":"Brynhild 2015-Sommerforhold-15-72"},{"$f":"Oljedatabase[[#This Row],[Sesong]]","v":"Sommerforhold"},15,15,"72",0.75,111000,"Ikke kjemisk dispergerbar",0.25,0.04,0.7,143,"Ingen eksplosjonsfare",12.1,"Kjemisk dispergerbar","Ja",0.17,"2015-08-25T02:00:00",880,"Vest-Agder til Hordaland",29,6443576,-258445,"Brynhild 2015 Forvitringsrapport.pdf"]
["Caurus 2011","Sommerforhold",{"$f":"Oljedatabase[[#This Row],[Oljetype]]&\"-\"&Oljedatabase[[#This Row],[SesongNy]]&\"-\"&Oljedatabase[[#This Row],[Vind (m/s)]]&\"-\"&Oljedatabase[[#This Row],[Tidspunkt (timer)]]","v":"Caurus 2011-Sommerforhold-15-72"},{"$f":"Oljedatabase[[#This Row],[Sesong]]","v":"Sommerforhold"},10,15,"72",0.37,2990,"Redusert kjemisk dispergerbarhet",0.4,0,0.6,141,"Ingen eksplosjonsfare",24,"Redusert kjemisk dispergerbarhet","Nei",0,"2011-11-14T01:00:00",795,"Troms og Finnmark",46,8012923,756190,"Caurus 2011 Forvitringsrapport.pdf"]
["Caurus 2011","Sommerforhold",{"$f":"Oljedatabase[[#This Row],[Oljetype]]&\"-\"&Oljedatabase[[#This Row],[SesongNy]]&\"-\"&Oljedatabase[[#This Row],[Vind (m/s)]]&\"-\"&Oljedatabase[[#This Row],[Tidspunkt (timer)]]","v":"Caurus 2011-Sommerforhold-2-120"},{"$f":"Oljedatabase[[#This Row],[Sesong]]","v":"Sommerforhold"},10,2,"120",0.35,1270,"Redusert kjemisk dispergerbarhet",0.48,0.51,0,112,"Ingen eksplosjonsfare",16,"Redusert kjemisk dispergerbarhet","Nei",0.79,"2011-11-14T01:00:00",795,"Troms og Finnmark",46,8012923,756190,"Caurus 2011 Forvitringsrapport.pdf"]
["Caurus 2011","Sommerforhold",{"$f":"Oljedatabase[[#This Row],[Oljetype]]&\"-\"&Oljedatabase[[#This Row],[SesongNy]]&\"-\"&Oljedatabase[[#This Row],[Vind (m/s)]]&\"-\"&Oljedatabase[[#This Row],[Tidspunkt (timer)]]","v":"Caurus 2011-Sommerforhold-15-48"},{"$f":"Oljedatabase[[#This Row],[Sesong]]","v":"Sommerforhold"},10,15,"48",0.37,2500,"Redusert kjemisk dispergerbarhet",0.4,0,0.6,134,"Ingen eksplosjonsfare",22.2,"Redusert kjemisk dispergerbarhet","Nei",0,"2011-11-14T01:00:00",795,"Troms og Finnmark",46,8012923,756190,"Caurus 2011 Forvitringsrapport.pdf"]
["Brynhild 2015","Vinterforhold",{"$f":"Oljedatabase[[#This Row],[Oljetype]]&\"-\"&Oljedatabase[[#This Row],[SesongNy]]&\"-\"&Oljedatabase[[#This Row],[Vind (m/s)]]&\"-\"&Oljedatabase[[#This Row],[Tidspunkt (timer)]]","v":"Brynhild 2015-Vinterforhold-15-2"},{"$f":"Oljedatabase[[#This Row],[Sesong]]","v":"Vinterforhold"},5,15,"2",0.52,4010,"Kjemisk dispergerbar",0.16,0.61,0.22,74,"Ingen eksplosjonsfare",3.9,"Kjemisk dispergerbar","Nei",1.28,"2015-08-25T02:00:00",880,"Vest-Agder til Hordaland",29,6443576,-258445,"Brynhild 2015 Forvitringsrapport.pdf"]
["Bøyla 2016","Sommerforhold",{"$f":"Oljedatabase[[#This Row],[Oljetype]]&\"-\"&Oljedatabase[[#This Row],[SesongNy]]&\"-\"&Oljedatabase[[#This Row],[Vind (m/s)]]&\"-\"&Oljedatabase[[#This Row],[Tidspunkt (timer)]]","v":"Bøyla 2016-Sommerforhold-15-72"},{"$f":"Oljedatabase[[#This Row],[Sesong]]","v":"Sommerforhold"},15,15,"72",0.77,29200,"Redusert kjemisk dispergerbarhet",0.24,0,0.74,158,"Ingen eksplosjonsfare",17.2,"Kjemisk dispergerbar","Ja",0.03,"2016-01-27T01:00:00",874,"Vest-Agder til Hordaland",30,6652496,-245846,"Bøyla 2016 Forvitringsrapport.pdf"]
["Bøyla 2016","Sommerforhold",{"$f":"Oljedatabase[[#This Row],[Oljetype]]&\"-\"&Oljedatabase[[#This Row],[SesongNy]]&\"-\"&Oljedatabase[[#This Row],[Vind (m/s)]]&\"-\"&Oljedatabase[[#This Row],[Tidspunkt (timer)]]","v":"Bøyla 2016-Sommerforhold-2-3"},{"$f":"Oljedatabase[[#This Row],[Sesong]]","v":"Sommerforhold"},15,2,"3",0.09,148,"Kjemisk dispergerbar",0.11,0.88,0,57,"Eksplosjonsfare ved tanking",-2.7,"Kjemisk dispergerbar","Nei",0.98,"2016-01-27T01:00:00",874,"Vest-Agder til Hordaland",30,6652496,-245846,"Bøyla 2016 Forvitringsrapport.pdf"]
["Bøyla 2016","Vinterforhold",{"$f":"Oljedatabase[[#This Row],[Oljetype]]&\"-\"&Oljedatabase[[#This Row],[SesongNy]]&\"-\"&Oljedatabase[[#This Row],[Vind (m/s)]]&\"-\"&Oljedatabase[[#This Row],[Tidspunkt (timer)]]","v":"Bøyla 2016-Vinterforhold-2-2"},{"$f":"Oljedatabase[[#This Row],[Sesong]]","v":"Vinterforhold"},5,2,"2",0.06,150,"Kjemisk dispergerbar",7.0000000000000007E-2,0.92,0,44,"Eksplosjonsfare ved tanking",-5.6,"Kjemisk dispergerbar","Nei",0.98,"2016-01-27T01:00:00",874,"Vest-Agder til Hordaland",30,6652496,-245846,"Bøyla 2016 Forvitringsrapport.pdf"]
["Bøyla 2016","Sommerforhold",{"$f":"Oljedatabase[[#This Row],[Oljetype]]&\"-\"&Oljedatabase[[#This Row],[SesongNy]]&\"-\"&Oljedatabase[[#This Row],[Vind (m/s)]]&\"-\"&Oljedatabase[[#This Row],[Tidspunkt (timer)]]","v":"Bøyla 2016-Sommerforhold-2-9"},{"$f":"Oljedatabase[[#This Row],[Sesong]]","v":"Sommerforhold"},15,2,"9",0.22,348,"Kjemisk dispergerbar",0.15,0.84,0,74,"Ingen eksplosjonsfare",0.9,"Kjemisk dispergerbar","Nei",1.1000000000000001,"2016-01-27T01:00:00",874,"Vest-Agder til Hordaland",30,6652496,-245846,"Bøyla 2016 Forvitringsrapport.pdf"]
["Brynhild 2015","Sommerforhold",{"$f":"Oljedatabase[[#This Row],[Oljetype]]&\"-\"&Oljedatabase[[#This Row],[SesongNy]]&\"-\"&Oljedatabase[[#This Row],[Vind (m/s)]]&\"-\"&Oljedatabase[[#This Row],[Tidspunkt (timer)]]","v":"Brynhild 2015-Sommerforhold-10-72"},{"$f":"Oljedatabase[[#This Row],[Sesong]]","v":"Sommerforhold"},15,10,"72",0.75,79900,"Ikke kjemisk dispergerbar",0.27,0.37,0.35,130,"Ingen eksplosjonsfare",10.6,"Kjemisk dispergerbar","Ja",1.56,"2015-08-25T02:00:00",880,"Vest-Agder til Hordaland",29,6443576,-258445,"Brynhild 2015 Forvitringsrapport.pdf"]
["Brynhild 2015","Sommerforhold",{"$f":"Oljedatabase[[#This Row],[Oljetype]]&\"-\"&Oljedatabase[[#This Row],[SesongNy]]&\"-\"&Oljedatabase[[#This Row],[Vind (m/s)]]&\"-\"&Oljedatabase[[#This Row],[Tidspunkt (timer)]]","v":"Brynhild 2015-Sommerforhold-15-9"},{"$f":"Oljedatabase[[#This Row],[Sesong]]","v":"Sommerforhold"},15,15,"9",0.75,46800,"Ikke kjemisk dispergerbar",0.22,0.36,0.41,108,"Ingen eksplosjonsfare",8.1,"Kjemisk dispergerbar","Ja",1.51,"2015-08-25T02:00:00",880,"Vest-Agder til Hordaland",29,6443576,-258445,"Brynhild 2015 Forvitringsrapport.pdf"]
["Brynhild 2015","Vinterforhold",{"$f":"Oljedatabase[[#This Row],[Oljetype]]&\"-\"&Oljedatabase[[#This Row],[SesongNy]]&\"-\"&Oljedatabase[[#This Row],[Vind (m/s)]]&\"-\"&Oljedatabase[[#This Row],[Tidspunkt (timer)]]","v":"Brynhild 2015-Vinterforhold-5-120"},{"$f":"Oljedatabase[[#This Row],[Sesong]]","v":"Vinterforhold"},5,5,"120",0.7,50300,"Ikke kjemisk dispergerbar",0.24,0.7,0.05,108,"Ingen eksplosjonsfare",8,"Kjemisk dispergerbar","Ja",2.4,"2015-08-25T02:00:00",880,"Vest-Agder til Hordaland",29,6443576,-258445,"Brynhild 2015 Forvitringsrapport.pdf"]
["Brynhild 2015","Vinterforhold",{"$f":"Oljedatabase[[#This Row],[Oljetype]]&\"-\"&Oljedatabase[[#This Row],[SesongNy]]&\"-\"&Oljedatabase[[#This Row],[Vind (m/s)]]&\"-\"&Oljedatabase[[#This Row],[Tidspunkt (timer)]]","v":"Brynhild 2015-Vinterforhold-10-12"},{"$f":"Oljedatabase[[#This Row],[Sesong]]","v":"Vinterforhold"},5,10,"12",0.7,28200,"Redusert kjemisk dispergerbarhet",0.2,0.64,0.15,91,"Ingen eksplosjonsfare",6,"Kjemisk dispergerbar","Ja",2.14,"2015-08-25T02:00:00",880,"Vest-Agder til Hordaland",29,6443576,-258445,"Brynhild 2015 Forvitringsrapport.pdf"]
["Bøyla 2016","Sommerforhold",{"$f":"Oljedatabase[[#This Row],[Oljetype]]&\"-\"&Oljedatabase[[#This Row],[SesongNy]]&\"-\"&Oljedatabase[[#This Row],[Vind (m/s)]]&\"-\"&Oljedatabase[[#This Row],[Tidspunkt (timer)]]","v":"Bøyla 2016-Sommerforhold-5-6"},{"$f":"Oljedatabase[[#This Row],[Sesong]]","v":"Sommerforhold"},15,5,"6",0.43,939,"Kjemisk dispergerbar",0.16,0.82,0.01,81,"Ingen eksplosjonsfare",2.4,"Kjemisk dispergerbar","Nei",1.44,"2016-01-27T01:00:00",874,"Vest-Agder til Hordaland",30,6652496,-245846,"Bøyla 2016 Forvitringsrapport.pdf"]
["Bøyla 2016","Vinterforhold",{"$f":"Oljedatabase[[#This Row],[Oljetype]]&\"-\"&Oljedatabase[[#This Row],[SesongNy]]&\"-\"&Oljedatabase[[#This Row],[Vind (m/s)]]&\"-\"&Oljedatabase[[#This Row],[Tidspunkt (timer)]]","v":"Bøyla 2016-Vinterforhold-15-120"},{"$f":"Oljedatabase[[#This Row],[Sesong]]","v":"Vinterforhold"},5,15,"120",0.72,36300,"Ikke kjemisk dispergerbar",0.22,0,0.78,146,"Ingen eksplosjonsfare",15.1,"Redusert kjemisk dispergerbarhet","Ja",0,"2016-01-27T01:00:00",874,"Vest-Agder til Hordaland",30,6652496,-245846,"Bøyla 2016 Forvitringsrapport.pdf"]
["Brynhild 2015","Vinterforhold",{"$f":"Oljedatabase[[#This Row],[Oljetype]]&\"-\"&Oljedatabase[[#This Row],[SesongNy]]&\"-\"&Oljedatabase[[#This Row],[Vind (m/s)]]&\"-\"&Oljedatabase[[#This Row],[Tidspunkt (timer)]]","v":"Brynhild 2015-Vinterforhold-10-48"},{"$f":"Oljedatabase[[#This Row],[Sesong]]","v":"Vinterforhold"},5,10,"48",0.7,55500,"Ikke kjemisk dispergerbar",0.23,0.46,0.28999999999999998,110,"Ingen eksplosjonsfare",8.3000000000000007,"Kjemisk dispergerbar","Ja",1.61,"2015-08-25T02:00:00",880,"Vest-Agder til Hordaland",29,6443576,-258445,"Brynhild 2015 Forvitringsrapport.pdf"]
["Brynhild 2015","Vinterforhold",{"$f":"Oljedatabase[[#This Row],[Oljetype]]&\"-\"&Oljedatabase[[#This Row],[SesongNy]]&\"-\"&Oljedatabase[[#This Row],[Vind (m/s)]]&\"-\"&Oljedatabase[[#This Row],[Tidspunkt (timer)]]","v":"Brynhild 2015-Vinterforhold-15-48"},{"$f":"Oljedatabase[[#This Row],[Sesong]]","v":"Vinterforhold"},5,15,"48",0.71,74100,"Ikke kjemisk dispergerbar",0.22,0.08,0.68,119,"Ingen eksplosjonsfare",9.4,"Kjemisk dispergerbar","Ja",0.31,"2015-08-25T02:00:00",880,"Vest-Agder til Hordaland",29,6443576,-258445,"Brynhild 2015 Forvitringsrapport.pdf"]
["Brynhild 2015","Vinterforhold",{"$f":"Oljedatabase[[#This Row],[Oljetype]]&\"-\"&Oljedatabase[[#This Row],[SesongNy]]&\"-\"&Oljedatabase[[#This Row],[Vind (m/s)]]&\"-\"&Oljedatabase[[#This Row],[Tidspunkt (timer)]]","v":"Brynhild 2015-Vinterforhold-2-3"},{"$f":"Oljedatabase[[#This Row],[Sesong]]","v":"Vinterforhold"},5,2,"3",0.04,252,"Kjemisk dispergerbar",0.1,0.89,0,45,"Eksplosjonsfare ved tanking",-0.1,"Kjemisk dispergerbar","Nei",0.94,"2015-08-25T02:00:00",880,"Vest-Agder til Hordaland",29,6443576,-258445,"Brynhild 2015 Forvitringsrapport.pdf"]
["Bøyla 2016","Sommerforhold",{"$f":"Oljedatabase[[#This Row],[Oljetype]]&\"-\"&Oljedatabase[[#This Row],[SesongNy]]&\"-\"&Oljedatabase[[#This Row],[Vind (m/s)]]&\"-\"&Oljedatabase[[#This Row],[Tidspunkt (timer)]]","v":"Bøyla 2016-Sommerforhold-15-12"},{"$f":"Oljedatabase[[#This Row],[Sesong]]","v":"Sommerforhold"},15,15,"12",0.75,12500,"Redusert kjemisk dispergerbarhet",0.22,0.24,0.52,121,"Ingen eksplosjonsfare",10.4,"Kjemisk dispergerbar","Ja",1,"2016-01-27T01:00:00",874,"Vest-Agder til Hordaland",30,6652496,-245846,"Bøyla 2016 Forvitringsrapport.pdf"]
["Bøyla 2016","Sommerforhold",{"$f":"Oljedatabase[[#This Row],[Oljetype]]&\"-\"&Oljedatabase[[#This Row],[SesongNy]]&\"-\"&Oljedatabase[[#This Row],[Vind (m/s)]]&\"-\"&Oljedatabase[[#This Row],[Tidspunkt (timer)]]","v":"Bøyla 2016-Sommerforhold-5-72"},{"$f":"Oljedatabase[[#This Row],[Sesong]]","v":"Sommerforhold"},15,5,"72",0.75,12800,"Redusert kjemisk dispergerbarhet",0.25,0.69,0.05,122,"Ingen eksplosjonsfare",10.6,"Kjemisk dispergerbar","Ja",2.87,"2016-01-27T01:00:00",874,"Vest-Agder til Hordaland",30,6652496,-245846,"Bøyla 2016 Forvitringsrapport.pdf"]
["Bøyla 2016","Sommerforhold",{"$f":"Oljedatabase[[#This Row],[Oljetype]]&\"-\"&Oljedatabase[[#This Row],[SesongNy]]&\"-\"&Oljedatabase[[#This Row],[Vind (m/s)]]&\"-\"&Oljedatabase[[#This Row],[Tidspunkt (timer)]]","v":"Bøyla 2016-Sommerforhold-10-2"},{"$f":"Oljedatabase[[#This Row],[Sesong]]","v":"Sommerforhold"},15,10,"2",0.45,1020,"Kjemisk dispergerbar",0.16,0.77,0.06,80,"Ingen eksplosjonsfare",2.2000000000000002,"Kjemisk dispergerbar","Nei",1.43,"2016-01-27T01:00:00",874,"Vest-Agder til Hordaland",30,6652496,-245846,"Bøyla 2016 Forvitringsrapport.pdf"]
["Brynhild 2015","Vinterforhold",{"$f":"Oljedatabase[[#This Row],[Oljetype]]&\"-\"&Oljedatabase[[#This Row],[SesongNy]]&\"-\"&Oljedatabase[[#This Row],[Vind (m/s)]]&\"-\"&Oljedatabase[[#This Row],[Tidspunkt (timer)]]","v":"Brynhild 2015-Vinterforhold-15-72"},{"$f":"Oljedatabase[[#This Row],[Sesong]]","v":"Vinterforhold"},5,15,"72",0.71,87200,"Ikke kjemisk dispergerbar",0.23,0.04,0.73,125,"Ingen eksplosjonsfare",10.1,"Redusert kjemisk dispergerbarhet","Ja",0.14000000000000001,"2015-08-25T02:00:00",880,"Vest-Agder til Hordaland",29,6443576,-258445,"Brynhild 2015 Forvitringsrapport.pdf"]
["Bøyla 2016","Sommerforhold",{"$f":"Oljedatabase[[#This Row],[Oljetype]]&\"-\"&Oljedatabase[[#This Row],[SesongNy]]&\"-\"&Oljedatabase[[#This Row],[Vind (m/s)]]&\"-\"&Oljedatabase[[#This Row],[Tidspunkt (timer)]]","v":"Bøyla 2016-Sommerforhold-2-2"},{"$f":"Oljedatabase[[#This Row],[Sesong]]","v":"Sommerforhold"},15,2,"2",7.0000000000000007E-2,115,"Kjemisk dispergerbar",0.09,0.9,0,50,"Eksplosjonsfare ved tanking",-4.2,"Kjemisk dispergerbar","Nei",0.97,"2016-01-27T01:00:00",874,"Vest-Agder til Hordaland",30,6652496,-245846,"Bøyla 2016 Forvitringsrapport.pdf"]
["Bøyla 2016","Vinterforhold",{"$f":"Oljedatabase[[#This Row],[Oljetype]]&\"-\"&Oljedatabase[[#This Row],[SesongNy]]&\"-\"&Oljedatabase[[#This Row],[Vind (m/s)]]&\"-\"&Oljedatabase[[#This Row],[Tidspunkt (timer)]]","v":"Bøyla 2016-Vinterforhold-5-1"},{"$f":"Oljedatabase[[#This Row],[Sesong]]","v":"Vinterforhold"},5,5,"1",0.1,173,"Kjemisk dispergerbar",0.08,0.91,0,44,"Eksplosjonsfare ved tanking",-5.5,"Kjemisk dispergerbar","Nei",1.02,"2016-01-27T01:00:00",874,"Vest-Agder til Hordaland",30,6652496,-245846,"Bøyla 2016 Forvitringsrapport.pdf"]
["Bøyla 2016","Vinterforhold",{"$f":"Oljedatabase[[#This Row],[Oljetype]]&\"-\"&Oljedatabase[[#This Row],[SesongNy]]&\"-\"&Oljedatabase[[#This Row],[Vind (m/s)]]&\"-\"&Oljedatabase[[#This Row],[Tidspunkt (timer)]]","v":"Bøyla 2016-Vinterforhold-10-12"},{"$f":"Oljedatabase[[#This Row],[Sesong]]","v":"Vinterforhold"},5,10,"12",0.68,9110,"Redusert kjemisk dispergerbarhet",0.19,0.63,0.17,97,"Ingen eksplosjonsfare",5.6,"Kjemisk dispergerbar","Nei",2.0299999999999998,"2016-01-27T01:00:00",874,"Vest-Agder til Hordaland",30,6652496,-245846,"Bøyla 2016 Forvitringsrapport.pdf"]
["Brynhild 2015","Sommerforhold",{"$f":"Oljedatabase[[#This Row],[Oljetype]]&\"-\"&Oljedatabase[[#This Row],[SesongNy]]&\"-\"&Oljedatabase[[#This Row],[Vind (m/s)]]&\"-\"&Oljedatabase[[#This Row],[Tidspunkt (timer)]]","v":"Brynhild 2015-Sommerforhold-10-3"},{"$f":"Oljedatabase[[#This Row],[Sesong]]","v":"Sommerforhold"},15,10,"3",0.45,1740,"Kjemisk dispergerbar",0.18,0.73,0.08,82,"Ingen eksplosjonsfare",4.8,"Kjemisk dispergerbar","Nei",1.33,"2015-08-25T02:00:00",880,"Vest-Agder til Hordaland",29,6443576,-258445,"Brynhild 2015 Forvitringsrapport.pdf"]
["Caurus 2011","Sommerforhold",{"$f":"Oljedatabase[[#This Row],[Oljetype]]&\"-\"&Oljedatabase[[#This Row],[SesongNy]]&\"-\"&Oljedatabase[[#This Row],[Vind (m/s)]]&\"-\"&Oljedatabase[[#This Row],[Tidspunkt (timer)]]","v":"Caurus 2011-Sommerforhold-10-120"},{"$f":"Oljedatabase[[#This Row],[Sesong]]","v":"Sommerforhold"},10,10,"120",0.37,2770,"Redusert kjemisk dispergerbarhet",0.45,0,0.54,139,"Ingen eksplosjonsfare",23.4,"Redusert kjemisk dispergerbarhet","Nei",0,"2011-11-14T01:00:00",795,"Troms og Finnmark",46,8012923,756190,"Caurus 2011 Forvitringsrapport.pdf"]
["Bøyla 2016","Sommerforhold",{"$f":"Oljedatabase[[#This Row],[Oljetype]]&\"-\"&Oljedatabase[[#This Row],[SesongNy]]&\"-\"&Oljedatabase[[#This Row],[Vind (m/s)]]&\"-\"&Oljedatabase[[#This Row],[Tidspunkt (timer)]]","v":"Bøyla 2016-Sommerforhold-15-120"},{"$f":"Oljedatabase[[#This Row],[Sesong]]","v":"Sommerforhold"},15,15,"120",0.77,37900,"Ikke kjemisk dispergerbar",0.24,0,0.75,171,"Ingen eksplosjonsfare",19.600000000000001,"Kjemisk dispergerbar","Ja",0,"2016-01-27T01:00:00",874,"Vest-Agder til Hordaland",30,6652496,-245846,"Bøyla 2016 Forvitringsrapport.pdf"]
["Bøyla 2016","Sommerforhold",{"$f":"Oljedatabase[[#This Row],[Oljetype]]&\"-\"&Oljedatabase[[#This Row],[SesongNy]]&\"-\"&Oljedatabase[[#This Row],[Vind (m/s)]]&\"-\"&Oljedatabase[[#This Row],[Tidspunkt (timer)]]","v":"Bøyla 2016-Sommerforhold-5-3"},{"$f":"Oljedatabase[[#This Row],[Sesong]]","v":"Sommerforhold"},15,5,"3",0.27,373,"Kjemisk dispergerbar",0.14000000000000001,0.85,0,70,"Ingen eksplosjonsfare",0.1,"Kjemisk dispergerbar","Nei",1.17,"2016-01-27T01:00:00",874,"Vest-Agder til Hordaland",30,6652496,-245846,"Bøyla 2016 Forvitringsrapport.pdf"]
["Bøyla 2016","Vinterforhold",{"$f":"Oljedatabase[[#This Row],[Oljetype]]&\"-\"&Oljedatabase[[#This Row],[SesongNy]]&\"-\"&Oljedatabase[[#This Row],[Vind (m/s)]]&\"-\"&Oljedatabase[[#This Row],[Tidspunkt (timer)]]","v":"Bøyla 2016-Vinterforhold-10-3"},{"$f":"Oljedatabase[[#This Row],[Sesong]]","v":"Vinterforhold"},5,10,"3",0.52,2240,"Kjemisk dispergerbar",0.15,0.77,7.0000000000000007E-2,76,"Ingen eksplosjonsfare",1.3,"Kjemisk dispergerbar","Nei",1.62,"2016-01-27T01:00:00",874,"Vest-Agder til Hordaland",30,6652496,-245846,"Bøyla 2016 Forvitringsrapport.pdf"]
["Brynhild 2015","Vinterforhold",{"$f":"Oljedatabase[[#This Row],[Oljetype]]&\"-\"&Oljedatabase[[#This Row],[SesongNy]]&\"-\"&Oljedatabase[[#This Row],[Vind (m/s)]]&\"-\"&Oljedatabase[[#This Row],[Tidspunkt (timer)]]","v":"Brynhild 2015-Vinterforhold-10-24"},{"$f":"Oljedatabase[[#This Row],[Sesong]]","v":"Vinterforhold"},5,10,"24",0.7,42000,"Ikke kjemisk dispergerbar",0.22,0.56999999999999995,0.2,101,"Ingen eksplosjonsfare",7.2,"Kjemisk dispergerbar","Ja",1.96,"2015-08-25T02:00:00",880,"Vest-Agder til Hordaland",29,6443576,-258445,"Brynhild 2015 Forvitringsrapport.pdf"]
["Caurus 2011","Sommerforhold",{"$f":"Oljedatabase[[#This Row],[Oljetype]]&\"-\"&Oljedatabase[[#This Row],[SesongNy]]&\"-\"&Oljedatabase[[#This Row],[Vind (m/s)]]&\"-\"&Oljedatabase[[#This Row],[Tidspunkt (timer)]]","v":"Caurus 2011-Sommerforhold-15-2"},{"$f":"Oljedatabase[[#This Row],[Sesong]]","v":"Sommerforhold"},10,15,"2",0.37,691,"Kjemisk dispergerbar",0.37,0.21,0.4,90,"Ingen eksplosjonsfare",9.5,"Kjemisk dispergerbar","Nei",0.35,"2011-11-14T01:00:00",795,"Troms og Finnmark",46,8012923,756190,"Caurus 2011 Forvitringsrapport.pdf"]
["Bøyla 2016","Vinterforhold",{"$f":"Oljedatabase[[#This Row],[Oljetype]]&\"-\"&Oljedatabase[[#This Row],[SesongNy]]&\"-\"&Oljedatabase[[#This Row],[Vind (m/s)]]&\"-\"&Oljedatabase[[#This Row],[Tidspunkt (timer)]]","v":"Bøyla 2016-Vinterforhold-2-6"},{"$f":"Oljedatabase[[#This Row],[Sesong]]","v":"Vinterforhold"},5,2,"6",0.14000000000000001,307,"Kjemisk dispergerbar",0.11,0.88,0,59,"Eksplosjonsfare ved tanking",-2.2999999999999998,"Kjemisk dispergerbar","Nei",1.04,"2016-01-27T01:00:00",874,"Vest-Agder til Hordaland",30,6652496,-245846,"Bøyla 2016 Forvitringsrapport.pdf"]
["Bøyla 2016","Vinterforhold",{"$f":"Oljedatabase[[#This Row],[Oljetype]]&\"-\"&Oljedatabase[[#This Row],[SesongNy]]&\"-\"&Oljedatabase[[#This Row],[Vind (m/s)]]&\"-\"&Oljedatabase[[#This Row],[Tidspunkt (timer)]]","v":"Bøyla 2016-Vinterforhold-2-24"},{"$f":"Oljedatabase[[#This Row],[Sesong]]","v":"Vinterforhold"},5,2,"24",0.4,1380,"Kjemisk dispergerbar",0.16,0.83,0,78,"Ingen eksplosjonsfare",1.7,"Kjemisk dispergerbar","Nei",1.41,"2016-01-27T01:00:00",874,"Vest-Agder til Hordaland",30,6652496,-245846,"Bøyla 2016 Forvitringsrapport.pdf"]
["Caurus 2011","Sommerforhold",{"$f":"Oljedatabase[[#This Row],[Oljetype]]&\"-\"&Oljedatabase[[#This Row],[SesongNy]]&\"-\"&Oljedatabase[[#This Row],[Vind (m/s)]]&\"-\"&Oljedatabase[[#This Row],[Tidspunkt (timer)]]","v":"Caurus 2011-Sommerforhold-10-24"},{"$f":"Oljedatabase[[#This Row],[Sesong]]","v":"Sommerforhold"},10,10,"24",0.37,1490,"Redusert kjemisk dispergerbarhet",0.44,0.04,0.5,116,"Ingen eksplosjonsfare",17.2,"Redusert kjemisk dispergerbarhet","Nei",7.0000000000000007E-2,"2011-11-14T01:00:00",795,"Troms og Finnmark",46,8012923,756190,"Caurus 2011 Forvitringsrapport.pdf"]
["Caurus 2011","Sommerforhold",{"$f":"Oljedatabase[[#This Row],[Oljetype]]&\"-\"&Oljedatabase[[#This Row],[SesongNy]]&\"-\"&Oljedatabase[[#This Row],[Vind (m/s)]]&\"-\"&Oljedatabase[[#This Row],[Tidspunkt (timer)]]","v":"Caurus 2011-Sommerforhold-15-96"},{"$f":"Oljedatabase[[#This Row],[Sesong]]","v":"Sommerforhold"},10,15,"96",0.37,3330,"Redusert kjemisk dispergerbarhet",0.4,0,0.6,145,"Ingen eksplosjonsfare",25.1,"Lav/dårlig dispergerbarhet","Nei",0,"2011-11-14T01:00:00",795,"Troms og Finnmark",46,8012923,756190,"Caurus 2011 Forvitringsrapport.pdf"]
["Bøyla 2016","Vinterforhold",{"$f":"Oljedatabase[[#This Row],[Oljetype]]&\"-\"&Oljedatabase[[#This Row],[SesongNy]]&\"-\"&Oljedatabase[[#This Row],[Vind (m/s)]]&\"-\"&Oljedatabase[[#This Row],[Tidspunkt (timer)]]","v":"Bøyla 2016-Vinterforhold-2-120"},{"$f":"Oljedatabase[[#This Row],[Sesong]]","v":"Vinterforhold"},5,2,"120",0.68,10200,"Redusert kjemisk dispergerbarhet",0.21,0.78,0,101,"Ingen eksplosjonsfare",6.6,"Kjemisk dispergerbar","Ja",2.5099999999999998,"2016-01-27T01:00:00",874,"Vest-Agder til Hordaland",30,6652496,-245846,"Bøyla 2016 Forvitringsrapport.pdf"]
["Bøyla 2016","Vinterforhold",{"$f":"Oljedatabase[[#This Row],[Oljetype]]&\"-\"&Oljedatabase[[#This Row],[SesongNy]]&\"-\"&Oljedatabase[[#This Row],[Vind (m/s)]]&\"-\"&Oljedatabase[[#This Row],[Tidspunkt (timer)]]","v":"Bøyla 2016-Vinterforhold-15-9"},{"$f":"Oljedatabase[[#This Row],[Sesong]]","v":"Vinterforhold"},5,15,"9",0.69,10900,"Redusert kjemisk dispergerbarhet",0.19,0.34,0.46,102,"Ingen eksplosjonsfare",6.7,"Kjemisk dispergerbar","Ja",1.1200000000000001,"2016-01-27T01:00:00",874,"Vest-Agder til Hordaland",30,6652496,-245846,"Bøyla 2016 Forvitringsrapport.pdf"]
["Bøyla 2016","Vinterforhold",{"$f":"Oljedatabase[[#This Row],[Oljetype]]&\"-\"&Oljedatabase[[#This Row],[SesongNy]]&\"-\"&Oljedatabase[[#This Row],[Vind (m/s)]]&\"-\"&Oljedatabase[[#This Row],[Tidspunkt (timer)]]","v":"Bøyla 2016-Vinterforhold-5-96"},{"$f":"Oljedatabase[[#This Row],[Sesong]]","v":"Vinterforhold"},5,5,"96",0.7,14700,"Redusert kjemisk dispergerbarhet",0.23,0.7,0.05,112,"Ingen eksplosjonsfare",8.6999999999999993,"Kjemisk dispergerbar","Ja",2.41,"2016-01-27T01:00:00",874,"Vest-Agder til Hordaland",30,6652496,-245846,"Bøyla 2016 Forvitringsrapport.pdf"]
["Bøyla 2016","Sommerforhold",{"$f":"Oljedatabase[[#This Row],[Oljetype]]&\"-\"&Oljedatabase[[#This Row],[SesongNy]]&\"-\"&Oljedatabase[[#This Row],[Vind (m/s)]]&\"-\"&Oljedatabase[[#This Row],[Tidspunkt (timer)]]","v":"Bøyla 2016-Sommerforhold-15-48"},{"$f":"Oljedatabase[[#This Row],[Sesong]]","v":"Sommerforhold"},15,15,"48",0.77,23900,"Redusert kjemisk dispergerbarhet",0.24,0.02,0.72,148,"Ingen eksplosjonsfare",15.4,"Kjemisk dispergerbar","Ja",0.12,"2016-01-27T01:00:00",874,"Vest-Agder til Hordaland",30,6652496,-245846,"Bøyla 2016 Forvitringsrapport.pdf"]
["Caurus 2011","Sommerforhold",{"$f":"Oljedatabase[[#This Row],[Oljetype]]&\"-\"&Oljedatabase[[#This Row],[SesongNy]]&\"-\"&Oljedatabase[[#This Row],[Vind (m/s)]]&\"-\"&Oljedatabase[[#This Row],[Tidspunkt (timer)]]","v":"Caurus 2011-Sommerforhold-2-1"},{"$f":"Oljedatabase[[#This Row],[Sesong]]","v":"Sommerforhold"},10,2,"1",0.02,38,"Kjemisk dispergerbar",0.18,0.81,0,33,"Eksplosjonsfare ved tanking",-8,"Kjemisk dispergerbar","Nei",0.84,"2011-11-14T01:00:00",795,"Troms og Finnmark",46,8012923,756190,"Caurus 2011 Forvitringsrapport.pdf"]
["Bøyla 2016","Vinterforhold",{"$f":"Oljedatabase[[#This Row],[Oljetype]]&\"-\"&Oljedatabase[[#This Row],[SesongNy]]&\"-\"&Oljedatabase[[#This Row],[Vind (m/s)]]&\"-\"&Oljedatabase[[#This Row],[Tidspunkt (timer)]]","v":"Bøyla 2016-Vinterforhold-10-72"},{"$f":"Oljedatabase[[#This Row],[Sesong]]","v":"Vinterforhold"},5,10,"72",0.71,21100,"Redusert kjemisk dispergerbarhet",0.24,0.3,0.45,125,"Ingen eksplosjonsfare",11.1,"Redusert kjemisk dispergerbarhet","Ja",1.07,"2016-01-27T01:00:00",874,"Vest-Agder til Hordaland",30,6652496,-245846,"Bøyla 2016 Forvitringsrapport.pdf"]
["Bøyla 2016","Sommerforhold",{"$f":"Oljedatabase[[#This Row],[Oljetype]]&\"-\"&Oljedatabase[[#This Row],[SesongNy]]&\"-\"&Oljedatabase[[#This Row],[Vind (m/s)]]&\"-\"&Oljedatabase[[#This Row],[Tidspunkt (timer)]]","v":"Bøyla 2016-Sommerforhold-2-72"},{"$f":"Oljedatabase[[#This Row],[Sesong]]","v":"Sommerforhold"},15,2,"72",0.68,6140,"Redusert kjemisk dispergerbarhet",0.22,0.77,0,107,"Ingen eksplosjonsfare",7.6,"Kjemisk dispergerbar","Nei",2.48,"2016-01-27T01:00:00",874,"Vest-Agder til Hordaland",30,6652496,-245846,"Bøyla 2016 Forvitringsrapport.pdf"]
["Bøyla 2016","Vinterforhold",{"$f":"Oljedatabase[[#This Row],[Oljetype]]&\"-\"&Oljedatabase[[#This Row],[SesongNy]]&\"-\"&Oljedatabase[[#This Row],[Vind (m/s)]]&\"-\"&Oljedatabase[[#This Row],[Tidspunkt (timer)]]","v":"Bøyla 2016-Vinterforhold-10-6"},{"$f":"Oljedatabase[[#This Row],[Sesong]]","v":"Vinterforhold"},5,10,"6",0.64,5500,"Redusert kjemisk dispergerbarhet",0.17,0.7,0.11,86,"Ingen eksplosjonsfare",3.4,"Kjemisk dispergerbar","Nei",2.0099999999999998,"2016-01-27T01:00:00",874,"Vest-Agder til Hordaland",30,6652496,-245846,"Bøyla 2016 Forvitringsrapport.pdf"]
["Bøyla 2016","Vinterforhold",{"$f":"Oljedatabase[[#This Row],[Oljetype]]&\"-\"&Oljedatabase[[#This Row],[SesongNy]]&\"-\"&Oljedatabase[[#This Row],[Vind (m/s)]]&\"-\"&Oljedatabase[[#This Row],[Tidspunkt (timer)]]","v":"Bøyla 2016-Vinterforhold-10-48"},{"$f":"Oljedatabase[[#This Row],[Sesong]]","v":"Vinterforhold"},5,10,"48",0.71,17500,"Redusert kjemisk dispergerbarhet",0.23,0.39,0.37,118,"Ingen eksplosjonsfare",9.9,"Kjemisk dispergerbar","Ja",1.36,"2016-01-27T01:00:00",874,"Vest-Agder til Hordaland",30,6652496,-245846,"Bøyla 2016 Forvitringsrapport.pdf"]
["Brynhild 2015","Vinterforhold",{"$f":"Oljedatabase[[#This Row],[Oljetype]]&\"-\"&Oljedatabase[[#This Row],[SesongNy]]&\"-\"&Oljedatabase[[#This Row],[Vind (m/s)]]&\"-\"&Oljedatabase[[#This Row],[Tidspunkt (timer)]]","v":"Brynhild 2015-Vinterforhold-15-120"},{"$f":"Oljedatabase[[#This Row],[Sesong]]","v":"Vinterforhold"},5,15,"120",0.71,109000,"Ikke kjemisk dispergerbar",0.23,0,0.76,134,"Ingen eksplosjonsfare",11,"Redusert kjemisk dispergerbarhet","Ja",0.03,"2015-08-25T02:00:00",880,"Vest-Agder til Hordaland",29,6443576,-258445,"Brynhild 2015 Forvitringsrapport.pdf"]
["Caurus 2011","Sommerforhold",{"$f":"Oljedatabase[[#This Row],[Oljetype]]&\"-\"&Oljedatabase[[#This Row],[SesongNy]]&\"-\"&Oljedatabase[[#This Row],[Vind (m/s)]]&\"-\"&Oljedatabase[[#This Row],[Tidspunkt (timer)]]","v":"Caurus 2011-Sommerforhold-5-48"},{"$f":"Oljedatabase[[#This Row],[Sesong]]","v":"Sommerforhold"},10,5,"48",0.36,1290,"Redusert kjemisk dispergerbarhet",0.47,0.4,0.12,112,"Ingen eksplosjonsfare",15.9,"Redusert kjemisk dispergerbarhet","Nei",0.63,"2011-11-14T01:00:00",795,"Troms og Finnmark",46,8012923,756190,"Caurus 2011 Forvitringsrapport.pdf"]
["Caurus 2011","Vinterforhold",{"$f":"Oljedatabase[[#This Row],[Oljetype]]&\"-\"&Oljedatabase[[#This Row],[SesongNy]]&\"-\"&Oljedatabase[[#This Row],[Vind (m/s)]]&\"-\"&Oljedatabase[[#This Row],[Tidspunkt (timer)]]","v":"Caurus 2011-Vinterforhold-2-1"},{"$f":"Oljedatabase[[#This Row],[Sesong]]","v":"Vinterforhold"},5,2,"1",0.02,42,"Kjemisk dispergerbar",0.17,0.82,0,31,"Eksplosjonsfare ved tanking",-8.8000000000000007,"Kjemisk dispergerbar","Nei",0.85,"2011-11-14T01:00:00",795,"Troms og Finnmark",46,8012923,756190,"Caurus 2011 Forvitringsrapport.pdf"]
["Brage 2013","Vinterforhold",{"$f":"Oljedatabase[[#This Row],[Oljetype]]&\"-\"&Oljedatabase[[#This Row],[SesongNy]]&\"-\"&Oljedatabase[[#This Row],[Vind (m/s)]]&\"-\"&Oljedatabase[[#This Row],[Tidspunkt (timer)]]","v":"Brage 2013-Vinterforhold-15-9"},{"$f":"Oljedatabase[[#This Row],[Sesong]]","v":"Vinterforhold"},5,15,"9",0.8,4300,"Redusert kjemisk dispergerbarhet",0.3,0.18,0.51,89,"Ingen eksplosjonsfare",24.7,"Lav/dårlig dispergerbarhet","Nei",0.9,"2013-08-13T02:00:00",826,"Vestlandet",39,6771495,-153295,"Brage 2013 Forvitringsrapport.pdf"]
["Bream 2011","Sommerforhold",{"$f":"Oljedatabase[[#This Row],[Oljetype]]&\"-\"&Oljedatabase[[#This Row],[SesongNy]]&\"-\"&Oljedatabase[[#This Row],[Vind (m/s)]]&\"-\"&Oljedatabase[[#This Row],[Tidspunkt (timer)]]","v":"Bream 2011-Sommerforhold-15-120"},{"$f":"Oljedatabase[[#This Row],[Sesong]]","v":"Sommerforhold"},15,15,"120",0.75,28300,"Lav/dårlig kjemisk dispergerbarhet",0.25,0,0.74,176,"Ingen eksplosjonsfare",32.4,"Lav/dårlig dispergerbarhet","Ja",0,"2011-05-24T02:00:00",857,"Vest-Agder til Hordaland",33,6502083,-149887,"Bream 2011 Forvitringsrapport.pdf"]
["Brynhild 2015","Sommerforhold",{"$f":"Oljedatabase[[#This Row],[Oljetype]]&\"-\"&Oljedatabase[[#This Row],[SesongNy]]&\"-\"&Oljedatabase[[#This Row],[Vind (m/s)]]&\"-\"&Oljedatabase[[#This Row],[Tidspunkt (timer)]]","v":"Brynhild 2015-Sommerforhold-2-12"},{"$f":"Oljedatabase[[#This Row],[Sesong]]","v":"Sommerforhold"},15,2,"12",0.17,481,"Kjemisk dispergerbar",0.17,0.82,0,73,"Ingen eksplosjonsfare",3.8,"Kjemisk dispergerbar","Nei",1,"2015-08-25T02:00:00",880,"Vest-Agder til Hordaland",29,6443576,-258445,"Brynhild 2015 Forvitringsrapport.pdf"]
["Brynhild 2015","Vinterforhold",{"$f":"Oljedatabase[[#This Row],[Oljetype]]&\"-\"&Oljedatabase[[#This Row],[SesongNy]]&\"-\"&Oljedatabase[[#This Row],[Vind (m/s)]]&\"-\"&Oljedatabase[[#This Row],[Tidspunkt (timer)]]","v":"Brynhild 2015-Vinterforhold-5-1"},{"$f":"Oljedatabase[[#This Row],[Sesong]]","v":"Vinterforhold"},5,5,"1",0.06,217,"Kjemisk dispergerbar",0.09,0.9,0,39,"Eksplosjonsfare ved tanking",-0.8,"Kjemisk dispergerbar","Nei",0.97,"2015-08-25T02:00:00",880,"Vest-Agder til Hordaland",29,6443576,-258445,"Brynhild 2015 Forvitringsrapport.pdf"]
["Bøyla 2016","Sommerforhold",{"$f":"Oljedatabase[[#This Row],[Oljetype]]&\"-\"&Oljedatabase[[#This Row],[SesongNy]]&\"-\"&Oljedatabase[[#This Row],[Vind (m/s)]]&\"-\"&Oljedatabase[[#This Row],[Tidspunkt (timer)]]","v":"Bøyla 2016-Sommerforhold-5-24"},{"$f":"Oljedatabase[[#This Row],[Sesong]]","v":"Sommerforhold"},15,5,"24",0.71,6620,"Redusert kjemisk dispergerbarhet",0.21,0.75,0.02,104,"Ingen eksplosjonsfare",7,"Kjemisk dispergerbar","Nei",2.65,"2016-01-27T01:00:00",874,"Vest-Agder til Hordaland",30,6652496,-245846,"Bøyla 2016 Forvitringsrapport.pdf"]
["Bøyla 2016","Vinterforhold",{"$f":"Oljedatabase[[#This Row],[Oljetype]]&\"-\"&Oljedatabase[[#This Row],[SesongNy]]&\"-\"&Oljedatabase[[#This Row],[Vind (m/s)]]&\"-\"&Oljedatabase[[#This Row],[Tidspunkt (timer)]]","v":"Bøyla 2016-Vinterforhold-10-2"},{"$f":"Oljedatabase[[#This Row],[Sesong]]","v":"Vinterforhold"},5,10,"2",0.42,1210,"Kjemisk dispergerbar",0.14000000000000001,0.8,0.05,70,"Ingen eksplosjonsfare",0,"Kjemisk dispergerbar","Nei",1.4,"2016-01-27T01:00:00",874,"Vest-Agder til Hordaland",30,6652496,-245846,"Bøyla 2016 Forvitringsrapport.pdf"]
["Caurus 2011","Sommerforhold",{"$f":"Oljedatabase[[#This Row],[Oljetype]]&\"-\"&Oljedatabase[[#This Row],[SesongNy]]&\"-\"&Oljedatabase[[#This Row],[Vind (m/s)]]&\"-\"&Oljedatabase[[#This Row],[Tidspunkt (timer)]]","v":"Caurus 2011-Sommerforhold-10-48"},{"$f":"Oljedatabase[[#This Row],[Sesong]]","v":"Sommerforhold"},10,10,"48",0.37,1900,"Redusert kjemisk dispergerbarhet",0.45,0,0.54,125,"Ingen eksplosjonsfare",19.600000000000001,"Redusert kjemisk dispergerbarhet","Nei",0.01,"2011-11-14T01:00:00",795,"Troms og Finnmark",46,8012923,756190,"Caurus 2011 Forvitringsrapport.pdf"]
["Caurus 2011","Vinterforhold",{"$f":"Oljedatabase[[#This Row],[Oljetype]]&\"-\"&Oljedatabase[[#This Row],[SesongNy]]&\"-\"&Oljedatabase[[#This Row],[Vind (m/s)]]&\"-\"&Oljedatabase[[#This Row],[Tidspunkt (timer)]]","v":"Caurus 2011-Vinterforhold-15-3"},{"$f":"Oljedatabase[[#This Row],[Sesong]]","v":"Vinterforhold"},5,15,"3",0.37,973,"Kjemisk dispergerbar",0.37,0.13,0.49,91,"Ingen eksplosjonsfare",10,"Kjemisk dispergerbar","Nei",0.21,"2011-11-14T01:00:00",795,"Troms og Finnmark",46,8012923,756190,"Caurus 2011 Forvitringsrapport.pdf"]
["Draugen 2008","Sommerforhold",{"$f":"Oljedatabase[[#This Row],[Oljetype]]&\"-\"&Oljedatabase[[#This Row],[SesongNy]]&\"-\"&Oljedatabase[[#This Row],[Vind (m/s)]]&\"-\"&Oljedatabase[[#This Row],[Tidspunkt (timer)]]","v":"Draugen 2008-Sommerforhold-15-72"},{"$f":"Oljedatabase[[#This Row],[Sesong]]","v":"Sommerforhold"},15,15,"72",0.7,5600,"Lav/dårlig kjemisk dispergerbarhet",0.4,0,0.6,98,"Ingen eksplosjonsfare",25,"Redusert kjemisk dispergerbarhet","Nei",0,"2008-02-27T01:00:00",823,"Sør-Trøndelag til Nordland",40,7156164,152022,"Draugen 2008 Forvitringsrapport.pdf"]
["Drivis 2017","Sommerforhold",{"$f":"Oljedatabase[[#This Row],[Oljetype]]&\"-\"&Oljedatabase[[#This Row],[SesongNy]]&\"-\"&Oljedatabase[[#This Row],[Vind (m/s)]]&\"-\"&Oljedatabase[[#This Row],[Tidspunkt (timer)]]","v":"Drivis 2017-Sommerforhold-2-6"},{"$f":"Oljedatabase[[#This Row],[Sesong]]","v":"Sommerforhold"},10,2,"6",0.04,106,"Kjemisk dispergerbar",0.19,0.8,0,64,"Ingen eksplosjonsfare",6,"Kjemisk dispergerbar","Nei",0.84,"2017-02-22T01:00:00",838,"Johan Castberg",37,8041217,673057,"Drivis 2017 Forvitringsrapport.pdf"]
["Drivis 2017","Vinterforhold",{"$f":"Oljedatabase[[#This Row],[Oljetype]]&\"-\"&Oljedatabase[[#This Row],[SesongNy]]&\"-\"&Oljedatabase[[#This Row],[Vind (m/s)]]&\"-\"&Oljedatabase[[#This Row],[Tidspunkt (timer)]]","v":"Drivis 2017-Vinterforhold-2-96"},{"$f":"Oljedatabase[[#This Row],[Sesong]]","v":"Vinterforhold"},5,2,"96",0.49,2140,"Redusert kjemisk dispergerbarhet",0.31,0.68,0,96,"Ingen eksplosjonsfare",14.8,"Redusert kjemisk dispergerbarhet","Nei",1.36,"2017-02-22T01:00:00",838,"Johan Castberg",37,8041217,673057,"Drivis 2017 Forvitringsrapport.pdf"]
["Ekofisk blend 2002","Sommerforhold",{"$f":"Oljedatabase[[#This Row],[Oljetype]]&\"-\"&Oljedatabase[[#This Row],[SesongNy]]&\"-\"&Oljedatabase[[#This Row],[Vind (m/s)]]&\"-\"&Oljedatabase[[#This Row],[Tidspunkt (timer)]]","v":"Ekofisk blend 2002-Sommerforhold-5-9"},{"$f":"Oljedatabase[[#This Row],[Sesong]]","v":"Sommerforhold"},15,5,"9",0.56000000000000005,2300,"Redusert kjemisk dispergerbarhet",0.26,0.73,0.02,106,"Ingen eksplosjonsfare",16,"Kjemisk dispergerbar","Nei",1.65,"2002-02-11T01:00:00",851,"Vest-Agder til Hordaland",34,6329207,-222467,"Ekofisk blend 2002 Forvitringsrapport.pdf"]
["Bream 2011","Vinterforhold",{"$f":"Oljedatabase[[#This Row],[Oljetype]]&\"-\"&Oljedatabase[[#This Row],[SesongNy]]&\"-\"&Oljedatabase[[#This Row],[Vind (m/s)]]&\"-\"&Oljedatabase[[#This Row],[Tidspunkt (timer)]]","v":"Bream 2011-Vinterforhold-10-9"},{"$f":"Oljedatabase[[#This Row],[Sesong]]","v":"Vinterforhold"},5,10,"9",0.55000000000000004,13700,"Redusert kjemisk dispergerbarhet",0.18,0.74,7.0000000000000007E-2,96,"Ingen eksplosjonsfare",26,"Lav/dårlig dispergerbarhet","Ja",1.66,"2011-05-24T02:00:00",857,"Vest-Agder til Hordaland",33,6502083,-149887,"Bream 2011 Forvitringsrapport.pdf"]
["Brynhild 2015","Sommerforhold",{"$f":"Oljedatabase[[#This Row],[Oljetype]]&\"-\"&Oljedatabase[[#This Row],[SesongNy]]&\"-\"&Oljedatabase[[#This Row],[Vind (m/s)]]&\"-\"&Oljedatabase[[#This Row],[Tidspunkt (timer)]]","v":"Brynhild 2015-Sommerforhold-10-120"},{"$f":"Oljedatabase[[#This Row],[Sesong]]","v":"Sommerforhold"},15,10,"120",0.75,101000,"Ikke kjemisk dispergerbar",0.28000000000000003,0.27,0.43,140,"Ingen eksplosjonsfare",11.7,"Kjemisk dispergerbar","Ja",1.1399999999999999,"2015-08-25T02:00:00",880,"Vest-Agder til Hordaland",29,6443576,-258445,"Brynhild 2015 Forvitringsrapport.pdf"]
["Brynhild 2015","Vinterforhold",{"$f":"Oljedatabase[[#This Row],[Oljetype]]&\"-\"&Oljedatabase[[#This Row],[SesongNy]]&\"-\"&Oljedatabase[[#This Row],[Vind (m/s)]]&\"-\"&Oljedatabase[[#This Row],[Tidspunkt (timer)]]","v":"Brynhild 2015-Vinterforhold-15-12"},{"$f":"Oljedatabase[[#This Row],[Sesong]]","v":"Vinterforhold"},5,15,"12",0.71,42600,"Ikke kjemisk dispergerbar",0.2,0.34,0.45,100,"Ingen eksplosjonsfare",7.1,"Kjemisk dispergerbar","Ja",1.19,"2015-08-25T02:00:00",880,"Vest-Agder til Hordaland",29,6443576,-258445,"Brynhild 2015 Forvitringsrapport.pdf"]
["Bøyla 2016","Vinterforhold",{"$f":"Oljedatabase[[#This Row],[Oljetype]]&\"-\"&Oljedatabase[[#This Row],[SesongNy]]&\"-\"&Oljedatabase[[#This Row],[Vind (m/s)]]&\"-\"&Oljedatabase[[#This Row],[Tidspunkt (timer)]]","v":"Bøyla 2016-Vinterforhold-2-1"},{"$f":"Oljedatabase[[#This Row],[Sesong]]","v":"Vinterforhold"},5,2,"1",0.03,105,"Kjemisk dispergerbar",0.05,0.94,0,35,"Eksplosjonsfare ved tanking",-7.7,"Kjemisk dispergerbar","Nei",0.98,"2016-01-27T01:00:00",874,"Vest-Agder til Hordaland",30,6652496,-245846,"Bøyla 2016 Forvitringsrapport.pdf"]
["Caurus 2011","Sommerforhold",{"$f":"Oljedatabase[[#This Row],[Oljetype]]&\"-\"&Oljedatabase[[#This Row],[SesongNy]]&\"-\"&Oljedatabase[[#This Row],[Vind (m/s)]]&\"-\"&Oljedatabase[[#This Row],[Tidspunkt (timer)]]","v":"Caurus 2011-Sommerforhold-2-24"},{"$f":"Oljedatabase[[#This Row],[Sesong]]","v":"Sommerforhold"},10,2,"24",0.32,650,"Kjemisk dispergerbar",0.4,0.59,0,91,"Ingen eksplosjonsfare",9.9,"Kjemisk dispergerbar","Nei",0.87,"2011-11-14T01:00:00",795,"Troms og Finnmark",46,8012923,756190,"Caurus 2011 Forvitringsrapport.pdf"]
["Caurus 2011","Vinterforhold",{"$f":"Oljedatabase[[#This Row],[Oljetype]]&\"-\"&Oljedatabase[[#This Row],[SesongNy]]&\"-\"&Oljedatabase[[#This Row],[Vind (m/s)]]&\"-\"&Oljedatabase[[#This Row],[Tidspunkt (timer)]]","v":"Caurus 2011-Vinterforhold-5-2"},{"$f":"Oljedatabase[[#This Row],[Sesong]]","v":"Vinterforhold"},5,5,"2",0.2,185,"Kjemisk dispergerbar",0.26,0.72,0,54,"Eksplosjonsfare ved tanking",-1.5,"Kjemisk dispergerbar","Nei",0.92,"2011-11-14T01:00:00",795,"Troms og Finnmark",46,8012923,756190,"Caurus 2011 Forvitringsrapport.pdf"]
["Draugen 2008","Sommerforhold",{"$f":"Oljedatabase[[#This Row],[Oljetype]]&\"-\"&Oljedatabase[[#This Row],[SesongNy]]&\"-\"&Oljedatabase[[#This Row],[Vind (m/s)]]&\"-\"&Oljedatabase[[#This Row],[Tidspunkt (timer)]]","v":"Draugen 2008-Sommerforhold-5-48"},{"$f":"Oljedatabase[[#This Row],[Sesong]]","v":"Sommerforhold"},15,5,"48",0.7,4100,"Lav/dårlig kjemisk dispergerbarhet",0.43,0.52,0.05,111,"Ingen eksplosjonsfare",22,"Redusert kjemisk dispergerbarhet","Nei",1.73,"2008-02-27T01:00:00",823,"Sør-Trøndelag til Nordland",40,7156164,152022,"Draugen 2008 Forvitringsrapport.pdf"]
["Draugen 2008","Vinterforhold",{"$f":"Oljedatabase[[#This Row],[Oljetype]]&\"-\"&Oljedatabase[[#This Row],[SesongNy]]&\"-\"&Oljedatabase[[#This Row],[Vind (m/s)]]&\"-\"&Oljedatabase[[#This Row],[Tidspunkt (timer)]]","v":"Draugen 2008-Vinterforhold-10-3"},{"$f":"Oljedatabase[[#This Row],[Sesong]]","v":"Vinterforhold"},5,10,"3",0.56000000000000005,1500,"Redusert kjemisk dispergerbarhet",0.34,0.56000000000000005,0.1,74,"Ingen eksplosjonsfare",11,"Redusert kjemisk dispergerbarhet","Nei",1.27,"2008-02-27T01:00:00",823,"Sør-Trøndelag til Nordland",40,7156164,152022,"Draugen 2008 Forvitringsrapport.pdf"]
["Drivis 2017","Sommerforhold",{"$f":"Oljedatabase[[#This Row],[Oljetype]]&\"-\"&Oljedatabase[[#This Row],[SesongNy]]&\"-\"&Oljedatabase[[#This Row],[Vind (m/s)]]&\"-\"&Oljedatabase[[#This Row],[Tidspunkt (timer)]]","v":"Drivis 2017-Sommerforhold-10-72"},{"$f":"Oljedatabase[[#This Row],[Sesong]]","v":"Sommerforhold"},10,10,"72",0.8,10000,"Ikke kjemisk dispergerbar",0.36,0.1,0.53,125,"Ingen eksplosjonsfare",22.4,"Redusert kjemisk dispergerbarhet","Nei",0.54,"2017-02-22T01:00:00",838,"Johan Castberg",37,8041217,673057,"Drivis 2017 Forvitringsrapport.pdf"]
["Drivis 2017","Vinterforhold",{"$f":"Oljedatabase[[#This Row],[Oljetype]]&\"-\"&Oljedatabase[[#This Row],[SesongNy]]&\"-\"&Oljedatabase[[#This Row],[Vind (m/s)]]&\"-\"&Oljedatabase[[#This Row],[Tidspunkt (timer)]]","v":"Drivis 2017-Vinterforhold-15-6"},{"$f":"Oljedatabase[[#This Row],[Sesong]]","v":"Vinterforhold"},5,15,"6",0.65,3020,"Redusert kjemisk dispergerbarhet",0.27,0.19,0.53,94,"Ingen eksplosjonsfare",14.3,"Redusert kjemisk dispergerbarhet","Nei",0.56000000000000005,"2017-02-22T01:00:00",838,"Johan Castberg",37,8041217,673057,"Drivis 2017 Forvitringsrapport.pdf"]
["Bøyla 2016","Vinterforhold",{"$f":"Oljedatabase[[#This Row],[Oljetype]]&\"-\"&Oljedatabase[[#This Row],[SesongNy]]&\"-\"&Oljedatabase[[#This Row],[Vind (m/s)]]&\"-\"&Oljedatabase[[#This Row],[Tidspunkt (timer)]]","v":"Bøyla 2016-Vinterforhold-2-72"},{"$f":"Oljedatabase[[#This Row],[Sesong]]","v":"Vinterforhold"},5,2,"72",0.64,6490,"Redusert kjemisk dispergerbarhet",0.19,0.8,0,94,"Ingen eksplosjonsfare",5,"Kjemisk dispergerbar","Nei",2.2400000000000002,"2016-01-27T01:00:00",874,"Vest-Agder til Hordaland",30,6652496,-245846,"Bøyla 2016 Forvitringsrapport.pdf"]
["Caurus 2011","Sommerforhold",{"$f":"Oljedatabase[[#This Row],[Oljetype]]&\"-\"&Oljedatabase[[#This Row],[SesongNy]]&\"-\"&Oljedatabase[[#This Row],[Vind (m/s)]]&\"-\"&Oljedatabase[[#This Row],[Tidspunkt (timer)]]","v":"Caurus 2011-Sommerforhold-10-12"},{"$f":"Oljedatabase[[#This Row],[Sesong]]","v":"Sommerforhold"},10,10,"12",0.37,1160,"Redusert kjemisk dispergerbarhet",0.43,0.15,0.4,108,"Ingen eksplosjonsfare",14.7,"Kjemisk dispergerbar","Nei",0.25,"2011-11-14T01:00:00",795,"Troms og Finnmark",46,8012923,756190,"Caurus 2011 Forvitringsrapport.pdf"]
["Bøyla 2016","Sommerforhold",{"$f":"Oljedatabase[[#This Row],[Oljetype]]&\"-\"&Oljedatabase[[#This Row],[SesongNy]]&\"-\"&Oljedatabase[[#This Row],[Vind (m/s)]]&\"-\"&Oljedatabase[[#This Row],[Tidspunkt (timer)]]","v":"Bøyla 2016-Sommerforhold-2-96"},{"$f":"Oljedatabase[[#This Row],[Sesong]]","v":"Sommerforhold"},15,2,"96",0.72,8340,"Redusert kjemisk dispergerbarhet",0.23,0.76,0,112,"Ingen eksplosjonsfare",8.6,"Kjemisk dispergerbar","Nei",2.76,"2016-01-27T01:00:00",874,"Vest-Agder til Hordaland",30,6652496,-245846,"Bøyla 2016 Forvitringsrapport.pdf"]
["Bøyla 2016","Sommerforhold",{"$f":"Oljedatabase[[#This Row],[Oljetype]]&\"-\"&Oljedatabase[[#This Row],[SesongNy]]&\"-\"&Oljedatabase[[#This Row],[Vind (m/s)]]&\"-\"&Oljedatabase[[#This Row],[Tidspunkt (timer)]]","v":"Bøyla 2016-Sommerforhold-10-12"},{"$f":"Oljedatabase[[#This Row],[Sesong]]","v":"Sommerforhold"},15,10,"12",0.74,8930,"Redusert kjemisk dispergerbarhet",0.22,0.59,0.17,110,"Ingen eksplosjonsfare",8.1999999999999993,"Kjemisk dispergerbar","Nei",2.2999999999999998,"2016-01-27T01:00:00",874,"Vest-Agder til Hordaland",30,6652496,-245846,"Bøyla 2016 Forvitringsrapport.pdf"]
["Bøyla 2016","Sommerforhold",{"$f":"Oljedatabase[[#This Row],[Oljetype]]&\"-\"&Oljedatabase[[#This Row],[SesongNy]]&\"-\"&Oljedatabase[[#This Row],[Vind (m/s)]]&\"-\"&Oljedatabase[[#This Row],[Tidspunkt (timer)]]","v":"Bøyla 2016-Sommerforhold-2-6"},{"$f":"Oljedatabase[[#This Row],[Sesong]]","v":"Sommerforhold"},15,2,"6",0.16,242,"Kjemisk dispergerbar",0.13,0.86,0,68,"Ingen eksplosjonsfare",-0.4,"Kjemisk dispergerbar","Nei",1.03,"2016-01-27T01:00:00",874,"Vest-Agder til Hordaland",30,6652496,-245846,"Bøyla 2016 Forvitringsrapport.pdf"]
["Caurus 2011","Sommerforhold",{"$f":"Oljedatabase[[#This Row],[Oljetype]]&\"-\"&Oljedatabase[[#This Row],[SesongNy]]&\"-\"&Oljedatabase[[#This Row],[Vind (m/s)]]&\"-\"&Oljedatabase[[#This Row],[Tidspunkt (timer)]]","v":"Caurus 2011-Sommerforhold-5-24"},{"$f":"Oljedatabase[[#This Row],[Sesong]]","v":"Sommerforhold"},10,5,"24",0.36,1000,"Redusert kjemisk dispergerbarhet",0.44,0.47,7.0000000000000007E-2,103,"Ingen eksplosjonsfare",13.4,"Kjemisk dispergerbar","Nei",0.75,"2011-11-14T01:00:00",795,"Troms og Finnmark",46,8012923,756190,"Caurus 2011 Forvitringsrapport.pdf"]
["Caurus 2011","Sommerforhold",{"$f":"Oljedatabase[[#This Row],[Oljetype]]&\"-\"&Oljedatabase[[#This Row],[SesongNy]]&\"-\"&Oljedatabase[[#This Row],[Vind (m/s)]]&\"-\"&Oljedatabase[[#This Row],[Tidspunkt (timer)]]","v":"Caurus 2011-Sommerforhold-2-6"},{"$f":"Oljedatabase[[#This Row],[Sesong]]","v":"Sommerforhold"},10,2,"6",0.14000000000000001,196,"Kjemisk dispergerbar",0.32,0.67,0,67,"Ingen eksplosjonsfare",2.8,"Kjemisk dispergerbar","Nei",0.8,"2011-11-14T01:00:00",795,"Troms og Finnmark",46,8012923,756190,"Caurus 2011 Forvitringsrapport.pdf"]
["Caurus 2011","Vinterforhold",{"$f":"Oljedatabase[[#This Row],[Oljetype]]&\"-\"&Oljedatabase[[#This Row],[SesongNy]]&\"-\"&Oljedatabase[[#This Row],[Vind (m/s)]]&\"-\"&Oljedatabase[[#This Row],[Tidspunkt (timer)]]","v":"Caurus 2011-Vinterforhold-2-12"},{"$f":"Oljedatabase[[#This Row],[Sesong]]","v":"Vinterforhold"},5,2,"12",0.24,431,"Kjemisk dispergerbar",0.35,0.64,0,75,"Ingen eksplosjonsfare",5.0999999999999996,"Kjemisk dispergerbar","Nei",0.86,"2011-11-14T01:00:00",795,"Troms og Finnmark",46,8012923,756190,"Caurus 2011 Forvitringsrapport.pdf"]
["Bøyla 2016","Sommerforhold",{"$f":"Oljedatabase[[#This Row],[Oljetype]]&\"-\"&Oljedatabase[[#This Row],[SesongNy]]&\"-\"&Oljedatabase[[#This Row],[Vind (m/s)]]&\"-\"&Oljedatabase[[#This Row],[Tidspunkt (timer)]]","v":"Bøyla 2016-Sommerforhold-15-3"},{"$f":"Oljedatabase[[#This Row],[Sesong]]","v":"Sommerforhold"},15,15,"3",0.69,5220,"Redusert kjemisk dispergerbarhet",0.19,0.51,0.28999999999999998,98,"Ingen eksplosjonsfare",5.8,"Kjemisk dispergerbar","Nei",1.69,"2016-01-27T01:00:00",874,"Vest-Agder til Hordaland",30,6652496,-245846,"Bøyla 2016 Forvitringsrapport.pdf"]
["Bøyla 2016","Vinterforhold",{"$f":"Oljedatabase[[#This Row],[Oljetype]]&\"-\"&Oljedatabase[[#This Row],[SesongNy]]&\"-\"&Oljedatabase[[#This Row],[Vind (m/s)]]&\"-\"&Oljedatabase[[#This Row],[Tidspunkt (timer)]]","v":"Bøyla 2016-Vinterforhold-5-12"},{"$f":"Oljedatabase[[#This Row],[Sesong]]","v":"Vinterforhold"},5,5,"12",0.56000000000000005,3100,"Kjemisk dispergerbar",0.16,0.81,0.01,81,"Ingen eksplosjonsfare",2.2999999999999998,"Kjemisk dispergerbar","Nei",1.88,"2016-01-27T01:00:00",874,"Vest-Agder til Hordaland",30,6652496,-245846,"Bøyla 2016 Forvitringsrapport.pdf"]
["Caurus 2011","Sommerforhold",{"$f":"Oljedatabase[[#This Row],[Oljetype]]&\"-\"&Oljedatabase[[#This Row],[SesongNy]]&\"-\"&Oljedatabase[[#This Row],[Vind (m/s)]]&\"-\"&Oljedatabase[[#This Row],[Tidspunkt (timer)]]","v":"Caurus 2011-Sommerforhold-2-48"},{"$f":"Oljedatabase[[#This Row],[Sesong]]","v":"Sommerforhold"},10,2,"48",0.35,911,"Kjemisk dispergerbar",0.44,0.55000000000000004,0,101,"Ingen eksplosjonsfare",12.7,"Kjemisk dispergerbar","Nei",0.86,"2011-11-14T01:00:00",795,"Troms og Finnmark",46,8012923,756190,"Caurus 2011 Forvitringsrapport.pdf"]
["Bøyla 2016","Vinterforhold",{"$f":"Oljedatabase[[#This Row],[Oljetype]]&\"-\"&Oljedatabase[[#This Row],[SesongNy]]&\"-\"&Oljedatabase[[#This Row],[Vind (m/s)]]&\"-\"&Oljedatabase[[#This Row],[Tidspunkt (timer)]]","v":"Bøyla 2016-Vinterforhold-10-120"},{"$f":"Oljedatabase[[#This Row],[Sesong]]","v":"Vinterforhold"},5,10,"120",0.72,26800,"Redusert kjemisk dispergerbarhet",0.25,0.18,0.56000000000000005,133,"Ingen eksplosjonsfare",12.7,"Redusert kjemisk dispergerbarhet","Ja",0.68,"2016-01-27T01:00:00",874,"Vest-Agder til Hordaland",30,6652496,-245846,"Bøyla 2016 Forvitringsrapport.pdf"]
["Bøyla 2016","Sommerforhold",{"$f":"Oljedatabase[[#This Row],[Oljetype]]&\"-\"&Oljedatabase[[#This Row],[SesongNy]]&\"-\"&Oljedatabase[[#This Row],[Vind (m/s)]]&\"-\"&Oljedatabase[[#This Row],[Tidspunkt (timer)]]","v":"Bøyla 2016-Sommerforhold-15-24"},{"$f":"Oljedatabase[[#This Row],[Sesong]]","v":"Sommerforhold"},15,15,"24",0.76,17600,"Redusert kjemisk dispergerbarhet",0.23,0.11,0.65,133,"Ingen eksplosjonsfare",12.8,"Kjemisk dispergerbar","Ja",0.48,"2016-01-27T01:00:00",874,"Vest-Agder til Hordaland",30,6652496,-245846,"Bøyla 2016 Forvitringsrapport.pdf"]
["Draugen 2008","Sommerforhold",{"$f":"Oljedatabase[[#This Row],[Oljetype]]&\"-\"&Oljedatabase[[#This Row],[SesongNy]]&\"-\"&Oljedatabase[[#This Row],[Vind (m/s)]]&\"-\"&Oljedatabase[[#This Row],[Tidspunkt (timer)]]","v":"Draugen 2008-Sommerforhold-2-3"},{"$f":"Oljedatabase[[#This Row],[Sesong]]","v":"Sommerforhold"},15,2,"3",0.08,130,"Kjemisk dispergerbar",0.3,0.7,0,51,"Eksplosjonsfare ved tanking",4,"Kjemisk dispergerbar","Nei",0.76,"2008-02-27T01:00:00",823,"Sør-Trøndelag til Nordland",40,7156164,152022,"Draugen 2008 Forvitringsrapport.pdf"]
["Caurus 2011","Sommerforhold",{"$f":"Oljedatabase[[#This Row],[Oljetype]]&\"-\"&Oljedatabase[[#This Row],[SesongNy]]&\"-\"&Oljedatabase[[#This Row],[Vind (m/s)]]&\"-\"&Oljedatabase[[#This Row],[Tidspunkt (timer)]]","v":"Caurus 2011-Sommerforhold-15-1"},{"$f":"Oljedatabase[[#This Row],[Sesong]]","v":"Sommerforhold"},10,15,"1",0.36,439,"Kjemisk dispergerbar",0.34,0.42,0.23,76,"Ingen eksplosjonsfare",5.4,"Kjemisk dispergerbar","Nei",0.68,"2011-11-14T01:00:00",795,"Troms og Finnmark",46,8012923,756190,"Caurus 2011 Forvitringsrapport.pdf"]
["Caurus 2011","Vinterforhold",{"$f":"Oljedatabase[[#This Row],[Oljetype]]&\"-\"&Oljedatabase[[#This Row],[SesongNy]]&\"-\"&Oljedatabase[[#This Row],[Vind (m/s)]]&\"-\"&Oljedatabase[[#This Row],[Tidspunkt (timer)]]","v":"Caurus 2011-Vinterforhold-15-12"},{"$f":"Oljedatabase[[#This Row],[Sesong]]","v":"Vinterforhold"},5,15,"12",0.37,1760,"Redusert kjemisk dispergerbarhet",0.38,0,0.61,110,"Ingen eksplosjonsfare",15.5,"Redusert kjemisk dispergerbarhet","Nei",0,"2011-11-14T01:00:00",795,"Troms og Finnmark",46,8012923,756190,"Caurus 2011 Forvitringsrapport.pdf"]
["Caurus 2011","Sommerforhold",{"$f":"Oljedatabase[[#This Row],[Oljetype]]&\"-\"&Oljedatabase[[#This Row],[SesongNy]]&\"-\"&Oljedatabase[[#This Row],[Vind (m/s)]]&\"-\"&Oljedatabase[[#This Row],[Tidspunkt (timer)]]","v":"Caurus 2011-Sommerforhold-2-12"},{"$f":"Oljedatabase[[#This Row],[Sesong]]","v":"Sommerforhold"},10,2,"12",0.24,389,"Kjemisk dispergerbar",0.37,0.62,0,80,"Ingen eksplosjonsfare",6.7,"Kjemisk dispergerbar","Nei",0.83,"2011-11-14T01:00:00",795,"Troms og Finnmark",46,8012923,756190,"Caurus 2011 Forvitringsrapport.pdf"]
["Bøyla 2016","Vinterforhold",{"$f":"Oljedatabase[[#This Row],[Oljetype]]&\"-\"&Oljedatabase[[#This Row],[SesongNy]]&\"-\"&Oljedatabase[[#This Row],[Vind (m/s)]]&\"-\"&Oljedatabase[[#This Row],[Tidspunkt (timer)]]","v":"Bøyla 2016-Vinterforhold-5-48"},{"$f":"Oljedatabase[[#This Row],[Sesong]]","v":"Vinterforhold"},5,5,"48",0.69,10600,"Redusert kjemisk dispergerbarhet",0.21,0.75,0.03,101,"Ingen eksplosjonsfare",6.6,"Kjemisk dispergerbar","Ja",2.4700000000000002,"2016-01-27T01:00:00",874,"Vest-Agder til Hordaland",30,6652496,-245846,"Bøyla 2016 Forvitringsrapport.pdf"]
["Bøyla 2016","Sommerforhold",{"$f":"Oljedatabase[[#This Row],[Oljetype]]&\"-\"&Oljedatabase[[#This Row],[SesongNy]]&\"-\"&Oljedatabase[[#This Row],[Vind (m/s)]]&\"-\"&Oljedatabase[[#This Row],[Tidspunkt (timer)]]","v":"Bøyla 2016-Sommerforhold-10-6"},{"$f":"Oljedatabase[[#This Row],[Sesong]]","v":"Sommerforhold"},15,10,"6",0.69,5170,"Redusert kjemisk dispergerbarhet",0.2,0.67,0.12,98,"Ingen eksplosjonsfare",5.9,"Kjemisk dispergerbar","Nei",2.19,"2016-01-27T01:00:00",874,"Vest-Agder til Hordaland",30,6652496,-245846,"Bøyla 2016 Forvitringsrapport.pdf"]
["Bøyla 2016","Vinterforhold",{"$f":"Oljedatabase[[#This Row],[Oljetype]]&\"-\"&Oljedatabase[[#This Row],[SesongNy]]&\"-\"&Oljedatabase[[#This Row],[Vind (m/s)]]&\"-\"&Oljedatabase[[#This Row],[Tidspunkt (timer)]]","v":"Bøyla 2016-Vinterforhold-2-3"},{"$f":"Oljedatabase[[#This Row],[Sesong]]","v":"Vinterforhold"},5,2,"3",0.08,191,"Kjemisk dispergerbar",0.09,0.9,0,50,"Eksplosjonsfare ved tanking",-4.3,"Kjemisk dispergerbar","Nei",0.99,"2016-01-27T01:00:00",874,"Vest-Agder til Hordaland",30,6652496,-245846,"Bøyla 2016 Forvitringsrapport.pdf"]
["Bøyla 2016","Sommerforhold",{"$f":"Oljedatabase[[#This Row],[Oljetype]]&\"-\"&Oljedatabase[[#This Row],[SesongNy]]&\"-\"&Oljedatabase[[#This Row],[Vind (m/s)]]&\"-\"&Oljedatabase[[#This Row],[Tidspunkt (timer)]]","v":"Bøyla 2016-Sommerforhold-15-2"},{"$f":"Oljedatabase[[#This Row],[Sesong]]","v":"Sommerforhold"},15,15,"2",0.63,3150,"Kjemisk dispergerbar",0.18,0.57999999999999996,0.23,91,"Ingen eksplosjonsfare",4.4000000000000004,"Kjemisk dispergerbar","Nei",1.58,"2016-01-27T01:00:00",874,"Vest-Agder til Hordaland",30,6652496,-245846,"Bøyla 2016 Forvitringsrapport.pdf"]
["Caurus 2011","Sommerforhold",{"$f":"Oljedatabase[[#This Row],[Oljetype]]&\"-\"&Oljedatabase[[#This Row],[SesongNy]]&\"-\"&Oljedatabase[[#This Row],[Vind (m/s)]]&\"-\"&Oljedatabase[[#This Row],[Tidspunkt (timer)]]","v":"Caurus 2011-Sommerforhold-5-2"},{"$f":"Oljedatabase[[#This Row],[Sesong]]","v":"Sommerforhold"},10,5,"2",0.2,171,"Kjemisk dispergerbar",0.28000000000000003,0.7,0,58,"Eksplosjonsfare ved tanking",0,"Kjemisk dispergerbar","Nei",0.89,"2011-11-14T01:00:00",795,"Troms og Finnmark",46,8012923,756190,"Caurus 2011 Forvitringsrapport.pdf"]
["Caurus 2011","Sommerforhold",{"$f":"Oljedatabase[[#This Row],[Oljetype]]&\"-\"&Oljedatabase[[#This Row],[SesongNy]]&\"-\"&Oljedatabase[[#This Row],[Vind (m/s)]]&\"-\"&Oljedatabase[[#This Row],[Tidspunkt (timer)]]","v":"Caurus 2011-Sommerforhold-10-72"},{"$f":"Oljedatabase[[#This Row],[Sesong]]","v":"Sommerforhold"},10,10,"72",0.37,2220,"Redusert kjemisk dispergerbarhet",0.45,0,0.54,130,"Ingen eksplosjonsfare",21.1,"Redusert kjemisk dispergerbarhet","Nei",0,"2011-11-14T01:00:00",795,"Troms og Finnmark",46,8012923,756190,"Caurus 2011 Forvitringsrapport.pdf"]
["Bøyla 2016","Vinterforhold",{"$f":"Oljedatabase[[#This Row],[Oljetype]]&\"-\"&Oljedatabase[[#This Row],[SesongNy]]&\"-\"&Oljedatabase[[#This Row],[Vind (m/s)]]&\"-\"&Oljedatabase[[#This Row],[Tidspunkt (timer)]]","v":"Bøyla 2016-Vinterforhold-5-72"},{"$f":"Oljedatabase[[#This Row],[Sesong]]","v":"Vinterforhold"},5,5,"72",0.7,12900,"Redusert kjemisk dispergerbarhet",0.22,0.72,0.04,108,"Ingen eksplosjonsfare",7.8,"Kjemisk dispergerbar","Ja",2.44,"2016-01-27T01:00:00",874,"Vest-Agder til Hordaland",30,6652496,-245846,"Bøyla 2016 Forvitringsrapport.pdf"]
["Caurus 2011","Sommerforhold",{"$f":"Oljedatabase[[#This Row],[Oljetype]]&\"-\"&Oljedatabase[[#This Row],[SesongNy]]&\"-\"&Oljedatabase[[#This Row],[Vind (m/s)]]&\"-\"&Oljedatabase[[#This Row],[Tidspunkt (timer)]]","v":"Caurus 2011-Sommerforhold-5-12"},{"$f":"Oljedatabase[[#This Row],[Sesong]]","v":"Sommerforhold"},10,5,"12",0.36,750,"Kjemisk dispergerbar",0.41,0.54,0.04,93,"Ingen eksplosjonsfare",10.6,"Kjemisk dispergerbar","Nei",0.85,"2011-11-14T01:00:00",795,"Troms og Finnmark",46,8012923,756190,"Caurus 2011 Forvitringsrapport.pdf"]
["Caurus 2011","Vinterforhold",{"$f":"Oljedatabase[[#This Row],[Oljetype]]&\"-\"&Oljedatabase[[#This Row],[SesongNy]]&\"-\"&Oljedatabase[[#This Row],[Vind (m/s)]]&\"-\"&Oljedatabase[[#This Row],[Tidspunkt (timer)]]","v":"Caurus 2011-Vinterforhold-2-24"},{"$f":"Oljedatabase[[#This Row],[Sesong]]","v":"Vinterforhold"},5,2,"24",0.32,734,"Kjemisk dispergerbar",0.38,0.6,0,86,"Ingen eksplosjonsfare",8.3000000000000007,"Kjemisk dispergerbar","Nei",0.91,"2011-11-14T01:00:00",795,"Troms og Finnmark",46,8012923,756190,"Caurus 2011 Forvitringsrapport.pdf"]
["Draugen 2008","Sommerforhold",{"$f":"Oljedatabase[[#This Row],[Oljetype]]&\"-\"&Oljedatabase[[#This Row],[SesongNy]]&\"-\"&Oljedatabase[[#This Row],[Vind (m/s)]]&\"-\"&Oljedatabase[[#This Row],[Tidspunkt (timer)]]","v":"Draugen 2008-Sommerforhold-2-6"},{"$f":"Oljedatabase[[#This Row],[Sesong]]","v":"Sommerforhold"},15,2,"6",0.15,240,"Kjemisk dispergerbar",0.33,0.67,0,66,"Ingen eksplosjonsfare",8,"Kjemisk dispergerbar","Nei",0.78,"2008-02-27T01:00:00",823,"Sør-Trøndelag til Nordland",40,7156164,152022,"Draugen 2008 Forvitringsrapport.pdf"]
["Caurus 2011","Sommerforhold",{"$f":"Oljedatabase[[#This Row],[Oljetype]]&\"-\"&Oljedatabase[[#This Row],[SesongNy]]&\"-\"&Oljedatabase[[#This Row],[Vind (m/s)]]&\"-\"&Oljedatabase[[#This Row],[Tidspunkt (timer)]]","v":"Caurus 2011-Sommerforhold-15-3"},{"$f":"Oljedatabase[[#This Row],[Sesong]]","v":"Sommerforhold"},10,15,"3",0.37,854,"Kjemisk dispergerbar",0.38,0.1,0.5,97,"Ingen eksplosjonsfare",11.6,"Kjemisk dispergerbar","Nei",0.17,"2011-11-14T01:00:00",795,"Troms og Finnmark",46,8012923,756190,"Caurus 2011 Forvitringsrapport.pdf"]
["Bøyla 2016","Vinterforhold",{"$f":"Oljedatabase[[#This Row],[Oljetype]]&\"-\"&Oljedatabase[[#This Row],[SesongNy]]&\"-\"&Oljedatabase[[#This Row],[Vind (m/s)]]&\"-\"&Oljedatabase[[#This Row],[Tidspunkt (timer)]]","v":"Bøyla 2016-Vinterforhold-2-12"},{"$f":"Oljedatabase[[#This Row],[Sesong]]","v":"Vinterforhold"},5,2,"12",0.25,580,"Kjemisk dispergerbar",0.13,0.86,0,68,"Ingen eksplosjonsfare",-0.3,"Kjemisk dispergerbar","Nei",1.1599999999999999,"2016-01-27T01:00:00",874,"Vest-Agder til Hordaland",30,6652496,-245846,"Bøyla 2016 Forvitringsrapport.pdf"]
["Draugen 2008","Sommerforhold",{"$f":"Oljedatabase[[#This Row],[Oljetype]]&\"-\"&Oljedatabase[[#This Row],[SesongNy]]&\"-\"&Oljedatabase[[#This Row],[Vind (m/s)]]&\"-\"&Oljedatabase[[#This Row],[Tidspunkt (timer)]]","v":"Draugen 2008-Sommerforhold-2-9"},{"$f":"Oljedatabase[[#This Row],[Sesong]]","v":"Sommerforhold"},15,2,"9",0.21,350,"Kjemisk dispergerbar",0.34,0.66,0,74,"Ingen eksplosjonsfare",10,"Kjemisk dispergerbar","Nei",0.83,"2008-02-27T01:00:00",823,"Sør-Trøndelag til Nordland",40,7156164,152022,"Draugen 2008 Forvitringsrapport.pdf"]
["Caurus 2011","Sommerforhold",{"$f":"Oljedatabase[[#This Row],[Oljetype]]&\"-\"&Oljedatabase[[#This Row],[SesongNy]]&\"-\"&Oljedatabase[[#This Row],[Vind (m/s)]]&\"-\"&Oljedatabase[[#This Row],[Tidspunkt (timer)]]","v":"Caurus 2011-Sommerforhold-5-72"},{"$f":"Oljedatabase[[#This Row],[Sesong]]","v":"Sommerforhold"},10,5,"72",0.36,1490,"Redusert kjemisk dispergerbarhet",0.48,0.34,0.16,117,"Ingen eksplosjonsfare",17.3,"Redusert kjemisk dispergerbarhet","Nei",0.54,"2011-11-14T01:00:00",795,"Troms og Finnmark",46,8012923,756190,"Caurus 2011 Forvitringsrapport.pdf"]
["Brynhild 2015","Vinterforhold",{"$f":"Oljedatabase[[#This Row],[Oljetype]]&\"-\"&Oljedatabase[[#This Row],[SesongNy]]&\"-\"&Oljedatabase[[#This Row],[Vind (m/s)]]&\"-\"&Oljedatabase[[#This Row],[Tidspunkt (timer)]]","v":"Brynhild 2015-Vinterforhold-10-72"},{"$f":"Oljedatabase[[#This Row],[Sesong]]","v":"Vinterforhold"},5,10,"72",0.7,65100,"Ikke kjemisk dispergerbar",0.24,0.39,0.36,116,"Ingen eksplosjonsfare",9,"Kjemisk dispergerbar","Ja",1.36,"2015-08-25T02:00:00",880,"Vest-Agder til Hordaland",29,6443576,-258445,"Brynhild 2015 Forvitringsrapport.pdf"]
["Caurus 2011","Vinterforhold",{"$f":"Oljedatabase[[#This Row],[Oljetype]]&\"-\"&Oljedatabase[[#This Row],[SesongNy]]&\"-\"&Oljedatabase[[#This Row],[Vind (m/s)]]&\"-\"&Oljedatabase[[#This Row],[Tidspunkt (timer)]]","v":"Caurus 2011-Vinterforhold-5-12"},{"$f":"Oljedatabase[[#This Row],[Sesong]]","v":"Vinterforhold"},5,5,"12",0.36,850,"Redusert kjemisk dispergerbarhet",0.39,0.56000000000000005,0.04,88,"Ingen eksplosjonsfare",9,"Kjemisk dispergerbar","Nei",0.89,"2011-11-14T01:00:00",795,"Troms og Finnmark",46,8012923,756190,"Caurus 2011 Forvitringsrapport.pdf"]
["Bøyla 2016","Vinterforhold",{"$f":"Oljedatabase[[#This Row],[Oljetype]]&\"-\"&Oljedatabase[[#This Row],[SesongNy]]&\"-\"&Oljedatabase[[#This Row],[Vind (m/s)]]&\"-\"&Oljedatabase[[#This Row],[Tidspunkt (timer)]]","v":"Bøyla 2016-Vinterforhold-5-24"},{"$f":"Oljedatabase[[#This Row],[Sesong]]","v":"Vinterforhold"},5,5,"24",0.66,6920,"Redusert kjemisk dispergerbarhet",0.18,0.78,0.02,91,"Ingen eksplosjonsfare",4.4000000000000004,"Kjemisk dispergerbar","Nei",2.37,"2016-01-27T01:00:00",874,"Vest-Agder til Hordaland",30,6652496,-245846,"Bøyla 2016 Forvitringsrapport.pdf"]
["Bøyla 2016","Vinterforhold",{"$f":"Oljedatabase[[#This Row],[Oljetype]]&\"-\"&Oljedatabase[[#This Row],[SesongNy]]&\"-\"&Oljedatabase[[#This Row],[Vind (m/s)]]&\"-\"&Oljedatabase[[#This Row],[Tidspunkt (timer)]]","v":"Bøyla 2016-Vinterforhold-15-1"},{"$f":"Oljedatabase[[#This Row],[Sesong]]","v":"Vinterforhold"},5,15,"1",0.44,1250,"Kjemisk dispergerbar",0.13,0.72,0.14000000000000001,69,"Ingen eksplosjonsfare",-0.2,"Kjemisk dispergerbar","Nei",1.29,"2016-01-27T01:00:00",874,"Vest-Agder til Hordaland",30,6652496,-245846,"Bøyla 2016 Forvitringsrapport.pdf"]
["Caurus 2011","Vinterforhold",{"$f":"Oljedatabase[[#This Row],[Oljetype]]&\"-\"&Oljedatabase[[#This Row],[SesongNy]]&\"-\"&Oljedatabase[[#This Row],[Vind (m/s)]]&\"-\"&Oljedatabase[[#This Row],[Tidspunkt (timer)]]","v":"Caurus 2011-Vinterforhold-10-3"},{"$f":"Oljedatabase[[#This Row],[Sesong]]","v":"Vinterforhold"},5,10,"3",0.37,685,"Kjemisk dispergerbar",0.36,0.48,0.15,81,"Ingen eksplosjonsfare",6.9,"Kjemisk dispergerbar","Nei",0.78,"2011-11-14T01:00:00",795,"Troms og Finnmark",46,8012923,756190,"Caurus 2011 Forvitringsrapport.pdf"]
["Bøyla 2016","Vinterforhold",{"$f":"Oljedatabase[[#This Row],[Oljetype]]&\"-\"&Oljedatabase[[#This Row],[SesongNy]]&\"-\"&Oljedatabase[[#This Row],[Vind (m/s)]]&\"-\"&Oljedatabase[[#This Row],[Tidspunkt (timer)]]","v":"Bøyla 2016-Vinterforhold-5-6"},{"$f":"Oljedatabase[[#This Row],[Sesong]]","v":"Vinterforhold"},5,5,"6",0.4,1120,"Kjemisk dispergerbar",0.14000000000000001,0.84,0.01,71,"Ingen eksplosjonsfare",0.2,"Kjemisk dispergerbar","Nei",1.42,"2016-01-27T01:00:00",874,"Vest-Agder til Hordaland",30,6652496,-245846,"Bøyla 2016 Forvitringsrapport.pdf"]
["Bøyla 2016","Sommerforhold",{"$f":"Oljedatabase[[#This Row],[Oljetype]]&\"-\"&Oljedatabase[[#This Row],[SesongNy]]&\"-\"&Oljedatabase[[#This Row],[Vind (m/s)]]&\"-\"&Oljedatabase[[#This Row],[Tidspunkt (timer)]]","v":"Bøyla 2016-Sommerforhold-15-1"},{"$f":"Oljedatabase[[#This Row],[Sesong]]","v":"Sommerforhold"},15,15,"1",0.46,1060,"Kjemisk dispergerbar",0.15,0.68,0.15,79,"Ingen eksplosjonsfare",1.9,"Kjemisk dispergerbar","Nei",1.29,"2016-01-27T01:00:00",874,"Vest-Agder til Hordaland",30,6652496,-245846,"Bøyla 2016 Forvitringsrapport.pdf"]
["Caurus 2011","Sommerforhold",{"$f":"Oljedatabase[[#This Row],[Oljetype]]&\"-\"&Oljedatabase[[#This Row],[SesongNy]]&\"-\"&Oljedatabase[[#This Row],[Vind (m/s)]]&\"-\"&Oljedatabase[[#This Row],[Tidspunkt (timer)]]","v":"Caurus 2011-Sommerforhold-2-96"},{"$f":"Oljedatabase[[#This Row],[Sesong]]","v":"Sommerforhold"},10,2,"96",0.35,1180,"Redusert kjemisk dispergerbarhet",0.47,0.52,0,109,"Ingen eksplosjonsfare",15.2,"Redusert kjemisk dispergerbarhet","Nei",0.8,"2011-11-14T01:00:00",795,"Troms og Finnmark",46,8012923,756190,"Caurus 2011 Forvitringsrapport.pdf"]
["Bøyla 2016","Vinterforhold",{"$f":"Oljedatabase[[#This Row],[Oljetype]]&\"-\"&Oljedatabase[[#This Row],[SesongNy]]&\"-\"&Oljedatabase[[#This Row],[Vind (m/s)]]&\"-\"&Oljedatabase[[#This Row],[Tidspunkt (timer)]]","v":"Bøyla 2016-Vinterforhold-2-48"},{"$f":"Oljedatabase[[#This Row],[Sesong]]","v":"Vinterforhold"},5,2,"48",0.56999999999999995,3850,"Kjemisk dispergerbar",0.18,0.81,0,88,"Ingen eksplosjonsfare",3.8,"Kjemisk dispergerbar","Nei",1.9,"2016-01-27T01:00:00",874,"Vest-Agder til Hordaland",30,6652496,-245846,"Bøyla 2016 Forvitringsrapport.pdf"]
["Caurus 2011","Vinterforhold",{"$f":"Oljedatabase[[#This Row],[Oljetype]]&\"-\"&Oljedatabase[[#This Row],[SesongNy]]&\"-\"&Oljedatabase[[#This Row],[Vind (m/s)]]&\"-\"&Oljedatabase[[#This Row],[Tidspunkt (timer)]]","v":"Caurus 2011-Vinterforhold-10-2"},{"$f":"Oljedatabase[[#This Row],[Sesong]]","v":"Vinterforhold"},5,10,"2",0.36,507,"Kjemisk dispergerbar",0.33,0.56000000000000005,0.1,72,"Ingen eksplosjonsfare",4.3,"Kjemisk dispergerbar","Nei",0.89,"2011-11-14T01:00:00",795,"Troms og Finnmark",46,8012923,756190,"Caurus 2011 Forvitringsrapport.pdf"]
["Caurus 2011","Sommerforhold",{"$f":"Oljedatabase[[#This Row],[Oljetype]]&\"-\"&Oljedatabase[[#This Row],[SesongNy]]&\"-\"&Oljedatabase[[#This Row],[Vind (m/s)]]&\"-\"&Oljedatabase[[#This Row],[Tidspunkt (timer)]]","v":"Caurus 2011-Sommerforhold-2-3"},{"$f":"Oljedatabase[[#This Row],[Sesong]]","v":"Sommerforhold"},10,2,"3",7.0000000000000007E-2,92,"Kjemisk dispergerbar",0.26,0.73,0,52,"Eksplosjonsfare ved tanking",-1.9,"Kjemisk dispergerbar","Nei",0.8,"2011-11-14T01:00:00",795,"Troms og Finnmark",46,8012923,756190,"Caurus 2011 Forvitringsrapport.pdf"]
["Draugen 2008","Sommerforhold",{"$f":"Oljedatabase[[#This Row],[Oljetype]]&\"-\"&Oljedatabase[[#This Row],[SesongNy]]&\"-\"&Oljedatabase[[#This Row],[Vind (m/s)]]&\"-\"&Oljedatabase[[#This Row],[Tidspunkt (timer)]]","v":"Draugen 2008-Sommerforhold-2-24"},{"$f":"Oljedatabase[[#This Row],[Sesong]]","v":"Sommerforhold"},15,2,"24",0.43,930,"Kjemisk dispergerbar",0.38,0.62,0,89,"Ingen eksplosjonsfare",15,"Kjemisk dispergerbar","Nei",1.08,"2008-02-27T01:00:00",823,"Sør-Trøndelag til Nordland",40,7156164,152022,"Draugen 2008 Forvitringsrapport.pdf"]
["Caurus 2011","Vinterforhold",{"$f":"Oljedatabase[[#This Row],[Oljetype]]&\"-\"&Oljedatabase[[#This Row],[SesongNy]]&\"-\"&Oljedatabase[[#This Row],[Vind (m/s)]]&\"-\"&Oljedatabase[[#This Row],[Tidspunkt (timer)]]","v":"Caurus 2011-Vinterforhold-15-2"},{"$f":"Oljedatabase[[#This Row],[Sesong]]","v":"Vinterforhold"},5,15,"2",0.37,775,"Kjemisk dispergerbar",0.35,0.24,0.39,84,"Ingen eksplosjonsfare",7.9,"Kjemisk dispergerbar","Nei",0.4,"2011-11-14T01:00:00",795,"Troms og Finnmark",46,8012923,756190,"Caurus 2011 Forvitringsrapport.pdf"]
["Caurus 2011","Sommerforhold",{"$f":"Oljedatabase[[#This Row],[Oljetype]]&\"-\"&Oljedatabase[[#This Row],[SesongNy]]&\"-\"&Oljedatabase[[#This Row],[Vind (m/s)]]&\"-\"&Oljedatabase[[#This Row],[Tidspunkt (timer)]]","v":"Caurus 2011-Sommerforhold-10-96"},{"$f":"Oljedatabase[[#This Row],[Sesong]]","v":"Sommerforhold"},10,10,"96",0.37,2510,"Redusert kjemisk dispergerbarhet",0.45,0,0.54,135,"Ingen eksplosjonsfare",22.4,"Redusert kjemisk dispergerbarhet","Nei",0,"2011-11-14T01:00:00",795,"Troms og Finnmark",46,8012923,756190,"Caurus 2011 Forvitringsrapport.pdf"]
["Brynhild 2015","Vinterforhold",{"$f":"Oljedatabase[[#This Row],[Oljetype]]&\"-\"&Oljedatabase[[#This Row],[SesongNy]]&\"-\"&Oljedatabase[[#This Row],[Vind (m/s)]]&\"-\"&Oljedatabase[[#This Row],[Tidspunkt (timer)]]","v":"Brynhild 2015-Vinterforhold-15-6"},{"$f":"Oljedatabase[[#This Row],[Sesong]]","v":"Vinterforhold"},5,15,"6",0.7,29500,"Redusert kjemisk dispergerbarhet",0.19,0.45,0.35,90,"Ingen eksplosjonsfare",5.9,"Kjemisk dispergerbar","Ja",1.54,"2015-08-25T02:00:00",880,"Vest-Agder til Hordaland",29,6443576,-258445,"Brynhild 2015 Forvitringsrapport.pdf"]
["Caurus 2011","Sommerforhold",{"$f":"Oljedatabase[[#This Row],[Oljetype]]&\"-\"&Oljedatabase[[#This Row],[SesongNy]]&\"-\"&Oljedatabase[[#This Row],[Vind (m/s)]]&\"-\"&Oljedatabase[[#This Row],[Tidspunkt (timer)]]","v":"Caurus 2011-Sommerforhold-5-6"},{"$f":"Oljedatabase[[#This Row],[Sesong]]","v":"Sommerforhold"},10,5,"6",0.34,507,"Kjemisk dispergerbar",0.37,0.6,0.02,82,"Ingen eksplosjonsfare",7.2,"Kjemisk dispergerbar","Nei",0.92,"2011-11-14T01:00:00",795,"Troms og Finnmark",46,8012923,756190,"Caurus 2011 Forvitringsrapport.pdf"]
["Bøyla 2016","Vinterforhold",{"$f":"Oljedatabase[[#This Row],[Oljetype]]&\"-\"&Oljedatabase[[#This Row],[SesongNy]]&\"-\"&Oljedatabase[[#This Row],[Vind (m/s)]]&\"-\"&Oljedatabase[[#This Row],[Tidspunkt (timer)]]","v":"Bøyla 2016-Vinterforhold-15-72"},{"$f":"Oljedatabase[[#This Row],[Sesong]]","v":"Vinterforhold"},5,15,"72",0.72,28800,"Redusert kjemisk dispergerbarhet",0.22,0.01,0.77,136,"Ingen eksplosjonsfare",13.2,"Redusert kjemisk dispergerbarhet","Ja",0.04,"2016-01-27T01:00:00",874,"Vest-Agder til Hordaland",30,6652496,-245846,"Bøyla 2016 Forvitringsrapport.pdf"]
["Caurus 2011","Vinterforhold",{"$f":"Oljedatabase[[#This Row],[Oljetype]]&\"-\"&Oljedatabase[[#This Row],[SesongNy]]&\"-\"&Oljedatabase[[#This Row],[Vind (m/s)]]&\"-\"&Oljedatabase[[#This Row],[Tidspunkt (timer)]]","v":"Caurus 2011-Vinterforhold-2-96"},{"$f":"Oljedatabase[[#This Row],[Sesong]]","v":"Vinterforhold"},5,2,"96",0.35,1380,"Redusert kjemisk dispergerbarhet",0.45,0.54,0,104,"Ingen eksplosjonsfare",13.7,"Redusert kjemisk dispergerbarhet","Nei",0.83,"2011-11-14T01:00:00",795,"Troms og Finnmark",46,8012923,756190,"Caurus 2011 Forvitringsrapport.pdf"]
["Caurus 2011","Sommerforhold",{"$f":"Oljedatabase[[#This Row],[Oljetype]]&\"-\"&Oljedatabase[[#This Row],[SesongNy]]&\"-\"&Oljedatabase[[#This Row],[Vind (m/s)]]&\"-\"&Oljedatabase[[#This Row],[Tidspunkt (timer)]]","v":"Caurus 2011-Sommerforhold-2-2"},{"$f":"Oljedatabase[[#This Row],[Sesong]]","v":"Sommerforhold"},10,2,"2",0.05,64,"Kjemisk dispergerbar",0.23,0.77,0,45,"Eksplosjonsfare ved tanking",-4.3,"Kjemisk dispergerbar","Nei",0.81,"2011-11-14T01:00:00",795,"Troms og Finnmark",46,8012923,756190,"Caurus 2011 Forvitringsrapport.pdf"]
["Bøyla 2016","Vinterforhold",{"$f":"Oljedatabase[[#This Row],[Oljetype]]&\"-\"&Oljedatabase[[#This Row],[SesongNy]]&\"-\"&Oljedatabase[[#This Row],[Vind (m/s)]]&\"-\"&Oljedatabase[[#This Row],[Tidspunkt (timer)]]","v":"Bøyla 2016-Vinterforhold-5-9"},{"$f":"Oljedatabase[[#This Row],[Sesong]]","v":"Vinterforhold"},5,5,"9",0.5,2030,"Kjemisk dispergerbar",0.15,0.83,0.01,76,"Ingen eksplosjonsfare",1.5,"Kjemisk dispergerbar","Nei",1.66,"2016-01-27T01:00:00",874,"Vest-Agder til Hordaland",30,6652496,-245846,"Bøyla 2016 Forvitringsrapport.pdf"]
["Caurus 2011","Sommerforhold",{"$f":"Oljedatabase[[#This Row],[Oljetype]]&\"-\"&Oljedatabase[[#This Row],[SesongNy]]&\"-\"&Oljedatabase[[#This Row],[Vind (m/s)]]&\"-\"&Oljedatabase[[#This Row],[Tidspunkt (timer)]]","v":"Caurus 2011-Sommerforhold-10-1"},{"$f":"Oljedatabase[[#This Row],[Sesong]]","v":"Sommerforhold"},10,10,"1",0.28000000000000003,244,"Kjemisk dispergerbar",0.3,0.64,0.05,63,"Ingen eksplosjonsfare",1.4,"Kjemisk dispergerbar","Nei",0.91,"2011-11-14T01:00:00",795,"Troms og Finnmark",46,8012923,756190,"Caurus 2011 Forvitringsrapport.pdf"]
["Caurus 2011","Vinterforhold",{"$f":"Oljedatabase[[#This Row],[Oljetype]]&\"-\"&Oljedatabase[[#This Row],[SesongNy]]&\"-\"&Oljedatabase[[#This Row],[Vind (m/s)]]&\"-\"&Oljedatabase[[#This Row],[Tidspunkt (timer)]]","v":"Caurus 2011-Vinterforhold-15-1"},{"$f":"Oljedatabase[[#This Row],[Sesong]]","v":"Vinterforhold"},5,15,"1",0.37,478,"Kjemisk dispergerbar",0.32,0.45,0.22,70,"Ingen eksplosjonsfare",3.7,"Kjemisk dispergerbar","Nei",0.72,"2011-11-14T01:00:00",795,"Troms og Finnmark",46,8012923,756190,"Caurus 2011 Forvitringsrapport.pdf"]
["Caurus 2011","Vinterforhold",{"$f":"Oljedatabase[[#This Row],[Oljetype]]&\"-\"&Oljedatabase[[#This Row],[SesongNy]]&\"-\"&Oljedatabase[[#This Row],[Vind (m/s)]]&\"-\"&Oljedatabase[[#This Row],[Tidspunkt (timer)]]","v":"Caurus 2011-Vinterforhold-15-48"},{"$f":"Oljedatabase[[#This Row],[Sesong]]","v":"Vinterforhold"},5,15,"48",0.37,2900,"Redusert kjemisk dispergerbarhet",0.38,0,0.61,127,"Ingen eksplosjonsfare",20.2,"Lav/dårlig dispergerbarhet","Nei",0,"2011-11-14T01:00:00",795,"Troms og Finnmark",46,8012923,756190,"Caurus 2011 Forvitringsrapport.pdf"]
["Draugen 2008","Vinterforhold",{"$f":"Oljedatabase[[#This Row],[Oljetype]]&\"-\"&Oljedatabase[[#This Row],[SesongNy]]&\"-\"&Oljedatabase[[#This Row],[Vind (m/s)]]&\"-\"&Oljedatabase[[#This Row],[Tidspunkt (timer)]]","v":"Draugen 2008-Vinterforhold-2-1"},{"$f":"Oljedatabase[[#This Row],[Sesong]]","v":"Vinterforhold"},5,2,"1",0.03,36,"Kjemisk dispergerbar",0.19,0.81,0,14,"Eksplosjonsfare ved tanking",-9,"Kjemisk dispergerbar","Nei",0.83,"2008-02-27T01:00:00",823,"Sør-Trøndelag til Nordland",40,7156164,152022,"Draugen 2008 Forvitringsrapport.pdf"]
["Caurus 2011","Sommerforhold",{"$f":"Oljedatabase[[#This Row],[Oljetype]]&\"-\"&Oljedatabase[[#This Row],[SesongNy]]&\"-\"&Oljedatabase[[#This Row],[Vind (m/s)]]&\"-\"&Oljedatabase[[#This Row],[Tidspunkt (timer)]]","v":"Caurus 2011-Sommerforhold-15-12"},{"$f":"Oljedatabase[[#This Row],[Sesong]]","v":"Sommerforhold"},10,15,"12",0.37,1480,"Redusert kjemisk dispergerbarhet",0.4,0,0.6,116,"Ingen eksplosjonsfare",17,"Redusert kjemisk dispergerbarhet","Nei",0,"2011-11-14T01:00:00",795,"Troms og Finnmark",46,8012923,756190,"Caurus 2011 Forvitringsrapport.pdf"]
["Caurus 2011","Sommerforhold",{"$f":"Oljedatabase[[#This Row],[Oljetype]]&\"-\"&Oljedatabase[[#This Row],[SesongNy]]&\"-\"&Oljedatabase[[#This Row],[Vind (m/s)]]&\"-\"&Oljedatabase[[#This Row],[Tidspunkt (timer)]]","v":"Caurus 2011-Sommerforhold-10-9"},{"$f":"Oljedatabase[[#This Row],[Sesong]]","v":"Sommerforhold"},10,10,"9",0.37,1040,"Redusert kjemisk dispergerbarhet",0.42,0.21,0.35,104,"Ingen eksplosjonsfare",13.6,"Kjemisk dispergerbar","Nei",0.35,"2011-11-14T01:00:00",795,"Troms og Finnmark",46,8012923,756190,"Caurus 2011 Forvitringsrapport.pdf"]
["Draugen 2008","Vinterforhold",{"$f":"Oljedatabase[[#This Row],[Oljetype]]&\"-\"&Oljedatabase[[#This Row],[SesongNy]]&\"-\"&Oljedatabase[[#This Row],[Vind (m/s)]]&\"-\"&Oljedatabase[[#This Row],[Tidspunkt (timer)]]","v":"Draugen 2008-Vinterforhold-2-72"},{"$f":"Oljedatabase[[#This Row],[Sesong]]","v":"Vinterforhold"},5,2,"72",0.66,3700,"Redusert kjemisk dispergerbarhet",0.39,0.61,0,93,"Ingen eksplosjonsfare",16,"Redusert kjemisk dispergerbarhet","Nei",1.79,"2008-02-27T01:00:00",823,"Sør-Trøndelag til Nordland",40,7156164,152022,"Draugen 2008 Forvitringsrapport.pdf"]
["Caurus 2011","Vinterforhold",{"$f":"Oljedatabase[[#This Row],[Oljetype]]&\"-\"&Oljedatabase[[#This Row],[SesongNy]]&\"-\"&Oljedatabase[[#This Row],[Vind (m/s)]]&\"-\"&Oljedatabase[[#This Row],[Tidspunkt (timer)]]","v":"Caurus 2011-Vinterforhold-15-24"},{"$f":"Oljedatabase[[#This Row],[Sesong]]","v":"Vinterforhold"},5,15,"24",0.37,2260,"Redusert kjemisk dispergerbarhet",0.38,0,0.61,118,"Ingen eksplosjonsfare",17.8,"Redusert kjemisk dispergerbarhet","Nei",0,"2011-11-14T01:00:00",795,"Troms og Finnmark",46,8012923,756190,"Caurus 2011 Forvitringsrapport.pdf"]
["Caurus 2011","Vinterforhold",{"$f":"Oljedatabase[[#This Row],[Oljetype]]&\"-\"&Oljedatabase[[#This Row],[SesongNy]]&\"-\"&Oljedatabase[[#This Row],[Vind (m/s)]]&\"-\"&Oljedatabase[[#This Row],[Tidspunkt (timer)]]","v":"Caurus 2011-Vinterforhold-5-3"},{"$f":"Oljedatabase[[#This Row],[Sesong]]","v":"Vinterforhold"},5,5,"3",0.26,288,"Kjemisk dispergerbar",0.28999999999999998,0.69,0.01,62,"Ingen eksplosjonsfare",1.1000000000000001,"Kjemisk dispergerbar","Nei",0.94,"2011-11-14T01:00:00",795,"Troms og Finnmark",46,8012923,756190,"Caurus 2011 Forvitringsrapport.pdf"]
["Caurus 2011","Sommerforhold",{"$f":"Oljedatabase[[#This Row],[Oljetype]]&\"-\"&Oljedatabase[[#This Row],[SesongNy]]&\"-\"&Oljedatabase[[#This Row],[Vind (m/s)]]&\"-\"&Oljedatabase[[#This Row],[Tidspunkt (timer)]]","v":"Caurus 2011-Sommerforhold-10-3"},{"$f":"Oljedatabase[[#This Row],[Sesong]]","v":"Sommerforhold"},10,10,"3",0.37,614,"Kjemisk dispergerbar",0.38,0.46,0.15,86,"Ingen eksplosjonsfare",8.5,"Kjemisk dispergerbar","Nei",0.73,"2011-11-14T01:00:00",795,"Troms og Finnmark",46,8012923,756190,"Caurus 2011 Forvitringsrapport.pdf"]
["Caurus 2011","Sommerforhold",{"$f":"Oljedatabase[[#This Row],[Oljetype]]&\"-\"&Oljedatabase[[#This Row],[SesongNy]]&\"-\"&Oljedatabase[[#This Row],[Vind (m/s)]]&\"-\"&Oljedatabase[[#This Row],[Tidspunkt (timer)]]","v":"Caurus 2011-Sommerforhold-15-6"},{"$f":"Oljedatabase[[#This Row],[Sesong]]","v":"Sommerforhold"},10,15,"6",0.37,1150,"Redusert kjemisk dispergerbarhet",0.39,0.01,0.57999999999999996,107,"Ingen eksplosjonsfare",14.5,"Kjemisk dispergerbar","Nei",0.02,"2011-11-14T01:00:00",795,"Troms og Finnmark",46,8012923,756190,"Caurus 2011 Forvitringsrapport.pdf"]
["Bøyla 2016","Vinterforhold",{"$f":"Oljedatabase[[#This Row],[Oljetype]]&\"-\"&Oljedatabase[[#This Row],[SesongNy]]&\"-\"&Oljedatabase[[#This Row],[Vind (m/s)]]&\"-\"&Oljedatabase[[#This Row],[Tidspunkt (timer)]]","v":"Bøyla 2016-Vinterforhold-10-96"},{"$f":"Oljedatabase[[#This Row],[Sesong]]","v":"Vinterforhold"},5,10,"96",0.72,24100,"Redusert kjemisk dispergerbarhet",0.24,0.23,0.51,130,"Ingen eksplosjonsfare",12,"Redusert kjemisk dispergerbarhet","Ja",0.85,"2016-01-27T01:00:00",874,"Vest-Agder til Hordaland",30,6652496,-245846,"Bøyla 2016 Forvitringsrapport.pdf"]
["Caurus 2011","Sommerforhold",{"$f":"Oljedatabase[[#This Row],[Oljetype]]&\"-\"&Oljedatabase[[#This Row],[SesongNy]]&\"-\"&Oljedatabase[[#This Row],[Vind (m/s)]]&\"-\"&Oljedatabase[[#This Row],[Tidspunkt (timer)]]","v":"Caurus 2011-Sommerforhold-2-72"},{"$f":"Oljedatabase[[#This Row],[Sesong]]","v":"Sommerforhold"},10,2,"72",0.35,1060,"Redusert kjemisk dispergerbarhet",0.46,0.53,0,106,"Ingen eksplosjonsfare",14.2,"Kjemisk dispergerbar","Nei",0.82,"2011-11-14T01:00:00",795,"Troms og Finnmark",46,8012923,756190,"Caurus 2011 Forvitringsrapport.pdf"]
["Draugen 2008","Sommerforhold",{"$f":"Oljedatabase[[#This Row],[Oljetype]]&\"-\"&Oljedatabase[[#This Row],[SesongNy]]&\"-\"&Oljedatabase[[#This Row],[Vind (m/s)]]&\"-\"&Oljedatabase[[#This Row],[Tidspunkt (timer)]]","v":"Draugen 2008-Sommerforhold-5-2"},{"$f":"Oljedatabase[[#This Row],[Sesong]]","v":"Sommerforhold"},15,5,"2",0.19,220,"Kjemisk dispergerbar",0.32,0.68,0.01,57,"Eksplosjonsfare ved tanking",7,"Kjemisk dispergerbar","Nei",0.83,"2008-02-27T01:00:00",823,"Sør-Trøndelag til Nordland",40,7156164,152022,"Draugen 2008 Forvitringsrapport.pdf"]
["Caurus 2011","Vinterforhold",{"$f":"Oljedatabase[[#This Row],[Oljetype]]&\"-\"&Oljedatabase[[#This Row],[SesongNy]]&\"-\"&Oljedatabase[[#This Row],[Vind (m/s)]]&\"-\"&Oljedatabase[[#This Row],[Tidspunkt (timer)]]","v":"Caurus 2011-Vinterforhold-5-1"},{"$f":"Oljedatabase[[#This Row],[Sesong]]","v":"Vinterforhold"},5,5,"1",0.12,91,"Kjemisk dispergerbar",0.21,0.78,0,41,"Eksplosjonsfare ved tanking",-5.4,"Kjemisk dispergerbar","Nei",0.89,"2011-11-14T01:00:00",795,"Troms og Finnmark",46,8012923,756190,"Caurus 2011 Forvitringsrapport.pdf"]
["Bøyla 2016","Vinterforhold",{"$f":"Oljedatabase[[#This Row],[Oljetype]]&\"-\"&Oljedatabase[[#This Row],[SesongNy]]&\"-\"&Oljedatabase[[#This Row],[Vind (m/s)]]&\"-\"&Oljedatabase[[#This Row],[Tidspunkt (timer)]]","v":"Bøyla 2016-Vinterforhold-2-96"},{"$f":"Oljedatabase[[#This Row],[Sesong]]","v":"Vinterforhold"},5,2,"96",0.67,8600,"Redusert kjemisk dispergerbarhet",0.2,0.79,0,98,"Ingen eksplosjonsfare",5.9,"Kjemisk dispergerbar","Nei",2.4300000000000002,"2016-01-27T01:00:00",874,"Vest-Agder til Hordaland",30,6652496,-245846,"Bøyla 2016 Forvitringsrapport.pdf"]
["Caurus 2011","Vinterforhold",{"$f":"Oljedatabase[[#This Row],[Oljetype]]&\"-\"&Oljedatabase[[#This Row],[SesongNy]]&\"-\"&Oljedatabase[[#This Row],[Vind (m/s)]]&\"-\"&Oljedatabase[[#This Row],[Tidspunkt (timer)]]","v":"Caurus 2011-Vinterforhold-5-48"},{"$f":"Oljedatabase[[#This Row],[Sesong]]","v":"Vinterforhold"},5,5,"48",0.36,1530,"Redusert kjemisk dispergerbarhet",0.45,0.42,0.12,106,"Ingen eksplosjonsfare",14.4,"Redusert kjemisk dispergerbarhet","Nei",0.67,"2011-11-14T01:00:00",795,"Troms og Finnmark",46,8012923,756190,"Caurus 2011 Forvitringsrapport.pdf"]
["Bøyla 2016","Vinterforhold",{"$f":"Oljedatabase[[#This Row],[Oljetype]]&\"-\"&Oljedatabase[[#This Row],[SesongNy]]&\"-\"&Oljedatabase[[#This Row],[Vind (m/s)]]&\"-\"&Oljedatabase[[#This Row],[Tidspunkt (timer)]]","v":"Bøyla 2016-Vinterforhold-15-48"},{"$f":"Oljedatabase[[#This Row],[Sesong]]","v":"Vinterforhold"},5,15,"48",0.71,23800,"Redusert kjemisk dispergerbarhet",0.21,0.03,0.74,129,"Ingen eksplosjonsfare",11.9,"Redusert kjemisk dispergerbarhet","Ja",0.12,"2016-01-27T01:00:00",874,"Vest-Agder til Hordaland",30,6652496,-245846,"Bøyla 2016 Forvitringsrapport.pdf"]
["Caurus 2011","Sommerforhold",{"$f":"Oljedatabase[[#This Row],[Oljetype]]&\"-\"&Oljedatabase[[#This Row],[SesongNy]]&\"-\"&Oljedatabase[[#This Row],[Vind (m/s)]]&\"-\"&Oljedatabase[[#This Row],[Tidspunkt (timer)]]","v":"Caurus 2011-Sommerforhold-10-6"},{"$f":"Oljedatabase[[#This Row],[Sesong]]","v":"Sommerforhold"},10,10,"6",0.37,873,"Kjemisk dispergerbar",0.41,0.31,0.27,98,"Ingen eksplosjonsfare",11.9,"Kjemisk dispergerbar","Nei",0.49,"2011-11-14T01:00:00",795,"Troms og Finnmark",46,8012923,756190,"Caurus 2011 Forvitringsrapport.pdf"]
["Caurus 2011","Vinterforhold",{"$f":"Oljedatabase[[#This Row],[Oljetype]]&\"-\"&Oljedatabase[[#This Row],[SesongNy]]&\"-\"&Oljedatabase[[#This Row],[Vind (m/s)]]&\"-\"&Oljedatabase[[#This Row],[Tidspunkt (timer)]]","v":"Caurus 2011-Vinterforhold-10-1"},{"$f":"Oljedatabase[[#This Row],[Sesong]]","v":"Vinterforhold"},5,10,"1",0.28999999999999998,263,"Kjemisk dispergerbar",0.28000000000000003,0.67,0.04,58,"Eksplosjonsfare ved tanking",-0.2,"Kjemisk dispergerbar","Nei",0.95,"2011-11-14T01:00:00",795,"Troms og Finnmark",46,8012923,756190,"Caurus 2011 Forvitringsrapport.pdf"]
["Caurus 2011","Vinterforhold",{"$f":"Oljedatabase[[#This Row],[Oljetype]]&\"-\"&Oljedatabase[[#This Row],[SesongNy]]&\"-\"&Oljedatabase[[#This Row],[Vind (m/s)]]&\"-\"&Oljedatabase[[#This Row],[Tidspunkt (timer)]]","v":"Caurus 2011-Vinterforhold-10-6"},{"$f":"Oljedatabase[[#This Row],[Sesong]]","v":"Vinterforhold"},5,10,"6",0.37,999,"Redusert kjemisk dispergerbarhet",0.39,0.33,0.26,92,"Ingen eksplosjonsfare",10.3,"Redusert kjemisk dispergerbarhet","Nei",0.54,"2011-11-14T01:00:00",795,"Troms og Finnmark",46,8012923,756190,"Caurus 2011 Forvitringsrapport.pdf"]
["Draugen 2008","Vinterforhold",{"$f":"Oljedatabase[[#This Row],[Oljetype]]&\"-\"&Oljedatabase[[#This Row],[SesongNy]]&\"-\"&Oljedatabase[[#This Row],[Vind (m/s)]]&\"-\"&Oljedatabase[[#This Row],[Tidspunkt (timer)]]","v":"Draugen 2008-Vinterforhold-2-120"},{"$f":"Oljedatabase[[#This Row],[Sesong]]","v":"Vinterforhold"},5,2,"120",0.69,5300,"Lav/dårlig kjemisk dispergerbarhet",0.4,0.59,0,99,"Ingen eksplosjonsfare",19,"Redusert kjemisk dispergerbarhet","Nei",1.9,"2008-02-27T01:00:00",823,"Sør-Trøndelag til Nordland",40,7156164,152022,"Draugen 2008 Forvitringsrapport.pdf"]
["Draugen 2008","Sommerforhold",{"$f":"Oljedatabase[[#This Row],[Oljetype]]&\"-\"&Oljedatabase[[#This Row],[SesongNy]]&\"-\"&Oljedatabase[[#This Row],[Vind (m/s)]]&\"-\"&Oljedatabase[[#This Row],[Tidspunkt (timer)]]","v":"Draugen 2008-Sommerforhold-5-1"},{"$f":"Oljedatabase[[#This Row],[Sesong]]","v":"Sommerforhold"},15,5,"1",0.1,100,"Kjemisk dispergerbar",0.28000000000000003,0.72,0,42,"Eksplosjonsfare ved tanking",1,"Kjemisk dispergerbar","Nei",0.8,"2008-02-27T01:00:00",823,"Sør-Trøndelag til Nordland",40,7156164,152022,"Draugen 2008 Forvitringsrapport.pdf"]
["Caurus 2011","Vinterforhold",{"$f":"Oljedatabase[[#This Row],[Oljetype]]&\"-\"&Oljedatabase[[#This Row],[SesongNy]]&\"-\"&Oljedatabase[[#This Row],[Vind (m/s)]]&\"-\"&Oljedatabase[[#This Row],[Tidspunkt (timer)]]","v":"Caurus 2011-Vinterforhold-15-6"},{"$f":"Oljedatabase[[#This Row],[Sesong]]","v":"Vinterforhold"},5,15,"6",0.37,1340,"Redusert kjemisk dispergerbarhet",0.38,0.01,0.6,101,"Ingen eksplosjonsfare",12.9,"Redusert kjemisk dispergerbarhet","Nei",0.02,"2011-11-14T01:00:00",795,"Troms og Finnmark",46,8012923,756190,"Caurus 2011 Forvitringsrapport.pdf"]
["Caurus 2011","Sommerforhold",{"$f":"Oljedatabase[[#This Row],[Oljetype]]&\"-\"&Oljedatabase[[#This Row],[SesongNy]]&\"-\"&Oljedatabase[[#This Row],[Vind (m/s)]]&\"-\"&Oljedatabase[[#This Row],[Tidspunkt (timer)]]","v":"Caurus 2011-Sommerforhold-5-1"},{"$f":"Oljedatabase[[#This Row],[Sesong]]","v":"Sommerforhold"},10,5,"1",0.11,83,"Kjemisk dispergerbar",0.23,0.76,0,45,"Eksplosjonsfare ved tanking",-4.2,"Kjemisk dispergerbar","Nei",0.87,"2011-11-14T01:00:00",795,"Troms og Finnmark",46,8012923,756190,"Caurus 2011 Forvitringsrapport.pdf"]
["Draugen 2008","Sommerforhold",{"$f":"Oljedatabase[[#This Row],[Oljetype]]&\"-\"&Oljedatabase[[#This Row],[SesongNy]]&\"-\"&Oljedatabase[[#This Row],[Vind (m/s)]]&\"-\"&Oljedatabase[[#This Row],[Tidspunkt (timer)]]","v":"Draugen 2008-Sommerforhold-10-1"},{"$f":"Oljedatabase[[#This Row],[Sesong]]","v":"Sommerforhold"},15,10,"1",0.28999999999999998,330,"Kjemisk dispergerbar",0.33,0.63,0.05,62,"Ingen eksplosjonsfare",8,"Kjemisk dispergerbar","Nei",0.88,"2008-02-27T01:00:00",823,"Sør-Trøndelag til Nordland",40,7156164,152022,"Draugen 2008 Forvitringsrapport.pdf"]
["Draugen 2008","Sommerforhold",{"$f":"Oljedatabase[[#This Row],[Oljetype]]&\"-\"&Oljedatabase[[#This Row],[SesongNy]]&\"-\"&Oljedatabase[[#This Row],[Vind (m/s)]]&\"-\"&Oljedatabase[[#This Row],[Tidspunkt (timer)]]","v":"Draugen 2008-Sommerforhold-10-48"},{"$f":"Oljedatabase[[#This Row],[Sesong]]","v":"Sommerforhold"},15,10,"48",0.7,7300,"Lav/dårlig kjemisk dispergerbarhet",0.44,0.13,0.43,116,"Ingen eksplosjonsfare",28,"Redusert kjemisk dispergerbarhet","Nei",0.43,"2008-02-27T01:00:00",823,"Sør-Trøndelag til Nordland",40,7156164,152022,"Draugen 2008 Forvitringsrapport.pdf"]
["Caurus 2011","Sommerforhold",{"$f":"Oljedatabase[[#This Row],[Oljetype]]&\"-\"&Oljedatabase[[#This Row],[SesongNy]]&\"-\"&Oljedatabase[[#This Row],[Vind (m/s)]]&\"-\"&Oljedatabase[[#This Row],[Tidspunkt (timer)]]","v":"Caurus 2011-Sommerforhold-5-96"},{"$f":"Oljedatabase[[#This Row],[Sesong]]","v":"Sommerforhold"},10,5,"96",0.36,1640,"Redusert kjemisk dispergerbarhet",0.49,0.28999999999999998,0.2,120,"Ingen eksplosjonsfare",18.3,"Redusert kjemisk dispergerbarhet","Nei",0.47,"2011-11-14T01:00:00",795,"Troms og Finnmark",46,8012923,756190,"Caurus 2011 Forvitringsrapport.pdf"]
["Caurus 2011","Sommerforhold",{"$f":"Oljedatabase[[#This Row],[Oljetype]]&\"-\"&Oljedatabase[[#This Row],[SesongNy]]&\"-\"&Oljedatabase[[#This Row],[Vind (m/s)]]&\"-\"&Oljedatabase[[#This Row],[Tidspunkt (timer)]]","v":"Caurus 2011-Sommerforhold-10-2"},{"$f":"Oljedatabase[[#This Row],[Sesong]]","v":"Sommerforhold"},10,10,"2",0.35,463,"Kjemisk dispergerbar",0.35,0.54,0.1,78,"Ingen eksplosjonsfare",6,"Kjemisk dispergerbar","Nei",0.84,"2011-11-14T01:00:00",795,"Troms og Finnmark",46,8012923,756190,"Caurus 2011 Forvitringsrapport.pdf"]
["Caurus 2011","Vinterforhold",{"$f":"Oljedatabase[[#This Row],[Oljetype]]&\"-\"&Oljedatabase[[#This Row],[SesongNy]]&\"-\"&Oljedatabase[[#This Row],[Vind (m/s)]]&\"-\"&Oljedatabase[[#This Row],[Tidspunkt (timer)]]","v":"Caurus 2011-Vinterforhold-15-72"},{"$f":"Oljedatabase[[#This Row],[Sesong]]","v":"Vinterforhold"},5,15,"72",0.37,3440,"Redusert kjemisk dispergerbarhet",0.38,0,0.61,133,"Ingen eksplosjonsfare",21.8,"Lav/dårlig dispergerbarhet","Nei",0,"2011-11-14T01:00:00",795,"Troms og Finnmark",46,8012923,756190,"Caurus 2011 Forvitringsrapport.pdf"]
["Draugen 2008","Sommerforhold",{"$f":"Oljedatabase[[#This Row],[Oljetype]]&\"-\"&Oljedatabase[[#This Row],[SesongNy]]&\"-\"&Oljedatabase[[#This Row],[Vind (m/s)]]&\"-\"&Oljedatabase[[#This Row],[Tidspunkt (timer)]]","v":"Draugen 2008-Sommerforhold-5-9"},{"$f":"Oljedatabase[[#This Row],[Sesong]]","v":"Sommerforhold"},15,5,"9",0.53,1100,"Redusert kjemisk dispergerbarhet",0.38,0.61,0.02,87,"Ingen eksplosjonsfare",15,"Kjemisk dispergerbar","Nei",1.29,"2008-02-27T01:00:00",823,"Sør-Trøndelag til Nordland",40,7156164,152022,"Draugen 2008 Forvitringsrapport.pdf"]
["Draugen 2008","Vinterforhold",{"$f":"Oljedatabase[[#This Row],[Oljetype]]&\"-\"&Oljedatabase[[#This Row],[SesongNy]]&\"-\"&Oljedatabase[[#This Row],[Vind (m/s)]]&\"-\"&Oljedatabase[[#This Row],[Tidspunkt (timer)]]","v":"Draugen 2008-Vinterforhold-2-96"},{"$f":"Oljedatabase[[#This Row],[Sesong]]","v":"Vinterforhold"},5,2,"96",0.68,4600,"Lav/dårlig kjemisk dispergerbarhet",0.4,0.6,0,96,"Ingen eksplosjonsfare",18,"Redusert kjemisk dispergerbarhet","Nei",1.87,"2008-02-27T01:00:00",823,"Sør-Trøndelag til Nordland",40,7156164,152022,"Draugen 2008 Forvitringsrapport.pdf"]
["Bøyla 2016","Sommerforhold",{"$f":"Oljedatabase[[#This Row],[Oljetype]]&\"-\"&Oljedatabase[[#This Row],[SesongNy]]&\"-\"&Oljedatabase[[#This Row],[Vind (m/s)]]&\"-\"&Oljedatabase[[#This Row],[Tidspunkt (timer)]]","v":"Bøyla 2016-Sommerforhold-15-6"},{"$f":"Oljedatabase[[#This Row],[Sesong]]","v":"Sommerforhold"},15,15,"6",0.74,8790,"Redusert kjemisk dispergerbarhet",0.21,0.38,0.39,109,"Ingen eksplosjonsfare",8.1,"Kjemisk dispergerbar","Nei",1.5,"2016-01-27T01:00:00",874,"Vest-Agder til Hordaland",30,6652496,-245846,"Bøyla 2016 Forvitringsrapport.pdf"]
["Caurus 2011","Vinterforhold",{"$f":"Oljedatabase[[#This Row],[Oljetype]]&\"-\"&Oljedatabase[[#This Row],[SesongNy]]&\"-\"&Oljedatabase[[#This Row],[Vind (m/s)]]&\"-\"&Oljedatabase[[#This Row],[Tidspunkt (timer)]]","v":"Caurus 2011-Vinterforhold-10-24"},{"$f":"Oljedatabase[[#This Row],[Sesong]]","v":"Vinterforhold"},5,10,"24",0.37,1770,"Redusert kjemisk dispergerbarhet",0.43,0.05,0.51,111,"Ingen eksplosjonsfare",15.6,"Redusert kjemisk dispergerbarhet","Nei",0.09,"2011-11-14T01:00:00",795,"Troms og Finnmark",46,8012923,756190,"Caurus 2011 Forvitringsrapport.pdf"]
["Bøyla 2016","Sommerforhold",{"$f":"Oljedatabase[[#This Row],[Oljetype]]&\"-\"&Oljedatabase[[#This Row],[SesongNy]]&\"-\"&Oljedatabase[[#This Row],[Vind (m/s)]]&\"-\"&Oljedatabase[[#This Row],[Tidspunkt (timer)]]","v":"Bøyla 2016-Sommerforhold-15-96"},{"$f":"Oljedatabase[[#This Row],[Sesong]]","v":"Sommerforhold"},15,15,"96",0.77,33900,"Ikke kjemisk dispergerbar",0.24,0,0.75,165,"Ingen eksplosjonsfare",18.600000000000001,"Kjemisk dispergerbar","Ja",0,"2016-01-27T01:00:00",874,"Vest-Agder til Hordaland",30,6652496,-245846,"Bøyla 2016 Forvitringsrapport.pdf"]
["Caurus 2011","Sommerforhold",{"$f":"Oljedatabase[[#This Row],[Oljetype]]&\"-\"&Oljedatabase[[#This Row],[SesongNy]]&\"-\"&Oljedatabase[[#This Row],[Vind (m/s)]]&\"-\"&Oljedatabase[[#This Row],[Tidspunkt (timer)]]","v":"Caurus 2011-Sommerforhold-15-24"},{"$f":"Oljedatabase[[#This Row],[Sesong]]","v":"Sommerforhold"},10,15,"24",0.37,1890,"Redusert kjemisk dispergerbarhet",0.4,0,0.6,124,"Ingen eksplosjonsfare",19.399999999999999,"Redusert kjemisk dispergerbarhet","Nei",0,"2011-11-14T01:00:00",795,"Troms og Finnmark",46,8012923,756190,"Caurus 2011 Forvitringsrapport.pdf"]
["Draugen 2008","Vinterforhold",{"$f":"Oljedatabase[[#This Row],[Oljetype]]&\"-\"&Oljedatabase[[#This Row],[SesongNy]]&\"-\"&Oljedatabase[[#This Row],[Vind (m/s)]]&\"-\"&Oljedatabase[[#This Row],[Tidspunkt (timer)]]","v":"Draugen 2008-Vinterforhold-5-2"},{"$f":"Oljedatabase[[#This Row],[Sesong]]","v":"Vinterforhold"},5,5,"2",0.19,250,"Kjemisk dispergerbar",0.28999999999999998,0.7,0.01,47,"Eksplosjonsfare ved tanking",3,"Kjemisk dispergerbar","Nei",0.86,"2008-02-27T01:00:00",823,"Sør-Trøndelag til Nordland",40,7156164,152022,"Draugen 2008 Forvitringsrapport.pdf"]
["Draugen 2008","Sommerforhold",{"$f":"Oljedatabase[[#This Row],[Oljetype]]&\"-\"&Oljedatabase[[#This Row],[SesongNy]]&\"-\"&Oljedatabase[[#This Row],[Vind (m/s)]]&\"-\"&Oljedatabase[[#This Row],[Tidspunkt (timer)]]","v":"Draugen 2008-Sommerforhold-10-72"},{"$f":"Oljedatabase[[#This Row],[Sesong]]","v":"Sommerforhold"},15,10,"72",0.7,8900,"Lav/dårlig kjemisk dispergerbarhet",0.45,7.0000000000000007E-2,0.48,116,"Ingen eksplosjonsfare",30,"Redusert kjemisk dispergerbarhet","Nei",0.23,"2008-02-27T01:00:00",823,"Sør-Trøndelag til Nordland",40,7156164,152022,"Draugen 2008 Forvitringsrapport.pdf"]
["Draugen 2008","Vinterforhold",{"$f":"Oljedatabase[[#This Row],[Oljetype]]&\"-\"&Oljedatabase[[#This Row],[SesongNy]]&\"-\"&Oljedatabase[[#This Row],[Vind (m/s)]]&\"-\"&Oljedatabase[[#This Row],[Tidspunkt (timer)]]","v":"Draugen 2008-Vinterforhold-2-2"},{"$f":"Oljedatabase[[#This Row],[Sesong]]","v":"Vinterforhold"},5,2,"2",0.05,91,"Kjemisk dispergerbar",0.24,0.76,0,31,"Eksplosjonsfare ved tanking",-3,"Kjemisk dispergerbar","Nei",0.8,"2008-02-27T01:00:00",823,"Sør-Trøndelag til Nordland",40,7156164,152022,"Draugen 2008 Forvitringsrapport.pdf"]
["Draugen 2008","Sommerforhold",{"$f":"Oljedatabase[[#This Row],[Oljetype]]&\"-\"&Oljedatabase[[#This Row],[SesongNy]]&\"-\"&Oljedatabase[[#This Row],[Vind (m/s)]]&\"-\"&Oljedatabase[[#This Row],[Tidspunkt (timer)]]","v":"Draugen 2008-Sommerforhold-15-48"},{"$f":"Oljedatabase[[#This Row],[Sesong]]","v":"Sommerforhold"},15,15,"48",0.7,5600,"Lav/dårlig kjemisk dispergerbarhet",0.4,0,0.6,98,"Ingen eksplosjonsfare",25,"Redusert kjemisk dispergerbarhet","Nei",0,"2008-02-27T01:00:00",823,"Sør-Trøndelag til Nordland",40,7156164,152022,"Draugen 2008 Forvitringsrapport.pdf"]
["Draugen 2008","Vinterforhold",{"$f":"Oljedatabase[[#This Row],[Oljetype]]&\"-\"&Oljedatabase[[#This Row],[SesongNy]]&\"-\"&Oljedatabase[[#This Row],[Vind (m/s)]]&\"-\"&Oljedatabase[[#This Row],[Tidspunkt (timer)]]","v":"Draugen 2008-Vinterforhold-2-3"},{"$f":"Oljedatabase[[#This Row],[Sesong]]","v":"Vinterforhold"},5,2,"3",0.08,140,"Kjemisk dispergerbar",0.27,0.73,0,41,"Eksplosjonsfare ved tanking",0,"Kjemisk dispergerbar","Nei",0.79,"2008-02-27T01:00:00",823,"Sør-Trøndelag til Nordland",40,7156164,152022,"Draugen 2008 Forvitringsrapport.pdf"]
["Caurus 2011","Vinterforhold",{"$f":"Oljedatabase[[#This Row],[Oljetype]]&\"-\"&Oljedatabase[[#This Row],[SesongNy]]&\"-\"&Oljedatabase[[#This Row],[Vind (m/s)]]&\"-\"&Oljedatabase[[#This Row],[Tidspunkt (timer)]]","v":"Caurus 2011-Vinterforhold-10-72"},{"$f":"Oljedatabase[[#This Row],[Sesong]]","v":"Vinterforhold"},5,10,"72",0.37,2610,"Redusert kjemisk dispergerbarhet",0.43,0,0.56000000000000005,124,"Ingen eksplosjonsfare",19.3,"Redusert kjemisk dispergerbarhet","Nei",0,"2011-11-14T01:00:00",795,"Troms og Finnmark",46,8012923,756190,"Caurus 2011 Forvitringsrapport.pdf"]
["Bøyla 2016","Vinterforhold",{"$f":"Oljedatabase[[#This Row],[Oljetype]]&\"-\"&Oljedatabase[[#This Row],[SesongNy]]&\"-\"&Oljedatabase[[#This Row],[Vind (m/s)]]&\"-\"&Oljedatabase[[#This Row],[Tidspunkt (timer)]]","v":"Bøyla 2016-Vinterforhold-15-24"},{"$f":"Oljedatabase[[#This Row],[Sesong]]","v":"Vinterforhold"},5,15,"24",0.71,17300,"Redusert kjemisk dispergerbarhet",0.21,0.12,0.66,118,"Ingen eksplosjonsfare",9.8000000000000007,"Kjemisk dispergerbar","Ja",0.44,"2016-01-27T01:00:00",874,"Vest-Agder til Hordaland",30,6652496,-245846,"Bøyla 2016 Forvitringsrapport.pdf"]
["Drivis 2017","Sommerforhold",{"$f":"Oljedatabase[[#This Row],[Oljetype]]&\"-\"&Oljedatabase[[#This Row],[SesongNy]]&\"-\"&Oljedatabase[[#This Row],[Vind (m/s)]]&\"-\"&Oljedatabase[[#This Row],[Tidspunkt (timer)]]","v":"Drivis 2017-Sommerforhold-2-24"},{"$f":"Oljedatabase[[#This Row],[Sesong]]","v":"Sommerforhold"},10,2,"24",0.17,352,"Kjemisk dispergerbar",0.26,0.73,0,83,"Ingen eksplosjonsfare",11.2,"Kjemisk dispergerbar","Nei",0.88,"2017-02-22T01:00:00",838,"Johan Castberg",37,8041217,673057,"Drivis 2017 Forvitringsrapport.pdf"]
["Caurus 2011","Vinterforhold",{"$f":"Oljedatabase[[#This Row],[Oljetype]]&\"-\"&Oljedatabase[[#This Row],[SesongNy]]&\"-\"&Oljedatabase[[#This Row],[Vind (m/s)]]&\"-\"&Oljedatabase[[#This Row],[Tidspunkt (timer)]]","v":"Caurus 2011-Vinterforhold-2-6"},{"$f":"Oljedatabase[[#This Row],[Sesong]]","v":"Vinterforhold"},5,2,"6",0.15,213,"Kjemisk dispergerbar",0.3,0.69,0,62,"Ingen eksplosjonsfare",1.2,"Kjemisk dispergerbar","Nei",0.83,"2011-11-14T01:00:00",795,"Troms og Finnmark",46,8012923,756190,"Caurus 2011 Forvitringsrapport.pdf"]
["Drivis 2017","Sommerforhold",{"$f":"Oljedatabase[[#This Row],[Oljetype]]&\"-\"&Oljedatabase[[#This Row],[SesongNy]]&\"-\"&Oljedatabase[[#This Row],[Vind (m/s)]]&\"-\"&Oljedatabase[[#This Row],[Tidspunkt (timer)]]","v":"Drivis 2017-Sommerforhold-5-6"},{"$f":"Oljedatabase[[#This Row],[Sesong]]","v":"Sommerforhold"},10,5,"6",0.17,267,"Kjemisk dispergerbar",0.24,0.74,0.01,76,"Ingen eksplosjonsfare",9.3000000000000007,"Kjemisk dispergerbar","Nei",0.9,"2017-02-22T01:00:00",838,"Johan Castberg",37,8041217,673057,"Drivis 2017 Forvitringsrapport.pdf"]
["Caurus 2011","Vinterforhold",{"$f":"Oljedatabase[[#This Row],[Oljetype]]&\"-\"&Oljedatabase[[#This Row],[SesongNy]]&\"-\"&Oljedatabase[[#This Row],[Vind (m/s)]]&\"-\"&Oljedatabase[[#This Row],[Tidspunkt (timer)]]","v":"Caurus 2011-Vinterforhold-5-9"},{"$f":"Oljedatabase[[#This Row],[Sesong]]","v":"Vinterforhold"},5,5,"9",0.36,733,"Kjemisk dispergerbar",0.37,0.59,0.03,83,"Ingen eksplosjonsfare",7.6,"Kjemisk dispergerbar","Nei",0.93,"2011-11-14T01:00:00",795,"Troms og Finnmark",46,8012923,756190,"Caurus 2011 Forvitringsrapport.pdf"]
["Caurus 2011","Sommerforhold",{"$f":"Oljedatabase[[#This Row],[Oljetype]]&\"-\"&Oljedatabase[[#This Row],[SesongNy]]&\"-\"&Oljedatabase[[#This Row],[Vind (m/s)]]&\"-\"&Oljedatabase[[#This Row],[Tidspunkt (timer)]]","v":"Caurus 2011-Sommerforhold-15-9"},{"$f":"Oljedatabase[[#This Row],[Sesong]]","v":"Sommerforhold"},10,15,"9",0.37,1340,"Redusert kjemisk dispergerbarhet",0.4,0,0.6,112,"Ingen eksplosjonsfare",16,"Redusert kjemisk dispergerbarhet","Nei",0,"2011-11-14T01:00:00",795,"Troms og Finnmark",46,8012923,756190,"Caurus 2011 Forvitringsrapport.pdf"]
["Caurus 2011","Vinterforhold",{"$f":"Oljedatabase[[#This Row],[Oljetype]]&\"-\"&Oljedatabase[[#This Row],[SesongNy]]&\"-\"&Oljedatabase[[#This Row],[Vind (m/s)]]&\"-\"&Oljedatabase[[#This Row],[Tidspunkt (timer)]]","v":"Caurus 2011-Vinterforhold-5-6"},{"$f":"Oljedatabase[[#This Row],[Sesong]]","v":"Vinterforhold"},5,5,"6",0.34,562,"Kjemisk dispergerbar",0.35,0.62,0.02,77,"Ingen eksplosjonsfare",5.6,"Kjemisk dispergerbar","Nei",0.95,"2011-11-14T01:00:00",795,"Troms og Finnmark",46,8012923,756190,"Caurus 2011 Forvitringsrapport.pdf"]
["Draugen 2008","Vinterforhold",{"$f":"Oljedatabase[[#This Row],[Oljetype]]&\"-\"&Oljedatabase[[#This Row],[SesongNy]]&\"-\"&Oljedatabase[[#This Row],[Vind (m/s)]]&\"-\"&Oljedatabase[[#This Row],[Tidspunkt (timer)]]","v":"Draugen 2008-Vinterforhold-5-48"},{"$f":"Oljedatabase[[#This Row],[Sesong]]","v":"Vinterforhold"},5,5,"48",0.7,5400,"Lav/dårlig kjemisk dispergerbarhet",0.4,0.55000000000000004,0.05,99,"Ingen eksplosjonsfare",19,"Redusert kjemisk dispergerbarhet","Nei",1.83,"2008-02-27T01:00:00",823,"Sør-Trøndelag til Nordland",40,7156164,152022,"Draugen 2008 Forvitringsrapport.pdf"]
["Caurus 2011","Sommerforhold",{"$f":"Oljedatabase[[#This Row],[Oljetype]]&\"-\"&Oljedatabase[[#This Row],[SesongNy]]&\"-\"&Oljedatabase[[#This Row],[Vind (m/s)]]&\"-\"&Oljedatabase[[#This Row],[Tidspunkt (timer)]]","v":"Caurus 2011-Sommerforhold-5-9"},{"$f":"Oljedatabase[[#This Row],[Sesong]]","v":"Sommerforhold"},10,5,"9",0.36,653,"Kjemisk dispergerbar",0.39,0.56000000000000005,0.03,89,"Ingen eksplosjonsfare",9.3000000000000007,"Kjemisk dispergerbar","Nei",0.89,"2011-11-14T01:00:00",795,"Troms og Finnmark",46,8012923,756190,"Caurus 2011 Forvitringsrapport.pdf"]
["Caurus 2011","Vinterforhold",{"$f":"Oljedatabase[[#This Row],[Oljetype]]&\"-\"&Oljedatabase[[#This Row],[SesongNy]]&\"-\"&Oljedatabase[[#This Row],[Vind (m/s)]]&\"-\"&Oljedatabase[[#This Row],[Tidspunkt (timer)]]","v":"Caurus 2011-Vinterforhold-15-96"},{"$f":"Oljedatabase[[#This Row],[Sesong]]","v":"Vinterforhold"},5,15,"96",0.37,3930,"Redusert kjemisk dispergerbarhet",0.38,0,0.61,138,"Ingen eksplosjonsfare",23.1,"Lav/dårlig dispergerbarhet","Nei",0,"2011-11-14T01:00:00",795,"Troms og Finnmark",46,8012923,756190,"Caurus 2011 Forvitringsrapport.pdf"]
["Draugen 2008","Sommerforhold",{"$f":"Oljedatabase[[#This Row],[Oljetype]]&\"-\"&Oljedatabase[[#This Row],[SesongNy]]&\"-\"&Oljedatabase[[#This Row],[Vind (m/s)]]&\"-\"&Oljedatabase[[#This Row],[Tidspunkt (timer)]]","v":"Draugen 2008-Sommerforhold-5-72"},{"$f":"Oljedatabase[[#This Row],[Sesong]]","v":"Sommerforhold"},15,5,"72",0.7,5000,"Lav/dårlig kjemisk dispergerbarhet",0.44,0.49,7.0000000000000007E-2,117,"Ingen eksplosjonsfare",24,"Redusert kjemisk dispergerbarhet","Nei",1.63,"2008-02-27T01:00:00",823,"Sør-Trøndelag til Nordland",40,7156164,152022,"Draugen 2008 Forvitringsrapport.pdf"]
["Draugen 2008","Sommerforhold",{"$f":"Oljedatabase[[#This Row],[Oljetype]]&\"-\"&Oljedatabase[[#This Row],[SesongNy]]&\"-\"&Oljedatabase[[#This Row],[Vind (m/s)]]&\"-\"&Oljedatabase[[#This Row],[Tidspunkt (timer)]]","v":"Draugen 2008-Sommerforhold-10-3"},{"$f":"Oljedatabase[[#This Row],[Sesong]]","v":"Sommerforhold"},15,10,"3",0.56000000000000005,1200,"Redusert kjemisk dispergerbarhet",0.37,0.53,0.1,84,"Ingen eksplosjonsfare",15,"Kjemisk dispergerbar","Nei",1.2,"2008-02-27T01:00:00",823,"Sør-Trøndelag til Nordland",40,7156164,152022,"Draugen 2008 Forvitringsrapport.pdf"]
["Caurus 2011","Vinterforhold",{"$f":"Oljedatabase[[#This Row],[Oljetype]]&\"-\"&Oljedatabase[[#This Row],[SesongNy]]&\"-\"&Oljedatabase[[#This Row],[Vind (m/s)]]&\"-\"&Oljedatabase[[#This Row],[Tidspunkt (timer)]]","v":"Caurus 2011-Vinterforhold-2-72"},{"$f":"Oljedatabase[[#This Row],[Sesong]]","v":"Vinterforhold"},5,2,"72",0.35,1230,"Redusert kjemisk dispergerbarhet",0.44,0.55000000000000004,0,100,"Ingen eksplosjonsfare",12.6,"Redusert kjemisk dispergerbarhet","Nei",0.86,"2011-11-14T01:00:00",795,"Troms og Finnmark",46,8012923,756190,"Caurus 2011 Forvitringsrapport.pdf"]
["Caurus 2011","Vinterforhold",{"$f":"Oljedatabase[[#This Row],[Oljetype]]&\"-\"&Oljedatabase[[#This Row],[SesongNy]]&\"-\"&Oljedatabase[[#This Row],[Vind (m/s)]]&\"-\"&Oljedatabase[[#This Row],[Tidspunkt (timer)]]","v":"Caurus 2011-Vinterforhold-2-3"},{"$f":"Oljedatabase[[#This Row],[Sesong]]","v":"Vinterforhold"},5,2,"3",0.08,101,"Kjemisk dispergerbar",0.24,0.75,0,48,"Eksplosjonsfare ved tanking",-3.2,"Kjemisk dispergerbar","Nei",0.82,"2011-11-14T01:00:00",795,"Troms og Finnmark",46,8012923,756190,"Caurus 2011 Forvitringsrapport.pdf"]
["Caurus 2011","Sommerforhold",{"$f":"Oljedatabase[[#This Row],[Oljetype]]&\"-\"&Oljedatabase[[#This Row],[SesongNy]]&\"-\"&Oljedatabase[[#This Row],[Vind (m/s)]]&\"-\"&Oljedatabase[[#This Row],[Tidspunkt (timer)]]","v":"Caurus 2011-Sommerforhold-5-120"},{"$f":"Oljedatabase[[#This Row],[Sesong]]","v":"Sommerforhold"},10,5,"120",0.36,1770,"Redusert kjemisk dispergerbarhet",0.5,0.25,0.23,123,"Ingen eksplosjonsfare",19,"Redusert kjemisk dispergerbarhet","Nei",0.41,"2011-11-14T01:00:00",795,"Troms og Finnmark",46,8012923,756190,"Caurus 2011 Forvitringsrapport.pdf"]
["Caurus 2011","Vinterforhold",{"$f":"Oljedatabase[[#This Row],[Oljetype]]&\"-\"&Oljedatabase[[#This Row],[SesongNy]]&\"-\"&Oljedatabase[[#This Row],[Vind (m/s)]]&\"-\"&Oljedatabase[[#This Row],[Tidspunkt (timer)]]","v":"Caurus 2011-Vinterforhold-15-9"},{"$f":"Oljedatabase[[#This Row],[Sesong]]","v":"Vinterforhold"},5,15,"9",0.37,1580,"Redusert kjemisk dispergerbarhet",0.38,0,0.61,107,"Ingen eksplosjonsfare",14.5,"Redusert kjemisk dispergerbarhet","Nei",0,"2011-11-14T01:00:00",795,"Troms og Finnmark",46,8012923,756190,"Caurus 2011 Forvitringsrapport.pdf"]
["Draugen 2008","Sommerforhold",{"$f":"Oljedatabase[[#This Row],[Oljetype]]&\"-\"&Oljedatabase[[#This Row],[SesongNy]]&\"-\"&Oljedatabase[[#This Row],[Vind (m/s)]]&\"-\"&Oljedatabase[[#This Row],[Tidspunkt (timer)]]","v":"Draugen 2008-Sommerforhold-5-24"},{"$f":"Oljedatabase[[#This Row],[Sesong]]","v":"Sommerforhold"},15,5,"24",0.68,2800,"Redusert kjemisk dispergerbarhet",0.41,0.56000000000000005,0.03,101,"Ingen eksplosjonsfare",19,"Kjemisk dispergerbar","Nei",1.75,"2008-02-27T01:00:00",823,"Sør-Trøndelag til Nordland",40,7156164,152022,"Draugen 2008 Forvitringsrapport.pdf"]
["Caurus 2011","Vinterforhold",{"$f":"Oljedatabase[[#This Row],[Oljetype]]&\"-\"&Oljedatabase[[#This Row],[SesongNy]]&\"-\"&Oljedatabase[[#This Row],[Vind (m/s)]]&\"-\"&Oljedatabase[[#This Row],[Tidspunkt (timer)]]","v":"Caurus 2011-Vinterforhold-2-48"},{"$f":"Oljedatabase[[#This Row],[Sesong]]","v":"Vinterforhold"},5,2,"48",0.35,1050,"Redusert kjemisk dispergerbarhet",0.42,0.56999999999999995,0,95,"Ingen eksplosjonsfare",11.1,"Redusert kjemisk dispergerbarhet","Nei",0.89,"2011-11-14T01:00:00",795,"Troms og Finnmark",46,8012923,756190,"Caurus 2011 Forvitringsrapport.pdf"]
["Drivis 2017","Sommerforhold",{"$f":"Oljedatabase[[#This Row],[Oljetype]]&\"-\"&Oljedatabase[[#This Row],[SesongNy]]&\"-\"&Oljedatabase[[#This Row],[Vind (m/s)]]&\"-\"&Oljedatabase[[#This Row],[Tidspunkt (timer)]]","v":"Drivis 2017-Sommerforhold-5-12"},{"$f":"Oljedatabase[[#This Row],[Sesong]]","v":"Sommerforhold"},10,5,"12",0.3,601,"Redusert kjemisk dispergerbarhet",0.27,0.69,0.02,86,"Ingen eksplosjonsfare",11.9,"Kjemisk dispergerbar","Nei",1,"2017-02-22T01:00:00",838,"Johan Castberg",37,8041217,673057,"Drivis 2017 Forvitringsrapport.pdf"]
["Caurus 2011","Vinterforhold",{"$f":"Oljedatabase[[#This Row],[Oljetype]]&\"-\"&Oljedatabase[[#This Row],[SesongNy]]&\"-\"&Oljedatabase[[#This Row],[Vind (m/s)]]&\"-\"&Oljedatabase[[#This Row],[Tidspunkt (timer)]]","v":"Caurus 2011-Vinterforhold-5-96"},{"$f":"Oljedatabase[[#This Row],[Sesong]]","v":"Vinterforhold"},5,5,"96",0.36,1960,"Redusert kjemisk dispergerbarhet",0.48,0.32,0.19,115,"Ingen eksplosjonsfare",16.7,"Redusert kjemisk dispergerbarhet","Nei",0.51,"2011-11-14T01:00:00",795,"Troms og Finnmark",46,8012923,756190,"Caurus 2011 Forvitringsrapport.pdf"]
["Draugen 2008","Sommerforhold",{"$f":"Oljedatabase[[#This Row],[Oljetype]]&\"-\"&Oljedatabase[[#This Row],[SesongNy]]&\"-\"&Oljedatabase[[#This Row],[Vind (m/s)]]&\"-\"&Oljedatabase[[#This Row],[Tidspunkt (timer)]]","v":"Draugen 2008-Sommerforhold-15-96"},{"$f":"Oljedatabase[[#This Row],[Sesong]]","v":"Sommerforhold"},15,15,"96",0.7,5600,"Lav/dårlig kjemisk dispergerbarhet",0.4,0,0.6,98,"Ingen eksplosjonsfare",25,"Redusert kjemisk dispergerbarhet","Nei",0,"2008-02-27T01:00:00",823,"Sør-Trøndelag til Nordland",40,7156164,152022,"Draugen 2008 Forvitringsrapport.pdf"]
["Caurus 2011","Sommerforhold",{"$f":"Oljedatabase[[#This Row],[Oljetype]]&\"-\"&Oljedatabase[[#This Row],[SesongNy]]&\"-\"&Oljedatabase[[#This Row],[Vind (m/s)]]&\"-\"&Oljedatabase[[#This Row],[Tidspunkt (timer)]]","v":"Caurus 2011-Sommerforhold-5-3"},{"$f":"Oljedatabase[[#This Row],[Sesong]]","v":"Sommerforhold"},10,5,"3",0.26,267,"Kjemisk dispergerbar",0.32,0.67,0.01,67,"Ingen eksplosjonsfare",2.8,"Kjemisk dispergerbar","Nei",0.91,"2011-11-14T01:00:00",795,"Troms og Finnmark",46,8012923,756190,"Caurus 2011 Forvitringsrapport.pdf"]
["Caurus 2011","Vinterforhold",{"$f":"Oljedatabase[[#This Row],[Oljetype]]&\"-\"&Oljedatabase[[#This Row],[SesongNy]]&\"-\"&Oljedatabase[[#This Row],[Vind (m/s)]]&\"-\"&Oljedatabase[[#This Row],[Tidspunkt (timer)]]","v":"Caurus 2011-Vinterforhold-10-120"},{"$f":"Oljedatabase[[#This Row],[Sesong]]","v":"Vinterforhold"},5,10,"120",0.37,3190,"Redusert kjemisk dispergerbarhet",0.43,0,0.56000000000000005,131,"Ingen eksplosjonsfare",21.2,"Lav/dårlig dispergerbarhet","Nei",0,"2011-11-14T01:00:00",795,"Troms og Finnmark",46,8012923,756190,"Caurus 2011 Forvitringsrapport.pdf"]
["Draugen 2008","Sommerforhold",{"$f":"Oljedatabase[[#This Row],[Oljetype]]&\"-\"&Oljedatabase[[#This Row],[SesongNy]]&\"-\"&Oljedatabase[[#This Row],[Vind (m/s)]]&\"-\"&Oljedatabase[[#This Row],[Tidspunkt (timer)]]","v":"Draugen 2008-Sommerforhold-15-24"},{"$f":"Oljedatabase[[#This Row],[Sesong]]","v":"Sommerforhold"},15,15,"24",0.7,5400,"Lav/dårlig kjemisk dispergerbarhet",0.4,0.01,0.59,98,"Ingen eksplosjonsfare",25,"Redusert kjemisk dispergerbarhet","Nei",0.03,"2008-02-27T01:00:00",823,"Sør-Trøndelag til Nordland",40,7156164,152022,"Draugen 2008 Forvitringsrapport.pdf"]
["Draugen 2008","Sommerforhold",{"$f":"Oljedatabase[[#This Row],[Oljetype]]&\"-\"&Oljedatabase[[#This Row],[SesongNy]]&\"-\"&Oljedatabase[[#This Row],[Vind (m/s)]]&\"-\"&Oljedatabase[[#This Row],[Tidspunkt (timer)]]","v":"Draugen 2008-Sommerforhold-2-1"},{"$f":"Oljedatabase[[#This Row],[Sesong]]","v":"Sommerforhold"},15,2,"1",0.03,40,"Kjemisk dispergerbar",0.22,0.78,0,24,"Eksplosjonsfare ved tanking",-6,"Kjemisk dispergerbar","Nei",0.8,"2008-02-27T01:00:00",823,"Sør-Trøndelag til Nordland",40,7156164,152022,"Draugen 2008 Forvitringsrapport.pdf"]
["Draugen 2008","Sommerforhold",{"$f":"Oljedatabase[[#This Row],[Oljetype]]&\"-\"&Oljedatabase[[#This Row],[SesongNy]]&\"-\"&Oljedatabase[[#This Row],[Vind (m/s)]]&\"-\"&Oljedatabase[[#This Row],[Tidspunkt (timer)]]","v":"Draugen 2008-Sommerforhold-10-24"},{"$f":"Oljedatabase[[#This Row],[Sesong]]","v":"Sommerforhold"},15,10,"24",0.7,5000,"Lav/dårlig kjemisk dispergerbarhet",0.42,0.25,0.32,113,"Ingen eksplosjonsfare",24,"Redusert kjemisk dispergerbarhet","Nei",0.83,"2008-02-27T01:00:00",823,"Sør-Trøndelag til Nordland",40,7156164,152022,"Draugen 2008 Forvitringsrapport.pdf"]
["Draugen 2008","Vinterforhold",{"$f":"Oljedatabase[[#This Row],[Oljetype]]&\"-\"&Oljedatabase[[#This Row],[SesongNy]]&\"-\"&Oljedatabase[[#This Row],[Vind (m/s)]]&\"-\"&Oljedatabase[[#This Row],[Tidspunkt (timer)]]","v":"Draugen 2008-Vinterforhold-10-24"},{"$f":"Oljedatabase[[#This Row],[Sesong]]","v":"Vinterforhold"},5,10,"24",0.7,6700,"Lav/dårlig kjemisk dispergerbarhet",0.4,0.3,0.31,101,"Ingen eksplosjonsfare",20,"Redusert kjemisk dispergerbarhet","Nei",1,"2008-02-27T01:00:00",823,"Sør-Trøndelag til Nordland",40,7156164,152022,"Draugen 2008 Forvitringsrapport.pdf"]
["Draugen 2008","Vinterforhold",{"$f":"Oljedatabase[[#This Row],[Oljetype]]&\"-\"&Oljedatabase[[#This Row],[SesongNy]]&\"-\"&Oljedatabase[[#This Row],[Vind (m/s)]]&\"-\"&Oljedatabase[[#This Row],[Tidspunkt (timer)]]","v":"Draugen 2008-Vinterforhold-5-24"},{"$f":"Oljedatabase[[#This Row],[Sesong]]","v":"Vinterforhold"},5,5,"24",0.68,3600,"Redusert kjemisk dispergerbarhet",0.38,0.59,0.03,90,"Ingen eksplosjonsfare",16,"Redusert kjemisk dispergerbarhet","Nei",1.84,"2008-02-27T01:00:00",823,"Sør-Trøndelag til Nordland",40,7156164,152022,"Draugen 2008 Forvitringsrapport.pdf"]
["Draugen 2008","Vinterforhold",{"$f":"Oljedatabase[[#This Row],[Oljetype]]&\"-\"&Oljedatabase[[#This Row],[SesongNy]]&\"-\"&Oljedatabase[[#This Row],[Vind (m/s)]]&\"-\"&Oljedatabase[[#This Row],[Tidspunkt (timer)]]","v":"Draugen 2008-Vinterforhold-15-3"},{"$f":"Oljedatabase[[#This Row],[Sesong]]","v":"Vinterforhold"},5,15,"3",0.68,3000,"Redusert kjemisk dispergerbarhet",0.35,0.32,0.33,83,"Ingen eksplosjonsfare",14,"Redusert kjemisk dispergerbarhet","Nei",1,"2008-02-27T01:00:00",823,"Sør-Trøndelag til Nordland",40,7156164,152022,"Draugen 2008 Forvitringsrapport.pdf"]
["Draugen 2008","Sommerforhold",{"$f":"Oljedatabase[[#This Row],[Oljetype]]&\"-\"&Oljedatabase[[#This Row],[SesongNy]]&\"-\"&Oljedatabase[[#This Row],[Vind (m/s)]]&\"-\"&Oljedatabase[[#This Row],[Tidspunkt (timer)]]","v":"Draugen 2008-Sommerforhold-10-96"},{"$f":"Oljedatabase[[#This Row],[Sesong]]","v":"Sommerforhold"},15,10,"96",0.7,9600,"Lav/dårlig kjemisk dispergerbarhet",0.45,0.04,0.51,116,"Ingen eksplosjonsfare",31,"Lav/dårlig dispergerbarhet","Nei",0.13,"2008-02-27T01:00:00",823,"Sør-Trøndelag til Nordland",40,7156164,152022,"Draugen 2008 Forvitringsrapport.pdf"]
["Caurus 2011","Vinterforhold",{"$f":"Oljedatabase[[#This Row],[Oljetype]]&\"-\"&Oljedatabase[[#This Row],[SesongNy]]&\"-\"&Oljedatabase[[#This Row],[Vind (m/s)]]&\"-\"&Oljedatabase[[#This Row],[Tidspunkt (timer)]]","v":"Caurus 2011-Vinterforhold-10-96"},{"$f":"Oljedatabase[[#This Row],[Sesong]]","v":"Vinterforhold"},5,10,"96",0.37,2910,"Redusert kjemisk dispergerbarhet",0.43,0,0.56000000000000005,127,"Ingen eksplosjonsfare",20.3,"Lav/dårlig dispergerbarhet","Nei",0,"2011-11-14T01:00:00",795,"Troms og Finnmark",46,8012923,756190,"Caurus 2011 Forvitringsrapport.pdf"]
["Draugen 2008","Vinterforhold",{"$f":"Oljedatabase[[#This Row],[Oljetype]]&\"-\"&Oljedatabase[[#This Row],[SesongNy]]&\"-\"&Oljedatabase[[#This Row],[Vind (m/s)]]&\"-\"&Oljedatabase[[#This Row],[Tidspunkt (timer)]]","v":"Draugen 2008-Vinterforhold-5-120"},{"$f":"Oljedatabase[[#This Row],[Sesong]]","v":"Vinterforhold"},5,5,"120",0.7,8700,"Lav/dårlig kjemisk dispergerbarhet",0.43,0.48,0.09,111,"Ingen eksplosjonsfare",23,"Lav/dårlig dispergerbarhet","Nei",1.6,"2008-02-27T01:00:00",823,"Sør-Trøndelag til Nordland",40,7156164,152022,"Draugen 2008 Forvitringsrapport.pdf"]
["Caurus 2011","Vinterforhold",{"$f":"Oljedatabase[[#This Row],[Oljetype]]&\"-\"&Oljedatabase[[#This Row],[SesongNy]]&\"-\"&Oljedatabase[[#This Row],[Vind (m/s)]]&\"-\"&Oljedatabase[[#This Row],[Tidspunkt (timer)]]","v":"Caurus 2011-Vinterforhold-5-24"},{"$f":"Oljedatabase[[#This Row],[Sesong]]","v":"Vinterforhold"},5,5,"24",0.36,1160,"Redusert kjemisk dispergerbarhet",0.42,0.5,7.0000000000000007E-2,98,"Ingen eksplosjonsfare",11.8,"Redusert kjemisk dispergerbarhet","Nei",0.79,"2011-11-14T01:00:00",795,"Troms og Finnmark",46,8012923,756190,"Caurus 2011 Forvitringsrapport.pdf"]
["Caurus 2011","Vinterforhold",{"$f":"Oljedatabase[[#This Row],[Oljetype]]&\"-\"&Oljedatabase[[#This Row],[SesongNy]]&\"-\"&Oljedatabase[[#This Row],[Vind (m/s)]]&\"-\"&Oljedatabase[[#This Row],[Tidspunkt (timer)]]","v":"Caurus 2011-Vinterforhold-10-9"},{"$f":"Oljedatabase[[#This Row],[Sesong]]","v":"Vinterforhold"},5,10,"9",0.37,1200,"Redusert kjemisk dispergerbarhet",0.41,0.24,0.34,98,"Ingen eksplosjonsfare",12,"Redusert kjemisk dispergerbarhet","Nei",0.39,"2011-11-14T01:00:00",795,"Troms og Finnmark",46,8012923,756190,"Caurus 2011 Forvitringsrapport.pdf"]
["Draugen 2008","Sommerforhold",{"$f":"Oljedatabase[[#This Row],[Oljetype]]&\"-\"&Oljedatabase[[#This Row],[SesongNy]]&\"-\"&Oljedatabase[[#This Row],[Vind (m/s)]]&\"-\"&Oljedatabase[[#This Row],[Tidspunkt (timer)]]","v":"Draugen 2008-Sommerforhold-2-96"},{"$f":"Oljedatabase[[#This Row],[Sesong]]","v":"Sommerforhold"},15,2,"96",0.68,3500,"Redusert kjemisk dispergerbarhet",0.42,0.56999999999999995,0,108,"Ingen eksplosjonsfare",22,"Redusert kjemisk dispergerbarhet","Nei",1.78,"2008-02-27T01:00:00",823,"Sør-Trøndelag til Nordland",40,7156164,152022,"Draugen 2008 Forvitringsrapport.pdf"]
["Draugen 2008","Vinterforhold",{"$f":"Oljedatabase[[#This Row],[Oljetype]]&\"-\"&Oljedatabase[[#This Row],[SesongNy]]&\"-\"&Oljedatabase[[#This Row],[Vind (m/s)]]&\"-\"&Oljedatabase[[#This Row],[Tidspunkt (timer)]]","v":"Draugen 2008-Vinterforhold-15-6"},{"$f":"Oljedatabase[[#This Row],[Sesong]]","v":"Vinterforhold"},5,15,"6",0.7,4600,"Lav/dårlig kjemisk dispergerbarhet",0.36,0.2,0.44,88,"Ingen eksplosjonsfare",17,"Redusert kjemisk dispergerbarhet","Nei",0.66,"2008-02-27T01:00:00",823,"Sør-Trøndelag til Nordland",40,7156164,152022,"Draugen 2008 Forvitringsrapport.pdf"]
["Drivis 2017","Sommerforhold",{"$f":"Oljedatabase[[#This Row],[Oljetype]]&\"-\"&Oljedatabase[[#This Row],[SesongNy]]&\"-\"&Oljedatabase[[#This Row],[Vind (m/s)]]&\"-\"&Oljedatabase[[#This Row],[Tidspunkt (timer)]]","v":"Drivis 2017-Sommerforhold-2-48"},{"$f":"Oljedatabase[[#This Row],[Sesong]]","v":"Sommerforhold"},10,2,"48",0.3,785,"Redusert kjemisk dispergerbarhet",0.3,0.69,0,92,"Ingen eksplosjonsfare",13.8,"Kjemisk dispergerbar","Nei",1.01,"2017-02-22T01:00:00",838,"Johan Castberg",37,8041217,673057,"Drivis 2017 Forvitringsrapport.pdf"]
["Drivis 2017","Vinterforhold",{"$f":"Oljedatabase[[#This Row],[Oljetype]]&\"-\"&Oljedatabase[[#This Row],[SesongNy]]&\"-\"&Oljedatabase[[#This Row],[Vind (m/s)]]&\"-\"&Oljedatabase[[#This Row],[Tidspunkt (timer)]]","v":"Drivis 2017-Vinterforhold-5-2"},{"$f":"Oljedatabase[[#This Row],[Sesong]]","v":"Vinterforhold"},5,5,"2",0.06,101,"Kjemisk dispergerbar",0.16,0.82,0,57,"Eksplosjonsfare ved tanking",3.8,"Kjemisk dispergerbar","Nei",0.88,"2017-02-22T01:00:00",838,"Johan Castberg",37,8041217,673057,"Drivis 2017 Forvitringsrapport.pdf"]
["Drivis 2017","Sommerforhold",{"$f":"Oljedatabase[[#This Row],[Oljetype]]&\"-\"&Oljedatabase[[#This Row],[SesongNy]]&\"-\"&Oljedatabase[[#This Row],[Vind (m/s)]]&\"-\"&Oljedatabase[[#This Row],[Tidspunkt (timer)]]","v":"Drivis 2017-Sommerforhold-2-72"},{"$f":"Oljedatabase[[#This Row],[Sesong]]","v":"Sommerforhold"},10,2,"72",0.41,1330,"Redusert kjemisk dispergerbarhet",0.32,0.67,0,98,"Ingen eksplosjonsfare",15.3,"Redusert kjemisk dispergerbarhet","Nei",1.1499999999999999,"2017-02-22T01:00:00",838,"Johan Castberg",37,8041217,673057,"Drivis 2017 Forvitringsrapport.pdf"]
["Drivis 2017","Sommerforhold",{"$f":"Oljedatabase[[#This Row],[Oljetype]]&\"-\"&Oljedatabase[[#This Row],[SesongNy]]&\"-\"&Oljedatabase[[#This Row],[Vind (m/s)]]&\"-\"&Oljedatabase[[#This Row],[Tidspunkt (timer)]]","v":"Drivis 2017-Sommerforhold-5-9"},{"$f":"Oljedatabase[[#This Row],[Sesong]]","v":"Sommerforhold"},10,5,"9",0.24,422,"Kjemisk dispergerbar",0.26,0.71,0.02,82,"Ingen eksplosjonsfare",10.8,"Kjemisk dispergerbar","Nei",0.95,"2017-02-22T01:00:00",838,"Johan Castberg",37,8041217,673057,"Drivis 2017 Forvitringsrapport.pdf"]
["Draugen 2008","Vinterforhold",{"$f":"Oljedatabase[[#This Row],[Oljetype]]&\"-\"&Oljedatabase[[#This Row],[SesongNy]]&\"-\"&Oljedatabase[[#This Row],[Vind (m/s)]]&\"-\"&Oljedatabase[[#This Row],[Tidspunkt (timer)]]","v":"Draugen 2008-Vinterforhold-10-72"},{"$f":"Oljedatabase[[#This Row],[Sesong]]","v":"Vinterforhold"},5,10,"72",0.7,11000,"Lav/dårlig kjemisk dispergerbarhet",0.42,0.1,0.48,106,"Ingen eksplosjonsfare",25,"Lav/dårlig dispergerbarhet","Ja",0.33,"2008-02-27T01:00:00",823,"Sør-Trøndelag til Nordland",40,7156164,152022,"Draugen 2008 Forvitringsrapport.pdf"]
["Draugen 2008","Sommerforhold",{"$f":"Oljedatabase[[#This Row],[Oljetype]]&\"-\"&Oljedatabase[[#This Row],[SesongNy]]&\"-\"&Oljedatabase[[#This Row],[Vind (m/s)]]&\"-\"&Oljedatabase[[#This Row],[Tidspunkt (timer)]]","v":"Draugen 2008-Sommerforhold-5-120"},{"$f":"Oljedatabase[[#This Row],[Sesong]]","v":"Sommerforhold"},15,5,"120",0.7,6500,"Lav/dårlig kjemisk dispergerbarhet",0.46,0.44,0.1,127,"Ingen eksplosjonsfare",27,"Redusert kjemisk dispergerbarhet","Nei",1.46,"2008-02-27T01:00:00",823,"Sør-Trøndelag til Nordland",40,7156164,152022,"Draugen 2008 Forvitringsrapport.pdf"]
["Drivis 2017","Sommerforhold",{"$f":"Oljedatabase[[#This Row],[Oljetype]]&\"-\"&Oljedatabase[[#This Row],[SesongNy]]&\"-\"&Oljedatabase[[#This Row],[Vind (m/s)]]&\"-\"&Oljedatabase[[#This Row],[Tidspunkt (timer)]]","v":"Drivis 2017-Sommerforhold-10-3"},{"$f":"Oljedatabase[[#This Row],[Sesong]]","v":"Sommerforhold"},10,10,"3",0.26,441,"Kjemisk dispergerbar",0.25,0.61,0.13,81,"Ingen eksplosjonsfare",10.6,"Kjemisk dispergerbar","Nei",0.84,"2017-02-22T01:00:00",838,"Johan Castberg",37,8041217,673057,"Drivis 2017 Forvitringsrapport.pdf"]
["Caurus 2011","Vinterforhold",{"$f":"Oljedatabase[[#This Row],[Oljetype]]&\"-\"&Oljedatabase[[#This Row],[SesongNy]]&\"-\"&Oljedatabase[[#This Row],[Vind (m/s)]]&\"-\"&Oljedatabase[[#This Row],[Tidspunkt (timer)]]","v":"Caurus 2011-Vinterforhold-15-120"},{"$f":"Oljedatabase[[#This Row],[Sesong]]","v":"Vinterforhold"},5,15,"120",0.37,4340,"Redusert kjemisk dispergerbarhet",0.38,0,0.61,141,"Ingen eksplosjonsfare",24,"Lav/dårlig dispergerbarhet","Nei",0,"2011-11-14T01:00:00",795,"Troms og Finnmark",46,8012923,756190,"Caurus 2011 Forvitringsrapport.pdf"]
["Draugen 2008","Sommerforhold",{"$f":"Oljedatabase[[#This Row],[Oljetype]]&\"-\"&Oljedatabase[[#This Row],[SesongNy]]&\"-\"&Oljedatabase[[#This Row],[Vind (m/s)]]&\"-\"&Oljedatabase[[#This Row],[Tidspunkt (timer)]]","v":"Draugen 2008-Sommerforhold-5-6"},{"$f":"Oljedatabase[[#This Row],[Sesong]]","v":"Sommerforhold"},15,5,"6",0.43,720,"Kjemisk dispergerbar",0.36,0.63,0.01,80,"Ingen eksplosjonsfare",13,"Kjemisk dispergerbar","Nei",1.1000000000000001,"2008-02-27T01:00:00",823,"Sør-Trøndelag til Nordland",40,7156164,152022,"Draugen 2008 Forvitringsrapport.pdf"]
["Draugen 2008","Sommerforhold",{"$f":"Oljedatabase[[#This Row],[Oljetype]]&\"-\"&Oljedatabase[[#This Row],[SesongNy]]&\"-\"&Oljedatabase[[#This Row],[Vind (m/s)]]&\"-\"&Oljedatabase[[#This Row],[Tidspunkt (timer)]]","v":"Draugen 2008-Sommerforhold-2-2"},{"$f":"Oljedatabase[[#This Row],[Sesong]]","v":"Sommerforhold"},15,2,"2",0.05,91,"Kjemisk dispergerbar",0.27,0.73,0,41,"Eksplosjonsfare ved tanking",1,"Kjemisk dispergerbar","Nei",0.76,"2008-02-27T01:00:00",823,"Sør-Trøndelag til Nordland",40,7156164,152022,"Draugen 2008 Forvitringsrapport.pdf"]
["Caurus 2011","Vinterforhold",{"$f":"Oljedatabase[[#This Row],[Oljetype]]&\"-\"&Oljedatabase[[#This Row],[SesongNy]]&\"-\"&Oljedatabase[[#This Row],[Vind (m/s)]]&\"-\"&Oljedatabase[[#This Row],[Tidspunkt (timer)]]","v":"Caurus 2011-Vinterforhold-2-2"},{"$f":"Oljedatabase[[#This Row],[Sesong]]","v":"Vinterforhold"},5,2,"2",0.05,70,"Kjemisk dispergerbar",0.21,0.78,0,41,"Eksplosjonsfare ved tanking",-5.5,"Kjemisk dispergerbar","Nei",0.83,"2011-11-14T01:00:00",795,"Troms og Finnmark",46,8012923,756190,"Caurus 2011 Forvitringsrapport.pdf"]
["Draugen 2008","Sommerforhold",{"$f":"Oljedatabase[[#This Row],[Oljetype]]&\"-\"&Oljedatabase[[#This Row],[SesongNy]]&\"-\"&Oljedatabase[[#This Row],[Vind (m/s)]]&\"-\"&Oljedatabase[[#This Row],[Tidspunkt (timer)]]","v":"Draugen 2008-Sommerforhold-5-96"},{"$f":"Oljedatabase[[#This Row],[Sesong]]","v":"Sommerforhold"},15,5,"96",0.7,5800,"Lav/dårlig kjemisk dispergerbarhet",0.45,0.46,0.08,123,"Ingen eksplosjonsfare",26,"Redusert kjemisk dispergerbarhet","Nei",1.53,"2008-02-27T01:00:00",823,"Sør-Trøndelag til Nordland",40,7156164,152022,"Draugen 2008 Forvitringsrapport.pdf"]
["Draugen 2008","Sommerforhold",{"$f":"Oljedatabase[[#This Row],[Oljetype]]&\"-\"&Oljedatabase[[#This Row],[SesongNy]]&\"-\"&Oljedatabase[[#This Row],[Vind (m/s)]]&\"-\"&Oljedatabase[[#This Row],[Tidspunkt (timer)]]","v":"Draugen 2008-Sommerforhold-2-72"},{"$f":"Oljedatabase[[#This Row],[Sesong]]","v":"Sommerforhold"},15,2,"72",0.66,2800,"Redusert kjemisk dispergerbarhet",0.42,0.57999999999999996,0,104,"Ingen eksplosjonsfare",20,"Kjemisk dispergerbar","Nei",1.7,"2008-02-27T01:00:00",823,"Sør-Trøndelag til Nordland",40,7156164,152022,"Draugen 2008 Forvitringsrapport.pdf"]
["Drivis 2017","Vinterforhold",{"$f":"Oljedatabase[[#This Row],[Oljetype]]&\"-\"&Oljedatabase[[#This Row],[SesongNy]]&\"-\"&Oljedatabase[[#This Row],[Vind (m/s)]]&\"-\"&Oljedatabase[[#This Row],[Tidspunkt (timer)]]","v":"Drivis 2017-Vinterforhold-5-96"},{"$f":"Oljedatabase[[#This Row],[Sesong]]","v":"Vinterforhold"},5,5,"96",0.78,7240,"Redusert kjemisk dispergerbarhet",0.35,0.55000000000000004,0.09,108,"Ingen eksplosjonsfare",18.100000000000001,"Redusert kjemisk dispergerbarhet","Nei",2.56,"2017-02-22T01:00:00",838,"Johan Castberg",37,8041217,673057,"Drivis 2017 Forvitringsrapport.pdf"]
["Draugen 2008","Vinterforhold",{"$f":"Oljedatabase[[#This Row],[Oljetype]]&\"-\"&Oljedatabase[[#This Row],[SesongNy]]&\"-\"&Oljedatabase[[#This Row],[Vind (m/s)]]&\"-\"&Oljedatabase[[#This Row],[Tidspunkt (timer)]]","v":"Draugen 2008-Vinterforhold-10-6"},{"$f":"Oljedatabase[[#This Row],[Sesong]]","v":"Vinterforhold"},5,10,"6",0.67,3000,"Redusert kjemisk dispergerbarhet",0.36,0.49,0.15,86,"Ingen eksplosjonsfare",14,"Redusert kjemisk dispergerbarhet","Nei",1.48,"2008-02-27T01:00:00",823,"Sør-Trøndelag til Nordland",40,7156164,152022,"Draugen 2008 Forvitringsrapport.pdf"]
["Drivis 2017","Sommerforhold",{"$f":"Oljedatabase[[#This Row],[Oljetype]]&\"-\"&Oljedatabase[[#This Row],[SesongNy]]&\"-\"&Oljedatabase[[#This Row],[Vind (m/s)]]&\"-\"&Oljedatabase[[#This Row],[Tidspunkt (timer)]]","v":"Drivis 2017-Sommerforhold-2-3"},{"$f":"Oljedatabase[[#This Row],[Sesong]]","v":"Sommerforhold"},10,2,"3",0.02,66,"Kjemisk dispergerbar",0.16,0.83,0,55,"Eksplosjonsfare ved tanking",3.3,"Kjemisk dispergerbar","Nei",0.86,"2017-02-22T01:00:00",838,"Johan Castberg",37,8041217,673057,"Drivis 2017 Forvitringsrapport.pdf"]
["Draugen 2008","Vinterforhold",{"$f":"Oljedatabase[[#This Row],[Oljetype]]&\"-\"&Oljedatabase[[#This Row],[SesongNy]]&\"-\"&Oljedatabase[[#This Row],[Vind (m/s)]]&\"-\"&Oljedatabase[[#This Row],[Tidspunkt (timer)]]","v":"Draugen 2008-Vinterforhold-2-6"},{"$f":"Oljedatabase[[#This Row],[Sesong]]","v":"Vinterforhold"},5,2,"6",0.15,280,"Kjemisk dispergerbar",0.3,0.7,0,56,"Eksplosjonsfare ved tanking",5,"Kjemisk dispergerbar","Nei",0.82,"2008-02-27T01:00:00",823,"Sør-Trøndelag til Nordland",40,7156164,152022,"Draugen 2008 Forvitringsrapport.pdf"]
["Caurus 2011","Sommerforhold",{"$f":"Oljedatabase[[#This Row],[Oljetype]]&\"-\"&Oljedatabase[[#This Row],[SesongNy]]&\"-\"&Oljedatabase[[#This Row],[Vind (m/s)]]&\"-\"&Oljedatabase[[#This Row],[Tidspunkt (timer)]]","v":"Caurus 2011-Sommerforhold-2-9"},{"$f":"Oljedatabase[[#This Row],[Sesong]]","v":"Sommerforhold"},10,2,"9",0.2,299,"Kjemisk dispergerbar",0.35,0.64,0,75,"Ingen eksplosjonsfare",5.2,"Kjemisk dispergerbar","Nei",0.81,"2011-11-14T01:00:00",795,"Troms og Finnmark",46,8012923,756190,"Caurus 2011 Forvitringsrapport.pdf"]
["Draugen 2008","Vinterforhold",{"$f":"Oljedatabase[[#This Row],[Oljetype]]&\"-\"&Oljedatabase[[#This Row],[SesongNy]]&\"-\"&Oljedatabase[[#This Row],[Vind (m/s)]]&\"-\"&Oljedatabase[[#This Row],[Tidspunkt (timer)]]","v":"Draugen 2008-Vinterforhold-2-9"},{"$f":"Oljedatabase[[#This Row],[Sesong]]","v":"Vinterforhold"},5,2,"9",0.21,410,"Kjemisk dispergerbar",0.32,0.68,0,64,"Ingen eksplosjonsfare",7,"Kjemisk dispergerbar","Nei",0.86,"2008-02-27T01:00:00",823,"Sør-Trøndelag til Nordland",40,7156164,152022,"Draugen 2008 Forvitringsrapport.pdf"]
["Caurus 2011","Vinterforhold",{"$f":"Oljedatabase[[#This Row],[Oljetype]]&\"-\"&Oljedatabase[[#This Row],[SesongNy]]&\"-\"&Oljedatabase[[#This Row],[Vind (m/s)]]&\"-\"&Oljedatabase[[#This Row],[Tidspunkt (timer)]]","v":"Caurus 2011-Vinterforhold-5-120"},{"$f":"Oljedatabase[[#This Row],[Sesong]]","v":"Vinterforhold"},5,5,"120",0.36,2110,"Redusert kjemisk dispergerbarhet",0.48,0.28000000000000003,0.22,117,"Ingen eksplosjonsfare",17.399999999999999,"Redusert kjemisk dispergerbarhet","Nei",0.45,"2011-11-14T01:00:00",795,"Troms og Finnmark",46,8012923,756190,"Caurus 2011 Forvitringsrapport.pdf"]
["Draugen 2008","Sommerforhold",{"$f":"Oljedatabase[[#This Row],[Oljetype]]&\"-\"&Oljedatabase[[#This Row],[SesongNy]]&\"-\"&Oljedatabase[[#This Row],[Vind (m/s)]]&\"-\"&Oljedatabase[[#This Row],[Tidspunkt (timer)]]","v":"Draugen 2008-Sommerforhold-10-9"},{"$f":"Oljedatabase[[#This Row],[Sesong]]","v":"Sommerforhold"},15,10,"9",0.69,3000,"Redusert kjemisk dispergerbarhet",0.4,0.41,0.19,102,"Ingen eksplosjonsfare",20,"Kjemisk dispergerbar","Nei",1.32,"2008-02-27T01:00:00",823,"Sør-Trøndelag til Nordland",40,7156164,152022,"Draugen 2008 Forvitringsrapport.pdf"]
["Drivis 2017","Vinterforhold",{"$f":"Oljedatabase[[#This Row],[Oljetype]]&\"-\"&Oljedatabase[[#This Row],[SesongNy]]&\"-\"&Oljedatabase[[#This Row],[Vind (m/s)]]&\"-\"&Oljedatabase[[#This Row],[Tidspunkt (timer)]]","v":"Drivis 2017-Vinterforhold-10-1"},{"$f":"Oljedatabase[[#This Row],[Sesong]]","v":"Vinterforhold"},5,10,"1",0.1,137,"Kjemisk dispergerbar",0.18,0.76,0.05,61,"Ingen eksplosjonsfare",4.9000000000000004,"Kjemisk dispergerbar","Nei",0.85,"2017-02-22T01:00:00",838,"Johan Castberg",37,8041217,673057,"Drivis 2017 Forvitringsrapport.pdf"]
["Draugen 2008","Sommerforhold",{"$f":"Oljedatabase[[#This Row],[Oljetype]]&\"-\"&Oljedatabase[[#This Row],[SesongNy]]&\"-\"&Oljedatabase[[#This Row],[Vind (m/s)]]&\"-\"&Oljedatabase[[#This Row],[Tidspunkt (timer)]]","v":"Draugen 2008-Sommerforhold-15-2"},{"$f":"Oljedatabase[[#This Row],[Sesong]]","v":"Sommerforhold"},15,15,"2",0.63,1600,"Redusert kjemisk dispergerbarhet",0.37,0.35,0.28000000000000003,87,"Ingen eksplosjonsfare",16,"Kjemisk dispergerbar","Nei",0.94,"2008-02-27T01:00:00",823,"Sør-Trøndelag til Nordland",40,7156164,152022,"Draugen 2008 Forvitringsrapport.pdf"]
["Drivis 2017","Sommerforhold",{"$f":"Oljedatabase[[#This Row],[Oljetype]]&\"-\"&Oljedatabase[[#This Row],[SesongNy]]&\"-\"&Oljedatabase[[#This Row],[Vind (m/s)]]&\"-\"&Oljedatabase[[#This Row],[Tidspunkt (timer)]]","v":"Drivis 2017-Sommerforhold-5-48"},{"$f":"Oljedatabase[[#This Row],[Sesong]]","v":"Sommerforhold"},10,5,"48",0.68,3590,"Redusert kjemisk dispergerbarhet",0.34,0.59,0.06,105,"Ingen eksplosjonsfare",17.100000000000001,"Redusert kjemisk dispergerbarhet","Nei",1.89,"2017-02-22T01:00:00",838,"Johan Castberg",37,8041217,673057,"Drivis 2017 Forvitringsrapport.pdf"]
["Caurus 2011","Vinterforhold",{"$f":"Oljedatabase[[#This Row],[Oljetype]]&\"-\"&Oljedatabase[[#This Row],[SesongNy]]&\"-\"&Oljedatabase[[#This Row],[Vind (m/s)]]&\"-\"&Oljedatabase[[#This Row],[Tidspunkt (timer)]]","v":"Caurus 2011-Vinterforhold-10-12"},{"$f":"Oljedatabase[[#This Row],[Sesong]]","v":"Vinterforhold"},5,10,"12",0.37,1360,"Redusert kjemisk dispergerbarhet",0.42,0.18,0.4,102,"Ingen eksplosjonsfare",13.1,"Redusert kjemisk dispergerbarhet","Nei",0.28999999999999998,"2011-11-14T01:00:00",795,"Troms og Finnmark",46,8012923,756190,"Caurus 2011 Forvitringsrapport.pdf"]
["Caurus 2011","Vinterforhold",{"$f":"Oljedatabase[[#This Row],[Oljetype]]&\"-\"&Oljedatabase[[#This Row],[SesongNy]]&\"-\"&Oljedatabase[[#This Row],[Vind (m/s)]]&\"-\"&Oljedatabase[[#This Row],[Tidspunkt (timer)]]","v":"Caurus 2011-Vinterforhold-10-48"},{"$f":"Oljedatabase[[#This Row],[Sesong]]","v":"Vinterforhold"},5,10,"48",0.37,2260,"Redusert kjemisk dispergerbarhet",0.43,0,0.55000000000000004,119,"Ingen eksplosjonsfare",17.899999999999999,"Redusert kjemisk dispergerbarhet","Nei",0.01,"2011-11-14T01:00:00",795,"Troms og Finnmark",46,8012923,756190,"Caurus 2011 Forvitringsrapport.pdf"]
["Draugen 2008","Sommerforhold",{"$f":"Oljedatabase[[#This Row],[Oljetype]]&\"-\"&Oljedatabase[[#This Row],[SesongNy]]&\"-\"&Oljedatabase[[#This Row],[Vind (m/s)]]&\"-\"&Oljedatabase[[#This Row],[Tidspunkt (timer)]]","v":"Draugen 2008-Sommerforhold-15-120"},{"$f":"Oljedatabase[[#This Row],[Sesong]]","v":"Sommerforhold"},15,15,"120",0.7,5600,"Lav/dårlig kjemisk dispergerbarhet",0.4,0,0.6,98,"Ingen eksplosjonsfare",25,"Redusert kjemisk dispergerbarhet","Nei",0,"2008-02-27T01:00:00",823,"Sør-Trøndelag til Nordland",40,7156164,152022,"Draugen 2008 Forvitringsrapport.pdf"]
["Drivis 2017","Sommerforhold",{"$f":"Oljedatabase[[#This Row],[Oljetype]]&\"-\"&Oljedatabase[[#This Row],[SesongNy]]&\"-\"&Oljedatabase[[#This Row],[Vind (m/s)]]&\"-\"&Oljedatabase[[#This Row],[Tidspunkt (timer)]]","v":"Drivis 2017-Sommerforhold-2-9"},{"$f":"Oljedatabase[[#This Row],[Sesong]]","v":"Sommerforhold"},10,2,"9",7.0000000000000007E-2,145,"Kjemisk dispergerbar",0.21,0.78,0,70,"Ingen eksplosjonsfare",7.5,"Kjemisk dispergerbar","Nei",0.84,"2017-02-22T01:00:00",838,"Johan Castberg",37,8041217,673057,"Drivis 2017 Forvitringsrapport.pdf"]
["Draugen 2008","Sommerforhold",{"$f":"Oljedatabase[[#This Row],[Oljetype]]&\"-\"&Oljedatabase[[#This Row],[SesongNy]]&\"-\"&Oljedatabase[[#This Row],[Vind (m/s)]]&\"-\"&Oljedatabase[[#This Row],[Tidspunkt (timer)]]","v":"Draugen 2008-Sommerforhold-15-6"},{"$f":"Oljedatabase[[#This Row],[Sesong]]","v":"Sommerforhold"},15,15,"6",0.7,3400,"Redusert kjemisk dispergerbarhet",0.39,0.16,0.45,98,"Ingen eksplosjonsfare",21,"Redusert kjemisk dispergerbarhet","Nei",0.53,"2008-02-27T01:00:00",823,"Sør-Trøndelag til Nordland",40,7156164,152022,"Draugen 2008 Forvitringsrapport.pdf"]
["Draugen 2008","Sommerforhold",{"$f":"Oljedatabase[[#This Row],[Oljetype]]&\"-\"&Oljedatabase[[#This Row],[SesongNy]]&\"-\"&Oljedatabase[[#This Row],[Vind (m/s)]]&\"-\"&Oljedatabase[[#This Row],[Tidspunkt (timer)]]","v":"Draugen 2008-Sommerforhold-5-3"},{"$f":"Oljedatabase[[#This Row],[Sesong]]","v":"Sommerforhold"},15,5,"3",0.26,340,"Kjemisk dispergerbar",0.33,0.66,0.01,66,"Ingen eksplosjonsfare",9,"Kjemisk dispergerbar","Nei",0.89,"2008-02-27T01:00:00",823,"Sør-Trøndelag til Nordland",40,7156164,152022,"Draugen 2008 Forvitringsrapport.pdf"]
["Caurus 2011","Sommerforhold",{"$f":"Oljedatabase[[#This Row],[Oljetype]]&\"-\"&Oljedatabase[[#This Row],[SesongNy]]&\"-\"&Oljedatabase[[#This Row],[Vind (m/s)]]&\"-\"&Oljedatabase[[#This Row],[Tidspunkt (timer)]]","v":"Caurus 2011-Sommerforhold-15-120"},{"$f":"Oljedatabase[[#This Row],[Sesong]]","v":"Sommerforhold"},10,15,"120",0.37,3560,"Redusert kjemisk dispergerbarhet",0.4,0,0.6,148,"Ingen eksplosjonsfare",25.8,"Lav/dårlig dispergerbarhet","Nei",0,"2011-11-14T01:00:00",795,"Troms og Finnmark",46,8012923,756190,"Caurus 2011 Forvitringsrapport.pdf"]
["Drivis 2017","Sommerforhold",{"$f":"Oljedatabase[[#This Row],[Oljetype]]&\"-\"&Oljedatabase[[#This Row],[SesongNy]]&\"-\"&Oljedatabase[[#This Row],[Vind (m/s)]]&\"-\"&Oljedatabase[[#This Row],[Tidspunkt (timer)]]","v":"Drivis 2017-Sommerforhold-15-2"},{"$f":"Oljedatabase[[#This Row],[Sesong]]","v":"Sommerforhold"},10,15,"2",0.35,649,"Redusert kjemisk dispergerbarhet",0.25,0.38,0.35,85,"Ingen eksplosjonsfare",11.6,"Kjemisk dispergerbar","Nei",0.6,"2017-02-22T01:00:00",838,"Johan Castberg",37,8041217,673057,"Drivis 2017 Forvitringsrapport.pdf"]
["Drivis 2017","Sommerforhold",{"$f":"Oljedatabase[[#This Row],[Oljetype]]&\"-\"&Oljedatabase[[#This Row],[SesongNy]]&\"-\"&Oljedatabase[[#This Row],[Vind (m/s)]]&\"-\"&Oljedatabase[[#This Row],[Tidspunkt (timer)]]","v":"Drivis 2017-Sommerforhold-2-2"},{"$f":"Oljedatabase[[#This Row],[Sesong]]","v":"Sommerforhold"},10,2,"2",0.01,50,"Kjemisk dispergerbar",0.13,0.86,0,50,"Eksplosjonsfare ved tanking",1.6,"Kjemisk dispergerbar","Nei",0.88,"2017-02-22T01:00:00",838,"Johan Castberg",37,8041217,673057,"Drivis 2017 Forvitringsrapport.pdf"]
["Caurus 2011","Vinterforhold",{"$f":"Oljedatabase[[#This Row],[Oljetype]]&\"-\"&Oljedatabase[[#This Row],[SesongNy]]&\"-\"&Oljedatabase[[#This Row],[Vind (m/s)]]&\"-\"&Oljedatabase[[#This Row],[Tidspunkt (timer)]]","v":"Caurus 2011-Vinterforhold-5-72"},{"$f":"Oljedatabase[[#This Row],[Sesong]]","v":"Vinterforhold"},5,5,"72",0.36,1770,"Redusert kjemisk dispergerbarhet",0.47,0.36,0.16,111,"Ingen eksplosjonsfare",15.7,"Redusert kjemisk dispergerbarhet","Nei",0.57999999999999996,"2011-11-14T01:00:00",795,"Troms og Finnmark",46,8012923,756190,"Caurus 2011 Forvitringsrapport.pdf"]
["Draugen 2008","Vinterforhold",{"$f":"Oljedatabase[[#This Row],[Oljetype]]&\"-\"&Oljedatabase[[#This Row],[SesongNy]]&\"-\"&Oljedatabase[[#This Row],[Vind (m/s)]]&\"-\"&Oljedatabase[[#This Row],[Tidspunkt (timer)]]","v":"Draugen 2008-Vinterforhold-10-2"},{"$f":"Oljedatabase[[#This Row],[Sesong]]","v":"Vinterforhold"},5,10,"2",0.46,910,"Kjemisk dispergerbar",0.33,0.59,0.08,66,"Ingen eksplosjonsfare",9,"Kjemisk dispergerbar","Nei",1.0900000000000001,"2008-02-27T01:00:00",823,"Sør-Trøndelag til Nordland",40,7156164,152022,"Draugen 2008 Forvitringsrapport.pdf"]
["Draugen 2008","Vinterforhold",{"$f":"Oljedatabase[[#This Row],[Oljetype]]&\"-\"&Oljedatabase[[#This Row],[SesongNy]]&\"-\"&Oljedatabase[[#This Row],[Vind (m/s)]]&\"-\"&Oljedatabase[[#This Row],[Tidspunkt (timer)]]","v":"Draugen 2008-Vinterforhold-15-2"},{"$f":"Oljedatabase[[#This Row],[Sesong]]","v":"Vinterforhold"},5,15,"2",0.63,2100,"Redusert kjemisk dispergerbarhet",0.34,0.39,0.27,77,"Ingen eksplosjonsfare",12,"Redusert kjemisk dispergerbarhet","Nei",1.05,"2008-02-27T01:00:00",823,"Sør-Trøndelag til Nordland",40,7156164,152022,"Draugen 2008 Forvitringsrapport.pdf"]
["Draugen 2008","Vinterforhold",{"$f":"Oljedatabase[[#This Row],[Oljetype]]&\"-\"&Oljedatabase[[#This Row],[SesongNy]]&\"-\"&Oljedatabase[[#This Row],[Vind (m/s)]]&\"-\"&Oljedatabase[[#This Row],[Tidspunkt (timer)]]","v":"Draugen 2008-Vinterforhold-15-9"},{"$f":"Oljedatabase[[#This Row],[Sesong]]","v":"Vinterforhold"},5,15,"9",0.7,5500,"Lav/dårlig kjemisk dispergerbarhet",0.37,0.13,0.5,89,"Ingen eksplosjonsfare",19,"Redusert kjemisk dispergerbarhet","Nei",0.43,"2008-02-27T01:00:00",823,"Sør-Trøndelag til Nordland",40,7156164,152022,"Draugen 2008 Forvitringsrapport.pdf"]
["Drivis 2017","Sommerforhold",{"$f":"Oljedatabase[[#This Row],[Oljetype]]&\"-\"&Oljedatabase[[#This Row],[SesongNy]]&\"-\"&Oljedatabase[[#This Row],[Vind (m/s)]]&\"-\"&Oljedatabase[[#This Row],[Tidspunkt (timer)]]","v":"Drivis 2017-Sommerforhold-15-72"},{"$f":"Oljedatabase[[#This Row],[Sesong]]","v":"Sommerforhold"},10,15,"72",0.8,14300,"Ikke kjemisk dispergerbar",0.3,0,0.69,135,"Ingen eksplosjonsfare",24.9,"Redusert kjemisk dispergerbarhet","Ja",0,"2017-02-22T01:00:00",838,"Johan Castberg",37,8041217,673057,"Drivis 2017 Forvitringsrapport.pdf"]
["Drivis 2017","Vinterforhold",{"$f":"Oljedatabase[[#This Row],[Oljetype]]&\"-\"&Oljedatabase[[#This Row],[SesongNy]]&\"-\"&Oljedatabase[[#This Row],[Vind (m/s)]]&\"-\"&Oljedatabase[[#This Row],[Tidspunkt (timer)]]","v":"Drivis 2017-Vinterforhold-5-120"},{"$f":"Oljedatabase[[#This Row],[Sesong]]","v":"Vinterforhold"},5,5,"120",0.79,8330,"Redusert kjemisk dispergerbarhet",0.36,0.53,0.1,111,"Ingen eksplosjonsfare",18.8,"Redusert kjemisk dispergerbarhet","Nei",2.58,"2017-02-22T01:00:00",838,"Johan Castberg",37,8041217,673057,"Drivis 2017 Forvitringsrapport.pdf"]
["Draugen 2008","Vinterforhold",{"$f":"Oljedatabase[[#This Row],[Oljetype]]&\"-\"&Oljedatabase[[#This Row],[SesongNy]]&\"-\"&Oljedatabase[[#This Row],[Vind (m/s)]]&\"-\"&Oljedatabase[[#This Row],[Tidspunkt (timer)]]","v":"Draugen 2008-Vinterforhold-2-24"},{"$f":"Oljedatabase[[#This Row],[Sesong]]","v":"Vinterforhold"},5,2,"24",0.43,1200,"Redusert kjemisk dispergerbarhet",0.35,0.65,0,79,"Ingen eksplosjonsfare",12,"Redusert kjemisk dispergerbarhet","Nei",1.1399999999999999,"2008-02-27T01:00:00",823,"Sør-Trøndelag til Nordland",40,7156164,152022,"Draugen 2008 Forvitringsrapport.pdf"]
["Bøyla 2016","Vinterforhold",{"$f":"Oljedatabase[[#This Row],[Oljetype]]&\"-\"&Oljedatabase[[#This Row],[SesongNy]]&\"-\"&Oljedatabase[[#This Row],[Vind (m/s)]]&\"-\"&Oljedatabase[[#This Row],[Tidspunkt (timer)]]","v":"Bøyla 2016-Vinterforhold-15-96"},{"$f":"Oljedatabase[[#This Row],[Sesong]]","v":"Vinterforhold"},5,15,"96",0.72,32700,"Ikke kjemisk dispergerbar",0.22,0,0.77,141,"Ingen eksplosjonsfare",14.2,"Redusert kjemisk dispergerbarhet","Ja",0,"2016-01-27T01:00:00",874,"Vest-Agder til Hordaland",30,6652496,-245846,"Bøyla 2016 Forvitringsrapport.pdf"]
["Drivis 2017","Sommerforhold",{"$f":"Oljedatabase[[#This Row],[Oljetype]]&\"-\"&Oljedatabase[[#This Row],[SesongNy]]&\"-\"&Oljedatabase[[#This Row],[Vind (m/s)]]&\"-\"&Oljedatabase[[#This Row],[Tidspunkt (timer)]]","v":"Drivis 2017-Sommerforhold-15-6"},{"$f":"Oljedatabase[[#This Row],[Sesong]]","v":"Sommerforhold"},10,15,"6",0.65,2780,"Redusert kjemisk dispergerbarhet",0.28000000000000003,0.17,0.53,100,"Ingen eksplosjonsfare",15.8,"Redusert kjemisk dispergerbarhet","Nei",0.51,"2017-02-22T01:00:00",838,"Johan Castberg",37,8041217,673057,"Drivis 2017 Forvitringsrapport.pdf"]
["Drivis 2017","Sommerforhold",{"$f":"Oljedatabase[[#This Row],[Oljetype]]&\"-\"&Oljedatabase[[#This Row],[SesongNy]]&\"-\"&Oljedatabase[[#This Row],[Vind (m/s)]]&\"-\"&Oljedatabase[[#This Row],[Tidspunkt (timer)]]","v":"Drivis 2017-Sommerforhold-15-96"},{"$f":"Oljedatabase[[#This Row],[Sesong]]","v":"Sommerforhold"},10,15,"96",0.8,17100,"Ikke kjemisk dispergerbar",0.3,0,0.69,140,"Ingen eksplosjonsfare",26.2,"Lav/dårlig dispergerbarhet","Ja",0,"2017-02-22T01:00:00",838,"Johan Castberg",37,8041217,673057,"Drivis 2017 Forvitringsrapport.pdf"]
["Draugen 2008","Sommerforhold",{"$f":"Oljedatabase[[#This Row],[Oljetype]]&\"-\"&Oljedatabase[[#This Row],[SesongNy]]&\"-\"&Oljedatabase[[#This Row],[Vind (m/s)]]&\"-\"&Oljedatabase[[#This Row],[Tidspunkt (timer)]]","v":"Draugen 2008-Sommerforhold-10-2"},{"$f":"Oljedatabase[[#This Row],[Sesong]]","v":"Sommerforhold"},15,10,"2",0.46,750,"Kjemisk dispergerbar",0.36,0.56999999999999995,0.08,76,"Ingen eksplosjonsfare",12,"Kjemisk dispergerbar","Nei",1.05,"2008-02-27T01:00:00",823,"Sør-Trøndelag til Nordland",40,7156164,152022,"Draugen 2008 Forvitringsrapport.pdf"]
["Draugen 2008","Sommerforhold",{"$f":"Oljedatabase[[#This Row],[Oljetype]]&\"-\"&Oljedatabase[[#This Row],[SesongNy]]&\"-\"&Oljedatabase[[#This Row],[Vind (m/s)]]&\"-\"&Oljedatabase[[#This Row],[Tidspunkt (timer)]]","v":"Draugen 2008-Sommerforhold-15-12"},{"$f":"Oljedatabase[[#This Row],[Sesong]]","v":"Sommerforhold"},15,15,"12",0.7,4600,"Lav/dårlig kjemisk dispergerbarhet",0.4,0.06,0.54,98,"Ingen eksplosjonsfare",24,"Redusert kjemisk dispergerbarhet","Nei",0.2,"2008-02-27T01:00:00",823,"Sør-Trøndelag til Nordland",40,7156164,152022,"Draugen 2008 Forvitringsrapport.pdf"]
["Draugen 2008","Sommerforhold",{"$f":"Oljedatabase[[#This Row],[Oljetype]]&\"-\"&Oljedatabase[[#This Row],[SesongNy]]&\"-\"&Oljedatabase[[#This Row],[Vind (m/s)]]&\"-\"&Oljedatabase[[#This Row],[Tidspunkt (timer)]]","v":"Draugen 2008-Sommerforhold-10-120"},{"$f":"Oljedatabase[[#This Row],[Sesong]]","v":"Sommerforhold"},15,10,"120",0.7,9900,"Lav/dårlig kjemisk dispergerbarhet",0.45,0.03,0.52,116,"Ingen eksplosjonsfare",31,"Lav/dårlig dispergerbarhet","Nei",0.1,"2008-02-27T01:00:00",823,"Sør-Trøndelag til Nordland",40,7156164,152022,"Draugen 2008 Forvitringsrapport.pdf"]
["Draugen 2008","Sommerforhold",{"$f":"Oljedatabase[[#This Row],[Oljetype]]&\"-\"&Oljedatabase[[#This Row],[SesongNy]]&\"-\"&Oljedatabase[[#This Row],[Vind (m/s)]]&\"-\"&Oljedatabase[[#This Row],[Tidspunkt (timer)]]","v":"Draugen 2008-Sommerforhold-15-9"},{"$f":"Oljedatabase[[#This Row],[Sesong]]","v":"Sommerforhold"},15,15,"9",0.7,4100,"Lav/dårlig kjemisk dispergerbarhet",0.4,0.1,0.51,98,"Ingen eksplosjonsfare",22,"Redusert kjemisk dispergerbarhet","Nei",0.33,"2008-02-27T01:00:00",823,"Sør-Trøndelag til Nordland",40,7156164,152022,"Draugen 2008 Forvitringsrapport.pdf"]
["Drivis 2017","Sommerforhold",{"$f":"Oljedatabase[[#This Row],[Oljetype]]&\"-\"&Oljedatabase[[#This Row],[SesongNy]]&\"-\"&Oljedatabase[[#This Row],[Vind (m/s)]]&\"-\"&Oljedatabase[[#This Row],[Tidspunkt (timer)]]","v":"Drivis 2017-Sommerforhold-10-2"},{"$f":"Oljedatabase[[#This Row],[Sesong]]","v":"Sommerforhold"},10,10,"2",0.19,272,"Kjemisk dispergerbar",0.23,0.66,0.09,75,"Ingen eksplosjonsfare",9,"Kjemisk dispergerbar","Nei",0.82,"2017-02-22T01:00:00",838,"Johan Castberg",37,8041217,673057,"Drivis 2017 Forvitringsrapport.pdf"]
["Draugen 2008","Vinterforhold",{"$f":"Oljedatabase[[#This Row],[Oljetype]]&\"-\"&Oljedatabase[[#This Row],[SesongNy]]&\"-\"&Oljedatabase[[#This Row],[Vind (m/s)]]&\"-\"&Oljedatabase[[#This Row],[Tidspunkt (timer)]]","v":"Draugen 2008-Vinterforhold-2-12"},{"$f":"Oljedatabase[[#This Row],[Sesong]]","v":"Vinterforhold"},5,2,"12",0.26,540,"Kjemisk dispergerbar",0.33,0.67,0,68,"Ingen eksplosjonsfare",8,"Kjemisk dispergerbar","Nei",0.9,"2008-02-27T01:00:00",823,"Sør-Trøndelag til Nordland",40,7156164,152022,"Draugen 2008 Forvitringsrapport.pdf"]
["Ekofisk blend 2002","Sommerforhold",{"$f":"Oljedatabase[[#This Row],[Oljetype]]&\"-\"&Oljedatabase[[#This Row],[SesongNy]]&\"-\"&Oljedatabase[[#This Row],[Vind (m/s)]]&\"-\"&Oljedatabase[[#This Row],[Tidspunkt (timer)]]","v":"Ekofisk blend 2002-Sommerforhold-5-48"},{"$f":"Oljedatabase[[#This Row],[Sesong]]","v":"Sommerforhold"},15,5,"48",0.8,7000,"Redusert kjemisk dispergerbarhet",0.31,0.65,0.05,132,"Ingen eksplosjonsfare",20,"Kjemisk dispergerbar","Nei",3.25,"2002-02-11T01:00:00",851,"Vest-Agder til Hordaland",34,6329207,-222467,"Ekofisk blend 2002 Forvitringsrapport.pdf"]
["Drivis 2017","Sommerforhold",{"$f":"Oljedatabase[[#This Row],[Oljetype]]&\"-\"&Oljedatabase[[#This Row],[SesongNy]]&\"-\"&Oljedatabase[[#This Row],[Vind (m/s)]]&\"-\"&Oljedatabase[[#This Row],[Tidspunkt (timer)]]","v":"Drivis 2017-Sommerforhold-2-120"},{"$f":"Oljedatabase[[#This Row],[Sesong]]","v":"Sommerforhold"},10,2,"120",0.56000000000000005,2630,"Redusert kjemisk dispergerbarhet",0.34,0.65,0,105,"Ingen eksplosjonsfare",17.2,"Redusert kjemisk dispergerbarhet","Nei",1.49,"2017-02-22T01:00:00",838,"Johan Castberg",37,8041217,673057,"Drivis 2017 Forvitringsrapport.pdf"]
["Draugen 2008","Vinterforhold",{"$f":"Oljedatabase[[#This Row],[Oljetype]]&\"-\"&Oljedatabase[[#This Row],[SesongNy]]&\"-\"&Oljedatabase[[#This Row],[Vind (m/s)]]&\"-\"&Oljedatabase[[#This Row],[Tidspunkt (timer)]]","v":"Draugen 2008-Vinterforhold-5-9"},{"$f":"Oljedatabase[[#This Row],[Sesong]]","v":"Vinterforhold"},5,5,"9",0.53,1400,"Redusert kjemisk dispergerbarhet",0.35,0.63,0.02,76,"Ingen eksplosjonsfare",11,"Redusert kjemisk dispergerbarhet","Nei",1.34,"2008-02-27T01:00:00",823,"Sør-Trøndelag til Nordland",40,7156164,152022,"Draugen 2008 Forvitringsrapport.pdf"]
["Drivis 2017","Vinterforhold",{"$f":"Oljedatabase[[#This Row],[Oljetype]]&\"-\"&Oljedatabase[[#This Row],[SesongNy]]&\"-\"&Oljedatabase[[#This Row],[Vind (m/s)]]&\"-\"&Oljedatabase[[#This Row],[Tidspunkt (timer)]]","v":"Drivis 2017-Vinterforhold-5-6"},{"$f":"Oljedatabase[[#This Row],[Sesong]]","v":"Vinterforhold"},5,5,"6",0.17,283,"Kjemisk dispergerbar",0.22,0.75,0.01,72,"Ingen eksplosjonsfare",8,"Kjemisk dispergerbar","Nei",0.92,"2017-02-22T01:00:00",838,"Johan Castberg",37,8041217,673057,"Drivis 2017 Forvitringsrapport.pdf"]
["Drivis 2017","Vinterforhold",{"$f":"Oljedatabase[[#This Row],[Oljetype]]&\"-\"&Oljedatabase[[#This Row],[SesongNy]]&\"-\"&Oljedatabase[[#This Row],[Vind (m/s)]]&\"-\"&Oljedatabase[[#This Row],[Tidspunkt (timer)]]","v":"Drivis 2017-Vinterforhold-10-72"},{"$f":"Oljedatabase[[#This Row],[Sesong]]","v":"Vinterforhold"},5,10,"72",0.79,11300,"Ikke kjemisk dispergerbar",0.34,0.12,0.53,119,"Ingen eksplosjonsfare",20.8,"Lav/dårlig dispergerbarhet","Ja",0.63,"2017-02-22T01:00:00",838,"Johan Castberg",37,8041217,673057,"Drivis 2017 Forvitringsrapport.pdf"]
["Draugen 2008","Vinterforhold",{"$f":"Oljedatabase[[#This Row],[Oljetype]]&\"-\"&Oljedatabase[[#This Row],[SesongNy]]&\"-\"&Oljedatabase[[#This Row],[Vind (m/s)]]&\"-\"&Oljedatabase[[#This Row],[Tidspunkt (timer)]]","v":"Draugen 2008-Vinterforhold-5-96"},{"$f":"Oljedatabase[[#This Row],[Sesong]]","v":"Vinterforhold"},5,5,"96",0.7,7700,"Lav/dårlig kjemisk dispergerbarhet",0.42,0.5,0.08,108,"Ingen eksplosjonsfare",22,"Lav/dårlig dispergerbarhet","Nei",1.66,"2008-02-27T01:00:00",823,"Sør-Trøndelag til Nordland",40,7156164,152022,"Draugen 2008 Forvitringsrapport.pdf"]
["Draugen 2008","Sommerforhold",{"$f":"Oljedatabase[[#This Row],[Oljetype]]&\"-\"&Oljedatabase[[#This Row],[SesongNy]]&\"-\"&Oljedatabase[[#This Row],[Vind (m/s)]]&\"-\"&Oljedatabase[[#This Row],[Tidspunkt (timer)]]","v":"Draugen 2008-Sommerforhold-2-48"},{"$f":"Oljedatabase[[#This Row],[Sesong]]","v":"Sommerforhold"},15,2,"48",0.6,2000,"Redusert kjemisk dispergerbarhet",0.4,0.6,0,98,"Ingen eksplosjonsfare",18,"Kjemisk dispergerbar","Nei",1.5,"2008-02-27T01:00:00",823,"Sør-Trøndelag til Nordland",40,7156164,152022,"Draugen 2008 Forvitringsrapport.pdf"]
["Drivis 2017","Sommerforhold",{"$f":"Oljedatabase[[#This Row],[Oljetype]]&\"-\"&Oljedatabase[[#This Row],[SesongNy]]&\"-\"&Oljedatabase[[#This Row],[Vind (m/s)]]&\"-\"&Oljedatabase[[#This Row],[Tidspunkt (timer)]]","v":"Drivis 2017-Sommerforhold-10-96"},{"$f":"Oljedatabase[[#This Row],[Sesong]]","v":"Sommerforhold"},10,10,"96",0.8,11600,"Ikke kjemisk dispergerbar",0.36,0.06,0.56000000000000005,129,"Ingen eksplosjonsfare",23.5,"Redusert kjemisk dispergerbarhet","Ja",0.34,"2017-02-22T01:00:00",838,"Johan Castberg",37,8041217,673057,"Drivis 2017 Forvitringsrapport.pdf"]
["Drivis 2017","Sommerforhold",{"$f":"Oljedatabase[[#This Row],[Oljetype]]&\"-\"&Oljedatabase[[#This Row],[SesongNy]]&\"-\"&Oljedatabase[[#This Row],[Vind (m/s)]]&\"-\"&Oljedatabase[[#This Row],[Tidspunkt (timer)]]","v":"Drivis 2017-Sommerforhold-10-12"},{"$f":"Oljedatabase[[#This Row],[Sesong]]","v":"Sommerforhold"},10,10,"12",0.64,2740,"Redusert kjemisk dispergerbarhet",0.31,0.4,0.28000000000000003,101,"Ingen eksplosjonsfare",16,"Redusert kjemisk dispergerbarhet","Nei",1.1399999999999999,"2017-02-22T01:00:00",838,"Johan Castberg",37,8041217,673057,"Drivis 2017 Forvitringsrapport.pdf"]
["Ekofisk blend 2002","Sommerforhold",{"$f":"Oljedatabase[[#This Row],[Oljetype]]&\"-\"&Oljedatabase[[#This Row],[SesongNy]]&\"-\"&Oljedatabase[[#This Row],[Vind (m/s)]]&\"-\"&Oljedatabase[[#This Row],[Tidspunkt (timer)]]","v":"Ekofisk blend 2002-Sommerforhold-10-9"},{"$f":"Oljedatabase[[#This Row],[Sesong]]","v":"Sommerforhold"},15,10,"9",0.78,5500,"Redusert kjemisk dispergerbarhet",0.28999999999999998,0.6,0.1,123,"Ingen eksplosjonsfare",19,"Kjemisk dispergerbar","Nei",2.72,"2002-02-11T01:00:00",851,"Vest-Agder til Hordaland",34,6329207,-222467,"Ekofisk blend 2002 Forvitringsrapport.pdf"]
["Draugen 2008","Vinterforhold",{"$f":"Oljedatabase[[#This Row],[Oljetype]]&\"-\"&Oljedatabase[[#This Row],[SesongNy]]&\"-\"&Oljedatabase[[#This Row],[Vind (m/s)]]&\"-\"&Oljedatabase[[#This Row],[Tidspunkt (timer)]]","v":"Draugen 2008-Vinterforhold-2-48"},{"$f":"Oljedatabase[[#This Row],[Sesong]]","v":"Vinterforhold"},5,2,"48",0.6,2500,"Redusert kjemisk dispergerbarhet",0.38,0.62,0,88,"Ingen eksplosjonsfare",15,"Redusert kjemisk dispergerbarhet","Nei",1.55,"2008-02-27T01:00:00",823,"Sør-Trøndelag til Nordland",40,7156164,152022,"Draugen 2008 Forvitringsrapport.pdf"]
["Draugen 2008","Vinterforhold",{"$f":"Oljedatabase[[#This Row],[Oljetype]]&\"-\"&Oljedatabase[[#This Row],[SesongNy]]&\"-\"&Oljedatabase[[#This Row],[Vind (m/s)]]&\"-\"&Oljedatabase[[#This Row],[Tidspunkt (timer)]]","v":"Draugen 2008-Vinterforhold-10-12"},{"$f":"Oljedatabase[[#This Row],[Sesong]]","v":"Vinterforhold"},5,10,"12",0.7,4700,"Lav/dårlig kjemisk dispergerbarhet",0.38,0.4,0.21,94,"Ingen eksplosjonsfare",17,"Redusert kjemisk dispergerbarhet","Nei",1.33,"2008-02-27T01:00:00",823,"Sør-Trøndelag til Nordland",40,7156164,152022,"Draugen 2008 Forvitringsrapport.pdf"]
["Draugen 2008","Vinterforhold",{"$f":"Oljedatabase[[#This Row],[Oljetype]]&\"-\"&Oljedatabase[[#This Row],[SesongNy]]&\"-\"&Oljedatabase[[#This Row],[Vind (m/s)]]&\"-\"&Oljedatabase[[#This Row],[Tidspunkt (timer)]]","v":"Draugen 2008-Vinterforhold-10-120"},{"$f":"Oljedatabase[[#This Row],[Sesong]]","v":"Vinterforhold"},5,10,"120",0.7,14000,"Lav/dårlig kjemisk dispergerbarhet",0.42,0.04,0.53,106,"Ingen eksplosjonsfare",27,"Lav/dårlig dispergerbarhet","Ja",0.13,"2008-02-27T01:00:00",823,"Sør-Trøndelag til Nordland",40,7156164,152022,"Draugen 2008 Forvitringsrapport.pdf"]
["Draugen 2008","Sommerforhold",{"$f":"Oljedatabase[[#This Row],[Oljetype]]&\"-\"&Oljedatabase[[#This Row],[SesongNy]]&\"-\"&Oljedatabase[[#This Row],[Vind (m/s)]]&\"-\"&Oljedatabase[[#This Row],[Tidspunkt (timer)]]","v":"Draugen 2008-Sommerforhold-15-1"},{"$f":"Oljedatabase[[#This Row],[Sesong]]","v":"Sommerforhold"},15,15,"1",0.47,760,"Kjemisk dispergerbar",0.35,0.46,0.19,75,"Ingen eksplosjonsfare",12,"Kjemisk dispergerbar","Nei",0.86,"2008-02-27T01:00:00",823,"Sør-Trøndelag til Nordland",40,7156164,152022,"Draugen 2008 Forvitringsrapport.pdf"]
["Draugen 2008","Vinterforhold",{"$f":"Oljedatabase[[#This Row],[Oljetype]]&\"-\"&Oljedatabase[[#This Row],[SesongNy]]&\"-\"&Oljedatabase[[#This Row],[Vind (m/s)]]&\"-\"&Oljedatabase[[#This Row],[Tidspunkt (timer)]]","v":"Draugen 2008-Vinterforhold-15-96"},{"$f":"Oljedatabase[[#This Row],[Sesong]]","v":"Vinterforhold"},5,15,"96",0.7,8200,"Lav/dårlig kjemisk dispergerbarhet",0.38,0,0.62,89,"Ingen eksplosjonsfare",22,"Lav/dårlig dispergerbarhet","Nei",0,"2008-02-27T01:00:00",823,"Sør-Trøndelag til Nordland",40,7156164,152022,"Draugen 2008 Forvitringsrapport.pdf"]
["Drivis 2017","Vinterforhold",{"$f":"Oljedatabase[[#This Row],[Oljetype]]&\"-\"&Oljedatabase[[#This Row],[SesongNy]]&\"-\"&Oljedatabase[[#This Row],[Vind (m/s)]]&\"-\"&Oljedatabase[[#This Row],[Tidspunkt (timer)]]","v":"Drivis 2017-Vinterforhold-2-120"},{"$f":"Oljedatabase[[#This Row],[Sesong]]","v":"Vinterforhold"},5,2,"120",0.56000000000000005,2880,"Redusert kjemisk dispergerbarhet",0.32,0.67,0,99,"Ingen eksplosjonsfare",15.6,"Redusert kjemisk dispergerbarhet","Nei",1.53,"2017-02-22T01:00:00",838,"Johan Castberg",37,8041217,673057,"Drivis 2017 Forvitringsrapport.pdf"]
["Ekofisk blend 2002","Sommerforhold",{"$f":"Oljedatabase[[#This Row],[Oljetype]]&\"-\"&Oljedatabase[[#This Row],[SesongNy]]&\"-\"&Oljedatabase[[#This Row],[Vind (m/s)]]&\"-\"&Oljedatabase[[#This Row],[Tidspunkt (timer)]]","v":"Ekofisk blend 2002-Sommerforhold-10-24"},{"$f":"Oljedatabase[[#This Row],[Sesong]]","v":"Sommerforhold"},15,10,"24",0.81,8300,"Redusert kjemisk dispergerbarhet",0.32,0.41,0.27,138,"Ingen eksplosjonsfare",21,"Redusert kjemisk dispergerbarhet","Nei",2.15,"2002-02-11T01:00:00",851,"Vest-Agder til Hordaland",34,6329207,-222467,"Ekofisk blend 2002 Forvitringsrapport.pdf"]
["Drivis 2017","Vinterforhold",{"$f":"Oljedatabase[[#This Row],[Oljetype]]&\"-\"&Oljedatabase[[#This Row],[SesongNy]]&\"-\"&Oljedatabase[[#This Row],[Vind (m/s)]]&\"-\"&Oljedatabase[[#This Row],[Tidspunkt (timer)]]","v":"Drivis 2017-Vinterforhold-10-3"},{"$f":"Oljedatabase[[#This Row],[Sesong]]","v":"Vinterforhold"},5,10,"3",0.26,471,"Kjemisk dispergerbar",0.23,0.63,0.12,76,"Ingen eksplosjonsfare",9.3000000000000007,"Kjemisk dispergerbar","Nei",0.87,"2017-02-22T01:00:00",838,"Johan Castberg",37,8041217,673057,"Drivis 2017 Forvitringsrapport.pdf"]
["Draugen 2008","Vinterforhold",{"$f":"Oljedatabase[[#This Row],[Oljetype]]&\"-\"&Oljedatabase[[#This Row],[SesongNy]]&\"-\"&Oljedatabase[[#This Row],[Vind (m/s)]]&\"-\"&Oljedatabase[[#This Row],[Tidspunkt (timer)]]","v":"Draugen 2008-Vinterforhold-15-48"},{"$f":"Oljedatabase[[#This Row],[Sesong]]","v":"Vinterforhold"},5,15,"48",0.7,8200,"Lav/dårlig kjemisk dispergerbarhet",0.38,0,0.62,89,"Ingen eksplosjonsfare",22,"Lav/dårlig dispergerbarhet","Nei",0,"2008-02-27T01:00:00",823,"Sør-Trøndelag til Nordland",40,7156164,152022,"Draugen 2008 Forvitringsrapport.pdf"]
["Draugen 2008","Sommerforhold",{"$f":"Oljedatabase[[#This Row],[Oljetype]]&\"-\"&Oljedatabase[[#This Row],[SesongNy]]&\"-\"&Oljedatabase[[#This Row],[Vind (m/s)]]&\"-\"&Oljedatabase[[#This Row],[Tidspunkt (timer)]]","v":"Draugen 2008-Sommerforhold-10-12"},{"$f":"Oljedatabase[[#This Row],[Sesong]]","v":"Sommerforhold"},15,10,"12",0.7,3500,"Redusert kjemisk dispergerbarhet",0.41,0.36,0.23,106,"Ingen eksplosjonsfare",21,"Redusert kjemisk dispergerbarhet","Nei",1.2,"2008-02-27T01:00:00",823,"Sør-Trøndelag til Nordland",40,7156164,152022,"Draugen 2008 Forvitringsrapport.pdf"]
["Drivis 2017","Vinterforhold",{"$f":"Oljedatabase[[#This Row],[Oljetype]]&\"-\"&Oljedatabase[[#This Row],[SesongNy]]&\"-\"&Oljedatabase[[#This Row],[Vind (m/s)]]&\"-\"&Oljedatabase[[#This Row],[Tidspunkt (timer)]]","v":"Drivis 2017-Vinterforhold-5-3"},{"$f":"Oljedatabase[[#This Row],[Sesong]]","v":"Vinterforhold"},5,5,"3",0.09,143,"Kjemisk dispergerbar",0.18,0.8,0.01,62,"Ingen eksplosjonsfare",5.4,"Kjemisk dispergerbar","Nei",0.88,"2017-02-22T01:00:00",838,"Johan Castberg",37,8041217,673057,"Drivis 2017 Forvitringsrapport.pdf"]
["Draugen 2008","Vinterforhold",{"$f":"Oljedatabase[[#This Row],[Oljetype]]&\"-\"&Oljedatabase[[#This Row],[SesongNy]]&\"-\"&Oljedatabase[[#This Row],[Vind (m/s)]]&\"-\"&Oljedatabase[[#This Row],[Tidspunkt (timer)]]","v":"Draugen 2008-Vinterforhold-5-6"},{"$f":"Oljedatabase[[#This Row],[Sesong]]","v":"Vinterforhold"},5,5,"6",0.43,870,"Kjemisk dispergerbar",0.33,0.65,0.01,70,"Ingen eksplosjonsfare",9,"Kjemisk dispergerbar","Nei",1.1399999999999999,"2008-02-27T01:00:00",823,"Sør-Trøndelag til Nordland",40,7156164,152022,"Draugen 2008 Forvitringsrapport.pdf"]
["Drivis 2017","Vinterforhold",{"$f":"Oljedatabase[[#This Row],[Oljetype]]&\"-\"&Oljedatabase[[#This Row],[SesongNy]]&\"-\"&Oljedatabase[[#This Row],[Vind (m/s)]]&\"-\"&Oljedatabase[[#This Row],[Tidspunkt (timer)]]","v":"Drivis 2017-Vinterforhold-2-72"},{"$f":"Oljedatabase[[#This Row],[Sesong]]","v":"Vinterforhold"},5,2,"72",0.41,1450,"Redusert kjemisk dispergerbarhet",0.3,0.69,0,92,"Ingen eksplosjonsfare",13.7,"Redusert kjemisk dispergerbarhet","Nei",1.19,"2017-02-22T01:00:00",838,"Johan Castberg",37,8041217,673057,"Drivis 2017 Forvitringsrapport.pdf"]
["Draugen 2008","Sommerforhold",{"$f":"Oljedatabase[[#This Row],[Oljetype]]&\"-\"&Oljedatabase[[#This Row],[SesongNy]]&\"-\"&Oljedatabase[[#This Row],[Vind (m/s)]]&\"-\"&Oljedatabase[[#This Row],[Tidspunkt (timer)]]","v":"Draugen 2008-Sommerforhold-15-3"},{"$f":"Oljedatabase[[#This Row],[Sesong]]","v":"Sommerforhold"},15,15,"3",0.68,2300,"Redusert kjemisk dispergerbarhet",0.38,0.28000000000000003,0.34,93,"Ingen eksplosjonsfare",18,"Kjemisk dispergerbar","Nei",0.87,"2008-02-27T01:00:00",823,"Sør-Trøndelag til Nordland",40,7156164,152022,"Draugen 2008 Forvitringsrapport.pdf"]
["Drivis 2017","Sommerforhold",{"$f":"Oljedatabase[[#This Row],[Oljetype]]&\"-\"&Oljedatabase[[#This Row],[SesongNy]]&\"-\"&Oljedatabase[[#This Row],[Vind (m/s)]]&\"-\"&Oljedatabase[[#This Row],[Tidspunkt (timer)]]","v":"Drivis 2017-Sommerforhold-2-12"},{"$f":"Oljedatabase[[#This Row],[Sesong]]","v":"Sommerforhold"},10,2,"12",0.09,183,"Kjemisk dispergerbar",0.23,0.76,0,74,"Ingen eksplosjonsfare",8.6,"Kjemisk dispergerbar","Nei",0.84,"2017-02-22T01:00:00",838,"Johan Castberg",37,8041217,673057,"Drivis 2017 Forvitringsrapport.pdf"]
["Draugen 2008","Sommerforhold",{"$f":"Oljedatabase[[#This Row],[Oljetype]]&\"-\"&Oljedatabase[[#This Row],[SesongNy]]&\"-\"&Oljedatabase[[#This Row],[Vind (m/s)]]&\"-\"&Oljedatabase[[#This Row],[Tidspunkt (timer)]]","v":"Draugen 2008-Sommerforhold-10-6"},{"$f":"Oljedatabase[[#This Row],[Sesong]]","v":"Sommerforhold"},15,10,"6",0.67,2300,"Redusert kjemisk dispergerbarhet",0.39,0.46,0.15,96,"Ingen eksplosjonsfare",18,"Kjemisk dispergerbar","Nei",1.39,"2008-02-27T01:00:00",823,"Sør-Trøndelag til Nordland",40,7156164,152022,"Draugen 2008 Forvitringsrapport.pdf"]
["Draugen 2008","Vinterforhold",{"$f":"Oljedatabase[[#This Row],[Oljetype]]&\"-\"&Oljedatabase[[#This Row],[SesongNy]]&\"-\"&Oljedatabase[[#This Row],[Vind (m/s)]]&\"-\"&Oljedatabase[[#This Row],[Tidspunkt (timer)]]","v":"Draugen 2008-Vinterforhold-5-72"},{"$f":"Oljedatabase[[#This Row],[Sesong]]","v":"Vinterforhold"},5,5,"72",0.7,6700,"Lav/dårlig kjemisk dispergerbarhet",0.41,0.52,0.06,104,"Ingen eksplosjonsfare",20,"Redusert kjemisk dispergerbarhet","Nei",1.73,"2008-02-27T01:00:00",823,"Sør-Trøndelag til Nordland",40,7156164,152022,"Draugen 2008 Forvitringsrapport.pdf"]
["Draugen 2008","Vinterforhold",{"$f":"Oljedatabase[[#This Row],[Oljetype]]&\"-\"&Oljedatabase[[#This Row],[SesongNy]]&\"-\"&Oljedatabase[[#This Row],[Vind (m/s)]]&\"-\"&Oljedatabase[[#This Row],[Tidspunkt (timer)]]","v":"Draugen 2008-Vinterforhold-10-9"},{"$f":"Oljedatabase[[#This Row],[Sesong]]","v":"Vinterforhold"},5,10,"9",0.69,3900,"Redusert kjemisk dispergerbarhet",0.38,0.44,0.18,91,"Ingen eksplosjonsfare",16,"Redusert kjemisk dispergerbarhet","Nei",1.41,"2008-02-27T01:00:00",823,"Sør-Trøndelag til Nordland",40,7156164,152022,"Draugen 2008 Forvitringsrapport.pdf"]
["Drivis 2017","Sommerforhold",{"$f":"Oljedatabase[[#This Row],[Oljetype]]&\"-\"&Oljedatabase[[#This Row],[SesongNy]]&\"-\"&Oljedatabase[[#This Row],[Vind (m/s)]]&\"-\"&Oljedatabase[[#This Row],[Tidspunkt (timer)]]","v":"Drivis 2017-Sommerforhold-15-120"},{"$f":"Oljedatabase[[#This Row],[Sesong]]","v":"Sommerforhold"},10,15,"120",0.8,19900,"Ikke kjemisk dispergerbar",0.3,0,0.69,145,"Ingen eksplosjonsfare",27.3,"Lav/dårlig dispergerbarhet","Ja",0,"2017-02-22T01:00:00",838,"Johan Castberg",37,8041217,673057,"Drivis 2017 Forvitringsrapport.pdf"]
["Drivis 2017","Sommerforhold",{"$f":"Oljedatabase[[#This Row],[Oljetype]]&\"-\"&Oljedatabase[[#This Row],[SesongNy]]&\"-\"&Oljedatabase[[#This Row],[Vind (m/s)]]&\"-\"&Oljedatabase[[#This Row],[Tidspunkt (timer)]]","v":"Drivis 2017-Sommerforhold-2-96"},{"$f":"Oljedatabase[[#This Row],[Sesong]]","v":"Sommerforhold"},10,2,"96",0.49,1960,"Redusert kjemisk dispergerbarhet",0.33,0.66,0,102,"Ingen eksplosjonsfare",16.3,"Redusert kjemisk dispergerbarhet","Nei",1.32,"2017-02-22T01:00:00",838,"Johan Castberg",37,8041217,673057,"Drivis 2017 Forvitringsrapport.pdf"]
["Caurus 2011","Vinterforhold",{"$f":"Oljedatabase[[#This Row],[Oljetype]]&\"-\"&Oljedatabase[[#This Row],[SesongNy]]&\"-\"&Oljedatabase[[#This Row],[Vind (m/s)]]&\"-\"&Oljedatabase[[#This Row],[Tidspunkt (timer)]]","v":"Caurus 2011-Vinterforhold-2-120"},{"$f":"Oljedatabase[[#This Row],[Sesong]]","v":"Vinterforhold"},5,2,"120",0.35,1500,"Redusert kjemisk dispergerbarhet",0.46,0.52,0,107,"Ingen eksplosjonsfare",14.4,"Redusert kjemisk dispergerbarhet","Nei",0.82,"2011-11-14T01:00:00",795,"Troms og Finnmark",46,8012923,756190,"Caurus 2011 Forvitringsrapport.pdf"]
["Ekofisk blend 2002","Sommerforhold",{"$f":"Oljedatabase[[#This Row],[Oljetype]]&\"-\"&Oljedatabase[[#This Row],[SesongNy]]&\"-\"&Oljedatabase[[#This Row],[Vind (m/s)]]&\"-\"&Oljedatabase[[#This Row],[Tidspunkt (timer)]]","v":"Ekofisk blend 2002-Sommerforhold-2-6"},{"$f":"Oljedatabase[[#This Row],[Sesong]]","v":"Sommerforhold"},15,2,"6",0.19,860,"Kjemisk dispergerbar",0.21,0.79,0,84,"Ingen eksplosjonsfare",13,"Kjemisk dispergerbar","Nei",0.97,"2002-02-11T01:00:00",851,"Vest-Agder til Hordaland",34,6329207,-222467,"Ekofisk blend 2002 Forvitringsrapport.pdf"]
["Caurus 2011","Vinterforhold",{"$f":"Oljedatabase[[#This Row],[Oljetype]]&\"-\"&Oljedatabase[[#This Row],[SesongNy]]&\"-\"&Oljedatabase[[#This Row],[Vind (m/s)]]&\"-\"&Oljedatabase[[#This Row],[Tidspunkt (timer)]]","v":"Caurus 2011-Vinterforhold-2-9"},{"$f":"Oljedatabase[[#This Row],[Sesong]]","v":"Vinterforhold"},5,2,"9",0.2,327,"Kjemisk dispergerbar",0.33,0.66,0,70,"Ingen eksplosjonsfare",3.6,"Kjemisk dispergerbar","Nei",0.84,"2011-11-14T01:00:00",795,"Troms og Finnmark",46,8012923,756190,"Caurus 2011 Forvitringsrapport.pdf"]
["Draugen 2008","Vinterforhold",{"$f":"Oljedatabase[[#This Row],[Oljetype]]&\"-\"&Oljedatabase[[#This Row],[SesongNy]]&\"-\"&Oljedatabase[[#This Row],[Vind (m/s)]]&\"-\"&Oljedatabase[[#This Row],[Tidspunkt (timer)]]","v":"Draugen 2008-Vinterforhold-15-12"},{"$f":"Oljedatabase[[#This Row],[Sesong]]","v":"Vinterforhold"},5,15,"12",0.7,6100,"Lav/dårlig kjemisk dispergerbarhet",0.37,0.09,0.54,89,"Ingen eksplosjonsfare",20,"Redusert kjemisk dispergerbarhet","Nei",0.3,"2008-02-27T01:00:00",823,"Sør-Trøndelag til Nordland",40,7156164,152022,"Draugen 2008 Forvitringsrapport.pdf"]
["Draugen 2008","Vinterforhold",{"$f":"Oljedatabase[[#This Row],[Oljetype]]&\"-\"&Oljedatabase[[#This Row],[SesongNy]]&\"-\"&Oljedatabase[[#This Row],[Vind (m/s)]]&\"-\"&Oljedatabase[[#This Row],[Tidspunkt (timer)]]","v":"Draugen 2008-Vinterforhold-10-48"},{"$f":"Oljedatabase[[#This Row],[Sesong]]","v":"Vinterforhold"},5,10,"48",0.7,9300,"Lav/dårlig kjemisk dispergerbarhet",0.41,0.17,0.42,105,"Ingen eksplosjonsfare",23,"Lav/dårlig dispergerbarhet","Nei",0.56000000000000005,"2008-02-27T01:00:00",823,"Sør-Trøndelag til Nordland",40,7156164,152022,"Draugen 2008 Forvitringsrapport.pdf"]
["Drivis 2017","Sommerforhold",{"$f":"Oljedatabase[[#This Row],[Oljetype]]&\"-\"&Oljedatabase[[#This Row],[SesongNy]]&\"-\"&Oljedatabase[[#This Row],[Vind (m/s)]]&\"-\"&Oljedatabase[[#This Row],[Tidspunkt (timer)]]","v":"Drivis 2017-Sommerforhold-10-48"},{"$f":"Oljedatabase[[#This Row],[Sesong]]","v":"Sommerforhold"},10,10,"48",0.79,8160,"Redusert kjemisk dispergerbarhet",0.35,0.17,0.47,120,"Ingen eksplosjonsfare",21,"Redusert kjemisk dispergerbarhet","Nei",0.86,"2017-02-22T01:00:00",838,"Johan Castberg",37,8041217,673057,"Drivis 2017 Forvitringsrapport.pdf"]
["Drivis 2017","Vinterforhold",{"$f":"Oljedatabase[[#This Row],[Oljetype]]&\"-\"&Oljedatabase[[#This Row],[SesongNy]]&\"-\"&Oljedatabase[[#This Row],[Vind (m/s)]]&\"-\"&Oljedatabase[[#This Row],[Tidspunkt (timer)]]","v":"Drivis 2017-Vinterforhold-2-48"},{"$f":"Oljedatabase[[#This Row],[Sesong]]","v":"Vinterforhold"},5,2,"48",0.3,845,"Redusert kjemisk dispergerbarhet",0.28000000000000003,0.71,0,87,"Ingen eksplosjonsfare",12.3,"Redusert kjemisk dispergerbarhet","Nei",1.03,"2017-02-22T01:00:00",838,"Johan Castberg",37,8041217,673057,"Drivis 2017 Forvitringsrapport.pdf"]
["Drivis 2017","Vinterforhold",{"$f":"Oljedatabase[[#This Row],[Oljetype]]&\"-\"&Oljedatabase[[#This Row],[SesongNy]]&\"-\"&Oljedatabase[[#This Row],[Vind (m/s)]]&\"-\"&Oljedatabase[[#This Row],[Tidspunkt (timer)]]","v":"Drivis 2017-Vinterforhold-15-96"},{"$f":"Oljedatabase[[#This Row],[Sesong]]","v":"Vinterforhold"},5,15,"96",0.79,18500,"Ikke kjemisk dispergerbar",0.28999999999999998,0,0.7,132,"Ingen eksplosjonsfare",24.1,"Lav/dårlig dispergerbarhet","Ja",0,"2017-02-22T01:00:00",838,"Johan Castberg",37,8041217,673057,"Drivis 2017 Forvitringsrapport.pdf"]
["Drivis 2017","Sommerforhold",{"$f":"Oljedatabase[[#This Row],[Oljetype]]&\"-\"&Oljedatabase[[#This Row],[SesongNy]]&\"-\"&Oljedatabase[[#This Row],[Vind (m/s)]]&\"-\"&Oljedatabase[[#This Row],[Tidspunkt (timer)]]","v":"Drivis 2017-Sommerforhold-5-1"},{"$f":"Oljedatabase[[#This Row],[Sesong]]","v":"Sommerforhold"},10,5,"1",0.03,53,"Kjemisk dispergerbar",0.14000000000000001,0.85,0,50,"Eksplosjonsfare ved tanking",1.7,"Kjemisk dispergerbar","Nei",0.89,"2017-02-22T01:00:00",838,"Johan Castberg",37,8041217,673057,"Drivis 2017 Forvitringsrapport.pdf"]
["Drivis 2017","Vinterforhold",{"$f":"Oljedatabase[[#This Row],[Oljetype]]&\"-\"&Oljedatabase[[#This Row],[SesongNy]]&\"-\"&Oljedatabase[[#This Row],[Vind (m/s)]]&\"-\"&Oljedatabase[[#This Row],[Tidspunkt (timer)]]","v":"Drivis 2017-Vinterforhold-2-9"},{"$f":"Oljedatabase[[#This Row],[Sesong]]","v":"Vinterforhold"},5,2,"9",7.0000000000000007E-2,153,"Kjemisk dispergerbar",0.2,0.79,0,66,"Ingen eksplosjonsfare",6.3,"Kjemisk dispergerbar","Nei",0.86,"2017-02-22T01:00:00",838,"Johan Castberg",37,8041217,673057,"Drivis 2017 Forvitringsrapport.pdf"]
["Drivis 2017","Sommerforhold",{"$f":"Oljedatabase[[#This Row],[Oljetype]]&\"-\"&Oljedatabase[[#This Row],[SesongNy]]&\"-\"&Oljedatabase[[#This Row],[Vind (m/s)]]&\"-\"&Oljedatabase[[#This Row],[Tidspunkt (timer)]]","v":"Drivis 2017-Sommerforhold-5-2"},{"$f":"Oljedatabase[[#This Row],[Sesong]]","v":"Sommerforhold"},10,5,"2",0.06,95,"Kjemisk dispergerbar",0.18,0.81,0,61,"Ingen eksplosjonsfare",4.9000000000000004,"Kjemisk dispergerbar","Nei",0.86,"2017-02-22T01:00:00",838,"Johan Castberg",37,8041217,673057,"Drivis 2017 Forvitringsrapport.pdf"]
["Drivis 2017","Vinterforhold",{"$f":"Oljedatabase[[#This Row],[Oljetype]]&\"-\"&Oljedatabase[[#This Row],[SesongNy]]&\"-\"&Oljedatabase[[#This Row],[Vind (m/s)]]&\"-\"&Oljedatabase[[#This Row],[Tidspunkt (timer)]]","v":"Drivis 2017-Vinterforhold-15-9"},{"$f":"Oljedatabase[[#This Row],[Sesong]]","v":"Vinterforhold"},5,15,"9",0.74,4630,"Redusert kjemisk dispergerbarhet",0.28000000000000003,0.12,0.59,100,"Ingen eksplosjonsfare",15.8,"Redusert kjemisk dispergerbarhet","Nei",0.49,"2017-02-22T01:00:00",838,"Johan Castberg",37,8041217,673057,"Drivis 2017 Forvitringsrapport.pdf"]
["Ekofisk blend 2002","Sommerforhold",{"$f":"Oljedatabase[[#This Row],[Oljetype]]&\"-\"&Oljedatabase[[#This Row],[SesongNy]]&\"-\"&Oljedatabase[[#This Row],[Vind (m/s)]]&\"-\"&Oljedatabase[[#This Row],[Tidspunkt (timer)]]","v":"Ekofisk blend 2002-Sommerforhold-2-9"},{"$f":"Oljedatabase[[#This Row],[Sesong]]","v":"Sommerforhold"},15,2,"9",0.24,900,"Kjemisk dispergerbar",0.22,0.79,0,92,"Ingen eksplosjonsfare",14,"Kjemisk dispergerbar","Nei",1.03,"2002-02-11T01:00:00",851,"Vest-Agder til Hordaland",34,6329207,-222467,"Ekofisk blend 2002 Forvitringsrapport.pdf"]
["Drivis 2017","Vinterforhold",{"$f":"Oljedatabase[[#This Row],[Oljetype]]&\"-\"&Oljedatabase[[#This Row],[SesongNy]]&\"-\"&Oljedatabase[[#This Row],[Vind (m/s)]]&\"-\"&Oljedatabase[[#This Row],[Tidspunkt (timer)]]","v":"Drivis 2017-Vinterforhold-15-48"},{"$f":"Oljedatabase[[#This Row],[Sesong]]","v":"Vinterforhold"},5,15,"48",0.79,12800,"Ikke kjemisk dispergerbar",0.28999999999999998,0,0.7,122,"Ingen eksplosjonsfare",21.6,"Lav/dårlig dispergerbarhet","Ja",0,"2017-02-22T01:00:00",838,"Johan Castberg",37,8041217,673057,"Drivis 2017 Forvitringsrapport.pdf"]
["Drivis 2017","Sommerforhold",{"$f":"Oljedatabase[[#This Row],[Oljetype]]&\"-\"&Oljedatabase[[#This Row],[SesongNy]]&\"-\"&Oljedatabase[[#This Row],[Vind (m/s)]]&\"-\"&Oljedatabase[[#This Row],[Tidspunkt (timer)]]","v":"Drivis 2017-Sommerforhold-15-1"},{"$f":"Oljedatabase[[#This Row],[Sesong]]","v":"Sommerforhold"},10,15,"1",0.2,271,"Kjemisk dispergerbar",0.22,0.53,0.23,74,"Ingen eksplosjonsfare",8.8000000000000007,"Kjemisk dispergerbar","Nei",0.67,"2017-02-22T01:00:00",838,"Johan Castberg",37,8041217,673057,"Drivis 2017 Forvitringsrapport.pdf"]
["Ekofisk blend 2002","Sommerforhold",{"$f":"Oljedatabase[[#This Row],[Oljetype]]&\"-\"&Oljedatabase[[#This Row],[SesongNy]]&\"-\"&Oljedatabase[[#This Row],[Vind (m/s)]]&\"-\"&Oljedatabase[[#This Row],[Tidspunkt (timer)]]","v":"Ekofisk blend 2002-Sommerforhold-5-96"},{"$f":"Oljedatabase[[#This Row],[Sesong]]","v":"Sommerforhold"},15,5,"96",0.8,9000,"Redusert kjemisk dispergerbarhet",0.34,0.6,0.06,143,"Ingen eksplosjonsfare",22,"Redusert kjemisk dispergerbarhet","Nei",3,"2002-02-11T01:00:00",851,"Vest-Agder til Hordaland",34,6329207,-222467,"Ekofisk blend 2002 Forvitringsrapport.pdf"]
["Draugen 2008","Vinterforhold",{"$f":"Oljedatabase[[#This Row],[Oljetype]]&\"-\"&Oljedatabase[[#This Row],[SesongNy]]&\"-\"&Oljedatabase[[#This Row],[Vind (m/s)]]&\"-\"&Oljedatabase[[#This Row],[Tidspunkt (timer)]]","v":"Draugen 2008-Vinterforhold-5-3"},{"$f":"Oljedatabase[[#This Row],[Sesong]]","v":"Vinterforhold"},5,5,"3",0.26,390,"Kjemisk dispergerbar",0.31,0.68,0.01,56,"Eksplosjonsfare ved tanking",6,"Kjemisk dispergerbar","Nei",0.91,"2008-02-27T01:00:00",823,"Sør-Trøndelag til Nordland",40,7156164,152022,"Draugen 2008 Forvitringsrapport.pdf"]
["Drivis 2017","Sommerforhold",{"$f":"Oljedatabase[[#This Row],[Oljetype]]&\"-\"&Oljedatabase[[#This Row],[SesongNy]]&\"-\"&Oljedatabase[[#This Row],[Vind (m/s)]]&\"-\"&Oljedatabase[[#This Row],[Tidspunkt (timer)]]","v":"Drivis 2017-Sommerforhold-10-9"},{"$f":"Oljedatabase[[#This Row],[Sesong]]","v":"Sommerforhold"},10,10,"9",0.56000000000000005,1910,"Redusert kjemisk dispergerbarhet",0.3,0.45,0.24,97,"Ingen eksplosjonsfare",14.9,"Kjemisk dispergerbar","Nei",1.04,"2017-02-22T01:00:00",838,"Johan Castberg",37,8041217,673057,"Drivis 2017 Forvitringsrapport.pdf"]
["Drivis 2017","Sommerforhold",{"$f":"Oljedatabase[[#This Row],[Oljetype]]&\"-\"&Oljedatabase[[#This Row],[SesongNy]]&\"-\"&Oljedatabase[[#This Row],[Vind (m/s)]]&\"-\"&Oljedatabase[[#This Row],[Tidspunkt (timer)]]","v":"Drivis 2017-Sommerforhold-15-48"},{"$f":"Oljedatabase[[#This Row],[Sesong]]","v":"Sommerforhold"},10,15,"48",0.8,11400,"Ikke kjemisk dispergerbar",0.3,0,0.69,129,"Ingen eksplosjonsfare",23.3,"Redusert kjemisk dispergerbarhet","Ja",0,"2017-02-22T01:00:00",838,"Johan Castberg",37,8041217,673057,"Drivis 2017 Forvitringsrapport.pdf"]
["Drivis 2017","Sommerforhold",{"$f":"Oljedatabase[[#This Row],[Oljetype]]&\"-\"&Oljedatabase[[#This Row],[SesongNy]]&\"-\"&Oljedatabase[[#This Row],[Vind (m/s)]]&\"-\"&Oljedatabase[[#This Row],[Tidspunkt (timer)]]","v":"Drivis 2017-Sommerforhold-5-120"},{"$f":"Oljedatabase[[#This Row],[Sesong]]","v":"Sommerforhold"},10,5,"120",0.79,7430,"Redusert kjemisk dispergerbarhet",0.38,0.5,0.1,117,"Ingen eksplosjonsfare",20.399999999999999,"Redusert kjemisk dispergerbarhet","Nei",2.4700000000000002,"2017-02-22T01:00:00",838,"Johan Castberg",37,8041217,673057,"Drivis 2017 Forvitringsrapport.pdf"]
["Ekofisk blend 2002","Sommerforhold",{"$f":"Oljedatabase[[#This Row],[Oljetype]]&\"-\"&Oljedatabase[[#This Row],[SesongNy]]&\"-\"&Oljedatabase[[#This Row],[Vind (m/s)]]&\"-\"&Oljedatabase[[#This Row],[Tidspunkt (timer)]]","v":"Ekofisk blend 2002-Sommerforhold-5-12"},{"$f":"Oljedatabase[[#This Row],[Sesong]]","v":"Sommerforhold"},15,5,"12",0.62,2800,"Redusert kjemisk dispergerbarhet",0.26,0.7,0.04,111,"Ingen eksplosjonsfare",17,"Kjemisk dispergerbar","Nei",1.84,"2002-02-11T01:00:00",851,"Vest-Agder til Hordaland",34,6329207,-222467,"Ekofisk blend 2002 Forvitringsrapport.pdf"]
["Drivis 2017","Sommerforhold",{"$f":"Oljedatabase[[#This Row],[Oljetype]]&\"-\"&Oljedatabase[[#This Row],[SesongNy]]&\"-\"&Oljedatabase[[#This Row],[Vind (m/s)]]&\"-\"&Oljedatabase[[#This Row],[Tidspunkt (timer)]]","v":"Drivis 2017-Sommerforhold-15-12"},{"$f":"Oljedatabase[[#This Row],[Sesong]]","v":"Sommerforhold"},10,15,"12",0.77,5350,"Redusert kjemisk dispergerbarhet",0.3,7.0000000000000007E-2,0.62,110,"Ingen eksplosjonsfare",18.399999999999999,"Redusert kjemisk dispergerbarhet","Nei",0.34,"2017-02-22T01:00:00",838,"Johan Castberg",37,8041217,673057,"Drivis 2017 Forvitringsrapport.pdf"]
["Drivis 2017","Sommerforhold",{"$f":"Oljedatabase[[#This Row],[Oljetype]]&\"-\"&Oljedatabase[[#This Row],[SesongNy]]&\"-\"&Oljedatabase[[#This Row],[Vind (m/s)]]&\"-\"&Oljedatabase[[#This Row],[Tidspunkt (timer)]]","v":"Drivis 2017-Sommerforhold-5-3"},{"$f":"Oljedatabase[[#This Row],[Sesong]]","v":"Sommerforhold"},10,5,"3",0.09,135,"Kjemisk dispergerbar",0.2,0.78,0.01,67,"Ingen eksplosjonsfare",6.5,"Kjemisk dispergerbar","Nei",0.86,"2017-02-22T01:00:00",838,"Johan Castberg",37,8041217,673057,"Drivis 2017 Forvitringsrapport.pdf"]
["Drivis 2017","Vinterforhold",{"$f":"Oljedatabase[[#This Row],[Oljetype]]&\"-\"&Oljedatabase[[#This Row],[SesongNy]]&\"-\"&Oljedatabase[[#This Row],[Vind (m/s)]]&\"-\"&Oljedatabase[[#This Row],[Tidspunkt (timer)]]","v":"Drivis 2017-Vinterforhold-5-12"},{"$f":"Oljedatabase[[#This Row],[Sesong]]","v":"Vinterforhold"},5,5,"12",0.3,645,"Redusert kjemisk dispergerbarhet",0.25,0.71,0.02,81,"Ingen eksplosjonsfare",10.5,"Redusert kjemisk dispergerbarhet","Nei",1.03,"2017-02-22T01:00:00",838,"Johan Castberg",37,8041217,673057,"Drivis 2017 Forvitringsrapport.pdf"]
["Ekofisk blend 2002","Sommerforhold",{"$f":"Oljedatabase[[#This Row],[Oljetype]]&\"-\"&Oljedatabase[[#This Row],[SesongNy]]&\"-\"&Oljedatabase[[#This Row],[Vind (m/s)]]&\"-\"&Oljedatabase[[#This Row],[Tidspunkt (timer)]]","v":"Ekofisk blend 2002-Sommerforhold-5-72"},{"$f":"Oljedatabase[[#This Row],[Sesong]]","v":"Sommerforhold"},15,5,"72",0.8,8100,"Redusert kjemisk dispergerbarhet",0.33,0.62,0.05,138,"Ingen eksplosjonsfare",21,"Redusert kjemisk dispergerbarhet","Nei",3.1,"2002-02-11T01:00:00",851,"Vest-Agder til Hordaland",34,6329207,-222467,"Ekofisk blend 2002 Forvitringsrapport.pdf"]
["Ekofisk blend 2002","Sommerforhold",{"$f":"Oljedatabase[[#This Row],[Oljetype]]&\"-\"&Oljedatabase[[#This Row],[SesongNy]]&\"-\"&Oljedatabase[[#This Row],[Vind (m/s)]]&\"-\"&Oljedatabase[[#This Row],[Tidspunkt (timer)]]","v":"Ekofisk blend 2002-Sommerforhold-5-6"},{"$f":"Oljedatabase[[#This Row],[Sesong]]","v":"Sommerforhold"},15,5,"6",0.44,1700,"Redusert kjemisk dispergerbarhet",0.24,0.75,0.01,100,"Ingen eksplosjonsfare",16,"Kjemisk dispergerbar","Nei",1.33,"2002-02-11T01:00:00",851,"Vest-Agder til Hordaland",34,6329207,-222467,"Ekofisk blend 2002 Forvitringsrapport.pdf"]
["Drivis 2017","Sommerforhold",{"$f":"Oljedatabase[[#This Row],[Oljetype]]&\"-\"&Oljedatabase[[#This Row],[SesongNy]]&\"-\"&Oljedatabase[[#This Row],[Vind (m/s)]]&\"-\"&Oljedatabase[[#This Row],[Tidspunkt (timer)]]","v":"Drivis 2017-Sommerforhold-10-6"},{"$f":"Oljedatabase[[#This Row],[Sesong]]","v":"Sommerforhold"},10,10,"6",0.44,1110,"Redusert kjemisk dispergerbarhet",0.28000000000000003,0.51,0.19,91,"Ingen eksplosjonsfare",13.3,"Kjemisk dispergerbar","Nei",0.93,"2017-02-22T01:00:00",838,"Johan Castberg",37,8041217,673057,"Drivis 2017 Forvitringsrapport.pdf"]
["Draugen 2008","Vinterforhold",{"$f":"Oljedatabase[[#This Row],[Oljetype]]&\"-\"&Oljedatabase[[#This Row],[SesongNy]]&\"-\"&Oljedatabase[[#This Row],[Vind (m/s)]]&\"-\"&Oljedatabase[[#This Row],[Tidspunkt (timer)]]","v":"Draugen 2008-Vinterforhold-15-1"},{"$f":"Oljedatabase[[#This Row],[Sesong]]","v":"Vinterforhold"},5,15,"1",0.47,930,"Kjemisk dispergerbar",0.32,0.49,0.19,65,"Ingen eksplosjonsfare",9,"Kjemisk dispergerbar","Nei",0.92,"2008-02-27T01:00:00",823,"Sør-Trøndelag til Nordland",40,7156164,152022,"Draugen 2008 Forvitringsrapport.pdf"]
["Drivis 2017","Sommerforhold",{"$f":"Oljedatabase[[#This Row],[Oljetype]]&\"-\"&Oljedatabase[[#This Row],[SesongNy]]&\"-\"&Oljedatabase[[#This Row],[Vind (m/s)]]&\"-\"&Oljedatabase[[#This Row],[Tidspunkt (timer)]]","v":"Drivis 2017-Sommerforhold-2-1"},{"$f":"Oljedatabase[[#This Row],[Sesong]]","v":"Sommerforhold"},10,2,"1",0,30,"Kjemisk dispergerbar",0.09,0.9,0,39,"Eksplosjonsfare ved tanking",-1.4,"Kjemisk dispergerbar","Nei",0.91,"2017-02-22T01:00:00",838,"Johan Castberg",37,8041217,673057,"Drivis 2017 Forvitringsrapport.pdf"]
["Drivis 2017","Vinterforhold",{"$f":"Oljedatabase[[#This Row],[Oljetype]]&\"-\"&Oljedatabase[[#This Row],[SesongNy]]&\"-\"&Oljedatabase[[#This Row],[Vind (m/s)]]&\"-\"&Oljedatabase[[#This Row],[Tidspunkt (timer)]]","v":"Drivis 2017-Vinterforhold-10-48"},{"$f":"Oljedatabase[[#This Row],[Sesong]]","v":"Vinterforhold"},5,10,"48",0.79,9160,"Redusert kjemisk dispergerbarhet",0.33,0.19,0.47,113,"Ingen eksplosjonsfare",19.399999999999999,"Redusert kjemisk dispergerbarhet","Nei",0.96,"2017-02-22T01:00:00",838,"Johan Castberg",37,8041217,673057,"Drivis 2017 Forvitringsrapport.pdf"]
["Drivis 2017","Vinterforhold",{"$f":"Oljedatabase[[#This Row],[Oljetype]]&\"-\"&Oljedatabase[[#This Row],[SesongNy]]&\"-\"&Oljedatabase[[#This Row],[Vind (m/s)]]&\"-\"&Oljedatabase[[#This Row],[Tidspunkt (timer)]]","v":"Drivis 2017-Vinterforhold-5-1"},{"$f":"Oljedatabase[[#This Row],[Sesong]]","v":"Vinterforhold"},5,5,"1",0.03,57,"Kjemisk dispergerbar",0.12,0.87,0,47,"Eksplosjonsfare ved tanking",0.8,"Kjemisk dispergerbar","Nei",0.9,"2017-02-22T01:00:00",838,"Johan Castberg",37,8041217,673057,"Drivis 2017 Forvitringsrapport.pdf"]
["Ekofisk blend 2002","Sommerforhold",{"$f":"Oljedatabase[[#This Row],[Oljetype]]&\"-\"&Oljedatabase[[#This Row],[SesongNy]]&\"-\"&Oljedatabase[[#This Row],[Vind (m/s)]]&\"-\"&Oljedatabase[[#This Row],[Tidspunkt (timer)]]","v":"Ekofisk blend 2002-Sommerforhold-10-72"},{"$f":"Oljedatabase[[#This Row],[Sesong]]","v":"Sommerforhold"},15,10,"72",0.81,13000,"Lav/dårlig kjemisk dispergerbarhet",0.34,0.18,0.48,155,"Ingen eksplosjonsfare",24,"Redusert kjemisk dispergerbarhet","Ja",0.94,"2002-02-11T01:00:00",851,"Vest-Agder til Hordaland",34,6329207,-222467,"Ekofisk blend 2002 Forvitringsrapport.pdf"]
["Drivis 2017","Vinterforhold",{"$f":"Oljedatabase[[#This Row],[Oljetype]]&\"-\"&Oljedatabase[[#This Row],[SesongNy]]&\"-\"&Oljedatabase[[#This Row],[Vind (m/s)]]&\"-\"&Oljedatabase[[#This Row],[Tidspunkt (timer)]]","v":"Drivis 2017-Vinterforhold-15-1"},{"$f":"Oljedatabase[[#This Row],[Sesong]]","v":"Vinterforhold"},5,15,"1",0.2,287,"Kjemisk dispergerbar",0.21,0.55000000000000004,0.23,70,"Ingen eksplosjonsfare",7.5,"Kjemisk dispergerbar","Nei",0.7,"2017-02-22T01:00:00",838,"Johan Castberg",37,8041217,673057,"Drivis 2017 Forvitringsrapport.pdf"]
["Draugen 2008","Vinterforhold",{"$f":"Oljedatabase[[#This Row],[Oljetype]]&\"-\"&Oljedatabase[[#This Row],[SesongNy]]&\"-\"&Oljedatabase[[#This Row],[Vind (m/s)]]&\"-\"&Oljedatabase[[#This Row],[Tidspunkt (timer)]]","v":"Draugen 2008-Vinterforhold-15-120"},{"$f":"Oljedatabase[[#This Row],[Sesong]]","v":"Vinterforhold"},5,15,"120",0.7,8200,"Lav/dårlig kjemisk dispergerbarhet",0.38,0,0.62,89,"Ingen eksplosjonsfare",22,"Lav/dårlig dispergerbarhet","Nei",0,"2008-02-27T01:00:00",823,"Sør-Trøndelag til Nordland",40,7156164,152022,"Draugen 2008 Forvitringsrapport.pdf"]
["Ekofisk blend 2002","Sommerforhold",{"$f":"Oljedatabase[[#This Row],[Oljetype]]&\"-\"&Oljedatabase[[#This Row],[SesongNy]]&\"-\"&Oljedatabase[[#This Row],[Vind (m/s)]]&\"-\"&Oljedatabase[[#This Row],[Tidspunkt (timer)]]","v":"Ekofisk blend 2002-Sommerforhold-10-12"},{"$f":"Oljedatabase[[#This Row],[Sesong]]","v":"Sommerforhold"},15,10,"12",0.81,6000,"Redusert kjemisk dispergerbarhet",0.3,0.57999999999999996,0.12,128,"Ingen eksplosjonsfare",20,"Kjemisk dispergerbar","Nei",3.05,"2002-02-11T01:00:00",851,"Vest-Agder til Hordaland",34,6329207,-222467,"Ekofisk blend 2002 Forvitringsrapport.pdf"]
["Drivis 2017","Vinterforhold",{"$f":"Oljedatabase[[#This Row],[Oljetype]]&\"-\"&Oljedatabase[[#This Row],[SesongNy]]&\"-\"&Oljedatabase[[#This Row],[Vind (m/s)]]&\"-\"&Oljedatabase[[#This Row],[Tidspunkt (timer)]]","v":"Drivis 2017-Vinterforhold-2-3"},{"$f":"Oljedatabase[[#This Row],[Sesong]]","v":"Vinterforhold"},5,2,"3",0.02,70,"Kjemisk dispergerbar",0.14000000000000001,0.85,0,52,"Eksplosjonsfare ved tanking",2.2999999999999998,"Kjemisk dispergerbar","Nei",0.87,"2017-02-22T01:00:00",838,"Johan Castberg",37,8041217,673057,"Drivis 2017 Forvitringsrapport.pdf"]
["Drivis 2017","Sommerforhold",{"$f":"Oljedatabase[[#This Row],[Oljetype]]&\"-\"&Oljedatabase[[#This Row],[SesongNy]]&\"-\"&Oljedatabase[[#This Row],[Vind (m/s)]]&\"-\"&Oljedatabase[[#This Row],[Tidspunkt (timer)]]","v":"Drivis 2017-Sommerforhold-10-120"},{"$f":"Oljedatabase[[#This Row],[Sesong]]","v":"Sommerforhold"},10,10,"120",0.8,13100,"Ikke kjemisk dispergerbar",0.37,0.04,0.57999999999999996,133,"Ingen eksplosjonsfare",24.3,"Redusert kjemisk dispergerbarhet","Ja",0.22,"2017-02-22T01:00:00",838,"Johan Castberg",37,8041217,673057,"Drivis 2017 Forvitringsrapport.pdf"]
["Draugen 2008","Vinterforhold",{"$f":"Oljedatabase[[#This Row],[Oljetype]]&\"-\"&Oljedatabase[[#This Row],[SesongNy]]&\"-\"&Oljedatabase[[#This Row],[Vind (m/s)]]&\"-\"&Oljedatabase[[#This Row],[Tidspunkt (timer)]]","v":"Draugen 2008-Vinterforhold-10-96"},{"$f":"Oljedatabase[[#This Row],[Sesong]]","v":"Vinterforhold"},5,10,"96",0.7,13000,"Lav/dårlig kjemisk dispergerbarhet",0.42,7.0000000000000007E-2,0.51,106,"Ingen eksplosjonsfare",26,"Lav/dårlig dispergerbarhet","Ja",0.23,"2008-02-27T01:00:00",823,"Sør-Trøndelag til Nordland",40,7156164,152022,"Draugen 2008 Forvitringsrapport.pdf"]
["Ekofisk blend 2002","Sommerforhold",{"$f":"Oljedatabase[[#This Row],[Oljetype]]&\"-\"&Oljedatabase[[#This Row],[SesongNy]]&\"-\"&Oljedatabase[[#This Row],[Vind (m/s)]]&\"-\"&Oljedatabase[[#This Row],[Tidspunkt (timer)]]","v":"Ekofisk blend 2002-Sommerforhold-2-12"},{"$f":"Oljedatabase[[#This Row],[Sesong]]","v":"Sommerforhold"},15,2,"12",0.28000000000000003,1000,"Redusert kjemisk dispergerbarhet",0.21,0.79,0,97,"Ingen eksplosjonsfare",15,"Kjemisk dispergerbar","Nei",1.0900000000000001,"2002-02-11T01:00:00",851,"Vest-Agder til Hordaland",34,6329207,-222467,"Ekofisk blend 2002 Forvitringsrapport.pdf"]
["Drivis 2017","Sommerforhold",{"$f":"Oljedatabase[[#This Row],[Oljetype]]&\"-\"&Oljedatabase[[#This Row],[SesongNy]]&\"-\"&Oljedatabase[[#This Row],[Vind (m/s)]]&\"-\"&Oljedatabase[[#This Row],[Tidspunkt (timer)]]","v":"Drivis 2017-Sommerforhold-5-96"},{"$f":"Oljedatabase[[#This Row],[Sesong]]","v":"Sommerforhold"},10,5,"96",0.78,6490,"Redusert kjemisk dispergerbarhet",0.37,0.53,0.09,114,"Ingen eksplosjonsfare",19.600000000000001,"Redusert kjemisk dispergerbarhet","Nei",2.46,"2017-02-22T01:00:00",838,"Johan Castberg",37,8041217,673057,"Drivis 2017 Forvitringsrapport.pdf"]
["Draugen 2008","Vinterforhold",{"$f":"Oljedatabase[[#This Row],[Oljetype]]&\"-\"&Oljedatabase[[#This Row],[SesongNy]]&\"-\"&Oljedatabase[[#This Row],[Vind (m/s)]]&\"-\"&Oljedatabase[[#This Row],[Tidspunkt (timer)]]","v":"Draugen 2008-Vinterforhold-15-72"},{"$f":"Oljedatabase[[#This Row],[Sesong]]","v":"Vinterforhold"},5,15,"72",0.7,8200,"Lav/dårlig kjemisk dispergerbarhet",0.38,0,0.62,89,"Ingen eksplosjonsfare",22,"Lav/dårlig dispergerbarhet","Nei",0,"2008-02-27T01:00:00",823,"Sør-Trøndelag til Nordland",40,7156164,152022,"Draugen 2008 Forvitringsrapport.pdf"]
["Drivis 2017","Vinterforhold",{"$f":"Oljedatabase[[#This Row],[Oljetype]]&\"-\"&Oljedatabase[[#This Row],[SesongNy]]&\"-\"&Oljedatabase[[#This Row],[Vind (m/s)]]&\"-\"&Oljedatabase[[#This Row],[Tidspunkt (timer)]]","v":"Drivis 2017-Vinterforhold-5-9"},{"$f":"Oljedatabase[[#This Row],[Sesong]]","v":"Vinterforhold"},5,5,"9",0.24,451,"Kjemisk dispergerbar",0.24,0.73,0.02,77,"Ingen eksplosjonsfare",9.5,"Kjemisk dispergerbar","Nei",0.97,"2017-02-22T01:00:00",838,"Johan Castberg",37,8041217,673057,"Drivis 2017 Forvitringsrapport.pdf"]
["Draugen 2008","Vinterforhold",{"$f":"Oljedatabase[[#This Row],[Oljetype]]&\"-\"&Oljedatabase[[#This Row],[SesongNy]]&\"-\"&Oljedatabase[[#This Row],[Vind (m/s)]]&\"-\"&Oljedatabase[[#This Row],[Tidspunkt (timer)]]","v":"Draugen 2008-Vinterforhold-15-24"},{"$f":"Oljedatabase[[#This Row],[Sesong]]","v":"Vinterforhold"},5,15,"24",0.7,7700,"Lav/dårlig kjemisk dispergerbarhet",0.38,0.02,0.6,89,"Ingen eksplosjonsfare",22,"Lav/dårlig dispergerbarhet","Nei",0.06,"2008-02-27T01:00:00",823,"Sør-Trøndelag til Nordland",40,7156164,152022,"Draugen 2008 Forvitringsrapport.pdf"]
["Draugen 2008","Sommerforhold",{"$f":"Oljedatabase[[#This Row],[Oljetype]]&\"-\"&Oljedatabase[[#This Row],[SesongNy]]&\"-\"&Oljedatabase[[#This Row],[Vind (m/s)]]&\"-\"&Oljedatabase[[#This Row],[Tidspunkt (timer)]]","v":"Draugen 2008-Sommerforhold-2-120"},{"$f":"Oljedatabase[[#This Row],[Sesong]]","v":"Sommerforhold"},15,2,"120",0.69,4000,"Redusert kjemisk dispergerbarhet",0.43,0.56999999999999995,0,111,"Ingen eksplosjonsfare",22,"Redusert kjemisk dispergerbarhet","Nei",1.83,"2008-02-27T01:00:00",823,"Sør-Trøndelag til Nordland",40,7156164,152022,"Draugen 2008 Forvitringsrapport.pdf"]
["Ekofisk blend 2002","Sommerforhold",{"$f":"Oljedatabase[[#This Row],[Oljetype]]&\"-\"&Oljedatabase[[#This Row],[SesongNy]]&\"-\"&Oljedatabase[[#This Row],[Vind (m/s)]]&\"-\"&Oljedatabase[[#This Row],[Tidspunkt (timer)]]","v":"Ekofisk blend 2002-Sommerforhold-5-3"},{"$f":"Oljedatabase[[#This Row],[Sesong]]","v":"Sommerforhold"},15,5,"3",0.28000000000000003,1000,"Redusert kjemisk dispergerbarhet",0.21,0.78,0.01,88,"Ingen eksplosjonsfare",14,"Kjemisk dispergerbar","Nei",1.08,"2002-02-11T01:00:00",851,"Vest-Agder til Hordaland",34,6329207,-222467,"Ekofisk blend 2002 Forvitringsrapport.pdf"]
["Ekofisk blend 2002","Sommerforhold",{"$f":"Oljedatabase[[#This Row],[Oljetype]]&\"-\"&Oljedatabase[[#This Row],[SesongNy]]&\"-\"&Oljedatabase[[#This Row],[Vind (m/s)]]&\"-\"&Oljedatabase[[#This Row],[Tidspunkt (timer)]]","v":"Ekofisk blend 2002-Sommerforhold-2-120"},{"$f":"Oljedatabase[[#This Row],[Sesong]]","v":"Sommerforhold"},15,2,"120",0.78,6700,"Redusert kjemisk dispergerbarhet",0.31,0.68,0,132,"Ingen eksplosjonsfare",20,"Kjemisk dispergerbar","Nei",3.09,"2002-02-11T01:00:00",851,"Vest-Agder til Hordaland",34,6329207,-222467,"Ekofisk blend 2002 Forvitringsrapport.pdf"]
["Drivis 2017","Vinterforhold",{"$f":"Oljedatabase[[#This Row],[Oljetype]]&\"-\"&Oljedatabase[[#This Row],[SesongNy]]&\"-\"&Oljedatabase[[#This Row],[Vind (m/s)]]&\"-\"&Oljedatabase[[#This Row],[Tidspunkt (timer)]]","v":"Drivis 2017-Vinterforhold-2-1"},{"$f":"Oljedatabase[[#This Row],[Sesong]]","v":"Vinterforhold"},5,2,"1",0,32,"Kjemisk dispergerbar",0.08,0.91,0,37,"Eksplosjonsfare ved tanking",-2.1,"Kjemisk dispergerbar","Nei",0.92,"2017-02-22T01:00:00",838,"Johan Castberg",37,8041217,673057,"Drivis 2017 Forvitringsrapport.pdf"]
["Drivis 2017","Sommerforhold",{"$f":"Oljedatabase[[#This Row],[Oljetype]]&\"-\"&Oljedatabase[[#This Row],[SesongNy]]&\"-\"&Oljedatabase[[#This Row],[Vind (m/s)]]&\"-\"&Oljedatabase[[#This Row],[Tidspunkt (timer)]]","v":"Drivis 2017-Sommerforhold-5-72"},{"$f":"Oljedatabase[[#This Row],[Sesong]]","v":"Sommerforhold"},10,5,"72",0.75,5270,"Redusert kjemisk dispergerbarhet",0.36,0.55000000000000004,0.08,111,"Ingen eksplosjonsfare",18.600000000000001,"Redusert kjemisk dispergerbarhet","Nei",2.2999999999999998,"2017-02-22T01:00:00",838,"Johan Castberg",37,8041217,673057,"Drivis 2017 Forvitringsrapport.pdf"]
["Draugen 2008","Sommerforhold",{"$f":"Oljedatabase[[#This Row],[Oljetype]]&\"-\"&Oljedatabase[[#This Row],[SesongNy]]&\"-\"&Oljedatabase[[#This Row],[Vind (m/s)]]&\"-\"&Oljedatabase[[#This Row],[Tidspunkt (timer)]]","v":"Draugen 2008-Sommerforhold-5-12"},{"$f":"Oljedatabase[[#This Row],[Sesong]]","v":"Sommerforhold"},15,5,"12",0.6,1500,"Redusert kjemisk dispergerbarhet",0.38,0.59,0.02,91,"Ingen eksplosjonsfare",16,"Kjemisk dispergerbar","Nei",1.47,"2008-02-27T01:00:00",823,"Sør-Trøndelag til Nordland",40,7156164,152022,"Draugen 2008 Forvitringsrapport.pdf"]
["Drivis 2017","Sommerforhold",{"$f":"Oljedatabase[[#This Row],[Oljetype]]&\"-\"&Oljedatabase[[#This Row],[SesongNy]]&\"-\"&Oljedatabase[[#This Row],[Vind (m/s)]]&\"-\"&Oljedatabase[[#This Row],[Tidspunkt (timer)]]","v":"Drivis 2017-Sommerforhold-15-3"},{"$f":"Oljedatabase[[#This Row],[Sesong]]","v":"Sommerforhold"},10,15,"3",0.46,1130,"Redusert kjemisk dispergerbarhet",0.27,0.3,0.42,90,"Ingen eksplosjonsfare",13.2,"Kjemisk dispergerbar","Nei",0.56000000000000005,"2017-02-22T01:00:00",838,"Johan Castberg",37,8041217,673057,"Drivis 2017 Forvitringsrapport.pdf"]
["Drivis 2017","Vinterforhold",{"$f":"Oljedatabase[[#This Row],[Oljetype]]&\"-\"&Oljedatabase[[#This Row],[SesongNy]]&\"-\"&Oljedatabase[[#This Row],[Vind (m/s)]]&\"-\"&Oljedatabase[[#This Row],[Tidspunkt (timer)]]","v":"Drivis 2017-Vinterforhold-5-24"},{"$f":"Oljedatabase[[#This Row],[Sesong]]","v":"Vinterforhold"},5,5,"24",0.49,1640,"Redusert kjemisk dispergerbarhet",0.28999999999999998,0.66,0.04,90,"Ingen eksplosjonsfare",13.1,"Redusert kjemisk dispergerbarhet","Nei",1.33,"2017-02-22T01:00:00",838,"Johan Castberg",37,8041217,673057,"Drivis 2017 Forvitringsrapport.pdf"]
["Drivis 2017","Vinterforhold",{"$f":"Oljedatabase[[#This Row],[Oljetype]]&\"-\"&Oljedatabase[[#This Row],[SesongNy]]&\"-\"&Oljedatabase[[#This Row],[Vind (m/s)]]&\"-\"&Oljedatabase[[#This Row],[Tidspunkt (timer)]]","v":"Drivis 2017-Vinterforhold-10-120"},{"$f":"Oljedatabase[[#This Row],[Sesong]]","v":"Vinterforhold"},5,10,"120",0.79,14600,"Ikke kjemisk dispergerbar",0.35,0.05,0.59,126,"Ingen eksplosjonsfare",22.5,"Lav/dårlig dispergerbarhet","Ja",0.28000000000000003,"2017-02-22T01:00:00",838,"Johan Castberg",37,8041217,673057,"Drivis 2017 Forvitringsrapport.pdf"]
["Drivis 2017","Vinterforhold",{"$f":"Oljedatabase[[#This Row],[Oljetype]]&\"-\"&Oljedatabase[[#This Row],[SesongNy]]&\"-\"&Oljedatabase[[#This Row],[Vind (m/s)]]&\"-\"&Oljedatabase[[#This Row],[Tidspunkt (timer)]]","v":"Drivis 2017-Vinterforhold-15-24"},{"$f":"Oljedatabase[[#This Row],[Sesong]]","v":"Vinterforhold"},5,15,"24",0.79,9010,"Redusert kjemisk dispergerbarhet",0.28999999999999998,0.02,0.68,113,"Ingen eksplosjonsfare",19.3,"Redusert kjemisk dispergerbarhet","Nei",0.12,"2017-02-22T01:00:00",838,"Johan Castberg",37,8041217,673057,"Drivis 2017 Forvitringsrapport.pdf"]
["Drivis 2017","Sommerforhold",{"$f":"Oljedatabase[[#This Row],[Oljetype]]&\"-\"&Oljedatabase[[#This Row],[SesongNy]]&\"-\"&Oljedatabase[[#This Row],[Vind (m/s)]]&\"-\"&Oljedatabase[[#This Row],[Tidspunkt (timer)]]","v":"Drivis 2017-Sommerforhold-15-24"},{"$f":"Oljedatabase[[#This Row],[Sesong]]","v":"Sommerforhold"},10,15,"24",0.79,8030,"Redusert kjemisk dispergerbarhet",0.3,0.01,0.67,119,"Ingen eksplosjonsfare",20.9,"Redusert kjemisk dispergerbarhet","Nei",0.09,"2017-02-22T01:00:00",838,"Johan Castberg",37,8041217,673057,"Drivis 2017 Forvitringsrapport.pdf"]
["Ekofisk blend 2002","Sommerforhold",{"$f":"Oljedatabase[[#This Row],[Oljetype]]&\"-\"&Oljedatabase[[#This Row],[SesongNy]]&\"-\"&Oljedatabase[[#This Row],[Vind (m/s)]]&\"-\"&Oljedatabase[[#This Row],[Tidspunkt (timer)]]","v":"Ekofisk blend 2002-Sommerforhold-2-1"},{"$f":"Oljedatabase[[#This Row],[Sesong]]","v":"Sommerforhold"},15,2,"1",0.05,260,"Kjemisk dispergerbar",0.11,0.89,0,39,"Eksplosjonsfare ved tanking",7,"Kjemisk dispergerbar","Nei",0.93,"2002-02-11T01:00:00",851,"Vest-Agder til Hordaland",34,6329207,-222467,"Ekofisk blend 2002 Forvitringsrapport.pdf"]
["Drivis 2017","Vinterforhold",{"$f":"Oljedatabase[[#This Row],[Oljetype]]&\"-\"&Oljedatabase[[#This Row],[SesongNy]]&\"-\"&Oljedatabase[[#This Row],[Vind (m/s)]]&\"-\"&Oljedatabase[[#This Row],[Tidspunkt (timer)]]","v":"Drivis 2017-Vinterforhold-2-12"},{"$f":"Oljedatabase[[#This Row],[Sesong]]","v":"Vinterforhold"},5,2,"12",0.09,194,"Kjemisk dispergerbar",0.21,0.78,0,69,"Ingen eksplosjonsfare",7.3,"Kjemisk dispergerbar","Nei",0.86,"2017-02-22T01:00:00",838,"Johan Castberg",37,8041217,673057,"Drivis 2017 Forvitringsrapport.pdf"]
["Drivis 2017","Vinterforhold",{"$f":"Oljedatabase[[#This Row],[Oljetype]]&\"-\"&Oljedatabase[[#This Row],[SesongNy]]&\"-\"&Oljedatabase[[#This Row],[Vind (m/s)]]&\"-\"&Oljedatabase[[#This Row],[Tidspunkt (timer)]]","v":"Drivis 2017-Vinterforhold-10-96"},{"$f":"Oljedatabase[[#This Row],[Sesong]]","v":"Vinterforhold"},5,10,"96",0.79,13000,"Ikke kjemisk dispergerbar",0.34,0.08,0.56000000000000005,123,"Ingen eksplosjonsfare",21.7,"Lav/dårlig dispergerbarhet","Ja",0.42,"2017-02-22T01:00:00",838,"Johan Castberg",37,8041217,673057,"Drivis 2017 Forvitringsrapport.pdf"]
["Drivis 2017","Vinterforhold",{"$f":"Oljedatabase[[#This Row],[Oljetype]]&\"-\"&Oljedatabase[[#This Row],[SesongNy]]&\"-\"&Oljedatabase[[#This Row],[Vind (m/s)]]&\"-\"&Oljedatabase[[#This Row],[Tidspunkt (timer)]]","v":"Drivis 2017-Vinterforhold-15-3"},{"$f":"Oljedatabase[[#This Row],[Sesong]]","v":"Vinterforhold"},5,15,"3",0.46,1210,"Redusert kjemisk dispergerbarhet",0.25,0.32,0.42,85,"Ingen eksplosjonsfare",11.7,"Redusert kjemisk dispergerbarhet","Nei",0.61,"2017-02-22T01:00:00",838,"Johan Castberg",37,8041217,673057,"Drivis 2017 Forvitringsrapport.pdf"]
["Ekofisk blend 2002","Sommerforhold",{"$f":"Oljedatabase[[#This Row],[Oljetype]]&\"-\"&Oljedatabase[[#This Row],[SesongNy]]&\"-\"&Oljedatabase[[#This Row],[Vind (m/s)]]&\"-\"&Oljedatabase[[#This Row],[Tidspunkt (timer)]]","v":"Ekofisk blend 2002-Sommerforhold-5-24"},{"$f":"Oljedatabase[[#This Row],[Sesong]]","v":"Sommerforhold"},15,5,"24",0.76,5000,"Redusert kjemisk dispergerbarhet",0.28999999999999998,0.69,0.04,122,"Ingen eksplosjonsfare",19,"Kjemisk dispergerbar","Nei",2.87,"2002-02-11T01:00:00",851,"Vest-Agder til Hordaland",34,6329207,-222467,"Ekofisk blend 2002 Forvitringsrapport.pdf"]
["Drivis 2017","Vinterforhold",{"$f":"Oljedatabase[[#This Row],[Oljetype]]&\"-\"&Oljedatabase[[#This Row],[SesongNy]]&\"-\"&Oljedatabase[[#This Row],[Vind (m/s)]]&\"-\"&Oljedatabase[[#This Row],[Tidspunkt (timer)]]","v":"Drivis 2017-Vinterforhold-5-72"},{"$f":"Oljedatabase[[#This Row],[Sesong]]","v":"Vinterforhold"},5,5,"72",0.75,5830,"Redusert kjemisk dispergerbarhet",0.34,0.57999999999999996,0.08,105,"Ingen eksplosjonsfare",17,"Redusert kjemisk dispergerbarhet","Nei",2.39,"2017-02-22T01:00:00",838,"Johan Castberg",37,8041217,673057,"Drivis 2017 Forvitringsrapport.pdf"]
["Ekofisk blend 2002","Sommerforhold",{"$f":"Oljedatabase[[#This Row],[Oljetype]]&\"-\"&Oljedatabase[[#This Row],[SesongNy]]&\"-\"&Oljedatabase[[#This Row],[Vind (m/s)]]&\"-\"&Oljedatabase[[#This Row],[Tidspunkt (timer)]]","v":"Ekofisk blend 2002-Sommerforhold-10-1"},{"$f":"Oljedatabase[[#This Row],[Sesong]]","v":"Sommerforhold"},15,10,"1",0.3,990,"Kjemisk dispergerbar",0.21,0.77,0.02,86,"Ingen eksplosjonsfare",13,"Kjemisk dispergerbar","Nei",1.1000000000000001,"2002-02-11T01:00:00",851,"Vest-Agder til Hordaland",34,6329207,-222467,"Ekofisk blend 2002 Forvitringsrapport.pdf"]
["Ekofisk blend 2002","Sommerforhold",{"$f":"Oljedatabase[[#This Row],[Oljetype]]&\"-\"&Oljedatabase[[#This Row],[SesongNy]]&\"-\"&Oljedatabase[[#This Row],[Vind (m/s)]]&\"-\"&Oljedatabase[[#This Row],[Tidspunkt (timer)]]","v":"Ekofisk blend 2002-Sommerforhold-2-3"},{"$f":"Oljedatabase[[#This Row],[Sesong]]","v":"Sommerforhold"},15,2,"3",0.18,580,"Kjemisk dispergerbar",0.18,0.82,0,70,"Ingen eksplosjonsfare",11,"Kjemisk dispergerbar","Nei",1,"2002-02-11T01:00:00",851,"Vest-Agder til Hordaland",34,6329207,-222467,"Ekofisk blend 2002 Forvitringsrapport.pdf"]
["Drivis 2017","Vinterforhold",{"$f":"Oljedatabase[[#This Row],[Oljetype]]&\"-\"&Oljedatabase[[#This Row],[SesongNy]]&\"-\"&Oljedatabase[[#This Row],[Vind (m/s)]]&\"-\"&Oljedatabase[[#This Row],[Tidspunkt (timer)]]","v":"Drivis 2017-Vinterforhold-2-24"},{"$f":"Oljedatabase[[#This Row],[Sesong]]","v":"Vinterforhold"},5,2,"24",0.17,376,"Kjemisk dispergerbar",0.24,0.75,0,78,"Ingen eksplosjonsfare",9.8000000000000007,"Kjemisk dispergerbar","Nei",0.91,"2017-02-22T01:00:00",838,"Johan Castberg",37,8041217,673057,"Drivis 2017 Forvitringsrapport.pdf"]
["Drivis 2017","Vinterforhold",{"$f":"Oljedatabase[[#This Row],[Oljetype]]&\"-\"&Oljedatabase[[#This Row],[SesongNy]]&\"-\"&Oljedatabase[[#This Row],[Vind (m/s)]]&\"-\"&Oljedatabase[[#This Row],[Tidspunkt (timer)]]","v":"Drivis 2017-Vinterforhold-10-12"},{"$f":"Oljedatabase[[#This Row],[Sesong]]","v":"Vinterforhold"},5,10,"12",0.64,2970,"Redusert kjemisk dispergerbarhet",0.28999999999999998,0.42,0.27,95,"Ingen eksplosjonsfare",14.4,"Redusert kjemisk dispergerbarhet","Nei",1.21,"2017-02-22T01:00:00",838,"Johan Castberg",37,8041217,673057,"Drivis 2017 Forvitringsrapport.pdf"]
["Ekofisk blend 2002","Sommerforhold",{"$f":"Oljedatabase[[#This Row],[Oljetype]]&\"-\"&Oljedatabase[[#This Row],[SesongNy]]&\"-\"&Oljedatabase[[#This Row],[Vind (m/s)]]&\"-\"&Oljedatabase[[#This Row],[Tidspunkt (timer)]]","v":"Ekofisk blend 2002-Sommerforhold-2-72"},{"$f":"Oljedatabase[[#This Row],[Sesong]]","v":"Sommerforhold"},15,2,"72",0.72,4900,"Redusert kjemisk dispergerbarhet",0.3,0.7,0,125,"Ingen eksplosjonsfare",19,"Kjemisk dispergerbar","Nei",2.5,"2002-02-11T01:00:00",851,"Vest-Agder til Hordaland",34,6329207,-222467,"Ekofisk blend 2002 Forvitringsrapport.pdf"]
["Drivis 2017","Vinterforhold",{"$f":"Oljedatabase[[#This Row],[Oljetype]]&\"-\"&Oljedatabase[[#This Row],[SesongNy]]&\"-\"&Oljedatabase[[#This Row],[Vind (m/s)]]&\"-\"&Oljedatabase[[#This Row],[Tidspunkt (timer)]]","v":"Drivis 2017-Vinterforhold-10-9"},{"$f":"Oljedatabase[[#This Row],[Sesong]]","v":"Vinterforhold"},5,10,"9",0.56000000000000005,2070,"Redusert kjemisk dispergerbarhet",0.28000000000000003,0.47,0.24,91,"Ingen eksplosjonsfare",13.4,"Redusert kjemisk dispergerbarhet","Nei",1.0900000000000001,"2017-02-22T01:00:00",838,"Johan Castberg",37,8041217,673057,"Drivis 2017 Forvitringsrapport.pdf"]
["Drivis 2017","Vinterforhold",{"$f":"Oljedatabase[[#This Row],[Oljetype]]&\"-\"&Oljedatabase[[#This Row],[SesongNy]]&\"-\"&Oljedatabase[[#This Row],[Vind (m/s)]]&\"-\"&Oljedatabase[[#This Row],[Tidspunkt (timer)]]","v":"Drivis 2017-Vinterforhold-5-48"},{"$f":"Oljedatabase[[#This Row],[Sesong]]","v":"Vinterforhold"},5,5,"48",0.68,3920,"Redusert kjemisk dispergerbarhet",0.32,0.61,0.06,99,"Ingen eksplosjonsfare",15.6,"Redusert kjemisk dispergerbarhet","Nei",1.96,"2017-02-22T01:00:00",838,"Johan Castberg",37,8041217,673057,"Drivis 2017 Forvitringsrapport.pdf"]
["Drivis 2017","Vinterforhold",{"$f":"Oljedatabase[[#This Row],[Oljetype]]&\"-\"&Oljedatabase[[#This Row],[SesongNy]]&\"-\"&Oljedatabase[[#This Row],[Vind (m/s)]]&\"-\"&Oljedatabase[[#This Row],[Tidspunkt (timer)]]","v":"Drivis 2017-Vinterforhold-15-12"},{"$f":"Oljedatabase[[#This Row],[Sesong]]","v":"Vinterforhold"},5,15,"12",0.77,5900,"Redusert kjemisk dispergerbarhet",0.28000000000000003,0.09,0.62,104,"Ingen eksplosjonsfare",16.8,"Redusert kjemisk dispergerbarhet","Nei",0.4,"2017-02-22T01:00:00",838,"Johan Castberg",37,8041217,673057,"Drivis 2017 Forvitringsrapport.pdf"]
["Drivis 2017","Vinterforhold",{"$f":"Oljedatabase[[#This Row],[Oljetype]]&\"-\"&Oljedatabase[[#This Row],[SesongNy]]&\"-\"&Oljedatabase[[#This Row],[Vind (m/s)]]&\"-\"&Oljedatabase[[#This Row],[Tidspunkt (timer)]]","v":"Drivis 2017-Vinterforhold-2-2"},{"$f":"Oljedatabase[[#This Row],[Sesong]]","v":"Vinterforhold"},5,2,"2",0.01,53,"Kjemisk dispergerbar",0.12,0.87,0,46,"Eksplosjonsfare ved tanking",0.7,"Kjemisk dispergerbar","Nei",0.89,"2017-02-22T01:00:00",838,"Johan Castberg",37,8041217,673057,"Drivis 2017 Forvitringsrapport.pdf"]
["Drivis 2017","Sommerforhold",{"$f":"Oljedatabase[[#This Row],[Oljetype]]&\"-\"&Oljedatabase[[#This Row],[SesongNy]]&\"-\"&Oljedatabase[[#This Row],[Vind (m/s)]]&\"-\"&Oljedatabase[[#This Row],[Tidspunkt (timer)]]","v":"Drivis 2017-Sommerforhold-15-9"},{"$f":"Oljedatabase[[#This Row],[Sesong]]","v":"Sommerforhold"},10,15,"9",0.74,4230,"Redusert kjemisk dispergerbarhet",0.28999999999999998,0.11,0.59,106,"Ingen eksplosjonsfare",17.399999999999999,"Redusert kjemisk dispergerbarhet","Nei",0.43,"2017-02-22T01:00:00",838,"Johan Castberg",37,8041217,673057,"Drivis 2017 Forvitringsrapport.pdf"]
["Ekofisk blend 2002","Sommerforhold",{"$f":"Oljedatabase[[#This Row],[Oljetype]]&\"-\"&Oljedatabase[[#This Row],[SesongNy]]&\"-\"&Oljedatabase[[#This Row],[Vind (m/s)]]&\"-\"&Oljedatabase[[#This Row],[Tidspunkt (timer)]]","v":"Ekofisk blend 2002-Sommerforhold-5-120"},{"$f":"Oljedatabase[[#This Row],[Sesong]]","v":"Sommerforhold"},15,5,"120",0.8,9800,"Redusert kjemisk dispergerbarhet",0.34,0.57999999999999996,0.08,146,"Ingen eksplosjonsfare",22,"Redusert kjemisk dispergerbarhet","Nei",2.9,"2002-02-11T01:00:00",851,"Vest-Agder til Hordaland",34,6329207,-222467,"Ekofisk blend 2002 Forvitringsrapport.pdf"]
["Drivis 2017","Vinterforhold",{"$f":"Oljedatabase[[#This Row],[Oljetype]]&\"-\"&Oljedatabase[[#This Row],[SesongNy]]&\"-\"&Oljedatabase[[#This Row],[Vind (m/s)]]&\"-\"&Oljedatabase[[#This Row],[Tidspunkt (timer)]]","v":"Drivis 2017-Vinterforhold-2-6"},{"$f":"Oljedatabase[[#This Row],[Sesong]]","v":"Vinterforhold"},5,2,"6",0.04,113,"Kjemisk dispergerbar",0.18,0.81,0,60,"Ingen eksplosjonsfare",4.8,"Kjemisk dispergerbar","Nei",0.86,"2017-02-22T01:00:00",838,"Johan Castberg",37,8041217,673057,"Drivis 2017 Forvitringsrapport.pdf"]
["Draugen 2008","Vinterforhold",{"$f":"Oljedatabase[[#This Row],[Oljetype]]&\"-\"&Oljedatabase[[#This Row],[SesongNy]]&\"-\"&Oljedatabase[[#This Row],[Vind (m/s)]]&\"-\"&Oljedatabase[[#This Row],[Tidspunkt (timer)]]","v":"Draugen 2008-Vinterforhold-5-12"},{"$f":"Oljedatabase[[#This Row],[Sesong]]","v":"Vinterforhold"},5,5,"12",0.6,1900,"Redusert kjemisk dispergerbarhet",0.36,0.62,0.02,81,"Ingen eksplosjonsfare",12,"Redusert kjemisk dispergerbarhet","Nei",1.55,"2008-02-27T01:00:00",823,"Sør-Trøndelag til Nordland",40,7156164,152022,"Draugen 2008 Forvitringsrapport.pdf"]
["Ekofisk blend 2002","Sommerforhold",{"$f":"Oljedatabase[[#This Row],[Oljetype]]&\"-\"&Oljedatabase[[#This Row],[SesongNy]]&\"-\"&Oljedatabase[[#This Row],[Vind (m/s)]]&\"-\"&Oljedatabase[[#This Row],[Tidspunkt (timer)]]","v":"Ekofisk blend 2002-Sommerforhold-2-24"},{"$f":"Oljedatabase[[#This Row],[Sesong]]","v":"Sommerforhold"},15,2,"24",0.45,2100,"Redusert kjemisk dispergerbarhet",0.26,0.74,0,108,"Ingen eksplosjonsfare",17,"Kjemisk dispergerbar","Nei",1.34,"2002-02-11T01:00:00",851,"Vest-Agder til Hordaland",34,6329207,-222467,"Ekofisk blend 2002 Forvitringsrapport.pdf"]
["Drivis 2017","Vinterforhold",{"$f":"Oljedatabase[[#This Row],[Oljetype]]&\"-\"&Oljedatabase[[#This Row],[SesongNy]]&\"-\"&Oljedatabase[[#This Row],[Vind (m/s)]]&\"-\"&Oljedatabase[[#This Row],[Tidspunkt (timer)]]","v":"Drivis 2017-Vinterforhold-10-6"},{"$f":"Oljedatabase[[#This Row],[Sesong]]","v":"Vinterforhold"},5,10,"6",0.44,1190,"Redusert kjemisk dispergerbarhet",0.26,0.53,0.19,86,"Ingen eksplosjonsfare",11.9,"Redusert kjemisk dispergerbarhet","Nei",0.97,"2017-02-22T01:00:00",838,"Johan Castberg",37,8041217,673057,"Drivis 2017 Forvitringsrapport.pdf"]
["Ekofisk blend 2002","Sommerforhold",{"$f":"Oljedatabase[[#This Row],[Oljetype]]&\"-\"&Oljedatabase[[#This Row],[SesongNy]]&\"-\"&Oljedatabase[[#This Row],[Vind (m/s)]]&\"-\"&Oljedatabase[[#This Row],[Tidspunkt (timer)]]","v":"Ekofisk blend 2002-Sommerforhold-5-1"},{"$f":"Oljedatabase[[#This Row],[Sesong]]","v":"Sommerforhold"},15,5,"1",0.13,470,"Kjemisk dispergerbar",0.16,0.84,0,62,"Ingen eksplosjonsfare",10,"Kjemisk dispergerbar","Nei",0.96,"2002-02-11T01:00:00",851,"Vest-Agder til Hordaland",34,6329207,-222467,"Ekofisk blend 2002 Forvitringsrapport.pdf"]
["Drivis 2017","Vinterforhold",{"$f":"Oljedatabase[[#This Row],[Oljetype]]&\"-\"&Oljedatabase[[#This Row],[SesongNy]]&\"-\"&Oljedatabase[[#This Row],[Vind (m/s)]]&\"-\"&Oljedatabase[[#This Row],[Tidspunkt (timer)]]","v":"Drivis 2017-Vinterforhold-15-72"},{"$f":"Oljedatabase[[#This Row],[Sesong]]","v":"Vinterforhold"},5,15,"72",0.79,15800,"Ikke kjemisk dispergerbar",0.28999999999999998,0,0.7,128,"Ingen eksplosjonsfare",23,"Lav/dårlig dispergerbarhet","Ja",0,"2017-02-22T01:00:00",838,"Johan Castberg",37,8041217,673057,"Drivis 2017 Forvitringsrapport.pdf"]
["Draugen 2008","Vinterforhold",{"$f":"Oljedatabase[[#This Row],[Oljetype]]&\"-\"&Oljedatabase[[#This Row],[SesongNy]]&\"-\"&Oljedatabase[[#This Row],[Vind (m/s)]]&\"-\"&Oljedatabase[[#This Row],[Tidspunkt (timer)]]","v":"Draugen 2008-Vinterforhold-10-1"},{"$f":"Oljedatabase[[#This Row],[Sesong]]","v":"Vinterforhold"},5,10,"1",0.28999999999999998,380,"Kjemisk dispergerbar",0.3,0.65,0.05,52,"Eksplosjonsfare ved tanking",5,"Kjemisk dispergerbar","Nei",0.91,"2008-02-27T01:00:00",823,"Sør-Trøndelag til Nordland",40,7156164,152022,"Draugen 2008 Forvitringsrapport.pdf"]
["Ekofisk blend 2002","Sommerforhold",{"$f":"Oljedatabase[[#This Row],[Oljetype]]&\"-\"&Oljedatabase[[#This Row],[SesongNy]]&\"-\"&Oljedatabase[[#This Row],[Vind (m/s)]]&\"-\"&Oljedatabase[[#This Row],[Tidspunkt (timer)]]","v":"Ekofisk blend 2002-Sommerforhold-10-2"},{"$f":"Oljedatabase[[#This Row],[Sesong]]","v":"Sommerforhold"},15,10,"2",0.46,1700,"Redusert kjemisk dispergerbarhet",0.22,0.74,0.04,99,"Ingen eksplosjonsfare",15,"Kjemisk dispergerbar","Nei",1.37,"2002-02-11T01:00:00",851,"Vest-Agder til Hordaland",34,6329207,-222467,"Ekofisk blend 2002 Forvitringsrapport.pdf"]
["Ekofisk blend 2002","Sommerforhold",{"$f":"Oljedatabase[[#This Row],[Oljetype]]&\"-\"&Oljedatabase[[#This Row],[SesongNy]]&\"-\"&Oljedatabase[[#This Row],[Vind (m/s)]]&\"-\"&Oljedatabase[[#This Row],[Tidspunkt (timer)]]","v":"Ekofisk blend 2002-Sommerforhold-2-2"},{"$f":"Oljedatabase[[#This Row],[Sesong]]","v":"Sommerforhold"},15,2,"2",0.17,280,"Kjemisk dispergerbar",0.11,0.89,0,60,"Eksplosjonsfare ved tanking",10,"Kjemisk dispergerbar","Nei",1.07,"2002-02-11T01:00:00",851,"Vest-Agder til Hordaland",34,6329207,-222467,"Ekofisk blend 2002 Forvitringsrapport.pdf"]
["Ekofisk blend 2002","Sommerforhold",{"$f":"Oljedatabase[[#This Row],[Oljetype]]&\"-\"&Oljedatabase[[#This Row],[SesongNy]]&\"-\"&Oljedatabase[[#This Row],[Vind (m/s)]]&\"-\"&Oljedatabase[[#This Row],[Tidspunkt (timer)]]","v":"Ekofisk blend 2002-Sommerforhold-5-2"},{"$f":"Oljedatabase[[#This Row],[Sesong]]","v":"Sommerforhold"},15,5,"2",0.2,550,"Kjemisk dispergerbar",0.17,0.82,0.01,79,"Ingen eksplosjonsfare",13,"Kjemisk dispergerbar","Nei",1.02,"2002-02-11T01:00:00",851,"Vest-Agder til Hordaland",34,6329207,-222467,"Ekofisk blend 2002 Forvitringsrapport.pdf"]
["Ekofisk blend 2002","Sommerforhold",{"$f":"Oljedatabase[[#This Row],[Oljetype]]&\"-\"&Oljedatabase[[#This Row],[SesongNy]]&\"-\"&Oljedatabase[[#This Row],[Vind (m/s)]]&\"-\"&Oljedatabase[[#This Row],[Tidspunkt (timer)]]","v":"Ekofisk blend 2002-Sommerforhold-10-6"},{"$f":"Oljedatabase[[#This Row],[Sesong]]","v":"Sommerforhold"},15,10,"6",0.74,4300,"Redusert kjemisk dispergerbarhet",0.28000000000000003,0.62,0.08,117,"Ingen eksplosjonsfare",18,"Kjemisk dispergerbar","Nei",2.38,"2002-02-11T01:00:00",851,"Vest-Agder til Hordaland",34,6329207,-222467,"Ekofisk blend 2002 Forvitringsrapport.pdf"]
["Drivis 2017","Vinterforhold",{"$f":"Oljedatabase[[#This Row],[Oljetype]]&\"-\"&Oljedatabase[[#This Row],[SesongNy]]&\"-\"&Oljedatabase[[#This Row],[Vind (m/s)]]&\"-\"&Oljedatabase[[#This Row],[Tidspunkt (timer)]]","v":"Drivis 2017-Vinterforhold-15-120"},{"$f":"Oljedatabase[[#This Row],[Sesong]]","v":"Vinterforhold"},5,15,"120",0.79,21100,"Ikke kjemisk dispergerbar",0.28999999999999998,0,0.7,135,"Ingen eksplosjonsfare",25,"Lav/dårlig dispergerbarhet","Ja",0,"2017-02-22T01:00:00",838,"Johan Castberg",37,8041217,673057,"Drivis 2017 Forvitringsrapport.pdf"]
["Ekofisk blend 2002","Sommerforhold",{"$f":"Oljedatabase[[#This Row],[Oljetype]]&\"-\"&Oljedatabase[[#This Row],[SesongNy]]&\"-\"&Oljedatabase[[#This Row],[Vind (m/s)]]&\"-\"&Oljedatabase[[#This Row],[Tidspunkt (timer)]]","v":"Ekofisk blend 2002-Sommerforhold-2-96"},{"$f":"Oljedatabase[[#This Row],[Sesong]]","v":"Sommerforhold"},15,2,"96",0.76,6000,"Redusert kjemisk dispergerbarhet",0.31,0.69,0,129,"Ingen eksplosjonsfare",20,"Kjemisk dispergerbar","Nei",2.87,"2002-02-11T01:00:00",851,"Vest-Agder til Hordaland",34,6329207,-222467,"Ekofisk blend 2002 Forvitringsrapport.pdf"]
["Drivis 2017","Sommerforhold",{"$f":"Oljedatabase[[#This Row],[Oljetype]]&\"-\"&Oljedatabase[[#This Row],[SesongNy]]&\"-\"&Oljedatabase[[#This Row],[Vind (m/s)]]&\"-\"&Oljedatabase[[#This Row],[Tidspunkt (timer)]]","v":"Drivis 2017-Sommerforhold-10-1"},{"$f":"Oljedatabase[[#This Row],[Sesong]]","v":"Sommerforhold"},10,10,"1",0.1,130,"Kjemisk dispergerbar",0.19,0.74,0.05,65,"Ingen eksplosjonsfare",6,"Kjemisk dispergerbar","Nei",0.83,"2017-02-22T01:00:00",838,"Johan Castberg",37,8041217,673057,"Drivis 2017 Forvitringsrapport.pdf"]
["Ekofisk blend 2002","Sommerforhold",{"$f":"Oljedatabase[[#This Row],[Oljetype]]&\"-\"&Oljedatabase[[#This Row],[SesongNy]]&\"-\"&Oljedatabase[[#This Row],[Vind (m/s)]]&\"-\"&Oljedatabase[[#This Row],[Tidspunkt (timer)]]","v":"Ekofisk blend 2002-Sommerforhold-10-96"},{"$f":"Oljedatabase[[#This Row],[Sesong]]","v":"Sommerforhold"},15,10,"96",0.81,15000,"Lav/dårlig kjemisk dispergerbarhet",0.35,0.12,0.53,159,"Ingen eksplosjonsfare",24,"Redusert kjemisk dispergerbarhet","Ja",0.63,"2002-02-11T01:00:00",851,"Vest-Agder til Hordaland",34,6329207,-222467,"Ekofisk blend 2002 Forvitringsrapport.pdf"]
["Ekofisk blend 2002","Sommerforhold",{"$f":"Oljedatabase[[#This Row],[Oljetype]]&\"-\"&Oljedatabase[[#This Row],[SesongNy]]&\"-\"&Oljedatabase[[#This Row],[Vind (m/s)]]&\"-\"&Oljedatabase[[#This Row],[Tidspunkt (timer)]]","v":"Ekofisk blend 2002-Sommerforhold-2-48"},{"$f":"Oljedatabase[[#This Row],[Sesong]]","v":"Sommerforhold"},15,2,"48",0.64,3600,"Redusert kjemisk dispergerbarhet",0.28000000000000003,0.72,0,118,"Ingen eksplosjonsfare",18,"Kjemisk dispergerbar","Nei",2,"2002-02-11T01:00:00",851,"Vest-Agder til Hordaland",34,6329207,-222467,"Ekofisk blend 2002 Forvitringsrapport.pdf"]
["Ekofisk blend 2002","Sommerforhold",{"$f":"Oljedatabase[[#This Row],[Oljetype]]&\"-\"&Oljedatabase[[#This Row],[SesongNy]]&\"-\"&Oljedatabase[[#This Row],[Vind (m/s)]]&\"-\"&Oljedatabase[[#This Row],[Tidspunkt (timer)]]","v":"Ekofisk blend 2002-Sommerforhold-10-3"},{"$f":"Oljedatabase[[#This Row],[Sesong]]","v":"Sommerforhold"},15,10,"3",0.7,3000,"Redusert kjemisk dispergerbarhet",0.25,0.68,0.06,106,"Ingen eksplosjonsfare",16,"Kjemisk dispergerbar","Nei",2.2599999999999998,"2002-02-11T01:00:00",851,"Vest-Agder til Hordaland",34,6329207,-222467,"Ekofisk blend 2002 Forvitringsrapport.pdf"]
["Drivis 2017","Sommerforhold",{"$f":"Oljedatabase[[#This Row],[Oljetype]]&\"-\"&Oljedatabase[[#This Row],[SesongNy]]&\"-\"&Oljedatabase[[#This Row],[Vind (m/s)]]&\"-\"&Oljedatabase[[#This Row],[Tidspunkt (timer)]]","v":"Drivis 2017-Sommerforhold-10-24"},{"$f":"Oljedatabase[[#This Row],[Sesong]]","v":"Sommerforhold"},10,10,"24",0.77,5370,"Redusert kjemisk dispergerbarhet",0.33,0.28999999999999998,0.37,110,"Ingen eksplosjonsfare",18.5,"Redusert kjemisk dispergerbarhet","Nei",1.26,"2017-02-22T01:00:00",838,"Johan Castberg",37,8041217,673057,"Drivis 2017 Forvitringsrapport.pdf"]
["Drivis 2017","Vinterforhold",{"$f":"Oljedatabase[[#This Row],[Oljetype]]&\"-\"&Oljedatabase[[#This Row],[SesongNy]]&\"-\"&Oljedatabase[[#This Row],[Vind (m/s)]]&\"-\"&Oljedatabase[[#This Row],[Tidspunkt (timer)]]","v":"Drivis 2017-Vinterforhold-10-24"},{"$f":"Oljedatabase[[#This Row],[Sesong]]","v":"Vinterforhold"},5,10,"24",0.77,5940,"Redusert kjemisk dispergerbarhet",0.31,0.31,0.36,104,"Ingen eksplosjonsfare",17,"Redusert kjemisk dispergerbarhet","Nei",1.37,"2017-02-22T01:00:00",838,"Johan Castberg",37,8041217,673057,"Drivis 2017 Forvitringsrapport.pdf"]
["Drivis 2017","Vinterforhold",{"$f":"Oljedatabase[[#This Row],[Oljetype]]&\"-\"&Oljedatabase[[#This Row],[SesongNy]]&\"-\"&Oljedatabase[[#This Row],[Vind (m/s)]]&\"-\"&Oljedatabase[[#This Row],[Tidspunkt (timer)]]","v":"Drivis 2017-Vinterforhold-15-2"},{"$f":"Oljedatabase[[#This Row],[Sesong]]","v":"Vinterforhold"},5,15,"2",0.35,695,"Redusert kjemisk dispergerbarhet",0.23,0.4,0.35,80,"Ingen eksplosjonsfare",10.199999999999999,"Redusert kjemisk dispergerbarhet","Nei",0.63,"2017-02-22T01:00:00",838,"Johan Castberg",37,8041217,673057,"Drivis 2017 Forvitringsrapport.pdf"]
["Draugen 2008","Sommerforhold",{"$f":"Oljedatabase[[#This Row],[Oljetype]]&\"-\"&Oljedatabase[[#This Row],[SesongNy]]&\"-\"&Oljedatabase[[#This Row],[Vind (m/s)]]&\"-\"&Oljedatabase[[#This Row],[Tidspunkt (timer)]]","v":"Draugen 2008-Sommerforhold-2-12"},{"$f":"Oljedatabase[[#This Row],[Sesong]]","v":"Sommerforhold"},15,2,"12",0.26,450,"Kjemisk dispergerbar",0.35,0.64,0,79,"Ingen eksplosjonsfare",12,"Kjemisk dispergerbar","Nei",0.86,"2008-02-27T01:00:00",823,"Sør-Trøndelag til Nordland",40,7156164,152022,"Draugen 2008 Forvitringsrapport.pdf"]
["Draugen 2008","Vinterforhold",{"$f":"Oljedatabase[[#This Row],[Oljetype]]&\"-\"&Oljedatabase[[#This Row],[SesongNy]]&\"-\"&Oljedatabase[[#This Row],[Vind (m/s)]]&\"-\"&Oljedatabase[[#This Row],[Tidspunkt (timer)]]","v":"Draugen 2008-Vinterforhold-5-1"},{"$f":"Oljedatabase[[#This Row],[Sesong]]","v":"Vinterforhold"},5,5,"1",0.1,100,"Kjemisk dispergerbar",0.25,0.75,0,32,"Eksplosjonsfare ved tanking",-2,"Kjemisk dispergerbar","Nei",0.83,"2008-02-27T01:00:00",823,"Sør-Trøndelag til Nordland",40,7156164,152022,"Draugen 2008 Forvitringsrapport.pdf"]
["Drivis 2017","Sommerforhold",{"$f":"Oljedatabase[[#This Row],[Oljetype]]&\"-\"&Oljedatabase[[#This Row],[SesongNy]]&\"-\"&Oljedatabase[[#This Row],[Vind (m/s)]]&\"-\"&Oljedatabase[[#This Row],[Tidspunkt (timer)]]","v":"Drivis 2017-Sommerforhold-5-24"},{"$f":"Oljedatabase[[#This Row],[Sesong]]","v":"Sommerforhold"},10,5,"24",0.49,1520,"Redusert kjemisk dispergerbarhet",0.31,0.64,0.04,95,"Ingen eksplosjonsfare",14.5,"Kjemisk dispergerbar","Nei",1.29,"2017-02-22T01:00:00",838,"Johan Castberg",37,8041217,673057,"Drivis 2017 Forvitringsrapport.pdf"]
["Drivis 2017","Vinterforhold",{"$f":"Oljedatabase[[#This Row],[Oljetype]]&\"-\"&Oljedatabase[[#This Row],[SesongNy]]&\"-\"&Oljedatabase[[#This Row],[Vind (m/s)]]&\"-\"&Oljedatabase[[#This Row],[Tidspunkt (timer)]]","v":"Drivis 2017-Vinterforhold-10-2"},{"$f":"Oljedatabase[[#This Row],[Sesong]]","v":"Vinterforhold"},5,10,"2",0.19,288,"Kjemisk dispergerbar",0.21,0.68,0.09,71,"Ingen eksplosjonsfare",7.7,"Kjemisk dispergerbar","Nei",0.85,"2017-02-22T01:00:00",838,"Johan Castberg",37,8041217,673057,"Drivis 2017 Forvitringsrapport.pdf"]
["Ekofisk blend 2002","Vinterforhold",{"$f":"Oljedatabase[[#This Row],[Oljetype]]&\"-\"&Oljedatabase[[#This Row],[SesongNy]]&\"-\"&Oljedatabase[[#This Row],[Vind (m/s)]]&\"-\"&Oljedatabase[[#This Row],[Tidspunkt (timer)]]","v":"Ekofisk blend 2002-Vinterforhold-2-3"},{"$f":"Oljedatabase[[#This Row],[Sesong]]","v":"Vinterforhold"},5,2,"3",0.06,810,"Kjemisk dispergerbar",0.15,0.85,0,58,"Eksplosjonsfare ved tanking",10,"Kjemisk dispergerbar","Nei",0.9,"2002-02-11T01:00:00",851,"Vest-Agder til Hordaland",34,6329207,-222467,"Ekofisk blend 2002 Forvitringsrapport.pdf"]
["Ekofisk blend 2002","Sommerforhold",{"$f":"Oljedatabase[[#This Row],[Oljetype]]&\"-\"&Oljedatabase[[#This Row],[SesongNy]]&\"-\"&Oljedatabase[[#This Row],[Vind (m/s)]]&\"-\"&Oljedatabase[[#This Row],[Tidspunkt (timer)]]","v":"Ekofisk blend 2002-Sommerforhold-15-96"},{"$f":"Oljedatabase[[#This Row],[Sesong]]","v":"Sommerforhold"},15,15,"96",0.8,12000,"Lav/dårlig kjemisk dispergerbarhet",0.32,0,0.69,147,"Ingen eksplosjonsfare",23,"Redusert kjemisk dispergerbarhet","Ja",0,"2002-02-11T01:00:00",851,"Vest-Agder til Hordaland",34,6329207,-222467,"Ekofisk blend 2002 Forvitringsrapport.pdf"]
["Ekofisk blend 2002","Sommerforhold",{"$f":"Oljedatabase[[#This Row],[Oljetype]]&\"-\"&Oljedatabase[[#This Row],[SesongNy]]&\"-\"&Oljedatabase[[#This Row],[Vind (m/s)]]&\"-\"&Oljedatabase[[#This Row],[Tidspunkt (timer)]]","v":"Ekofisk blend 2002-Sommerforhold-15-1"},{"$f":"Oljedatabase[[#This Row],[Sesong]]","v":"Sommerforhold"},15,15,"1",0.48,1700,"Redusert kjemisk dispergerbarhet",0.23,0.65,0.12,99,"Ingen eksplosjonsfare",15,"Kjemisk dispergerbar","Nei",1.25,"2002-02-11T01:00:00",851,"Vest-Agder til Hordaland",34,6329207,-222467,"Ekofisk blend 2002 Forvitringsrapport.pdf"]
["Ekofisk blend 2002","Sommerforhold",{"$f":"Oljedatabase[[#This Row],[Oljetype]]&\"-\"&Oljedatabase[[#This Row],[SesongNy]]&\"-\"&Oljedatabase[[#This Row],[Vind (m/s)]]&\"-\"&Oljedatabase[[#This Row],[Tidspunkt (timer)]]","v":"Ekofisk blend 2002-Sommerforhold-15-72"},{"$f":"Oljedatabase[[#This Row],[Sesong]]","v":"Sommerforhold"},15,15,"72",0.8,12000,"Lav/dårlig kjemisk dispergerbarhet",0.32,0,0.69,147,"Ingen eksplosjonsfare",23,"Redusert kjemisk dispergerbarhet","Ja",0,"2002-02-11T01:00:00",851,"Vest-Agder til Hordaland",34,6329207,-222467,"Ekofisk blend 2002 Forvitringsrapport.pdf"]
["Ekofisk J 2015","Sommerforhold",{"$f":"Oljedatabase[[#This Row],[Oljetype]]&\"-\"&Oljedatabase[[#This Row],[SesongNy]]&\"-\"&Oljedatabase[[#This Row],[Vind (m/s)]]&\"-\"&Oljedatabase[[#This Row],[Tidspunkt (timer)]]","v":"Ekofisk J 2015-Sommerforhold-2-12"},{"$f":"Oljedatabase[[#This Row],[Sesong]]","v":"Sommerforhold"},15,2,"12",0.28999999999999998,393,"Kjemisk dispergerbar",0.25,0.74,0,0,"Ikke angitt",13.6,"Kjemisk dispergerbar","Nei",1.06,"2015-12-02T01:00:00",846,"Vest-Agder til Hordaland",35,6329271,-222171,"Ekofisk J 2015 Forvitringsrapport.pdf"]
["Ekofisk J 2015","Sommerforhold",{"$f":"Oljedatabase[[#This Row],[Oljetype]]&\"-\"&Oljedatabase[[#This Row],[SesongNy]]&\"-\"&Oljedatabase[[#This Row],[Vind (m/s)]]&\"-\"&Oljedatabase[[#This Row],[Tidspunkt (timer)]]","v":"Ekofisk J 2015-Sommerforhold-15-2"},{"$f":"Oljedatabase[[#This Row],[Sesong]]","v":"Sommerforhold"},15,15,"2",0.7,1600,"Redusert kjemisk dispergerbarhet",0.26,0.39,0.33,0,"Ikke angitt",16.3,"Kjemisk dispergerbar","Nei",1.34,"2015-12-02T01:00:00",846,"Vest-Agder til Hordaland",35,6329271,-222171,"Ekofisk J 2015 Forvitringsrapport.pdf"]
["Ekofisk J 2015","Sommerforhold",{"$f":"Oljedatabase[[#This Row],[Oljetype]]&\"-\"&Oljedatabase[[#This Row],[SesongNy]]&\"-\"&Oljedatabase[[#This Row],[Vind (m/s)]]&\"-\"&Oljedatabase[[#This Row],[Tidspunkt (timer)]]","v":"Ekofisk J 2015-Sommerforhold-10-1"},{"$f":"Oljedatabase[[#This Row],[Sesong]]","v":"Sommerforhold"},15,10,"1",0.32,325,"Kjemisk dispergerbar",0.22,0.72,0.04,0,"Ikke angitt",11.3,"Kjemisk dispergerbar","Nei",1.08,"2015-12-02T01:00:00",846,"Vest-Agder til Hordaland",35,6329271,-222171,"Ekofisk J 2015 Forvitringsrapport.pdf"]
["Ekofisk J 2015","Vinterforhold",{"$f":"Oljedatabase[[#This Row],[Oljetype]]&\"-\"&Oljedatabase[[#This Row],[SesongNy]]&\"-\"&Oljedatabase[[#This Row],[Vind (m/s)]]&\"-\"&Oljedatabase[[#This Row],[Tidspunkt (timer)]]","v":"Ekofisk J 2015-Vinterforhold-10-9"},{"$f":"Oljedatabase[[#This Row],[Sesong]]","v":"Vinterforhold"},5,10,"9",0.74,3600,"Redusert kjemisk dispergerbarhet",0.27,0.49,0.23,0,"Ikke angitt",16.600000000000001,"Redusert kjemisk dispergerbarhet","Nei",1.97,"2015-12-02T01:00:00",846,"Vest-Agder til Hordaland",35,6329271,-222171,"Ekofisk J 2015 Forvitringsrapport.pdf"]
["Ekofisk J 2015","Sommerforhold",{"$f":"Oljedatabase[[#This Row],[Oljetype]]&\"-\"&Oljedatabase[[#This Row],[SesongNy]]&\"-\"&Oljedatabase[[#This Row],[Vind (m/s)]]&\"-\"&Oljedatabase[[#This Row],[Tidspunkt (timer)]]","v":"Ekofisk J 2015-Sommerforhold-15-96"},{"$f":"Oljedatabase[[#This Row],[Sesong]]","v":"Sommerforhold"},15,15,"96",0.78,10700,"Ikke kjemisk dispergerbar",0.3,0,0.69,0,"Ikke angitt",31.4,"Lav/dårlig dispergerbarhet","Ja",0,"2015-12-02T01:00:00",846,"Vest-Agder til Hordaland",35,6329271,-222171,"Ekofisk J 2015 Forvitringsrapport.pdf"]
["Ekofisk J 2015","Vinterforhold",{"$f":"Oljedatabase[[#This Row],[Oljetype]]&\"-\"&Oljedatabase[[#This Row],[SesongNy]]&\"-\"&Oljedatabase[[#This Row],[Vind (m/s)]]&\"-\"&Oljedatabase[[#This Row],[Tidspunkt (timer)]]","v":"Ekofisk J 2015-Vinterforhold-10-12"},{"$f":"Oljedatabase[[#This Row],[Sesong]]","v":"Vinterforhold"},5,10,"12",0.74,4080,"Redusert kjemisk dispergerbarhet",0.27,0.44,0.27,0,"Ikke angitt",17.600000000000001,"Redusert kjemisk dispergerbarhet","Nei",1.78,"2015-12-02T01:00:00",846,"Vest-Agder til Hordaland",35,6329271,-222171,"Ekofisk J 2015 Forvitringsrapport.pdf"]
["Ekofisk J 2015","Sommerforhold",{"$f":"Oljedatabase[[#This Row],[Oljetype]]&\"-\"&Oljedatabase[[#This Row],[SesongNy]]&\"-\"&Oljedatabase[[#This Row],[Vind (m/s)]]&\"-\"&Oljedatabase[[#This Row],[Tidspunkt (timer)]]","v":"Ekofisk J 2015-Sommerforhold-10-120"},{"$f":"Oljedatabase[[#This Row],[Sesong]]","v":"Sommerforhold"},15,10,"120",0.77,8580,"Redusert kjemisk dispergerbarhet",0.34,0.04,0.61,0,"Ikke angitt",29.3,"Redusert kjemisk dispergerbarhet","Nei",0.18,"2015-12-02T01:00:00",846,"Vest-Agder til Hordaland",35,6329271,-222171,"Ekofisk J 2015 Forvitringsrapport.pdf"]
["Ekofisk J 2015","Vinterforhold",{"$f":"Oljedatabase[[#This Row],[Oljetype]]&\"-\"&Oljedatabase[[#This Row],[SesongNy]]&\"-\"&Oljedatabase[[#This Row],[Vind (m/s)]]&\"-\"&Oljedatabase[[#This Row],[Tidspunkt (timer)]]","v":"Ekofisk J 2015-Vinterforhold-5-120"},{"$f":"Oljedatabase[[#This Row],[Sesong]]","v":"Vinterforhold"},5,5,"120",0.74,6780,"Redusert kjemisk dispergerbarhet",0.32,0.56000000000000005,0.11,0,"Ikke angitt",21.8,"Lav/dårlig dispergerbarhet","Nei",2.2200000000000002,"2015-12-02T01:00:00",846,"Vest-Agder til Hordaland",35,6329271,-222171,"Ekofisk J 2015 Forvitringsrapport.pdf"]
["Ekofisk J 2015","Vinterforhold",{"$f":"Oljedatabase[[#This Row],[Oljetype]]&\"-\"&Oljedatabase[[#This Row],[SesongNy]]&\"-\"&Oljedatabase[[#This Row],[Vind (m/s)]]&\"-\"&Oljedatabase[[#This Row],[Tidspunkt (timer)]]","v":"Ekofisk J 2015-Vinterforhold-15-2"},{"$f":"Oljedatabase[[#This Row],[Sesong]]","v":"Vinterforhold"},5,15,"2",0.68,2050,"Redusert kjemisk dispergerbarhet",0.24,0.43,0.32,0,"Ikke angitt",13.8,"Redusert kjemisk dispergerbarhet","Nei",1.38,"2015-12-02T01:00:00",846,"Vest-Agder til Hordaland",35,6329271,-222171,"Ekofisk J 2015 Forvitringsrapport.pdf"]
["Ekofisk J 2015","Vinterforhold",{"$f":"Oljedatabase[[#This Row],[Oljetype]]&\"-\"&Oljedatabase[[#This Row],[SesongNy]]&\"-\"&Oljedatabase[[#This Row],[Vind (m/s)]]&\"-\"&Oljedatabase[[#This Row],[Tidspunkt (timer)]]","v":"Ekofisk J 2015-Vinterforhold-15-96"},{"$f":"Oljedatabase[[#This Row],[Sesong]]","v":"Vinterforhold"},5,15,"96",0.75,12900,"Ikke kjemisk dispergerbar",0.27,0,0.72,0,"Ikke angitt",27,"Lav/dårlig dispergerbarhet","Ja",0,"2015-12-02T01:00:00",846,"Vest-Agder til Hordaland",35,6329271,-222171,"Ekofisk J 2015 Forvitringsrapport.pdf"]
["Eldfisk B 2015","Vinterforhold",{"$f":"Oljedatabase[[#This Row],[Oljetype]]&\"-\"&Oljedatabase[[#This Row],[SesongNy]]&\"-\"&Oljedatabase[[#This Row],[Vind (m/s)]]&\"-\"&Oljedatabase[[#This Row],[Tidspunkt (timer)]]","v":"Eldfisk B 2015-Vinterforhold-2-48"},{"$f":"Oljedatabase[[#This Row],[Sesong]]","v":"Vinterforhold"},5,2,"48",0.62,2500,"Redusert kjemisk dispergerbarhet",0.26,0.73,0,0,"Ikke angitt",12.8,"Redusert kjemisk dispergerbarhet","Nei",1.94,"2015-12-02T01:00:00",854,"Vest-Agder til Hordaland",34,6315190,-224801,"Eldfisk B 2015 Forvitringsrapport.pdf"]
["Ekofisk J 2015","Vinterforhold",{"$f":"Oljedatabase[[#This Row],[Oljetype]]&\"-\"&Oljedatabase[[#This Row],[SesongNy]]&\"-\"&Oljedatabase[[#This Row],[Vind (m/s)]]&\"-\"&Oljedatabase[[#This Row],[Tidspunkt (timer)]]","v":"Ekofisk J 2015-Vinterforhold-15-72"},{"$f":"Oljedatabase[[#This Row],[Sesong]]","v":"Vinterforhold"},5,15,"72",0.75,11400,"Ikke kjemisk dispergerbar",0.27,0,0.72,0,"Ikke angitt",26,"Lav/dårlig dispergerbarhet","Ja",0,"2015-12-02T01:00:00",846,"Vest-Agder til Hordaland",35,6329271,-222171,"Ekofisk J 2015 Forvitringsrapport.pdf"]
["Eldfisk B 2015","Sommerforhold",{"$f":"Oljedatabase[[#This Row],[Oljetype]]&\"-\"&Oljedatabase[[#This Row],[SesongNy]]&\"-\"&Oljedatabase[[#This Row],[Vind (m/s)]]&\"-\"&Oljedatabase[[#This Row],[Tidspunkt (timer)]]","v":"Eldfisk B 2015-Sommerforhold-5-2"},{"$f":"Oljedatabase[[#This Row],[Sesong]]","v":"Sommerforhold"},15,5,"2",0.2,416,"Kjemisk dispergerbar",0.2,0.79,0,0,"Ikke angitt",10.1,"Kjemisk dispergerbar","Nei",1,"2015-12-02T01:00:00",854,"Vest-Agder til Hordaland",34,6315190,-224801,"Eldfisk B 2015 Forvitringsrapport.pdf"]
["Eldfisk B 2015","Vinterforhold",{"$f":"Oljedatabase[[#This Row],[Oljetype]]&\"-\"&Oljedatabase[[#This Row],[SesongNy]]&\"-\"&Oljedatabase[[#This Row],[Vind (m/s)]]&\"-\"&Oljedatabase[[#This Row],[Tidspunkt (timer)]]","v":"Eldfisk B 2015-Vinterforhold-10-1"},{"$f":"Oljedatabase[[#This Row],[Sesong]]","v":"Vinterforhold"},5,10,"1",0.31,759,"Kjemisk dispergerbar",0.19,0.78,0.02,0,"Ikke angitt",9.5,"Kjemisk dispergerbar","Nei",1.1399999999999999,"2015-12-02T01:00:00",854,"Vest-Agder til Hordaland",34,6315190,-224801,"Eldfisk B 2015 Forvitringsrapport.pdf"]
["Eldfisk B 2015","Sommerforhold",{"$f":"Oljedatabase[[#This Row],[Oljetype]]&\"-\"&Oljedatabase[[#This Row],[SesongNy]]&\"-\"&Oljedatabase[[#This Row],[Vind (m/s)]]&\"-\"&Oljedatabase[[#This Row],[Tidspunkt (timer)]]","v":"Eldfisk B 2015-Sommerforhold-5-72"},{"$f":"Oljedatabase[[#This Row],[Sesong]]","v":"Sommerforhold"},15,5,"72",0.78,4080,"Redusert kjemisk dispergerbarhet",0.33,0.59,7.0000000000000007E-2,0,"Ikke angitt",16.399999999999999,"Kjemisk dispergerbar","Nei",2.78,"2015-12-02T01:00:00",854,"Vest-Agder til Hordaland",34,6315190,-224801,"Eldfisk B 2015 Forvitringsrapport.pdf"]
["Eldfisk Kompleks 2015","Sommerforhold",{"$f":"Oljedatabase[[#This Row],[Oljetype]]&\"-\"&Oljedatabase[[#This Row],[SesongNy]]&\"-\"&Oljedatabase[[#This Row],[Vind (m/s)]]&\"-\"&Oljedatabase[[#This Row],[Tidspunkt (timer)]]","v":"Eldfisk Kompleks 2015-Sommerforhold-2-72"},{"$f":"Oljedatabase[[#This Row],[Sesong]]","v":"Sommerforhold"},15,2,"72",0.77,2570,"Redusert kjemisk dispergerbarhet",0.34,0.65,0,0,"Ikke angitt",16.3,"Kjemisk dispergerbar","Nei",2.85,"2015-12-02T01:00:00",842,"Vest-Agder til Hordaland",36,6309872,-222726,"Eldfisk Kompleks 2015 Forvitringsrapport.pdf"]
["Eldfisk Kompleks 2015","Sommerforhold",{"$f":"Oljedatabase[[#This Row],[Oljetype]]&\"-\"&Oljedatabase[[#This Row],[SesongNy]]&\"-\"&Oljedatabase[[#This Row],[Vind (m/s)]]&\"-\"&Oljedatabase[[#This Row],[Tidspunkt (timer)]]","v":"Eldfisk Kompleks 2015-Sommerforhold-5-1"},{"$f":"Oljedatabase[[#This Row],[Sesong]]","v":"Sommerforhold"},15,5,"1",0.13,254,"Kjemisk dispergerbar",0.21,0.78,0,0,"Ikke angitt",9.9,"Kjemisk dispergerbar","Nei",0.91,"2015-12-02T01:00:00",842,"Vest-Agder til Hordaland",36,6309872,-222726,"Eldfisk Kompleks 2015 Forvitringsrapport.pdf"]
["Eldfisk Kompleks 2015","Sommerforhold",{"$f":"Oljedatabase[[#This Row],[Oljetype]]&\"-\"&Oljedatabase[[#This Row],[SesongNy]]&\"-\"&Oljedatabase[[#This Row],[Vind (m/s)]]&\"-\"&Oljedatabase[[#This Row],[Tidspunkt (timer)]]","v":"Eldfisk Kompleks 2015-Sommerforhold-2-3"},{"$f":"Oljedatabase[[#This Row],[Sesong]]","v":"Sommerforhold"},15,2,"3",0.1,286,"Kjemisk dispergerbar",0.23,0.76,0,0,"Ikke angitt",10.7,"Kjemisk dispergerbar","Nei",0.86,"2015-12-02T01:00:00",842,"Vest-Agder til Hordaland",36,6309872,-222726,"Eldfisk Kompleks 2015 Forvitringsrapport.pdf"]
["Eldfisk Kompleks 2015","Sommerforhold",{"$f":"Oljedatabase[[#This Row],[Oljetype]]&\"-\"&Oljedatabase[[#This Row],[SesongNy]]&\"-\"&Oljedatabase[[#This Row],[Vind (m/s)]]&\"-\"&Oljedatabase[[#This Row],[Tidspunkt (timer)]]","v":"Eldfisk Kompleks 2015-Sommerforhold-5-96"},{"$f":"Oljedatabase[[#This Row],[Sesong]]","v":"Sommerforhold"},15,5,"96",0.8,4030,"Redusert kjemisk dispergerbarhet",0.38,0.52,0.09,0,"Ikke angitt",18.3,"Kjemisk dispergerbar","Nei",2.61,"2015-12-02T01:00:00",842,"Vest-Agder til Hordaland",36,6309872,-222726,"Eldfisk Kompleks 2015 Forvitringsrapport.pdf"]
["Eldfisk Kompleks 2015","Sommerforhold",{"$f":"Oljedatabase[[#This Row],[Oljetype]]&\"-\"&Oljedatabase[[#This Row],[SesongNy]]&\"-\"&Oljedatabase[[#This Row],[Vind (m/s)]]&\"-\"&Oljedatabase[[#This Row],[Tidspunkt (timer)]]","v":"Eldfisk Kompleks 2015-Sommerforhold-10-120"},{"$f":"Oljedatabase[[#This Row],[Sesong]]","v":"Sommerforhold"},15,10,"120",0.8,6370,"Redusert kjemisk dispergerbarhet",0.38,0.02,0.59,0,"Ikke angitt",20.7,"Redusert kjemisk dispergerbarhet","Nei",0.13,"2015-12-02T01:00:00",842,"Vest-Agder til Hordaland",36,6309872,-222726,"Eldfisk Kompleks 2015 Forvitringsrapport.pdf"]
["Eldfisk B 2015","Vinterforhold",{"$f":"Oljedatabase[[#This Row],[Oljetype]]&\"-\"&Oljedatabase[[#This Row],[SesongNy]]&\"-\"&Oljedatabase[[#This Row],[Vind (m/s)]]&\"-\"&Oljedatabase[[#This Row],[Tidspunkt (timer)]]","v":"Eldfisk B 2015-Vinterforhold-10-96"},{"$f":"Oljedatabase[[#This Row],[Sesong]]","v":"Vinterforhold"},5,10,"96",0.73,8810,"Redusert kjemisk dispergerbarhet",0.31,0.08,0.59,0,"Ikke angitt",17.100000000000001,"Redusert kjemisk dispergerbarhet","Nei",0.33,"2015-12-02T01:00:00",854,"Vest-Agder til Hordaland",34,6315190,-224801,"Eldfisk B 2015 Forvitringsrapport.pdf"]
["Eldfisk Kompleks 2015","Vinterforhold",{"$f":"Oljedatabase[[#This Row],[Oljetype]]&\"-\"&Oljedatabase[[#This Row],[SesongNy]]&\"-\"&Oljedatabase[[#This Row],[Vind (m/s)]]&\"-\"&Oljedatabase[[#This Row],[Tidspunkt (timer)]]","v":"Eldfisk Kompleks 2015-Vinterforhold-10-48"},{"$f":"Oljedatabase[[#This Row],[Sesong]]","v":"Vinterforhold"},5,10,"48",0.76,6630,"Redusert kjemisk dispergerbarhet",0.34,0.17,0.47,0,"Ikke angitt",17.399999999999999,"Redusert kjemisk dispergerbarhet","Nei",0.76,"2015-12-02T01:00:00",842,"Vest-Agder til Hordaland",36,6309872,-222726,"Eldfisk Kompleks 2015 Forvitringsrapport.pdf"]
["Eldfisk Kompleks 2015","Vinterforhold",{"$f":"Oljedatabase[[#This Row],[Oljetype]]&\"-\"&Oljedatabase[[#This Row],[SesongNy]]&\"-\"&Oljedatabase[[#This Row],[Vind (m/s)]]&\"-\"&Oljedatabase[[#This Row],[Tidspunkt (timer)]]","v":"Eldfisk Kompleks 2015-Vinterforhold-2-6"},{"$f":"Oljedatabase[[#This Row],[Sesong]]","v":"Vinterforhold"},5,2,"6",0.19,611,"Kjemisk dispergerbar",0.23,0.76,0,0,"Ikke angitt",10.9,"Redusert kjemisk dispergerbarhet","Nei",0.95,"2015-12-02T01:00:00",842,"Vest-Agder til Hordaland",36,6309872,-222726,"Eldfisk Kompleks 2015 Forvitringsrapport.pdf"]
["Elli 1999","Sommerforhold",{"$f":"Oljedatabase[[#This Row],[Oljetype]]&\"-\"&Oljedatabase[[#This Row],[SesongNy]]&\"-\"&Oljedatabase[[#This Row],[Vind (m/s)]]&\"-\"&Oljedatabase[[#This Row],[Tidspunkt (timer)]]","v":"Elli 1999-Sommerforhold-2-3"},{"$f":"Oljedatabase[[#This Row],[Sesong]]","v":"Sommerforhold"},15,2,"3",0.14000000000000001,520,"Kjemisk dispergerbar",0.12,0.88,0,40,"Eksplosjonsfare ved tanking",15,"Kjemisk dispergerbar","Nei",1.02,"1999-01-21T01:00:00",816,"Vest-Agder til Hordaland",41,6658686,-212268,"Elli 1999 Forvitringsrapport.pdf"]
["Elli 1999","Sommerforhold",{"$f":"Oljedatabase[[#This Row],[Oljetype]]&\"-\"&Oljedatabase[[#This Row],[SesongNy]]&\"-\"&Oljedatabase[[#This Row],[Vind (m/s)]]&\"-\"&Oljedatabase[[#This Row],[Tidspunkt (timer)]]","v":"Elli 1999-Sommerforhold-10-6"},{"$f":"Oljedatabase[[#This Row],[Sesong]]","v":"Sommerforhold"},15,10,"6",0.6,2500,"Redusert kjemisk dispergerbarhet",0.23,0.7,7.0000000000000007E-2,80,"Ingen eksplosjonsfare",22,"Redusert kjemisk dispergerbarhet","Nei",1.75,"1999-01-21T01:00:00",816,"Vest-Agder til Hordaland",41,6658686,-212268,"Elli 1999 Forvitringsrapport.pdf"]
["Elli 1999","Sommerforhold",{"$f":"Oljedatabase[[#This Row],[Oljetype]]&\"-\"&Oljedatabase[[#This Row],[SesongNy]]&\"-\"&Oljedatabase[[#This Row],[Vind (m/s)]]&\"-\"&Oljedatabase[[#This Row],[Tidspunkt (timer)]]","v":"Elli 1999-Sommerforhold-5-3"},{"$f":"Oljedatabase[[#This Row],[Sesong]]","v":"Sommerforhold"},15,5,"3",0.39,910,"Kjemisk dispergerbar",0.16,0.83,0,53,"Eksplosjonsfare ved tanking",17,"Kjemisk dispergerbar","Nei",1.36,"1999-01-21T01:00:00",816,"Vest-Agder til Hordaland",41,6658686,-212268,"Elli 1999 Forvitringsrapport.pdf"]
["Elli 1999","Sommerforhold",{"$f":"Oljedatabase[[#This Row],[Oljetype]]&\"-\"&Oljedatabase[[#This Row],[SesongNy]]&\"-\"&Oljedatabase[[#This Row],[Vind (m/s)]]&\"-\"&Oljedatabase[[#This Row],[Tidspunkt (timer)]]","v":"Elli 1999-Sommerforhold-10-9"},{"$f":"Oljedatabase[[#This Row],[Sesong]]","v":"Sommerforhold"},15,10,"9",0.6,3100,"Redusert kjemisk dispergerbarhet",0.25,0.66,0.09,86,"Ingen eksplosjonsfare",24,"Redusert kjemisk dispergerbarhet","Nei",1.65,"1999-01-21T01:00:00",816,"Vest-Agder til Hordaland",41,6658686,-212268,"Elli 1999 Forvitringsrapport.pdf"]
["Eldfisk Kompleks 2015","Vinterforhold",{"$f":"Oljedatabase[[#This Row],[Oljetype]]&\"-\"&Oljedatabase[[#This Row],[SesongNy]]&\"-\"&Oljedatabase[[#This Row],[Vind (m/s)]]&\"-\"&Oljedatabase[[#This Row],[Tidspunkt (timer)]]","v":"Eldfisk Kompleks 2015-Vinterforhold-15-3"},{"$f":"Oljedatabase[[#This Row],[Sesong]]","v":"Vinterforhold"},5,15,"3",0.76,3320,"Redusert kjemisk dispergerbarhet",0.28999999999999998,0.37,0.33,0,"Ikke angitt",14.1,"Redusert kjemisk dispergerbarhet","Nei",1.63,"2015-12-02T01:00:00",842,"Vest-Agder til Hordaland",36,6309872,-222726,"Eldfisk Kompleks 2015 Forvitringsrapport.pdf"]
["Elli 1999","Vinterforhold",{"$f":"Oljedatabase[[#This Row],[Oljetype]]&\"-\"&Oljedatabase[[#This Row],[SesongNy]]&\"-\"&Oljedatabase[[#This Row],[Vind (m/s)]]&\"-\"&Oljedatabase[[#This Row],[Tidspunkt (timer)]]","v":"Elli 1999-Vinterforhold-10-96"},{"$f":"Oljedatabase[[#This Row],[Sesong]]","v":"Vinterforhold"},5,10,"96",0.5,15000,"Lav/dårlig kjemisk dispergerbarhet",0.28999999999999998,0.35,0.36,111,"Ingen eksplosjonsfare",28,"Lav/dårlig dispergerbarhet","Ja",0.7,"1999-01-21T01:00:00",816,"Vest-Agder til Hordaland",41,6658686,-212268,"Elli 1999 Forvitringsrapport.pdf"]
["Elli 1999","Vinterforhold",{"$f":"Oljedatabase[[#This Row],[Oljetype]]&\"-\"&Oljedatabase[[#This Row],[SesongNy]]&\"-\"&Oljedatabase[[#This Row],[Vind (m/s)]]&\"-\"&Oljedatabase[[#This Row],[Tidspunkt (timer)]]","v":"Elli 1999-Vinterforhold-2-120"},{"$f":"Oljedatabase[[#This Row],[Sesong]]","v":"Vinterforhold"},5,2,"120",0.5,8100,"Lav/dårlig kjemisk dispergerbarhet",0.24,0.76,0,83,"Ingen eksplosjonsfare",23,"Lav/dårlig dispergerbarhet","Nei",1.52,"1999-01-21T01:00:00",816,"Vest-Agder til Hordaland",41,6658686,-212268,"Elli 1999 Forvitringsrapport.pdf"]
["Elli 1999","Vinterforhold",{"$f":"Oljedatabase[[#This Row],[Oljetype]]&\"-\"&Oljedatabase[[#This Row],[SesongNy]]&\"-\"&Oljedatabase[[#This Row],[Vind (m/s)]]&\"-\"&Oljedatabase[[#This Row],[Tidspunkt (timer)]]","v":"Elli 1999-Vinterforhold-5-3"},{"$f":"Oljedatabase[[#This Row],[Sesong]]","v":"Vinterforhold"},5,5,"3",0.22,2700,"Redusert kjemisk dispergerbarhet",0.14000000000000001,0.86,0,44,"Eksplosjonsfare ved tanking",16,"Redusert kjemisk dispergerbarhet","Nei",1.1000000000000001,"1999-01-21T01:00:00",816,"Vest-Agder til Hordaland",41,6658686,-212268,"Elli 1999 Forvitringsrapport.pdf"]
["Elli 1999","Vinterforhold",{"$f":"Oljedatabase[[#This Row],[Oljetype]]&\"-\"&Oljedatabase[[#This Row],[SesongNy]]&\"-\"&Oljedatabase[[#This Row],[Vind (m/s)]]&\"-\"&Oljedatabase[[#This Row],[Tidspunkt (timer)]]","v":"Elli 1999-Vinterforhold-10-3"},{"$f":"Oljedatabase[[#This Row],[Sesong]]","v":"Vinterforhold"},5,10,"3",0.43,4400,"Redusert kjemisk dispergerbarhet",0.18,0.8,0.02,59,"Eksplosjonsfare ved tanking",18,"Redusert kjemisk dispergerbarhet","Nei",1.4,"1999-01-21T01:00:00",816,"Vest-Agder til Hordaland",41,6658686,-212268,"Elli 1999 Forvitringsrapport.pdf"]
["Elli South 1999","Vinterforhold",{"$f":"Oljedatabase[[#This Row],[Oljetype]]&\"-\"&Oljedatabase[[#This Row],[SesongNy]]&\"-\"&Oljedatabase[[#This Row],[Vind (m/s)]]&\"-\"&Oljedatabase[[#This Row],[Tidspunkt (timer)]]","v":"Elli South 1999-Vinterforhold-10-3"},{"$f":"Oljedatabase[[#This Row],[Sesong]]","v":"Vinterforhold"},5,10,"3",0.32,3400,"Kjemisk dispergerbar",0.16,0.81,0.03,57,"Eksplosjonsfare ved tanking",22,"Lav/dårlig dispergerbarhet","Nei",1.19,"1999-01-21T01:00:00",838,"Vest-Agder til Hordaland",37,6658686,-212268,"Elli South 1999 Forvitringsrapport.pdf"]
["Elli 1999","Vinterforhold",{"$f":"Oljedatabase[[#This Row],[Oljetype]]&\"-\"&Oljedatabase[[#This Row],[SesongNy]]&\"-\"&Oljedatabase[[#This Row],[Vind (m/s)]]&\"-\"&Oljedatabase[[#This Row],[Tidspunkt (timer)]]","v":"Elli 1999-Vinterforhold-2-12"},{"$f":"Oljedatabase[[#This Row],[Sesong]]","v":"Vinterforhold"},5,2,"12",0.22,3200,"Redusert kjemisk dispergerbarhet",0.16,0.84,0,51,"Eksplosjonsfare ved tanking",17,"Redusert kjemisk dispergerbarhet","Nei",1.08,"1999-01-21T01:00:00",816,"Vest-Agder til Hordaland",41,6658686,-212268,"Elli 1999 Forvitringsrapport.pdf"]
["Elli 1999","Vinterforhold",{"$f":"Oljedatabase[[#This Row],[Oljetype]]&\"-\"&Oljedatabase[[#This Row],[SesongNy]]&\"-\"&Oljedatabase[[#This Row],[Vind (m/s)]]&\"-\"&Oljedatabase[[#This Row],[Tidspunkt (timer)]]","v":"Elli 1999-Vinterforhold-2-24"},{"$f":"Oljedatabase[[#This Row],[Sesong]]","v":"Vinterforhold"},5,2,"24",0.34,4300,"Redusert kjemisk dispergerbarhet",0.18,0.82,0,60,"Eksplosjonsfare ved tanking",19,"Redusert kjemisk dispergerbarhet","Nei",1.24,"1999-01-21T01:00:00",816,"Vest-Agder til Hordaland",41,6658686,-212268,"Elli 1999 Forvitringsrapport.pdf"]
["Elli South 1999","Sommerforhold",{"$f":"Oljedatabase[[#This Row],[Oljetype]]&\"-\"&Oljedatabase[[#This Row],[SesongNy]]&\"-\"&Oljedatabase[[#This Row],[Vind (m/s)]]&\"-\"&Oljedatabase[[#This Row],[Tidspunkt (timer)]]","v":"Elli South 1999-Sommerforhold-2-6"},{"$f":"Oljedatabase[[#This Row],[Sesong]]","v":"Sommerforhold"},15,2,"6",0.16,990,"Redusert kjemisk dispergerbarhet",0.14000000000000001,0.86,0,48,"Eksplosjonsfare ved tanking",21,"Redusert kjemisk dispergerbarhet","Nei",1.02,"1999-01-21T01:00:00",838,"Vest-Agder til Hordaland",37,6658686,-212268,"Elli South 1999 Forvitringsrapport.pdf"]
["Elli 1999","Vinterforhold",{"$f":"Oljedatabase[[#This Row],[Oljetype]]&\"-\"&Oljedatabase[[#This Row],[SesongNy]]&\"-\"&Oljedatabase[[#This Row],[Vind (m/s)]]&\"-\"&Oljedatabase[[#This Row],[Tidspunkt (timer)]]","v":"Elli 1999-Vinterforhold-15-96"},{"$f":"Oljedatabase[[#This Row],[Sesong]]","v":"Vinterforhold"},5,15,"96",0.5,19000,"Lav/dårlig kjemisk dispergerbarhet",0.28000000000000003,0.02,0.7,119,"Ingen eksplosjonsfare",29,"Lav/dårlig dispergerbarhet","Ja",0.04,"1999-01-21T01:00:00",816,"Vest-Agder til Hordaland",41,6658686,-212268,"Elli 1999 Forvitringsrapport.pdf"]
["Elli South 1999","Vinterforhold",{"$f":"Oljedatabase[[#This Row],[Oljetype]]&\"-\"&Oljedatabase[[#This Row],[SesongNy]]&\"-\"&Oljedatabase[[#This Row],[Vind (m/s)]]&\"-\"&Oljedatabase[[#This Row],[Tidspunkt (timer)]]","v":"Elli South 1999-Vinterforhold-10-1"},{"$f":"Oljedatabase[[#This Row],[Sesong]]","v":"Vinterforhold"},5,10,"1",0.14000000000000001,2200,"Kjemisk dispergerbar",0.12,0.87,0.01,41,"Eksplosjonsfare ved tanking",20,"Redusert kjemisk dispergerbarhet","Nei",1.01,"1999-01-21T01:00:00",838,"Vest-Agder til Hordaland",37,6658686,-212268,"Elli South 1999 Forvitringsrapport.pdf"]
["Embla 2002","Sommerforhold",{"$f":"Oljedatabase[[#This Row],[Oljetype]]&\"-\"&Oljedatabase[[#This Row],[SesongNy]]&\"-\"&Oljedatabase[[#This Row],[Vind (m/s)]]&\"-\"&Oljedatabase[[#This Row],[Tidspunkt (timer)]]","v":"Embla 2002-Sommerforhold-2-96"},{"$f":"Oljedatabase[[#This Row],[Sesong]]","v":"Sommerforhold"},15,2,"96",0.63,587,"Kjemisk dispergerbar",0.37,0.62,0,0,"Ikke angitt",21.7,"Redusert kjemisk dispergerbarhet","Nei",1.72,"2002-02-11T01:00:00",816,"Vest-Agder til Hordaland",41,6305369,-224620,"Embla 2002 Forvitringsrapport.pdf"]
["Elli 1999","Vinterforhold",{"$f":"Oljedatabase[[#This Row],[Oljetype]]&\"-\"&Oljedatabase[[#This Row],[SesongNy]]&\"-\"&Oljedatabase[[#This Row],[Vind (m/s)]]&\"-\"&Oljedatabase[[#This Row],[Tidspunkt (timer)]]","v":"Elli 1999-Vinterforhold-5-24"},{"$f":"Oljedatabase[[#This Row],[Sesong]]","v":"Vinterforhold"},5,5,"24",0.5,6400,"Redusert kjemisk dispergerbarhet",0.22,0.77,0.01,73,"Ingen eksplosjonsfare",21,"Lav/dårlig dispergerbarhet","Nei",1.54,"1999-01-21T01:00:00",816,"Vest-Agder til Hordaland",41,6658686,-212268,"Elli 1999 Forvitringsrapport.pdf"]
["Elli South 1999","Sommerforhold",{"$f":"Oljedatabase[[#This Row],[Oljetype]]&\"-\"&Oljedatabase[[#This Row],[SesongNy]]&\"-\"&Oljedatabase[[#This Row],[Vind (m/s)]]&\"-\"&Oljedatabase[[#This Row],[Tidspunkt (timer)]]","v":"Elli South 1999-Sommerforhold-15-1"},{"$f":"Oljedatabase[[#This Row],[Sesong]]","v":"Sommerforhold"},15,15,"1",0.46,1700,"Kjemisk dispergerbar",0.17,0.76,7.0000000000000007E-2,62,"Ingen eksplosjonsfare",23,"Redusert kjemisk dispergerbarhet","Nei",1.41,"1999-01-21T01:00:00",838,"Vest-Agder til Hordaland",37,6658686,-212268,"Elli South 1999 Forvitringsrapport.pdf"]
["Eldfisk Kompleks 2015","Vinterforhold",{"$f":"Oljedatabase[[#This Row],[Oljetype]]&\"-\"&Oljedatabase[[#This Row],[SesongNy]]&\"-\"&Oljedatabase[[#This Row],[Vind (m/s)]]&\"-\"&Oljedatabase[[#This Row],[Tidspunkt (timer)]]","v":"Eldfisk Kompleks 2015-Vinterforhold-2-9"},{"$f":"Oljedatabase[[#This Row],[Sesong]]","v":"Vinterforhold"},5,2,"9",0.27,782,"Kjemisk dispergerbar",0.25,0.75,0,0,"Ikke angitt",11.6,"Redusert kjemisk dispergerbarhet","Nei",1.03,"2015-12-02T01:00:00",842,"Vest-Agder til Hordaland",36,6309872,-222726,"Eldfisk Kompleks 2015 Forvitringsrapport.pdf"]
["Elli South 1999","Sommerforhold",{"$f":"Oljedatabase[[#This Row],[Oljetype]]&\"-\"&Oljedatabase[[#This Row],[SesongNy]]&\"-\"&Oljedatabase[[#This Row],[Vind (m/s)]]&\"-\"&Oljedatabase[[#This Row],[Tidspunkt (timer)]]","v":"Elli South 1999-Sommerforhold-15-96"},{"$f":"Oljedatabase[[#This Row],[Sesong]]","v":"Sommerforhold"},15,15,"96",0.6,15000,"Lav/dårlig kjemisk dispergerbarhet",0.28999999999999998,0.01,0.7,131,"Ingen eksplosjonsfare",32,"Lav/dårlig dispergerbarhet","Ja",0.03,"1999-01-21T01:00:00",838,"Vest-Agder til Hordaland",37,6658686,-212268,"Elli South 1999 Forvitringsrapport.pdf"]
["Embla 2002","Sommerforhold",{"$f":"Oljedatabase[[#This Row],[Oljetype]]&\"-\"&Oljedatabase[[#This Row],[SesongNy]]&\"-\"&Oljedatabase[[#This Row],[Vind (m/s)]]&\"-\"&Oljedatabase[[#This Row],[Tidspunkt (timer)]]","v":"Embla 2002-Sommerforhold-10-96"},{"$f":"Oljedatabase[[#This Row],[Sesong]]","v":"Sommerforhold"},15,10,"96",0.67,1190,"Redusert kjemisk dispergerbarhet",0.38,0,0.61,0,"Ikke angitt",27.4,"Redusert kjemisk dispergerbarhet","Nei",0.02,"2002-02-11T01:00:00",816,"Vest-Agder til Hordaland",41,6305369,-224620,"Embla 2002 Forvitringsrapport.pdf"]
["Elli South 1999","Vinterforhold",{"$f":"Oljedatabase[[#This Row],[Oljetype]]&\"-\"&Oljedatabase[[#This Row],[SesongNy]]&\"-\"&Oljedatabase[[#This Row],[Vind (m/s)]]&\"-\"&Oljedatabase[[#This Row],[Tidspunkt (timer)]]","v":"Elli South 1999-Vinterforhold-5-120"},{"$f":"Oljedatabase[[#This Row],[Sesong]]","v":"Vinterforhold"},5,5,"120",0.5,10000,"Redusert kjemisk dispergerbarhet",0.26,0.7,0.04,97,"Ingen eksplosjonsfare",28,"Lav/dårlig dispergerbarhet","Nei",1.4,"1999-01-21T01:00:00",838,"Vest-Agder til Hordaland",37,6658686,-212268,"Elli South 1999 Forvitringsrapport.pdf"]
["Embla 2002","Sommerforhold",{"$f":"Oljedatabase[[#This Row],[Oljetype]]&\"-\"&Oljedatabase[[#This Row],[SesongNy]]&\"-\"&Oljedatabase[[#This Row],[Vind (m/s)]]&\"-\"&Oljedatabase[[#This Row],[Tidspunkt (timer)]]","v":"Embla 2002-Sommerforhold-15-24"},{"$f":"Oljedatabase[[#This Row],[Sesong]]","v":"Sommerforhold"},15,15,"24",0.66,732,"Kjemisk dispergerbar",0.33,0,0.66,0,"Ikke angitt",23.5,"Redusert kjemisk dispergerbarhet","Nei",0,"2002-02-11T01:00:00",816,"Vest-Agder til Hordaland",41,6305369,-224620,"Embla 2002 Forvitringsrapport.pdf"]
["Elli South 1999","Vinterforhold",{"$f":"Oljedatabase[[#This Row],[Oljetype]]&\"-\"&Oljedatabase[[#This Row],[SesongNy]]&\"-\"&Oljedatabase[[#This Row],[Vind (m/s)]]&\"-\"&Oljedatabase[[#This Row],[Tidspunkt (timer)]]","v":"Elli South 1999-Vinterforhold-10-48"},{"$f":"Oljedatabase[[#This Row],[Sesong]]","v":"Vinterforhold"},5,10,"48",0.5,11000,"Lav/dårlig kjemisk dispergerbarhet",0.26,0.5,0.24,101,"Ingen eksplosjonsfare",28,"Lav/dårlig dispergerbarhet","Ja",1,"1999-01-21T01:00:00",838,"Vest-Agder til Hordaland",37,6658686,-212268,"Elli South 1999 Forvitringsrapport.pdf"]
["Forseti 2002","Sommerforhold",{"$f":"Oljedatabase[[#This Row],[Oljetype]]&\"-\"&Oljedatabase[[#This Row],[SesongNy]]&\"-\"&Oljedatabase[[#This Row],[Vind (m/s)]]&\"-\"&Oljedatabase[[#This Row],[Tidspunkt (timer)]]","v":"Forseti 2002-Sommerforhold-5-1"},{"$f":"Oljedatabase[[#This Row],[Sesong]]","v":"Sommerforhold"},15,5,"1",0.05,470,"Kjemisk dispergerbar",0.04,0.96,0,74,"Ingen eksplosjonsfare",-1,"Kjemisk dispergerbar","Nei",1.01,"2002-08-25T02:00:00",816,"Vest-Agder til Hordaland",41,6637182,-212699,"Forseti 2002 Forvitringsrapport.pdf"]
["Forseti 2002","Sommerforhold",{"$f":"Oljedatabase[[#This Row],[Oljetype]]&\"-\"&Oljedatabase[[#This Row],[SesongNy]]&\"-\"&Oljedatabase[[#This Row],[Vind (m/s)]]&\"-\"&Oljedatabase[[#This Row],[Tidspunkt (timer)]]","v":"Forseti 2002-Sommerforhold-2-96"},{"$f":"Oljedatabase[[#This Row],[Sesong]]","v":"Sommerforhold"},15,2,"96",0.62,7500,"Redusert kjemisk dispergerbarhet",0.14000000000000001,0.86,0,107,"Ingen eksplosjonsfare",5,"Kjemisk dispergerbar","Nei",2.2599999999999998,"2002-08-25T02:00:00",816,"Vest-Agder til Hordaland",41,6637182,-212699,"Forseti 2002 Forvitringsrapport.pdf"]
["Embla 2002","Vinterforhold",{"$f":"Oljedatabase[[#This Row],[Oljetype]]&\"-\"&Oljedatabase[[#This Row],[SesongNy]]&\"-\"&Oljedatabase[[#This Row],[Vind (m/s)]]&\"-\"&Oljedatabase[[#This Row],[Tidspunkt (timer)]]","v":"Embla 2002-Vinterforhold-10-2"},{"$f":"Oljedatabase[[#This Row],[Sesong]]","v":"Vinterforhold"},5,10,"2",0.39,289,"Kjemisk dispergerbar",0.26,0.65,0.08,0,"Ikke angitt",10.8,"Redusert kjemisk dispergerbarhet","Nei",1.07,"2002-02-11T01:00:00",816,"Vest-Agder til Hordaland",41,6305369,-224620,"Embla 2002 Forvitringsrapport.pdf"]
["Embla 2002","Vinterforhold",{"$f":"Oljedatabase[[#This Row],[Oljetype]]&\"-\"&Oljedatabase[[#This Row],[SesongNy]]&\"-\"&Oljedatabase[[#This Row],[Vind (m/s)]]&\"-\"&Oljedatabase[[#This Row],[Tidspunkt (timer)]]","v":"Embla 2002-Vinterforhold-15-12"},{"$f":"Oljedatabase[[#This Row],[Sesong]]","v":"Vinterforhold"},5,15,"12",0.57999999999999996,1060,"Redusert kjemisk dispergerbarhet",0.31,0.03,0.65,0,"Ikke angitt",20.399999999999999,"Lav/dårlig dispergerbarhet","Nei",0.08,"2002-02-11T01:00:00",816,"Vest-Agder til Hordaland",41,6305369,-224620,"Embla 2002 Forvitringsrapport.pdf"]
["Forseti 2002","Sommerforhold",{"$f":"Oljedatabase[[#This Row],[Oljetype]]&\"-\"&Oljedatabase[[#This Row],[SesongNy]]&\"-\"&Oljedatabase[[#This Row],[Vind (m/s)]]&\"-\"&Oljedatabase[[#This Row],[Tidspunkt (timer)]]","v":"Forseti 2002-Sommerforhold-5-48"},{"$f":"Oljedatabase[[#This Row],[Sesong]]","v":"Sommerforhold"},15,5,"48",0.75,23000,"Lav/dårlig kjemisk dispergerbarhet",0.14000000000000001,0.82,0.03,110,"Ingen eksplosjonsfare",5,"Kjemisk dispergerbar","Ja",3.28,"2002-08-25T02:00:00",816,"Vest-Agder til Hordaland",41,6637182,-212699,"Forseti 2002 Forvitringsrapport.pdf"]
["Garantiana 2013","Sommerforhold",{"$f":"Oljedatabase[[#This Row],[Oljetype]]&\"-\"&Oljedatabase[[#This Row],[SesongNy]]&\"-\"&Oljedatabase[[#This Row],[Vind (m/s)]]&\"-\"&Oljedatabase[[#This Row],[Tidspunkt (timer)]]","v":"Garantiana 2013-Sommerforhold-15-120"},{"$f":"Oljedatabase[[#This Row],[Sesong]]","v":"Sommerforhold"},15,15,"120",0.7,84300,"Ikke kjemisk dispergerbar",0.14000000000000001,0.01,0.84,189,"Ingen eksplosjonsfare",35.200000000000003,"Lav/dårlig dispergerbarhet","Ja",0.06,"2013-09-12T02:00:00",873,"Vestlandet",30,6889703,-147284,"Garantiana 2013 Forvitringsrapport.pdf"]
["Embla 2002","Vinterforhold",{"$f":"Oljedatabase[[#This Row],[Oljetype]]&\"-\"&Oljedatabase[[#This Row],[SesongNy]]&\"-\"&Oljedatabase[[#This Row],[Vind (m/s)]]&\"-\"&Oljedatabase[[#This Row],[Tidspunkt (timer)]]","v":"Embla 2002-Vinterforhold-15-96"},{"$f":"Oljedatabase[[#This Row],[Sesong]]","v":"Vinterforhold"},5,15,"96",0.59,1180,"Redusert kjemisk dispergerbarhet",0.31,0,0.68,0,"Ikke angitt",21.2,"Lav/dårlig dispergerbarhet","Nei",0,"2002-02-11T01:00:00",816,"Vest-Agder til Hordaland",41,6305369,-224620,"Embla 2002 Forvitringsrapport.pdf"]
["Forseti 2002","Vinterforhold",{"$f":"Oljedatabase[[#This Row],[Oljetype]]&\"-\"&Oljedatabase[[#This Row],[SesongNy]]&\"-\"&Oljedatabase[[#This Row],[Vind (m/s)]]&\"-\"&Oljedatabase[[#This Row],[Tidspunkt (timer)]]","v":"Forseti 2002-Vinterforhold-5-96"},{"$f":"Oljedatabase[[#This Row],[Sesong]]","v":"Vinterforhold"},5,5,"96",0.7,30000,"Lav/dårlig kjemisk dispergerbarhet",0.14000000000000001,0.82,0.05,107,"Ingen eksplosjonsfare",5,"Kjemisk dispergerbar","Ja",2.73,"2002-08-25T02:00:00",816,"Vest-Agder til Hordaland",41,6637182,-212699,"Forseti 2002 Forvitringsrapport.pdf"]
["Forseti 2002","Vinterforhold",{"$f":"Oljedatabase[[#This Row],[Oljetype]]&\"-\"&Oljedatabase[[#This Row],[SesongNy]]&\"-\"&Oljedatabase[[#This Row],[Vind (m/s)]]&\"-\"&Oljedatabase[[#This Row],[Tidspunkt (timer)]]","v":"Forseti 2002-Vinterforhold-2-120"},{"$f":"Oljedatabase[[#This Row],[Sesong]]","v":"Vinterforhold"},5,2,"120",0.61,12000,"Redusert kjemisk dispergerbarhet",0.12,0.88,0,101,"Ingen eksplosjonsfare",4,"Kjemisk dispergerbar","Ja",2.2599999999999998,"2002-08-25T02:00:00",816,"Vest-Agder til Hordaland",41,6637182,-212699,"Forseti 2002 Forvitringsrapport.pdf"]
["Forseti 2002","Vinterforhold",{"$f":"Oljedatabase[[#This Row],[Oljetype]]&\"-\"&Oljedatabase[[#This Row],[SesongNy]]&\"-\"&Oljedatabase[[#This Row],[Vind (m/s)]]&\"-\"&Oljedatabase[[#This Row],[Tidspunkt (timer)]]","v":"Forseti 2002-Vinterforhold-2-96"},{"$f":"Oljedatabase[[#This Row],[Sesong]]","v":"Vinterforhold"},5,2,"96",0.56000000000000005,9000,"Redusert kjemisk dispergerbarhet",0.11,0.89,0,100,"Ingen eksplosjonsfare",3,"Kjemisk dispergerbar","Nei",2.02,"2002-08-25T02:00:00",816,"Vest-Agder til Hordaland",41,6637182,-212699,"Forseti 2002 Forvitringsrapport.pdf"]
["Forseti 2002","Vinterforhold",{"$f":"Oljedatabase[[#This Row],[Oljetype]]&\"-\"&Oljedatabase[[#This Row],[SesongNy]]&\"-\"&Oljedatabase[[#This Row],[Vind (m/s)]]&\"-\"&Oljedatabase[[#This Row],[Tidspunkt (timer)]]","v":"Forseti 2002-Vinterforhold-2-24"},{"$f":"Oljedatabase[[#This Row],[Sesong]]","v":"Vinterforhold"},5,2,"24",0.24,2200,"Kjemisk dispergerbar",0.08,0.92,0,86,"Ingen eksplosjonsfare",1,"Kjemisk dispergerbar","Nei",1.21,"2002-08-25T02:00:00",816,"Vest-Agder til Hordaland",41,6637182,-212699,"Forseti 2002 Forvitringsrapport.pdf"]
["Fossekall 2013","Vinterforhold",{"$f":"Oljedatabase[[#This Row],[Oljetype]]&\"-\"&Oljedatabase[[#This Row],[SesongNy]]&\"-\"&Oljedatabase[[#This Row],[Vind (m/s)]]&\"-\"&Oljedatabase[[#This Row],[Tidspunkt (timer)]]","v":"Fossekall 2013-Vinterforhold-15-24"},{"$f":"Oljedatabase[[#This Row],[Sesong]]","v":"Vinterforhold"},5,15,"24",0.45,20400,"Lav/dårlig kjemisk dispergerbarhet",0.16,0.27,0.55000000000000004,120,"Ingen eksplosjonsfare",25.6,"Lav/dårlig dispergerbarhet","Ja",0.51,"2013-11-30T01:00:00",854,"Nordland",34,7352421,195077,"Fossekall 2013 Forvitringsrapport.pdf"]
["Forseti 2002","Vinterforhold",{"$f":"Oljedatabase[[#This Row],[Oljetype]]&\"-\"&Oljedatabase[[#This Row],[SesongNy]]&\"-\"&Oljedatabase[[#This Row],[Vind (m/s)]]&\"-\"&Oljedatabase[[#This Row],[Tidspunkt (timer)]]","v":"Forseti 2002-Vinterforhold-15-2"},{"$f":"Oljedatabase[[#This Row],[Sesong]]","v":"Vinterforhold"},5,15,"2",0.45,3900,"Kjemisk dispergerbar",0.08,0.76,0.17,86,"Ingen eksplosjonsfare",2,"Kjemisk dispergerbar","Nei",1.38,"2002-08-25T02:00:00",816,"Vest-Agder til Hordaland",41,6637182,-212699,"Forseti 2002 Forvitringsrapport.pdf"]
["Fossekall 2013","Sommerforhold",{"$f":"Oljedatabase[[#This Row],[Oljetype]]&\"-\"&Oljedatabase[[#This Row],[SesongNy]]&\"-\"&Oljedatabase[[#This Row],[Vind (m/s)]]&\"-\"&Oljedatabase[[#This Row],[Tidspunkt (timer)]]","v":"Fossekall 2013-Sommerforhold-10-3"},{"$f":"Oljedatabase[[#This Row],[Sesong]]","v":"Sommerforhold"},15,10,"3",0.81,4200,"Redusert kjemisk dispergerbarhet",0.14000000000000001,0.83,0.02,104,"Ingen eksplosjonsfare",25.9,"Redusert kjemisk dispergerbarhet","Nei",4.41,"2013-11-30T01:00:00",854,"Nordland",34,7352421,195077,"Fossekall 2013 Forvitringsrapport.pdf"]
["Forseti 2002","Sommerforhold",{"$f":"Oljedatabase[[#This Row],[Oljetype]]&\"-\"&Oljedatabase[[#This Row],[SesongNy]]&\"-\"&Oljedatabase[[#This Row],[Vind (m/s)]]&\"-\"&Oljedatabase[[#This Row],[Tidspunkt (timer)]]","v":"Forseti 2002-Sommerforhold-5-24"},{"$f":"Oljedatabase[[#This Row],[Sesong]]","v":"Sommerforhold"},15,5,"24",0.62,6200,"Redusert kjemisk dispergerbarhet",0.12,0.86,0.02,103,"Ingen eksplosjonsfare",4,"Kjemisk dispergerbar","Nei",2.2599999999999998,"2002-08-25T02:00:00",816,"Vest-Agder til Hordaland",41,6637182,-212699,"Forseti 2002 Forvitringsrapport.pdf"]
["Forseti 2002","Vinterforhold",{"$f":"Oljedatabase[[#This Row],[Oljetype]]&\"-\"&Oljedatabase[[#This Row],[SesongNy]]&\"-\"&Oljedatabase[[#This Row],[Vind (m/s)]]&\"-\"&Oljedatabase[[#This Row],[Tidspunkt (timer)]]","v":"Forseti 2002-Vinterforhold-10-24"},{"$f":"Oljedatabase[[#This Row],[Sesong]]","v":"Vinterforhold"},5,10,"24",0.7,28000,"Lav/dårlig kjemisk dispergerbarhet",0.12,0.67,0.21,104,"Ingen eksplosjonsfare",4,"Kjemisk dispergerbar","Ja",2.23,"2002-08-25T02:00:00",816,"Vest-Agder til Hordaland",41,6637182,-212699,"Forseti 2002 Forvitringsrapport.pdf"]
["Fram 2013","Vinterforhold",{"$f":"Oljedatabase[[#This Row],[Oljetype]]&\"-\"&Oljedatabase[[#This Row],[SesongNy]]&\"-\"&Oljedatabase[[#This Row],[Vind (m/s)]]&\"-\"&Oljedatabase[[#This Row],[Tidspunkt (timer)]]","v":"Fram 2013-Vinterforhold-2-2"},{"$f":"Oljedatabase[[#This Row],[Sesong]]","v":"Vinterforhold"},5,2,"2",0.13,437,"Redusert kjemisk dispergerbarhet",0.08,0.91,0,35,"Eksplosjonsfare ved tanking",11.3,"Redusert kjemisk dispergerbarhet","Nei",1.05,"2013-08-15T02:00:00",850,"Vestlandet",34,6826639,-117214,"Fram 2013 Forvitringsrapport.pdf"]
["Fossekall 2013","Vinterforhold",{"$f":"Oljedatabase[[#This Row],[Oljetype]]&\"-\"&Oljedatabase[[#This Row],[SesongNy]]&\"-\"&Oljedatabase[[#This Row],[Vind (m/s)]]&\"-\"&Oljedatabase[[#This Row],[Tidspunkt (timer)]]","v":"Fossekall 2013-Vinterforhold-10-120"},{"$f":"Oljedatabase[[#This Row],[Sesong]]","v":"Vinterforhold"},5,10,"120",0.45,20100,"Lav/dårlig kjemisk dispergerbarhet",0.17,0.28000000000000003,0.54,126,"Ingen eksplosjonsfare",25.5,"Lav/dårlig dispergerbarhet","Ja",0.51,"2013-11-30T01:00:00",854,"Nordland",34,7352421,195077,"Fossekall 2013 Forvitringsrapport.pdf"]
["Fossekall 2013","Vinterforhold",{"$f":"Oljedatabase[[#This Row],[Oljetype]]&\"-\"&Oljedatabase[[#This Row],[SesongNy]]&\"-\"&Oljedatabase[[#This Row],[Vind (m/s)]]&\"-\"&Oljedatabase[[#This Row],[Tidspunkt (timer)]]","v":"Fossekall 2013-Vinterforhold-2-2"},{"$f":"Oljedatabase[[#This Row],[Sesong]]","v":"Vinterforhold"},5,2,"2",0.01,39300,"Lav/dårlig kjemisk dispergerbarhet",0.09,0.9,0,80,"Ingen eksplosjonsfare",26.3,"Lav/dårlig dispergerbarhet","Ja",0.92,"2013-11-30T01:00:00",854,"Nordland",34,7352421,195077,"Fossekall 2013 Forvitringsrapport.pdf"]
["Fram 2013","Sommerforhold",{"$f":"Oljedatabase[[#This Row],[Oljetype]]&\"-\"&Oljedatabase[[#This Row],[SesongNy]]&\"-\"&Oljedatabase[[#This Row],[Vind (m/s)]]&\"-\"&Oljedatabase[[#This Row],[Tidspunkt (timer)]]","v":"Fram 2013-Sommerforhold-2-6"},{"$f":"Oljedatabase[[#This Row],[Sesong]]","v":"Sommerforhold"},15,2,"6",0.34,672,"Redusert kjemisk dispergerbarhet",0.16,0.84,0,59,"Eksplosjonsfare ved tanking",17.2,"Kjemisk dispergerbar","Nei",1.28,"2013-08-15T02:00:00",850,"Vestlandet",34,6826639,-117214,"Fram 2013 Forvitringsrapport.pdf"]
["Fossekall 2013","Sommerforhold",{"$f":"Oljedatabase[[#This Row],[Oljetype]]&\"-\"&Oljedatabase[[#This Row],[SesongNy]]&\"-\"&Oljedatabase[[#This Row],[Vind (m/s)]]&\"-\"&Oljedatabase[[#This Row],[Tidspunkt (timer)]]","v":"Fossekall 2013-Sommerforhold-15-120"},{"$f":"Oljedatabase[[#This Row],[Sesong]]","v":"Sommerforhold"},15,15,"120",0.82,3830,"Redusert kjemisk dispergerbarhet",0.17,0,0.83,131,"Ingen eksplosjonsfare",25,"Redusert kjemisk dispergerbarhet","Nei",0,"2013-11-30T01:00:00",854,"Nordland",34,7352421,195077,"Fossekall 2013 Forvitringsrapport.pdf"]
["Fram 2013","Sommerforhold",{"$f":"Oljedatabase[[#This Row],[Oljetype]]&\"-\"&Oljedatabase[[#This Row],[SesongNy]]&\"-\"&Oljedatabase[[#This Row],[Vind (m/s)]]&\"-\"&Oljedatabase[[#This Row],[Tidspunkt (timer)]]","v":"Fram 2013-Sommerforhold-2-2"},{"$f":"Oljedatabase[[#This Row],[Sesong]]","v":"Sommerforhold"},15,2,"2",0.18,329,"Redusert kjemisk dispergerbarhet",0.11,0.89,0,42,"Eksplosjonsfare ved tanking",13.1,"Kjemisk dispergerbar","Nei",1.0900000000000001,"2013-08-15T02:00:00",850,"Vestlandet",34,6826639,-117214,"Fram 2013 Forvitringsrapport.pdf"]
["Frøy 1996","Sommerforhold",{"$f":"Oljedatabase[[#This Row],[Oljetype]]&\"-\"&Oljedatabase[[#This Row],[SesongNy]]&\"-\"&Oljedatabase[[#This Row],[Vind (m/s)]]&\"-\"&Oljedatabase[[#This Row],[Tidspunkt (timer)]]","v":"Frøy 1996-Sommerforhold-15-12"},{"$f":"Oljedatabase[[#This Row],[Sesong]]","v":"Sommerforhold"},15,15,"12",0.65,11500,"Ikke kjemisk dispergerbar",0.34,0.05,0.6,151,"Ingen eksplosjonsfare",32.1,"Lav/dårlig dispergerbarhet","Ja",0.15,"1996-08-04T02:00:00",836,"Nordsjøen",37,6687544,-196823,"Frøy 1996 Forvitringsrapport.pdf"]
["Fossekall 2013","Vinterforhold",{"$f":"Oljedatabase[[#This Row],[Oljetype]]&\"-\"&Oljedatabase[[#This Row],[SesongNy]]&\"-\"&Oljedatabase[[#This Row],[Vind (m/s)]]&\"-\"&Oljedatabase[[#This Row],[Tidspunkt (timer)]]","v":"Fossekall 2013-Vinterforhold-5-9"},{"$f":"Oljedatabase[[#This Row],[Sesong]]","v":"Vinterforhold"},5,5,"9",0.18,27500,"Lav/dårlig kjemisk dispergerbarhet",0.13,0.86,0,101,"Ingen eksplosjonsfare",25.9,"Lav/dårlig dispergerbarhet","Ja",1.06,"2013-11-30T01:00:00",854,"Nordland",34,7352421,195077,"Fossekall 2013 Forvitringsrapport.pdf"]
["Embla 2002","Sommerforhold",{"$f":"Oljedatabase[[#This Row],[Oljetype]]&\"-\"&Oljedatabase[[#This Row],[SesongNy]]&\"-\"&Oljedatabase[[#This Row],[Vind (m/s)]]&\"-\"&Oljedatabase[[#This Row],[Tidspunkt (timer)]]","v":"Embla 2002-Sommerforhold-2-2"},{"$f":"Oljedatabase[[#This Row],[Sesong]]","v":"Sommerforhold"},15,2,"2",0.15,77,"Kjemisk dispergerbar",0.2,0.79,0,0,"Ikke angitt",4,"Kjemisk dispergerbar","Nei",0.93,"2002-02-11T01:00:00",816,"Vest-Agder til Hordaland",41,6305369,-224620,"Embla 2002 Forvitringsrapport.pdf"]
["Fossekall 2013","Vinterforhold",{"$f":"Oljedatabase[[#This Row],[Oljetype]]&\"-\"&Oljedatabase[[#This Row],[SesongNy]]&\"-\"&Oljedatabase[[#This Row],[Vind (m/s)]]&\"-\"&Oljedatabase[[#This Row],[Tidspunkt (timer)]]","v":"Fossekall 2013-Vinterforhold-10-9"},{"$f":"Oljedatabase[[#This Row],[Sesong]]","v":"Vinterforhold"},5,10,"9",0.39,21900,"Lav/dårlig kjemisk dispergerbarhet",0.15,0.8,0.04,108,"Ingen eksplosjonsfare",25.8,"Lav/dårlig dispergerbarhet","Ja",1.33,"2013-11-30T01:00:00",854,"Nordland",34,7352421,195077,"Fossekall 2013 Forvitringsrapport.pdf"]
["Fram 2013","Vinterforhold",{"$f":"Oljedatabase[[#This Row],[Oljetype]]&\"-\"&Oljedatabase[[#This Row],[SesongNy]]&\"-\"&Oljedatabase[[#This Row],[Vind (m/s)]]&\"-\"&Oljedatabase[[#This Row],[Tidspunkt (timer)]]","v":"Fram 2013-Vinterforhold-15-72"},{"$f":"Oljedatabase[[#This Row],[Sesong]]","v":"Vinterforhold"},5,15,"72",0.8,19600,"Ikke kjemisk dispergerbar",0.24,0,0.75,114,"Ingen eksplosjonsfare",29.8,"Lav/dårlig dispergerbarhet","Ja",0,"2013-08-15T02:00:00",850,"Vestlandet",34,6826639,-117214,"Fram 2013 Forvitringsrapport.pdf"]
["Fram 2013","Sommerforhold",{"$f":"Oljedatabase[[#This Row],[Oljetype]]&\"-\"&Oljedatabase[[#This Row],[SesongNy]]&\"-\"&Oljedatabase[[#This Row],[Vind (m/s)]]&\"-\"&Oljedatabase[[#This Row],[Tidspunkt (timer)]]","v":"Fram 2013-Sommerforhold-15-120"},{"$f":"Oljedatabase[[#This Row],[Sesong]]","v":"Sommerforhold"},15,15,"120",0.8,20100,"Ikke kjemisk dispergerbar",0.26,0,0.73,143,"Ingen eksplosjonsfare",36.1,"Lav/dårlig dispergerbarhet","Ja",0,"2013-08-15T02:00:00",850,"Vestlandet",34,6826639,-117214,"Fram 2013 Forvitringsrapport.pdf"]
["Fram 2013","Vinterforhold",{"$f":"Oljedatabase[[#This Row],[Oljetype]]&\"-\"&Oljedatabase[[#This Row],[SesongNy]]&\"-\"&Oljedatabase[[#This Row],[Vind (m/s)]]&\"-\"&Oljedatabase[[#This Row],[Tidspunkt (timer)]]","v":"Fram 2013-Vinterforhold-15-96"},{"$f":"Oljedatabase[[#This Row],[Sesong]]","v":"Vinterforhold"},5,15,"96",0.8,23000,"Ikke kjemisk dispergerbar",0.24,0,0.75,118,"Ingen eksplosjonsfare",30.8,"Lav/dårlig dispergerbarhet","Ja",0,"2013-08-15T02:00:00",850,"Vestlandet",34,6826639,-117214,"Fram 2013 Forvitringsrapport.pdf"]
["Frøy 1996","Sommerforhold",{"$f":"Oljedatabase[[#This Row],[Oljetype]]&\"-\"&Oljedatabase[[#This Row],[SesongNy]]&\"-\"&Oljedatabase[[#This Row],[Vind (m/s)]]&\"-\"&Oljedatabase[[#This Row],[Tidspunkt (timer)]]","v":"Frøy 1996-Sommerforhold-10-2"},{"$f":"Oljedatabase[[#This Row],[Sesong]]","v":"Sommerforhold"},15,10,"2",0.62,3460,"Redusert kjemisk dispergerbarhet",0.3,0.62,7.0000000000000007E-2,112,"Ingen eksplosjonsfare",27.8,"Redusert kjemisk dispergerbarhet","Nei",1.65,"1996-08-04T02:00:00",836,"Nordsjøen",37,6687544,-196823,"Frøy 1996 Forvitringsrapport.pdf"]
["Fram 2013","Vinterforhold",{"$f":"Oljedatabase[[#This Row],[Oljetype]]&\"-\"&Oljedatabase[[#This Row],[SesongNy]]&\"-\"&Oljedatabase[[#This Row],[Vind (m/s)]]&\"-\"&Oljedatabase[[#This Row],[Tidspunkt (timer)]]","v":"Fram 2013-Vinterforhold-2-6"},{"$f":"Oljedatabase[[#This Row],[Sesong]]","v":"Vinterforhold"},5,2,"6",0.26,921,"Redusert kjemisk dispergerbarhet",0.13,0.86,0,51,"Eksplosjonsfare ved tanking",15.2,"Redusert kjemisk dispergerbarhet","Nei",1.18,"2013-08-15T02:00:00",850,"Vestlandet",34,6826639,-117214,"Fram 2013 Forvitringsrapport.pdf"]
["Frøy 1996","Sommerforhold",{"$f":"Oljedatabase[[#This Row],[Oljetype]]&\"-\"&Oljedatabase[[#This Row],[SesongNy]]&\"-\"&Oljedatabase[[#This Row],[Vind (m/s)]]&\"-\"&Oljedatabase[[#This Row],[Tidspunkt (timer)]]","v":"Frøy 1996-Sommerforhold-5-12"},{"$f":"Oljedatabase[[#This Row],[Sesong]]","v":"Sommerforhold"},15,5,"12",0.65,5430,"Redusert kjemisk dispergerbarhet",0.33,0.64,0.02,124,"Ingen eksplosjonsfare",29.1,"Redusert kjemisk dispergerbarhet","Nei",1.86,"1996-08-04T02:00:00",836,"Nordsjøen",37,6687544,-196823,"Frøy 1996 Forvitringsrapport.pdf"]
["Fossekall 2013","Vinterforhold",{"$f":"Oljedatabase[[#This Row],[Oljetype]]&\"-\"&Oljedatabase[[#This Row],[SesongNy]]&\"-\"&Oljedatabase[[#This Row],[Vind (m/s)]]&\"-\"&Oljedatabase[[#This Row],[Tidspunkt (timer)]]","v":"Fossekall 2013-Vinterforhold-15-12"},{"$f":"Oljedatabase[[#This Row],[Sesong]]","v":"Vinterforhold"},5,15,"12",0.45,20600,"Lav/dårlig kjemisk dispergerbarhet",0.16,0.52,0.31,115,"Ingen eksplosjonsfare",25.7,"Lav/dårlig dispergerbarhet","Ja",0.96,"2013-11-30T01:00:00",854,"Nordland",34,7352421,195077,"Fossekall 2013 Forvitringsrapport.pdf"]
["Frøy 1996","Vinterforhold",{"$f":"Oljedatabase[[#This Row],[Oljetype]]&\"-\"&Oljedatabase[[#This Row],[SesongNy]]&\"-\"&Oljedatabase[[#This Row],[Vind (m/s)]]&\"-\"&Oljedatabase[[#This Row],[Tidspunkt (timer)]]","v":"Frøy 1996-Vinterforhold-2-3"},{"$f":"Oljedatabase[[#This Row],[Sesong]]","v":"Vinterforhold"},5,2,"3",0.17,363,"Kjemisk dispergerbar",0.21,0.78,0,76,"Ingen eksplosjonsfare",23.3,"Lav/dårlig dispergerbarhet","Nei",0.95,"1996-08-04T02:00:00",836,"Nordsjøen",37,6687544,-196823,"Frøy 1996 Forvitringsrapport.pdf"]
["Garantiana 2013","Sommerforhold",{"$f":"Oljedatabase[[#This Row],[Oljetype]]&\"-\"&Oljedatabase[[#This Row],[SesongNy]]&\"-\"&Oljedatabase[[#This Row],[Vind (m/s)]]&\"-\"&Oljedatabase[[#This Row],[Tidspunkt (timer)]]","v":"Garantiana 2013-Sommerforhold-10-3"},{"$f":"Oljedatabase[[#This Row],[Sesong]]","v":"Sommerforhold"},15,10,"3",0.37,5460,"Redusert kjemisk dispergerbarhet",0.08,0.87,0.04,92,"Ingen eksplosjonsfare",32.799999999999997,"Lav/dårlig dispergerbarhet","Nei",1.4,"2013-09-12T02:00:00",873,"Vestlandet",30,6889703,-147284,"Garantiana 2013 Forvitringsrapport.pdf"]
["Garantiana 2013","Sommerforhold",{"$f":"Oljedatabase[[#This Row],[Oljetype]]&\"-\"&Oljedatabase[[#This Row],[SesongNy]]&\"-\"&Oljedatabase[[#This Row],[Vind (m/s)]]&\"-\"&Oljedatabase[[#This Row],[Tidspunkt (timer)]]","v":"Garantiana 2013-Sommerforhold-2-2"},{"$f":"Oljedatabase[[#This Row],[Sesong]]","v":"Sommerforhold"},15,2,"2",0.02,1790,"Redusert kjemisk dispergerbarhet",0.05,0.94,0,63,"Ingen eksplosjonsfare",32,"Lav/dårlig dispergerbarhet","Nei",0.97,"2013-09-12T02:00:00",873,"Vestlandet",30,6889703,-147284,"Garantiana 2013 Forvitringsrapport.pdf"]
["Garantiana 2013","Sommerforhold",{"$f":"Oljedatabase[[#This Row],[Oljetype]]&\"-\"&Oljedatabase[[#This Row],[SesongNy]]&\"-\"&Oljedatabase[[#This Row],[Vind (m/s)]]&\"-\"&Oljedatabase[[#This Row],[Tidspunkt (timer)]]","v":"Garantiana 2013-Sommerforhold-2-12"},{"$f":"Oljedatabase[[#This Row],[Sesong]]","v":"Sommerforhold"},15,2,"12",0.14000000000000001,3120,"Redusert kjemisk dispergerbarhet",7.0000000000000007E-2,0.92,0,86,"Ingen eksplosjonsfare",32.6,"Lav/dårlig dispergerbarhet","Nei",1.07,"2013-09-12T02:00:00",873,"Vestlandet",30,6889703,-147284,"Garantiana 2013 Forvitringsrapport.pdf"]
["Frøy 1996","Vinterforhold",{"$f":"Oljedatabase[[#This Row],[Oljetype]]&\"-\"&Oljedatabase[[#This Row],[SesongNy]]&\"-\"&Oljedatabase[[#This Row],[Vind (m/s)]]&\"-\"&Oljedatabase[[#This Row],[Tidspunkt (timer)]]","v":"Frøy 1996-Vinterforhold-15-3"},{"$f":"Oljedatabase[[#This Row],[Sesong]]","v":"Vinterforhold"},5,15,"3",0.64,8380,"Ikke kjemisk dispergerbar",0.3,0.33,0.36,118,"Ingen eksplosjonsfare",28.4,"Lav/dårlig dispergerbarhet","Nei",0.94,"1996-08-04T02:00:00",836,"Nordsjøen",37,6687544,-196823,"Frøy 1996 Forvitringsrapport.pdf"]
["Frøy 1996","Vinterforhold",{"$f":"Oljedatabase[[#This Row],[Oljetype]]&\"-\"&Oljedatabase[[#This Row],[SesongNy]]&\"-\"&Oljedatabase[[#This Row],[Vind (m/s)]]&\"-\"&Oljedatabase[[#This Row],[Tidspunkt (timer)]]","v":"Frøy 1996-Vinterforhold-15-96"},{"$f":"Oljedatabase[[#This Row],[Sesong]]","v":"Vinterforhold"},5,15,"96",0.64,37300,"Ikke kjemisk dispergerbar",0.32,0,0.67,168,"Ingen eksplosjonsfare",34,"Lav/dårlig dispergerbarhet","Ja",0,"1996-08-04T02:00:00",836,"Nordsjøen",37,6687544,-196823,"Frøy 1996 Forvitringsrapport.pdf"]
["Garantiana 2013","Vinterforhold",{"$f":"Oljedatabase[[#This Row],[Oljetype]]&\"-\"&Oljedatabase[[#This Row],[SesongNy]]&\"-\"&Oljedatabase[[#This Row],[Vind (m/s)]]&\"-\"&Oljedatabase[[#This Row],[Tidspunkt (timer)]]","v":"Garantiana 2013-Vinterforhold-2-96"},{"$f":"Oljedatabase[[#This Row],[Sesong]]","v":"Vinterforhold"},5,2,"96",0.08,25200,"Ikke kjemisk dispergerbar",0.09,0.9,0,102,"Ingen eksplosjonsfare",33.1,"Lav/dårlig dispergerbarhet","Ja",0.98,"2013-09-12T02:00:00",873,"Vestlandet",30,6889703,-147284,"Garantiana 2013 Forvitringsrapport.pdf"]
["Frøy 1996","Vinterforhold",{"$f":"Oljedatabase[[#This Row],[Oljetype]]&\"-\"&Oljedatabase[[#This Row],[SesongNy]]&\"-\"&Oljedatabase[[#This Row],[Vind (m/s)]]&\"-\"&Oljedatabase[[#This Row],[Tidspunkt (timer)]]","v":"Frøy 1996-Vinterforhold-10-120"},{"$f":"Oljedatabase[[#This Row],[Sesong]]","v":"Vinterforhold"},5,10,"120",0.63,30600,"Ikke kjemisk dispergerbar",0.36,0.03,0.59,162,"Ingen eksplosjonsfare",33.299999999999997,"Lav/dårlig dispergerbarhet","Ja",0.1,"1996-08-04T02:00:00",836,"Nordsjøen",37,6687544,-196823,"Frøy 1996 Forvitringsrapport.pdf"]
["Garantiana 2013","Sommerforhold",{"$f":"Oljedatabase[[#This Row],[Oljetype]]&\"-\"&Oljedatabase[[#This Row],[SesongNy]]&\"-\"&Oljedatabase[[#This Row],[Vind (m/s)]]&\"-\"&Oljedatabase[[#This Row],[Tidspunkt (timer)]]","v":"Garantiana 2013-Sommerforhold-10-1"},{"$f":"Oljedatabase[[#This Row],[Sesong]]","v":"Sommerforhold"},15,10,"1",0.15,2760,"Redusert kjemisk dispergerbarhet",0.06,0.91,0.01,77,"Ingen eksplosjonsfare",32.4,"Lav/dårlig dispergerbarhet","Nei",1.0900000000000001,"2013-09-12T02:00:00",873,"Vestlandet",30,6889703,-147284,"Garantiana 2013 Forvitringsrapport.pdf"]
["Fossekall 2013","Sommerforhold",{"$f":"Oljedatabase[[#This Row],[Oljetype]]&\"-\"&Oljedatabase[[#This Row],[SesongNy]]&\"-\"&Oljedatabase[[#This Row],[Vind (m/s)]]&\"-\"&Oljedatabase[[#This Row],[Tidspunkt (timer)]]","v":"Fossekall 2013-Sommerforhold-2-72"},{"$f":"Oljedatabase[[#This Row],[Sesong]]","v":"Sommerforhold"},15,2,"72",0.81,4040,"Redusert kjemisk dispergerbarhet",0.16,0.83,0,115,"Ingen eksplosjonsfare",25.7,"Redusert kjemisk dispergerbarhet","Nei",4.49,"2013-11-30T01:00:00",854,"Nordland",34,7352421,195077,"Fossekall 2013 Forvitringsrapport.pdf"]
["Garantiana 2013","Sommerforhold",{"$f":"Oljedatabase[[#This Row],[Oljetype]]&\"-\"&Oljedatabase[[#This Row],[SesongNy]]&\"-\"&Oljedatabase[[#This Row],[Vind (m/s)]]&\"-\"&Oljedatabase[[#This Row],[Tidspunkt (timer)]]","v":"Garantiana 2013-Sommerforhold-15-12"},{"$f":"Oljedatabase[[#This Row],[Sesong]]","v":"Sommerforhold"},15,15,"12",0.69,32800,"Ikke kjemisk dispergerbar",0.11,0.46,0.41,125,"Ingen eksplosjonsfare",33.700000000000003,"Lav/dårlig dispergerbarhet","Ja",1.55,"2013-09-12T02:00:00",873,"Vestlandet",30,6889703,-147284,"Garantiana 2013 Forvitringsrapport.pdf"]
["Garantiana 2013","Sommerforhold",{"$f":"Oljedatabase[[#This Row],[Oljetype]]&\"-\"&Oljedatabase[[#This Row],[SesongNy]]&\"-\"&Oljedatabase[[#This Row],[Vind (m/s)]]&\"-\"&Oljedatabase[[#This Row],[Tidspunkt (timer)]]","v":"Garantiana 2013-Sommerforhold-5-9"},{"$f":"Oljedatabase[[#This Row],[Sesong]]","v":"Sommerforhold"},15,5,"9",0.34,5180,"Redusert kjemisk dispergerbarhet",0.08,0.9,0,93,"Ingen eksplosjonsfare",32.799999999999997,"Lav/dårlig dispergerbarhet","Nei",1.39,"2013-09-12T02:00:00",873,"Vestlandet",30,6889703,-147284,"Garantiana 2013 Forvitringsrapport.pdf"]
["Gaupe 2011","Sommerforhold",{"$f":"Oljedatabase[[#This Row],[Oljetype]]&\"-\"&Oljedatabase[[#This Row],[SesongNy]]&\"-\"&Oljedatabase[[#This Row],[Vind (m/s)]]&\"-\"&Oljedatabase[[#This Row],[Tidspunkt (timer)]]","v":"Gaupe 2011-Sommerforhold-2-12"},{"$f":"Oljedatabase[[#This Row],[Sesong]]","v":"Sommerforhold"},15,2,"12",0.23,820,"Kjemisk dispergerbar",0.13,0.86,0,60,"Ingen eksplosjonsfare",25.3,"Redusert kjemisk dispergerbarhet","Nei",1.1299999999999999,"2011-02-23T01:00:00",862,"Vest-Agder til Hordaland",32,6500357,-270523,"Gaupe 2011 Forvitringsrapport.pdf"]
["Gaupe 2011","Sommerforhold",{"$f":"Oljedatabase[[#This Row],[Oljetype]]&\"-\"&Oljedatabase[[#This Row],[SesongNy]]&\"-\"&Oljedatabase[[#This Row],[Vind (m/s)]]&\"-\"&Oljedatabase[[#This Row],[Tidspunkt (timer)]]","v":"Gaupe 2011-Sommerforhold-2-120"},{"$f":"Oljedatabase[[#This Row],[Sesong]]","v":"Sommerforhold"},15,2,"120",0.73,8230,"Redusert kjemisk dispergerbarhet",0.2,0.79,0,89,"Ingen eksplosjonsfare",27.8,"Redusert kjemisk dispergerbarhet","Nei",2.97,"2011-02-23T01:00:00",862,"Vest-Agder til Hordaland",32,6500357,-270523,"Gaupe 2011 Forvitringsrapport.pdf"]
["Gaupe 2011","Sommerforhold",{"$f":"Oljedatabase[[#This Row],[Oljetype]]&\"-\"&Oljedatabase[[#This Row],[SesongNy]]&\"-\"&Oljedatabase[[#This Row],[Vind (m/s)]]&\"-\"&Oljedatabase[[#This Row],[Tidspunkt (timer)]]","v":"Gaupe 2011-Sommerforhold-5-6"},{"$f":"Oljedatabase[[#This Row],[Sesong]]","v":"Sommerforhold"},15,5,"6",0.4,1420,"Kjemisk dispergerbar",0.13,0.86,0,60,"Ingen eksplosjonsfare",25.3,"Redusert kjemisk dispergerbarhet","Nei",1.43,"2011-02-23T01:00:00",862,"Vest-Agder til Hordaland",32,6500357,-270523,"Gaupe 2011 Forvitringsrapport.pdf"]
["Gaupe 2011","Sommerforhold",{"$f":"Oljedatabase[[#This Row],[Oljetype]]&\"-\"&Oljedatabase[[#This Row],[SesongNy]]&\"-\"&Oljedatabase[[#This Row],[Vind (m/s)]]&\"-\"&Oljedatabase[[#This Row],[Tidspunkt (timer)]]","v":"Gaupe 2011-Sommerforhold-10-3"},{"$f":"Oljedatabase[[#This Row],[Sesong]]","v":"Sommerforhold"},15,10,"3",0.54,2440,"Redusert kjemisk dispergerbarhet",0.13,0.83,0.03,61,"Ingen eksplosjonsfare",25.4,"Redusert kjemisk dispergerbarhet","Nei",1.81,"2011-02-23T01:00:00",862,"Vest-Agder til Hordaland",32,6500357,-270523,"Gaupe 2011 Forvitringsrapport.pdf"]
["Garantiana 2013","Vinterforhold",{"$f":"Oljedatabase[[#This Row],[Oljetype]]&\"-\"&Oljedatabase[[#This Row],[SesongNy]]&\"-\"&Oljedatabase[[#This Row],[Vind (m/s)]]&\"-\"&Oljedatabase[[#This Row],[Tidspunkt (timer)]]","v":"Garantiana 2013-Vinterforhold-10-48"},{"$f":"Oljedatabase[[#This Row],[Sesong]]","v":"Vinterforhold"},5,10,"48",0.34,62000,"Ikke kjemisk dispergerbar",0.11,0.63,0.24,121,"Ingen eksplosjonsfare",33.6,"Lav/dårlig dispergerbarhet","Ja",0.97,"2013-09-12T02:00:00",873,"Vestlandet",30,6889703,-147284,"Garantiana 2013 Forvitringsrapport.pdf"]
["Gaupe 2011","Vinterforhold",{"$f":"Oljedatabase[[#This Row],[Oljetype]]&\"-\"&Oljedatabase[[#This Row],[SesongNy]]&\"-\"&Oljedatabase[[#This Row],[Vind (m/s)]]&\"-\"&Oljedatabase[[#This Row],[Tidspunkt (timer)]]","v":"Gaupe 2011-Vinterforhold-10-1"},{"$f":"Oljedatabase[[#This Row],[Sesong]]","v":"Vinterforhold"},5,10,"1",0.26,1150,"Kjemisk dispergerbar",0.08,0.91,0,41,"Eksplosjonsfare ved tanking",23.5,"Lav/dårlig dispergerbarhet","Nei",1.23,"2011-02-23T01:00:00",862,"Vest-Agder til Hordaland",32,6500357,-270523,"Gaupe 2011 Forvitringsrapport.pdf"]
["Gaupe 2011","Vinterforhold",{"$f":"Oljedatabase[[#This Row],[Oljetype]]&\"-\"&Oljedatabase[[#This Row],[SesongNy]]&\"-\"&Oljedatabase[[#This Row],[Vind (m/s)]]&\"-\"&Oljedatabase[[#This Row],[Tidspunkt (timer)]]","v":"Gaupe 2011-Vinterforhold-10-72"},{"$f":"Oljedatabase[[#This Row],[Sesong]]","v":"Vinterforhold"},5,10,"72",0.75,20200,"Lav/dårlig kjemisk dispergerbarhet",0.21,0.36,0.42,96,"Ingen eksplosjonsfare",28.4,"Lav/dårlig dispergerbarhet","Ja",1.45,"2011-02-23T01:00:00",862,"Vest-Agder til Hordaland",32,6500357,-270523,"Gaupe 2011 Forvitringsrapport.pdf"]
["Gaupe 2011","Vinterforhold",{"$f":"Oljedatabase[[#This Row],[Oljetype]]&\"-\"&Oljedatabase[[#This Row],[SesongNy]]&\"-\"&Oljedatabase[[#This Row],[Vind (m/s)]]&\"-\"&Oljedatabase[[#This Row],[Tidspunkt (timer)]]","v":"Gaupe 2011-Vinterforhold-10-3"},{"$f":"Oljedatabase[[#This Row],[Sesong]]","v":"Vinterforhold"},5,10,"3",0.54,4100,"Redusert kjemisk dispergerbarhet",0.11,0.85,0.02,54,"Eksplosjonsfare ved tanking",24.8,"Lav/dårlig dispergerbarhet","Nei",1.86,"2011-02-23T01:00:00",862,"Vest-Agder til Hordaland",32,6500357,-270523,"Gaupe 2011 Forvitringsrapport.pdf"]
["Gaupe 2011","Sommerforhold",{"$f":"Oljedatabase[[#This Row],[Oljetype]]&\"-\"&Oljedatabase[[#This Row],[SesongNy]]&\"-\"&Oljedatabase[[#This Row],[Vind (m/s)]]&\"-\"&Oljedatabase[[#This Row],[Tidspunkt (timer)]]","v":"Gaupe 2011-Sommerforhold-10-24"},{"$f":"Oljedatabase[[#This Row],[Sesong]]","v":"Sommerforhold"},15,10,"24",0.75,9420,"Redusert kjemisk dispergerbarhet",0.21,0.55000000000000004,0.23,93,"Ingen eksplosjonsfare",28.1,"Redusert kjemisk dispergerbarhet","Nei",2.2200000000000002,"2011-02-23T01:00:00",862,"Vest-Agder til Hordaland",32,6500357,-270523,"Gaupe 2011 Forvitringsrapport.pdf"]
["Gjøa 2011","Sommerforhold",{"$f":"Oljedatabase[[#This Row],[Oljetype]]&\"-\"&Oljedatabase[[#This Row],[SesongNy]]&\"-\"&Oljedatabase[[#This Row],[Vind (m/s)]]&\"-\"&Oljedatabase[[#This Row],[Tidspunkt (timer)]]","v":"Gjøa 2011-Sommerforhold-10-2"},{"$f":"Oljedatabase[[#This Row],[Sesong]]","v":"Sommerforhold"},15,10,"2",0.17,73,"Kjemisk dispergerbar",0.3,0.51,0.17,73,"Ingen eksplosjonsfare",-2.6,"Kjemisk dispergerbar","Nei",0.62,"2011-10-18T02:00:00",836,"Sogn og Fjordane til Møre og Romsdal",37,6850388,-92218,"Gjøa 2011 Forvitringsrapport.pdf"]
["Gjøa 2011","Sommerforhold",{"$f":"Oljedatabase[[#This Row],[Oljetype]]&\"-\"&Oljedatabase[[#This Row],[SesongNy]]&\"-\"&Oljedatabase[[#This Row],[Vind (m/s)]]&\"-\"&Oljedatabase[[#This Row],[Tidspunkt (timer)]]","v":"Gjøa 2011-Sommerforhold-5-12"},{"$f":"Oljedatabase[[#This Row],[Sesong]]","v":"Sommerforhold"},15,5,"12",0.31,170,"Kjemisk dispergerbar",0.37,0.55000000000000004,7.0000000000000007E-2,92,"Ingen eksplosjonsfare",4,"Kjemisk dispergerbar","Nei",0.8,"2011-10-18T02:00:00",836,"Sogn og Fjordane til Møre og Romsdal",37,6850388,-92218,"Gjøa 2011 Forvitringsrapport.pdf"]
["Gjøa 2011","Sommerforhold",{"$f":"Oljedatabase[[#This Row],[Oljetype]]&\"-\"&Oljedatabase[[#This Row],[SesongNy]]&\"-\"&Oljedatabase[[#This Row],[Vind (m/s)]]&\"-\"&Oljedatabase[[#This Row],[Tidspunkt (timer)]]","v":"Gjøa 2011-Sommerforhold-10-3"},{"$f":"Oljedatabase[[#This Row],[Sesong]]","v":"Sommerforhold"},15,10,"3",0.24,110,"Kjemisk dispergerbar",0.32,0.41,0.25,82,"Ingen eksplosjonsfare",0.7,"Kjemisk dispergerbar","Nei",0.55000000000000004,"2011-10-18T02:00:00",836,"Sogn og Fjordane til Møre og Romsdal",37,6850388,-92218,"Gjøa 2011 Forvitringsrapport.pdf"]
["Gjøa 2011","Sommerforhold",{"$f":"Oljedatabase[[#This Row],[Oljetype]]&\"-\"&Oljedatabase[[#This Row],[SesongNy]]&\"-\"&Oljedatabase[[#This Row],[Vind (m/s)]]&\"-\"&Oljedatabase[[#This Row],[Tidspunkt (timer)]]","v":"Gjøa 2011-Sommerforhold-10-1"},{"$f":"Oljedatabase[[#This Row],[Sesong]]","v":"Sommerforhold"},15,10,"1",0.08,37,"Kjemisk dispergerbar",0.27,0.64,0.08,58,"Eksplosjonsfare ved tanking",-8.1999999999999993,"Kjemisk dispergerbar","Nei",0.69,"2011-10-18T02:00:00",836,"Sogn og Fjordane til Møre og Romsdal",37,6850388,-92218,"Gjøa 2011 Forvitringsrapport.pdf"]
["Gjøa 2011","Vinterforhold",{"$f":"Oljedatabase[[#This Row],[Oljetype]]&\"-\"&Oljedatabase[[#This Row],[SesongNy]]&\"-\"&Oljedatabase[[#This Row],[Vind (m/s)]]&\"-\"&Oljedatabase[[#This Row],[Tidspunkt (timer)]]","v":"Gjøa 2011-Vinterforhold-2-96"},{"$f":"Oljedatabase[[#This Row],[Sesong]]","v":"Vinterforhold"},5,2,"96",0.62,1530,"Redusert kjemisk dispergerbarhet",0.39,0.59,0,88,"Ingen eksplosjonsfare",2.8,"Kjemisk dispergerbar","Nei",1.57,"2011-10-18T02:00:00",836,"Sogn og Fjordane til Møre og Romsdal",37,6850388,-92218,"Gjøa 2011 Forvitringsrapport.pdf"]
["Gjøa 2011","Sommerforhold",{"$f":"Oljedatabase[[#This Row],[Oljetype]]&\"-\"&Oljedatabase[[#This Row],[SesongNy]]&\"-\"&Oljedatabase[[#This Row],[Vind (m/s)]]&\"-\"&Oljedatabase[[#This Row],[Tidspunkt (timer)]]","v":"Gjøa 2011-Sommerforhold-2-2"},{"$f":"Oljedatabase[[#This Row],[Sesong]]","v":"Sommerforhold"},15,2,"2",0,17,"Kjemisk dispergerbar",0.21,0.78,0,38,"Eksplosjonsfare ved tanking",-15.9,"Kjemisk dispergerbar","Nei",0.78,"2011-10-18T02:00:00",836,"Sogn og Fjordane til Møre og Romsdal",37,6850388,-92218,"Gjøa 2011 Forvitringsrapport.pdf"]
["Gjøa 2011","Vinterforhold",{"$f":"Oljedatabase[[#This Row],[Oljetype]]&\"-\"&Oljedatabase[[#This Row],[SesongNy]]&\"-\"&Oljedatabase[[#This Row],[Vind (m/s)]]&\"-\"&Oljedatabase[[#This Row],[Tidspunkt (timer)]]","v":"Gjøa 2011-Vinterforhold-15-120"},{"$f":"Oljedatabase[[#This Row],[Sesong]]","v":"Vinterforhold"},5,15,"120",0.73,7540,"Redusert kjemisk dispergerbarhet",0.33,0,0.66,148,"Ingen eksplosjonsfare",23.4,"Lav/dårlig dispergerbarhet","Nei",0,"2011-10-18T02:00:00",836,"Sogn og Fjordane til Møre og Romsdal",37,6850388,-92218,"Gjøa 2011 Forvitringsrapport.pdf"]
["Gjøa 2011","Vinterforhold",{"$f":"Oljedatabase[[#This Row],[Oljetype]]&\"-\"&Oljedatabase[[#This Row],[SesongNy]]&\"-\"&Oljedatabase[[#This Row],[Vind (m/s)]]&\"-\"&Oljedatabase[[#This Row],[Tidspunkt (timer)]]","v":"Gjøa 2011-Vinterforhold-5-24"},{"$f":"Oljedatabase[[#This Row],[Sesong]]","v":"Vinterforhold"},5,5,"24",0.62,1640,"Redusert kjemisk dispergerbarhet",0.37,0.55000000000000004,7.0000000000000007E-2,91,"Ingen eksplosjonsfare",3.7,"Kjemisk dispergerbar","Nei",1.46,"2011-10-18T02:00:00",836,"Sogn og Fjordane til Møre og Romsdal",37,6850388,-92218,"Gjøa 2011 Forvitringsrapport.pdf"]
["Gjøa 2011","Vinterforhold",{"$f":"Oljedatabase[[#This Row],[Oljetype]]&\"-\"&Oljedatabase[[#This Row],[SesongNy]]&\"-\"&Oljedatabase[[#This Row],[Vind (m/s)]]&\"-\"&Oljedatabase[[#This Row],[Tidspunkt (timer)]]","v":"Gjøa 2011-Vinterforhold-10-120"},{"$f":"Oljedatabase[[#This Row],[Sesong]]","v":"Vinterforhold"},5,10,"120",0.73,5750,"Redusert kjemisk dispergerbarhet",0.38,0,0.61,133,"Ingen eksplosjonsfare",18.5,"Redusert kjemisk dispergerbarhet","Nei",0,"2011-10-18T02:00:00",836,"Sogn og Fjordane til Møre og Romsdal",37,6850388,-92218,"Gjøa 2011 Forvitringsrapport.pdf"]
["Glitne 2002","Sommerforhold",{"$f":"Oljedatabase[[#This Row],[Oljetype]]&\"-\"&Oljedatabase[[#This Row],[SesongNy]]&\"-\"&Oljedatabase[[#This Row],[Vind (m/s)]]&\"-\"&Oljedatabase[[#This Row],[Tidspunkt (timer)]]","v":"Glitne 2002-Sommerforhold-15-48"},{"$f":"Oljedatabase[[#This Row],[Sesong]]","v":"Sommerforhold"},15,15,"48",0.75,17000,"Redusert kjemisk dispergerbarhet",0.27,0.02,0.71,0,"Ikke angitt",28,"Redusert kjemisk dispergerbarhet","Ja",0.08,"2002-03-12T01:00:00",864,"Vest-Agder til Hordaland",32,6583433,-270411,"Glitne 2002 Forvitringsrapport.pdf"]
["Glitne 2002","Vinterforhold",{"$f":"Oljedatabase[[#This Row],[Oljetype]]&\"-\"&Oljedatabase[[#This Row],[SesongNy]]&\"-\"&Oljedatabase[[#This Row],[Vind (m/s)]]&\"-\"&Oljedatabase[[#This Row],[Tidspunkt (timer)]]","v":"Glitne 2002-Vinterforhold-2-1"},{"$f":"Oljedatabase[[#This Row],[Sesong]]","v":"Vinterforhold"},5,2,"1",0,1300,"Kjemisk dispergerbar",0.06,0.94,0,0,"Ikke angitt",13,"Redusert kjemisk dispergerbarhet","Nei",0.94,"2002-03-12T01:00:00",864,"Vest-Agder til Hordaland",32,6583433,-270411,"Glitne 2002 Forvitringsrapport.pdf"]
["Glitne 2002","Sommerforhold",{"$f":"Oljedatabase[[#This Row],[Oljetype]]&\"-\"&Oljedatabase[[#This Row],[SesongNy]]&\"-\"&Oljedatabase[[#This Row],[Vind (m/s)]]&\"-\"&Oljedatabase[[#This Row],[Tidspunkt (timer)]]","v":"Glitne 2002-Sommerforhold-10-2"},{"$f":"Oljedatabase[[#This Row],[Sesong]]","v":"Sommerforhold"},15,10,"2",0.22,1800,"Kjemisk dispergerbar",0.18,0.8,0.02,0,"Ikke angitt",20,"Kjemisk dispergerbar","Nei",1.02,"2002-03-12T01:00:00",864,"Vest-Agder til Hordaland",32,6583433,-270411,"Glitne 2002 Forvitringsrapport.pdf"]
["Glitne 2002","Sommerforhold",{"$f":"Oljedatabase[[#This Row],[Oljetype]]&\"-\"&Oljedatabase[[#This Row],[SesongNy]]&\"-\"&Oljedatabase[[#This Row],[Vind (m/s)]]&\"-\"&Oljedatabase[[#This Row],[Tidspunkt (timer)]]","v":"Glitne 2002-Sommerforhold-10-3"},{"$f":"Oljedatabase[[#This Row],[Sesong]]","v":"Sommerforhold"},15,10,"3",0.31,2300,"Kjemisk dispergerbar",0.2,0.77,0.04,0,"Ikke angitt",21,"Redusert kjemisk dispergerbarhet","Nei",1.1100000000000001,"2002-03-12T01:00:00",864,"Vest-Agder til Hordaland",32,6583433,-270411,"Glitne 2002 Forvitringsrapport.pdf"]
["Glitne 2002","Sommerforhold",{"$f":"Oljedatabase[[#This Row],[Oljetype]]&\"-\"&Oljedatabase[[#This Row],[SesongNy]]&\"-\"&Oljedatabase[[#This Row],[Vind (m/s)]]&\"-\"&Oljedatabase[[#This Row],[Tidspunkt (timer)]]","v":"Glitne 2002-Sommerforhold-10-6"},{"$f":"Oljedatabase[[#This Row],[Sesong]]","v":"Sommerforhold"},15,10,"6",0.49,3800,"Kjemisk dispergerbar",0.23,0.69,0.08,0,"Ikke angitt",22,"Redusert kjemisk dispergerbarhet","Nei",1.35,"2002-03-12T01:00:00",864,"Vest-Agder til Hordaland",32,6583433,-270411,"Glitne 2002 Forvitringsrapport.pdf"]
["Glitne 2002","Vinterforhold",{"$f":"Oljedatabase[[#This Row],[Oljetype]]&\"-\"&Oljedatabase[[#This Row],[SesongNy]]&\"-\"&Oljedatabase[[#This Row],[Vind (m/s)]]&\"-\"&Oljedatabase[[#This Row],[Tidspunkt (timer)]]","v":"Glitne 2002-Vinterforhold-10-12"},{"$f":"Oljedatabase[[#This Row],[Sesong]]","v":"Vinterforhold"},5,10,"12",0.45,9400,"Kjemisk dispergerbar",0.22,0.66,0.12,0,"Ikke angitt",22,"Lav/dårlig dispergerbarhet","Nei",1.2,"2002-03-12T01:00:00",864,"Vest-Agder til Hordaland",32,6583433,-270411,"Glitne 2002 Forvitringsrapport.pdf"]
["Glitne 2002","Vinterforhold",{"$f":"Oljedatabase[[#This Row],[Oljetype]]&\"-\"&Oljedatabase[[#This Row],[SesongNy]]&\"-\"&Oljedatabase[[#This Row],[Vind (m/s)]]&\"-\"&Oljedatabase[[#This Row],[Tidspunkt (timer)]]","v":"Glitne 2002-Vinterforhold-10-6"},{"$f":"Oljedatabase[[#This Row],[Sesong]]","v":"Vinterforhold"},5,10,"6",0.31,6600,"Kjemisk dispergerbar",0.2,0.74,0.06,0,"Ikke angitt",21,"Lav/dårlig dispergerbarhet","Nei",1.07,"2002-03-12T01:00:00",864,"Vest-Agder til Hordaland",32,6583433,-270411,"Glitne 2002 Forvitringsrapport.pdf"]
["Glitne 2002","Vinterforhold",{"$f":"Oljedatabase[[#This Row],[Oljetype]]&\"-\"&Oljedatabase[[#This Row],[SesongNy]]&\"-\"&Oljedatabase[[#This Row],[Vind (m/s)]]&\"-\"&Oljedatabase[[#This Row],[Tidspunkt (timer)]]","v":"Glitne 2002-Vinterforhold-15-12"},{"$f":"Oljedatabase[[#This Row],[Sesong]]","v":"Vinterforhold"},5,15,"12",0.54,13000,"Redusert kjemisk dispergerbarhet",0.24,0.3,0.46,0,"Ikke angitt",24,"Lav/dårlig dispergerbarhet","Ja",0.65,"2002-03-12T01:00:00",864,"Vest-Agder til Hordaland",32,6583433,-270411,"Glitne 2002 Forvitringsrapport.pdf"]
["Glitne 2002","Vinterforhold",{"$f":"Oljedatabase[[#This Row],[Oljetype]]&\"-\"&Oljedatabase[[#This Row],[SesongNy]]&\"-\"&Oljedatabase[[#This Row],[Vind (m/s)]]&\"-\"&Oljedatabase[[#This Row],[Tidspunkt (timer)]]","v":"Glitne 2002-Vinterforhold-5-12"},{"$f":"Oljedatabase[[#This Row],[Sesong]]","v":"Vinterforhold"},5,5,"12",0.21,5400,"Kjemisk dispergerbar",0.19,0.8,0.01,0,"Ikke angitt",20,"Redusert kjemisk dispergerbarhet","Nei",1.01,"2002-03-12T01:00:00",864,"Vest-Agder til Hordaland",32,6583433,-270411,"Glitne 2002 Forvitringsrapport.pdf"]
["Glitne 2002","Vinterforhold",{"$f":"Oljedatabase[[#This Row],[Oljetype]]&\"-\"&Oljedatabase[[#This Row],[SesongNy]]&\"-\"&Oljedatabase[[#This Row],[Vind (m/s)]]&\"-\"&Oljedatabase[[#This Row],[Tidspunkt (timer)]]","v":"Glitne 2002-Vinterforhold-5-3"},{"$f":"Oljedatabase[[#This Row],[Sesong]]","v":"Vinterforhold"},5,5,"3",0.06,2800,"Kjemisk dispergerbar",0.14000000000000001,0.86,0,0,"Ikke angitt",17,"Redusert kjemisk dispergerbarhet","Nei",0.91,"2002-03-12T01:00:00",864,"Vest-Agder til Hordaland",32,6583433,-270411,"Glitne 2002 Forvitringsrapport.pdf"]
["Goliat Blend 2008","Vinterforhold",{"$f":"Oljedatabase[[#This Row],[Oljetype]]&\"-\"&Oljedatabase[[#This Row],[SesongNy]]&\"-\"&Oljedatabase[[#This Row],[Vind (m/s)]]&\"-\"&Oljedatabase[[#This Row],[Tidspunkt (timer)]]","v":"Goliat Blend 2008-Vinterforhold-15-6"},{"$f":"Oljedatabase[[#This Row],[Sesong]]","v":"Vinterforhold"},5,15,"6",0.8,6400,"Ikke testet",0.36,0.27,0.37,102,"Ingen eksplosjonsfare",25,"Lav/dårlig dispergerbarhet","Nei",1.35,"2008-05-12T02:00:00",822,"Troms og Finnmark",40,7927630,758824,"Goliat Blend 2008 Forvitringsrapport.pdf"]
["Goliat Blend 2008","Sommerforhold",{"$f":"Oljedatabase[[#This Row],[Oljetype]]&\"-\"&Oljedatabase[[#This Row],[SesongNy]]&\"-\"&Oljedatabase[[#This Row],[Vind (m/s)]]&\"-\"&Oljedatabase[[#This Row],[Tidspunkt (timer)]]","v":"Goliat Blend 2008-Sommerforhold-10-6"},{"$f":"Oljedatabase[[#This Row],[Sesong]]","v":"Sommerforhold"},15,10,"6",0.77,2800,"Ikke testet",0.38,0.5,0.12,103,"Ingen eksplosjonsfare",25,"Redusert kjemisk dispergerbarhet","Nei",2.17,"2008-05-12T02:00:00",822,"Troms og Finnmark",40,7927630,758824,"Goliat Blend 2008 Forvitringsrapport.pdf"]
["Goliat Blend 2008","Sommerforhold",{"$f":"Oljedatabase[[#This Row],[Oljetype]]&\"-\"&Oljedatabase[[#This Row],[SesongNy]]&\"-\"&Oljedatabase[[#This Row],[Vind (m/s)]]&\"-\"&Oljedatabase[[#This Row],[Tidspunkt (timer)]]","v":"Goliat Blend 2008-Sommerforhold-10-96"},{"$f":"Oljedatabase[[#This Row],[Sesong]]","v":"Sommerforhold"},15,10,"96",0.8,7600,"Ikke testet",0.45,0.04,0.51,144,"Ingen eksplosjonsfare",33,"Lav/dårlig dispergerbarhet","Nei",0.2,"2008-05-12T02:00:00",822,"Troms og Finnmark",40,7927630,758824,"Goliat Blend 2008 Forvitringsrapport.pdf"]
["Goliat Blend 2008","Vinterforhold",{"$f":"Oljedatabase[[#This Row],[Oljetype]]&\"-\"&Oljedatabase[[#This Row],[SesongNy]]&\"-\"&Oljedatabase[[#This Row],[Vind (m/s)]]&\"-\"&Oljedatabase[[#This Row],[Tidspunkt (timer)]]","v":"Goliat Blend 2008-Vinterforhold-5-12"},{"$f":"Oljedatabase[[#This Row],[Sesong]]","v":"Vinterforhold"},5,5,"12",0.68,3400,"Ikke testet",0.33,0.66,0.01,85,"Ingen eksplosjonsfare",21,"Lav/dårlig dispergerbarhet","Nei",2.06,"2008-05-12T02:00:00",822,"Troms og Finnmark",40,7927630,758824,"Goliat Blend 2008 Forvitringsrapport.pdf"]
["Goliat Blend 2008","Sommerforhold",{"$f":"Oljedatabase[[#This Row],[Oljetype]]&\"-\"&Oljedatabase[[#This Row],[SesongNy]]&\"-\"&Oljedatabase[[#This Row],[Vind (m/s)]]&\"-\"&Oljedatabase[[#This Row],[Tidspunkt (timer)]]","v":"Goliat Blend 2008-Sommerforhold-15-24"},{"$f":"Oljedatabase[[#This Row],[Sesong]]","v":"Sommerforhold"},15,15,"24",0.8,5400,"Ikke testet",0.41,0.01,0.57999999999999996,129,"Ingen eksplosjonsfare",30,"Redusert kjemisk dispergerbarhet","Nei",0.05,"2008-05-12T02:00:00",822,"Troms og Finnmark",40,7927630,758824,"Goliat Blend 2008 Forvitringsrapport.pdf"]
["Goliat Realgrunnen 2003","Sommerforhold",{"$f":"Oljedatabase[[#This Row],[Oljetype]]&\"-\"&Oljedatabase[[#This Row],[SesongNy]]&\"-\"&Oljedatabase[[#This Row],[Vind (m/s)]]&\"-\"&Oljedatabase[[#This Row],[Tidspunkt (timer)]]","v":"Goliat Realgrunnen 2003-Sommerforhold-10-24"},{"$f":"Oljedatabase[[#This Row],[Sesong]]","v":"Sommerforhold"},15,10,"24",0.7,3000,"Redusert kjemisk dispergerbarhet",0.34,0.33,0.33,143,"Ingen eksplosjonsfare",27,"Redusert kjemisk dispergerbarhet","Nei",1.1000000000000001,"2003-12-15T01:00:00",857,"Troms og Finnmark",33,7927630,758824,"Goliat Realgrunnen 2003 Forvitringsrapport.pdf"]
["Goliat Realgrunnen 2003","Sommerforhold",{"$f":"Oljedatabase[[#This Row],[Oljetype]]&\"-\"&Oljedatabase[[#This Row],[SesongNy]]&\"-\"&Oljedatabase[[#This Row],[Vind (m/s)]]&\"-\"&Oljedatabase[[#This Row],[Tidspunkt (timer)]]","v":"Goliat Realgrunnen 2003-Sommerforhold-10-3"},{"$f":"Oljedatabase[[#This Row],[Sesong]]","v":"Sommerforhold"},15,10,"3",0.56999999999999995,1400,"Kjemisk dispergerbar",0.26,0.67,7.0000000000000007E-2,99,"Ingen eksplosjonsfare",17,"Kjemisk dispergerbar","Nei",1.55,"2003-12-15T01:00:00",857,"Troms og Finnmark",33,7927630,758824,"Goliat Realgrunnen 2003 Forvitringsrapport.pdf"]
["Goliat Realgrunnen 2003","Sommerforhold",{"$f":"Oljedatabase[[#This Row],[Oljetype]]&\"-\"&Oljedatabase[[#This Row],[SesongNy]]&\"-\"&Oljedatabase[[#This Row],[Vind (m/s)]]&\"-\"&Oljedatabase[[#This Row],[Tidspunkt (timer)]]","v":"Goliat Realgrunnen 2003-Sommerforhold-10-96"},{"$f":"Oljedatabase[[#This Row],[Sesong]]","v":"Sommerforhold"},15,10,"96",0.7,4700,"Redusert kjemisk dispergerbarhet",0.37,0.05,0.57999999999999996,175,"Ingen eksplosjonsfare",34,"Lav/dårlig dispergerbarhet","Nei",0.16,"2003-12-15T01:00:00",857,"Troms og Finnmark",33,7927630,758824,"Goliat Realgrunnen 2003 Forvitringsrapport.pdf"]
["Goliat Realgrunnen 2003","Sommerforhold",{"$f":"Oljedatabase[[#This Row],[Oljetype]]&\"-\"&Oljedatabase[[#This Row],[SesongNy]]&\"-\"&Oljedatabase[[#This Row],[Vind (m/s)]]&\"-\"&Oljedatabase[[#This Row],[Tidspunkt (timer)]]","v":"Goliat Realgrunnen 2003-Sommerforhold-15-96"},{"$f":"Oljedatabase[[#This Row],[Sesong]]","v":"Sommerforhold"},15,15,"96",0.7,3700,"Redusert kjemisk dispergerbarhet",0.33,0,0.67,157,"Ingen eksplosjonsfare",30,"Redusert kjemisk dispergerbarhet","Nei",0,"2003-12-15T01:00:00",857,"Troms og Finnmark",33,7927630,758824,"Goliat Realgrunnen 2003 Forvitringsrapport.pdf"]
["Goliat Realgrunnen 2003","Vinterforhold",{"$f":"Oljedatabase[[#This Row],[Oljetype]]&\"-\"&Oljedatabase[[#This Row],[SesongNy]]&\"-\"&Oljedatabase[[#This Row],[Vind (m/s)]]&\"-\"&Oljedatabase[[#This Row],[Tidspunkt (timer)]]","v":"Goliat Realgrunnen 2003-Vinterforhold-10-72"},{"$f":"Oljedatabase[[#This Row],[Sesong]]","v":"Vinterforhold"},5,10,"72",0.7,7500,"Lav/dårlig kjemisk dispergerbarhet",0.33,0.15,0.52,147,"Ingen eksplosjonsfare",28,"Lav/dårlig dispergerbarhet","Nei",0.5,"2003-12-15T01:00:00",857,"Troms og Finnmark",33,7927630,758824,"Goliat Realgrunnen 2003 Forvitringsrapport.pdf"]
["Grane 1997","Sommerforhold",{"$f":"Oljedatabase[[#This Row],[Oljetype]]&\"-\"&Oljedatabase[[#This Row],[SesongNy]]&\"-\"&Oljedatabase[[#This Row],[Vind (m/s)]]&\"-\"&Oljedatabase[[#This Row],[Tidspunkt (timer)]]","v":"Grane 1997-Sommerforhold-2-9"},{"$f":"Oljedatabase[[#This Row],[Sesong]]","v":"Sommerforhold"},15,2,"9",0.21,2000,"Kjemisk dispergerbar",0.06,0.94,0,97,"Ingen eksplosjonsfare",-14,"Kjemisk dispergerbar","Nei",1.18,"1997-11-13T01:00:00",942,"Vest-Agder til Hordaland",18,6625681,-212700,"Grane 1997 Forvitringsrapport.pdf"]
["Grane 1997","Sommerforhold",{"$f":"Oljedatabase[[#This Row],[Oljetype]]&\"-\"&Oljedatabase[[#This Row],[SesongNy]]&\"-\"&Oljedatabase[[#This Row],[Vind (m/s)]]&\"-\"&Oljedatabase[[#This Row],[Tidspunkt (timer)]]","v":"Grane 1997-Sommerforhold-2-48"},{"$f":"Oljedatabase[[#This Row],[Sesong]]","v":"Sommerforhold"},15,2,"48",0.56000000000000005,9700,"Kjemisk dispergerbar",0.09,0.91,0,124,"Ingen eksplosjonsfare",-8,"Kjemisk dispergerbar","Nei",2.06,"1997-11-13T01:00:00",942,"Vest-Agder til Hordaland",18,6625681,-212700,"Grane 1997 Forvitringsrapport.pdf"]
["Grane 1997","Sommerforhold",{"$f":"Oljedatabase[[#This Row],[Oljetype]]&\"-\"&Oljedatabase[[#This Row],[SesongNy]]&\"-\"&Oljedatabase[[#This Row],[Vind (m/s)]]&\"-\"&Oljedatabase[[#This Row],[Tidspunkt (timer)]]","v":"Grane 1997-Sommerforhold-15-120"},{"$f":"Oljedatabase[[#This Row],[Sesong]]","v":"Sommerforhold"},15,15,"120",0.65,79000,"Lav/dårlig kjemisk dispergerbarhet",0.14000000000000001,0.01,0.85,233,"Ingen eksplosjonsfare",12,"Kjemisk dispergerbar","Ja",0.02,"1997-11-13T01:00:00",942,"Vest-Agder til Hordaland",18,6625681,-212700,"Grane 1997 Forvitringsrapport.pdf"]
["Goliat Realgrunnen 2003","Vinterforhold",{"$f":"Oljedatabase[[#This Row],[Oljetype]]&\"-\"&Oljedatabase[[#This Row],[SesongNy]]&\"-\"&Oljedatabase[[#This Row],[Vind (m/s)]]&\"-\"&Oljedatabase[[#This Row],[Tidspunkt (timer)]]","v":"Goliat Realgrunnen 2003-Vinterforhold-5-72"},{"$f":"Oljedatabase[[#This Row],[Sesong]]","v":"Vinterforhold"},5,5,"72",0.7,5200,"Redusert kjemisk dispergerbarhet",0.31,0.63,0.06,124,"Ingen eksplosjonsfare",23,"Lav/dårlig dispergerbarhet","Nei",2.1,"2003-12-15T01:00:00",857,"Troms og Finnmark",33,7927630,758824,"Goliat Realgrunnen 2003 Forvitringsrapport.pdf"]
["Goliat Realgrunnen 2003","Vinterforhold",{"$f":"Oljedatabase[[#This Row],[Oljetype]]&\"-\"&Oljedatabase[[#This Row],[SesongNy]]&\"-\"&Oljedatabase[[#This Row],[Vind (m/s)]]&\"-\"&Oljedatabase[[#This Row],[Tidspunkt (timer)]]","v":"Goliat Realgrunnen 2003-Vinterforhold-5-3"},{"$f":"Oljedatabase[[#This Row],[Sesong]]","v":"Vinterforhold"},5,5,"3",0.28000000000000003,1500,"Kjemisk dispergerbar",0.18,0.82,0,68,"Ingen eksplosjonsfare",10,"Kjemisk dispergerbar","Nei",1.1299999999999999,"2003-12-15T01:00:00",857,"Troms og Finnmark",33,7927630,758824,"Goliat Realgrunnen 2003 Forvitringsrapport.pdf"]
["Grosbeak 2012","Sommerforhold",{"$f":"Oljedatabase[[#This Row],[Oljetype]]&\"-\"&Oljedatabase[[#This Row],[SesongNy]]&\"-\"&Oljedatabase[[#This Row],[Vind (m/s)]]&\"-\"&Oljedatabase[[#This Row],[Tidspunkt (timer)]]","v":"Grosbeak 2012-Sommerforhold-5-3"},{"$f":"Oljedatabase[[#This Row],[Sesong]]","v":"Sommerforhold"},15,5,"3",0.38,909,"Ikke testet",0.31,0.67,0,66,"Ingen eksplosjonsfare",24.3,"Redusert kjemisk dispergerbarhet","Nei",1.1100000000000001,"2012-05-14T02:00:00",871,"Vestlandet",30,6833481,-91521,"Grosbeak 2012 Forvitringsrapport.pdf"]
["Grane 1997","Sommerforhold",{"$f":"Oljedatabase[[#This Row],[Oljetype]]&\"-\"&Oljedatabase[[#This Row],[SesongNy]]&\"-\"&Oljedatabase[[#This Row],[Vind (m/s)]]&\"-\"&Oljedatabase[[#This Row],[Tidspunkt (timer)]]","v":"Grane 1997-Sommerforhold-15-3"},{"$f":"Oljedatabase[[#This Row],[Sesong]]","v":"Sommerforhold"},15,15,"3",0.62,12000,"Redusert kjemisk dispergerbarhet",0.08,0.72,0.2,123,"Ingen eksplosjonsfare",-9,"Kjemisk dispergerbar","Ja",1.89,"1997-11-13T01:00:00",942,"Vest-Agder til Hordaland",18,6625681,-212700,"Grane 1997 Forvitringsrapport.pdf"]
["Grane 1997","Vinterforhold",{"$f":"Oljedatabase[[#This Row],[Oljetype]]&\"-\"&Oljedatabase[[#This Row],[SesongNy]]&\"-\"&Oljedatabase[[#This Row],[Vind (m/s)]]&\"-\"&Oljedatabase[[#This Row],[Tidspunkt (timer)]]","v":"Grane 1997-Vinterforhold-2-96"},{"$f":"Oljedatabase[[#This Row],[Sesong]]","v":"Vinterforhold"},5,2,"96",0.53,19000,"Redusert kjemisk dispergerbarhet",0.09,0.91,0,122,"Ingen eksplosjonsfare",-9,"Kjemisk dispergerbar","Ja",1.93,"1997-11-13T01:00:00",942,"Vest-Agder til Hordaland",18,6625681,-212700,"Grane 1997 Forvitringsrapport.pdf"]
["Grosbeak 2012","Vinterforhold",{"$f":"Oljedatabase[[#This Row],[Oljetype]]&\"-\"&Oljedatabase[[#This Row],[SesongNy]]&\"-\"&Oljedatabase[[#This Row],[Vind (m/s)]]&\"-\"&Oljedatabase[[#This Row],[Tidspunkt (timer)]]","v":"Grosbeak 2012-Vinterforhold-5-96"},{"$f":"Oljedatabase[[#This Row],[Sesong]]","v":"Vinterforhold"},5,5,"96",0.73,8790,"Ikke testet",0.43,0.5,0.06,106,"Ingen eksplosjonsfare",32.799999999999997,"Lav/dårlig dispergerbarhet","Nei",1.89,"2012-05-14T02:00:00",871,"Vestlandet",30,6833481,-91521,"Grosbeak 2012 Forvitringsrapport.pdf"]
["Grosbeak 2012","Vinterforhold",{"$f":"Oljedatabase[[#This Row],[Oljetype]]&\"-\"&Oljedatabase[[#This Row],[SesongNy]]&\"-\"&Oljedatabase[[#This Row],[Vind (m/s)]]&\"-\"&Oljedatabase[[#This Row],[Tidspunkt (timer)]]","v":"Grosbeak 2012-Vinterforhold-5-3"},{"$f":"Oljedatabase[[#This Row],[Sesong]]","v":"Vinterforhold"},5,5,"3",0.38,1210,"Ikke testet",0.28000000000000003,0.71,0,55,"Eksplosjonsfare ved tanking",22,"Lav/dårlig dispergerbarhet","Nei",1.1599999999999999,"2012-05-14T02:00:00",871,"Vestlandet",30,6833481,-91521,"Grosbeak 2012 Forvitringsrapport.pdf"]
["Grosbeak 2012","Vinterforhold",{"$f":"Oljedatabase[[#This Row],[Oljetype]]&\"-\"&Oljedatabase[[#This Row],[SesongNy]]&\"-\"&Oljedatabase[[#This Row],[Vind (m/s)]]&\"-\"&Oljedatabase[[#This Row],[Tidspunkt (timer)]]","v":"Grosbeak 2012-Vinterforhold-5-1"},{"$f":"Oljedatabase[[#This Row],[Sesong]]","v":"Vinterforhold"},5,5,"1",0.15,375,"Ikke testet",0.21,0.78,0,33,"Eksplosjonsfare ved tanking",17,"Redusert kjemisk dispergerbarhet","Nei",0.94,"2012-05-14T02:00:00",871,"Vestlandet",30,6833481,-91521,"Grosbeak 2012 Forvitringsrapport.pdf"]
["Grosbeak 2012","Vinterforhold",{"$f":"Oljedatabase[[#This Row],[Oljetype]]&\"-\"&Oljedatabase[[#This Row],[SesongNy]]&\"-\"&Oljedatabase[[#This Row],[Vind (m/s)]]&\"-\"&Oljedatabase[[#This Row],[Tidspunkt (timer)]]","v":"Grosbeak 2012-Vinterforhold-10-9"},{"$f":"Oljedatabase[[#This Row],[Sesong]]","v":"Vinterforhold"},5,10,"9",0.74,5050,"Ikke testet",0.37,0.47,0.14000000000000001,88,"Ingen eksplosjonsfare",29.2,"Lav/dårlig dispergerbarhet","Nei",1.86,"2012-05-14T02:00:00",871,"Vestlandet",30,6833481,-91521,"Grosbeak 2012 Forvitringsrapport.pdf"]
["Grane 1997","Sommerforhold",{"$f":"Oljedatabase[[#This Row],[Oljetype]]&\"-\"&Oljedatabase[[#This Row],[SesongNy]]&\"-\"&Oljedatabase[[#This Row],[Vind (m/s)]]&\"-\"&Oljedatabase[[#This Row],[Tidspunkt (timer)]]","v":"Grane 1997-Sommerforhold-2-12"},{"$f":"Oljedatabase[[#This Row],[Sesong]]","v":"Sommerforhold"},15,2,"12",0.26,2500,"Kjemisk dispergerbar",0.06,0.94,0,102,"Ingen eksplosjonsfare",-13,"Kjemisk dispergerbar","Nei",1.27,"1997-11-13T01:00:00",942,"Vest-Agder til Hordaland",18,6625681,-212700,"Grane 1997 Forvitringsrapport.pdf"]
["Grosbeak 2012","Sommerforhold",{"$f":"Oljedatabase[[#This Row],[Oljetype]]&\"-\"&Oljedatabase[[#This Row],[SesongNy]]&\"-\"&Oljedatabase[[#This Row],[Vind (m/s)]]&\"-\"&Oljedatabase[[#This Row],[Tidspunkt (timer)]]","v":"Grosbeak 2012-Sommerforhold-5-12"},{"$f":"Oljedatabase[[#This Row],[Sesong]]","v":"Sommerforhold"},15,5,"12",0.73,2420,"Ikke testet",0.38,0.59,0.01,88,"Ingen eksplosjonsfare",29.2,"Redusert kjemisk dispergerbarhet","Nei",2.2599999999999998,"2012-05-14T02:00:00",871,"Vestlandet",30,6833481,-91521,"Grosbeak 2012 Forvitringsrapport.pdf"]
["Grosbeak 2012","Vinterforhold",{"$f":"Oljedatabase[[#This Row],[Oljetype]]&\"-\"&Oljedatabase[[#This Row],[SesongNy]]&\"-\"&Oljedatabase[[#This Row],[Vind (m/s)]]&\"-\"&Oljedatabase[[#This Row],[Tidspunkt (timer)]]","v":"Grosbeak 2012-Vinterforhold-2-6"},{"$f":"Oljedatabase[[#This Row],[Sesong]]","v":"Vinterforhold"},5,2,"6",0.22,875,"Ikke testet",0.27,0.72,0,53,"Eksplosjonsfare ved tanking",21.4,"Lav/dårlig dispergerbarhet","Nei",0.93,"2012-05-14T02:00:00",871,"Vestlandet",30,6833481,-91521,"Grosbeak 2012 Forvitringsrapport.pdf"]
["Grosbeak 2012","Sommerforhold",{"$f":"Oljedatabase[[#This Row],[Oljetype]]&\"-\"&Oljedatabase[[#This Row],[SesongNy]]&\"-\"&Oljedatabase[[#This Row],[Vind (m/s)]]&\"-\"&Oljedatabase[[#This Row],[Tidspunkt (timer)]]","v":"Grosbeak 2012-Sommerforhold-5-1"},{"$f":"Oljedatabase[[#This Row],[Sesong]]","v":"Sommerforhold"},15,5,"1",0.15,308,"Ikke testet",0.24,0.75,0,43,"Eksplosjonsfare ved tanking",19.3,"Kjemisk dispergerbar","Nei",0.9,"2012-05-14T02:00:00",871,"Vestlandet",30,6833481,-91521,"Grosbeak 2012 Forvitringsrapport.pdf"]
["Gudrun 2012","Sommerforhold",{"$f":"Oljedatabase[[#This Row],[Oljetype]]&\"-\"&Oljedatabase[[#This Row],[SesongNy]]&\"-\"&Oljedatabase[[#This Row],[Vind (m/s)]]&\"-\"&Oljedatabase[[#This Row],[Tidspunkt (timer)]]","v":"Gudrun 2012-Sommerforhold-5-24"},{"$f":"Oljedatabase[[#This Row],[Sesong]]","v":"Sommerforhold"},15,5,"24",0.69,2910,"Kjemisk dispergerbar",0.4,0.59,0.02,93,"Ingen eksplosjonsfare",16.899999999999999,"Kjemisk dispergerbar","Nei",1.88,"2012-10-02T02:00:00",824,"Vest-Agder til Hordaland",40,6599015,-261236,"Gudrun 2012 Forvitringsrapport.pdf"]
["Grosbeak 2012","Sommerforhold",{"$f":"Oljedatabase[[#This Row],[Oljetype]]&\"-\"&Oljedatabase[[#This Row],[SesongNy]]&\"-\"&Oljedatabase[[#This Row],[Vind (m/s)]]&\"-\"&Oljedatabase[[#This Row],[Tidspunkt (timer)]]","v":"Grosbeak 2012-Sommerforhold-10-9"},{"$f":"Oljedatabase[[#This Row],[Sesong]]","v":"Sommerforhold"},15,10,"9",0.76,3440,"Ikke testet",0.41,0.42,0.16,100,"Ingen eksplosjonsfare",31.6,"Lav/dårlig dispergerbarhet","Nei",1.85,"2012-05-14T02:00:00",871,"Vestlandet",30,6833481,-91521,"Grosbeak 2012 Forvitringsrapport.pdf"]
["Gudrun 2012","Sommerforhold",{"$f":"Oljedatabase[[#This Row],[Oljetype]]&\"-\"&Oljedatabase[[#This Row],[SesongNy]]&\"-\"&Oljedatabase[[#This Row],[Vind (m/s)]]&\"-\"&Oljedatabase[[#This Row],[Tidspunkt (timer)]]","v":"Gudrun 2012-Sommerforhold-2-1"},{"$f":"Oljedatabase[[#This Row],[Sesong]]","v":"Sommerforhold"},15,2,"1",0.04,20,"Kjemisk dispergerbar",0.12,0.87,0,16,"Eksplosjonsfare ved tanking",-1.2,"Kjemisk dispergerbar","Nei",0.92,"2012-10-02T02:00:00",824,"Vest-Agder til Hordaland",40,6599015,-261236,"Gudrun 2012 Forvitringsrapport.pdf"]
["Gudrun 2012","Sommerforhold",{"$f":"Oljedatabase[[#This Row],[Oljetype]]&\"-\"&Oljedatabase[[#This Row],[SesongNy]]&\"-\"&Oljedatabase[[#This Row],[Vind (m/s)]]&\"-\"&Oljedatabase[[#This Row],[Tidspunkt (timer)]]","v":"Gudrun 2012-Sommerforhold-2-96"},{"$f":"Oljedatabase[[#This Row],[Sesong]]","v":"Sommerforhold"},15,2,"96",0.69,3700,"Redusert kjemisk dispergerbarhet",0.43,0.56000000000000005,0,101,"Ingen eksplosjonsfare",18.7,"Kjemisk dispergerbar","Nei",1.88,"2012-10-02T02:00:00",824,"Vest-Agder til Hordaland",40,6599015,-261236,"Gudrun 2012 Forvitringsrapport.pdf"]
["Gudrun 2012","Sommerforhold",{"$f":"Oljedatabase[[#This Row],[Oljetype]]&\"-\"&Oljedatabase[[#This Row],[SesongNy]]&\"-\"&Oljedatabase[[#This Row],[Vind (m/s)]]&\"-\"&Oljedatabase[[#This Row],[Tidspunkt (timer)]]","v":"Gudrun 2012-Sommerforhold-5-3"},{"$f":"Oljedatabase[[#This Row],[Sesong]]","v":"Sommerforhold"},15,5,"3",0.37,251,"Kjemisk dispergerbar",0.25,0.75,0,48,"Eksplosjonsfare ved tanking",6.9,"Kjemisk dispergerbar","Nei",1.2,"2012-10-02T02:00:00",824,"Vest-Agder til Hordaland",40,6599015,-261236,"Gudrun 2012 Forvitringsrapport.pdf"]
["Grosbeak 2012","Vinterforhold",{"$f":"Oljedatabase[[#This Row],[Oljetype]]&\"-\"&Oljedatabase[[#This Row],[SesongNy]]&\"-\"&Oljedatabase[[#This Row],[Vind (m/s)]]&\"-\"&Oljedatabase[[#This Row],[Tidspunkt (timer)]]","v":"Grosbeak 2012-Vinterforhold-15-12"},{"$f":"Oljedatabase[[#This Row],[Sesong]]","v":"Vinterforhold"},5,15,"12",0.75,7690,"Ikke testet",0.38,0.11,0.5,101,"Ingen eksplosjonsfare",31.8,"Lav/dårlig dispergerbarhet","Nei",0.45,"2012-05-14T02:00:00",871,"Vestlandet",30,6833481,-91521,"Grosbeak 2012 Forvitringsrapport.pdf"]
["Gullfaks A 2010","Sommerforhold",{"$f":"Oljedatabase[[#This Row],[Oljetype]]&\"-\"&Oljedatabase[[#This Row],[SesongNy]]&\"-\"&Oljedatabase[[#This Row],[Vind (m/s)]]&\"-\"&Oljedatabase[[#This Row],[Tidspunkt (timer)]]","v":"Gullfaks A 2010-Sommerforhold-10-96"},{"$f":"Oljedatabase[[#This Row],[Sesong]]","v":"Sommerforhold"},15,10,"96",0.8,9871,"Redusert kjemisk dispergerbarhet",0.4,0.06,0.54,133,"Ingen eksplosjonsfare",23.3,"Redusert kjemisk dispergerbarhet","Nei",0.31,"2010-09-28T02:00:00",882,"Sogn og Fjordane til Møre og Romsdal",37,6850000,-185942,"Gullfaks A 2010 Forvitringsrapport.pdf"]
["Gullfaks A 2010","Sommerforhold",{"$f":"Oljedatabase[[#This Row],[Oljetype]]&\"-\"&Oljedatabase[[#This Row],[SesongNy]]&\"-\"&Oljedatabase[[#This Row],[Vind (m/s)]]&\"-\"&Oljedatabase[[#This Row],[Tidspunkt (timer)]]","v":"Gullfaks A 2010-Sommerforhold-15-12"},{"$f":"Oljedatabase[[#This Row],[Sesong]]","v":"Sommerforhold"},15,15,"12",0.8,5392,"Redusert kjemisk dispergerbarhet",0.34,0.09,0.56999999999999995,111,"Ingen eksplosjonsfare",17.600000000000001,"Kjemisk dispergerbar","Nei",0.44,"2010-09-28T02:00:00",882,"Sogn og Fjordane til Møre og Romsdal",37,6850000,-185942,"Gullfaks A 2010 Forvitringsrapport.pdf"]
["Gudrun 2012","Vinterforhold",{"$f":"Oljedatabase[[#This Row],[Oljetype]]&\"-\"&Oljedatabase[[#This Row],[SesongNy]]&\"-\"&Oljedatabase[[#This Row],[Vind (m/s)]]&\"-\"&Oljedatabase[[#This Row],[Tidspunkt (timer)]]","v":"Gudrun 2012-Vinterforhold-2-1"},{"$f":"Oljedatabase[[#This Row],[Sesong]]","v":"Vinterforhold"},5,2,"1",0.04,22,"Kjemisk dispergerbar",0.1,0.89,0,11,"Eksplosjonsfare ved tanking",-2.4,"Kjemisk dispergerbar","Nei",0.94,"2012-10-02T02:00:00",824,"Vest-Agder til Hordaland",40,6599015,-261236,"Gudrun 2012 Forvitringsrapport.pdf"]
["Gudrun 2012","Vinterforhold",{"$f":"Oljedatabase[[#This Row],[Oljetype]]&\"-\"&Oljedatabase[[#This Row],[SesongNy]]&\"-\"&Oljedatabase[[#This Row],[Vind (m/s)]]&\"-\"&Oljedatabase[[#This Row],[Tidspunkt (timer)]]","v":"Gudrun 2012-Vinterforhold-15-1"},{"$f":"Oljedatabase[[#This Row],[Sesong]]","v":"Vinterforhold"},5,15,"1",0.57999999999999996,677,"Kjemisk dispergerbar",0.23,0.76,0.09,44,"Eksplosjonsfare ved tanking",5.8,"Kjemisk dispergerbar","Nei",1.64,"2012-10-02T02:00:00",824,"Vest-Agder til Hordaland",40,6599015,-261236,"Gudrun 2012 Forvitringsrapport.pdf"]
["Gudrun 2012","Vinterforhold",{"$f":"Oljedatabase[[#This Row],[Oljetype]]&\"-\"&Oljedatabase[[#This Row],[SesongNy]]&\"-\"&Oljedatabase[[#This Row],[Vind (m/s)]]&\"-\"&Oljedatabase[[#This Row],[Tidspunkt (timer)]]","v":"Gudrun 2012-Vinterforhold-2-96"},{"$f":"Oljedatabase[[#This Row],[Sesong]]","v":"Vinterforhold"},5,2,"96",0.69,4470,"Redusert kjemisk dispergerbarhet",0.38,0.61,0,88,"Ingen eksplosjonsfare",15.9,"Redusert kjemisk dispergerbarhet","Nei",2.02,"2012-10-02T02:00:00",824,"Vest-Agder til Hordaland",40,6599015,-261236,"Gudrun 2012 Forvitringsrapport.pdf"]
["Gudrun 2012","Vinterforhold",{"$f":"Oljedatabase[[#This Row],[Oljetype]]&\"-\"&Oljedatabase[[#This Row],[SesongNy]]&\"-\"&Oljedatabase[[#This Row],[Vind (m/s)]]&\"-\"&Oljedatabase[[#This Row],[Tidspunkt (timer)]]","v":"Gudrun 2012-Vinterforhold-15-120"},{"$f":"Oljedatabase[[#This Row],[Sesong]]","v":"Vinterforhold"},5,15,"120",0.7,16700,"Ikke kjemisk dispergerbar",0.52,0.47,0.62,131,"Ingen eksplosjonsfare",24.8,"Lav/dårlig dispergerbarhet","Ja",-0.48,"2012-10-02T02:00:00",824,"Vest-Agder til Hordaland",40,6599015,-261236,"Gudrun 2012 Forvitringsrapport.pdf"]
["Gullfaks A 2010","Vinterforhold",{"$f":"Oljedatabase[[#This Row],[Oljetype]]&\"-\"&Oljedatabase[[#This Row],[SesongNy]]&\"-\"&Oljedatabase[[#This Row],[Vind (m/s)]]&\"-\"&Oljedatabase[[#This Row],[Tidspunkt (timer)]]","v":"Gullfaks A 2010-Vinterforhold-15-1"},{"$f":"Oljedatabase[[#This Row],[Sesong]]","v":"Vinterforhold"},5,15,"1",0.39,562,"Kjemisk dispergerbar",0.24,0.56000000000000005,0.2,63,"Ingen eksplosjonsfare",3.6,"Kjemisk dispergerbar","Nei",0.92,"2010-09-28T02:00:00",882,"Sogn og Fjordane til Møre og Romsdal",37,6850000,-185942,"Gullfaks A 2010 Forvitringsrapport.pdf"]
["Gullfaks A 2010","Sommerforhold",{"$f":"Oljedatabase[[#This Row],[Oljetype]]&\"-\"&Oljedatabase[[#This Row],[SesongNy]]&\"-\"&Oljedatabase[[#This Row],[Vind (m/s)]]&\"-\"&Oljedatabase[[#This Row],[Tidspunkt (timer)]]","v":"Gullfaks A 2010-Sommerforhold-10-24"},{"$f":"Oljedatabase[[#This Row],[Sesong]]","v":"Sommerforhold"},15,10,"24",0.8,5556,"Redusert kjemisk dispergerbarhet",0.37,0.3,0.33,113,"Ingen eksplosjonsfare",17.899999999999999,"Kjemisk dispergerbar","Nei",1.5,"2010-09-28T02:00:00",882,"Sogn og Fjordane til Møre og Romsdal",37,6850000,-185942,"Gullfaks A 2010 Forvitringsrapport.pdf"]
["Gullfaks A 2010","Sommerforhold",{"$f":"Oljedatabase[[#This Row],[Oljetype]]&\"-\"&Oljedatabase[[#This Row],[SesongNy]]&\"-\"&Oljedatabase[[#This Row],[Vind (m/s)]]&\"-\"&Oljedatabase[[#This Row],[Tidspunkt (timer)]]","v":"Gullfaks A 2010-Sommerforhold-10-6"},{"$f":"Oljedatabase[[#This Row],[Sesong]]","v":"Sommerforhold"},15,10,"6",0.67,2138,"Redusert kjemisk dispergerbarhet",0.32,0.52,0.16,92,"Ingen eksplosjonsfare",12,"Kjemisk dispergerbar","Nei",1.59,"2010-09-28T02:00:00",882,"Sogn og Fjordane til Møre og Romsdal",37,6850000,-185942,"Gullfaks A 2010 Forvitringsrapport.pdf"]
["Gullfaks A 2010","Sommerforhold",{"$f":"Oljedatabase[[#This Row],[Oljetype]]&\"-\"&Oljedatabase[[#This Row],[SesongNy]]&\"-\"&Oljedatabase[[#This Row],[Vind (m/s)]]&\"-\"&Oljedatabase[[#This Row],[Tidspunkt (timer)]]","v":"Gullfaks A 2010-Sommerforhold-5-9"},{"$f":"Oljedatabase[[#This Row],[Sesong]]","v":"Sommerforhold"},15,5,"9",0.53,997,"Kjemisk dispergerbar",0.3,0.68,0.02,81,"Ingen eksplosjonsfare",8.8000000000000007,"Kjemisk dispergerbar","Nei",1.45,"2010-09-28T02:00:00",882,"Sogn og Fjordane til Møre og Romsdal",37,6850000,-185942,"Gullfaks A 2010 Forvitringsrapport.pdf"]
["Gullfaks A 2010","Vinterforhold",{"$f":"Oljedatabase[[#This Row],[Oljetype]]&\"-\"&Oljedatabase[[#This Row],[SesongNy]]&\"-\"&Oljedatabase[[#This Row],[Vind (m/s)]]&\"-\"&Oljedatabase[[#This Row],[Tidspunkt (timer)]]","v":"Gullfaks A 2010-Vinterforhold-15-96"},{"$f":"Oljedatabase[[#This Row],[Sesong]]","v":"Vinterforhold"},5,15,"96",0.8,9309,"Redusert kjemisk dispergerbarhet",0.31,0,0.69,109,"Ingen eksplosjonsfare",16.8,"Kjemisk dispergerbar","Nei",0,"2010-09-28T02:00:00",882,"Sogn og Fjordane til Møre og Romsdal",37,6850000,-185942,"Gullfaks A 2010 Forvitringsrapport.pdf"]
["Grosbeak 2012","Vinterforhold",{"$f":"Oljedatabase[[#This Row],[Oljetype]]&\"-\"&Oljedatabase[[#This Row],[SesongNy]]&\"-\"&Oljedatabase[[#This Row],[Vind (m/s)]]&\"-\"&Oljedatabase[[#This Row],[Tidspunkt (timer)]]","v":"Grosbeak 2012-Vinterforhold-15-2"},{"$f":"Oljedatabase[[#This Row],[Sesong]]","v":"Vinterforhold"},5,15,"2",0.74,3320,"Ikke testet",0.33,0.46,0.2,76,"Ingen eksplosjonsfare",26.5,"Lav/dårlig dispergerbarhet","Nei",1.8,"2012-05-14T02:00:00",871,"Vestlandet",30,6833481,-91521,"Grosbeak 2012 Forvitringsrapport.pdf"]
["Gullfaks A 2010","Sommerforhold",{"$f":"Oljedatabase[[#This Row],[Oljetype]]&\"-\"&Oljedatabase[[#This Row],[SesongNy]]&\"-\"&Oljedatabase[[#This Row],[Vind (m/s)]]&\"-\"&Oljedatabase[[#This Row],[Tidspunkt (timer)]]","v":"Gullfaks A 2010-Sommerforhold-10-72"},{"$f":"Oljedatabase[[#This Row],[Sesong]]","v":"Sommerforhold"},15,10,"72",0.8,9079,"Redusert kjemisk dispergerbarhet",0.4,0.1,0.5,130,"Ingen eksplosjonsfare",22.5,"Redusert kjemisk dispergerbarhet","Nei",0.51,"2010-09-28T02:00:00",882,"Sogn og Fjordane til Møre og Romsdal",37,6850000,-185942,"Gullfaks A 2010 Forvitringsrapport.pdf"]
["Gudrun 2012","Sommerforhold",{"$f":"Oljedatabase[[#This Row],[Oljetype]]&\"-\"&Oljedatabase[[#This Row],[SesongNy]]&\"-\"&Oljedatabase[[#This Row],[Vind (m/s)]]&\"-\"&Oljedatabase[[#This Row],[Tidspunkt (timer)]]","v":"Gudrun 2012-Sommerforhold-5-2"},{"$f":"Oljedatabase[[#This Row],[Sesong]]","v":"Sommerforhold"},15,5,"2",0.28000000000000003,129,"Kjemisk dispergerbar",0.21,0.78,0,40,"Eksplosjonsfare ved tanking",4.8,"Kjemisk dispergerbar","Nei",1.0900000000000001,"2012-10-02T02:00:00",824,"Vest-Agder til Hordaland",40,6599015,-261236,"Gudrun 2012 Forvitringsrapport.pdf"]
["Gudrun 2012","Vinterforhold",{"$f":"Oljedatabase[[#This Row],[Oljetype]]&\"-\"&Oljedatabase[[#This Row],[SesongNy]]&\"-\"&Oljedatabase[[#This Row],[Vind (m/s)]]&\"-\"&Oljedatabase[[#This Row],[Tidspunkt (timer)]]","v":"Gudrun 2012-Vinterforhold-5-2"},{"$f":"Oljedatabase[[#This Row],[Sesong]]","v":"Vinterforhold"},5,5,"2",0.28000000000000003,142,"Kjemisk dispergerbar",0.18,0.81,0,32,"Eksplosjonsfare ved tanking",2.9,"Kjemisk dispergerbar","Nei",1.1299999999999999,"2012-10-02T02:00:00",824,"Vest-Agder til Hordaland",40,6599015,-261236,"Gudrun 2012 Forvitringsrapport.pdf"]
["Gullfaks C 2010","Sommerforhold",{"$f":"Oljedatabase[[#This Row],[Oljetype]]&\"-\"&Oljedatabase[[#This Row],[SesongNy]]&\"-\"&Oljedatabase[[#This Row],[Vind (m/s)]]&\"-\"&Oljedatabase[[#This Row],[Tidspunkt (timer)]]","v":"Gullfaks C 2010-Sommerforhold-15-2"},{"$f":"Oljedatabase[[#This Row],[Sesong]]","v":"Sommerforhold"},15,15,"2",0.45,1691,"Redusert kjemisk dispergerbarhet",0.35,0.36,0.28999999999999998,107,"Ingen eksplosjonsfare",18.7,"Kjemisk dispergerbar","nei",0.66,"2010-09-28T02:00:00",882,"Sogn og Fjordane til Møre og Romsdal",38,6850000,-185942,"Gullfaks C 2010 Forvitringsrapport.pdf"]
["Gullfaks A 2010","Vinterforhold",{"$f":"Oljedatabase[[#This Row],[Oljetype]]&\"-\"&Oljedatabase[[#This Row],[SesongNy]]&\"-\"&Oljedatabase[[#This Row],[Vind (m/s)]]&\"-\"&Oljedatabase[[#This Row],[Tidspunkt (timer)]]","v":"Gullfaks A 2010-Vinterforhold-5-1"},{"$f":"Oljedatabase[[#This Row],[Sesong]]","v":"Vinterforhold"},5,5,"1",0.18,77,"Kjemisk dispergerbar",0.15,0.85,0,33,"Eksplosjonsfare ved tanking",-5.8,"Kjemisk dispergerbar","Nei",1.03,"2010-09-28T02:00:00",882,"Sogn og Fjordane til Møre og Romsdal",37,6850000,-185942,"Gullfaks A 2010 Forvitringsrapport.pdf"]
["Gullfaks A 2010","Vinterforhold",{"$f":"Oljedatabase[[#This Row],[Oljetype]]&\"-\"&Oljedatabase[[#This Row],[SesongNy]]&\"-\"&Oljedatabase[[#This Row],[Vind (m/s)]]&\"-\"&Oljedatabase[[#This Row],[Tidspunkt (timer)]]","v":"Gullfaks A 2010-Vinterforhold-15-6"},{"$f":"Oljedatabase[[#This Row],[Sesong]]","v":"Vinterforhold"},5,15,"6",0.76,4686,"Redusert kjemisk dispergerbarhet",0.28999999999999998,0.23,0.48,91,"Ingen eksplosjonsfare",11.9,"Kjemisk dispergerbar","Nei",0.95,"2010-09-28T02:00:00",882,"Sogn og Fjordane til Møre og Romsdal",37,6850000,-185942,"Gullfaks A 2010 Forvitringsrapport.pdf"]
["Gullfaks C 2010","Sommerforhold",{"$f":"Oljedatabase[[#This Row],[Oljetype]]&\"-\"&Oljedatabase[[#This Row],[SesongNy]]&\"-\"&Oljedatabase[[#This Row],[Vind (m/s)]]&\"-\"&Oljedatabase[[#This Row],[Tidspunkt (timer)]]","v":"Gullfaks C 2010-Sommerforhold-5-2"},{"$f":"Oljedatabase[[#This Row],[Sesong]]","v":"Sommerforhold"},15,5,"2",0.09,181,"Kjemisk dispergerbar",0.28000000000000003,0.71,0.01,72,"Ingen eksplosjonsfare",8.1,"Kjemisk dispergerbar","nei",0.78,"2010-09-28T02:00:00",882,"Sogn og Fjordane til Møre og Romsdal",38,6850000,-185942,"Gullfaks C 2010 Forvitringsrapport.pdf"]
["Gullfaks Sør 1996","Sommerforhold",{"$f":"Oljedatabase[[#This Row],[Oljetype]]&\"-\"&Oljedatabase[[#This Row],[SesongNy]]&\"-\"&Oljedatabase[[#This Row],[Vind (m/s)]]&\"-\"&Oljedatabase[[#This Row],[Tidspunkt (timer)]]","v":"Gullfaks Sør 1996-Sommerforhold-5-24"},{"$f":"Oljedatabase[[#This Row],[Sesong]]","v":"Sommerforhold"},15,5,"24",0.8,2400,"Redusert kjemisk dispergerbarhet",0.17,0.82,0.02,96,"Ingen eksplosjonsfare",22,"Redusert kjemisk dispergerbarhet","Nei",4.0999999999999996,"1995-12-31T01:00:00",856,"Sogn og Fjordane til Møre og Romsdal",33,6843698,-184151,"Gullfaks Sør 1996 Forvitringsrapport.pdf"]
["Gullfaks C 2010","Vinterforhold",{"$f":"Oljedatabase[[#This Row],[Oljetype]]&\"-\"&Oljedatabase[[#This Row],[SesongNy]]&\"-\"&Oljedatabase[[#This Row],[Vind (m/s)]]&\"-\"&Oljedatabase[[#This Row],[Tidspunkt (timer)]]","v":"Gullfaks C 2010-Vinterforhold-15-48"},{"$f":"Oljedatabase[[#This Row],[Sesong]]","v":"Vinterforhold"},5,15,"48",0.74,20214,"Lav/dårlig kjemisk dispergerbarhet",0.37,0.01,0.62,132,"Ingen eksplosjonsfare",26,"Redusert kjemisk dispergerbarhet","ja",0.03,"2010-09-28T02:00:00",882,"Sogn og Fjordane til Møre og Romsdal",38,6850000,-185942,"Gullfaks C 2010 Forvitringsrapport.pdf"]
["Gullfaks A 2010","Sommerforhold",{"$f":"Oljedatabase[[#This Row],[Oljetype]]&\"-\"&Oljedatabase[[#This Row],[SesongNy]]&\"-\"&Oljedatabase[[#This Row],[Vind (m/s)]]&\"-\"&Oljedatabase[[#This Row],[Tidspunkt (timer)]]","v":"Gullfaks A 2010-Sommerforhold-5-6"},{"$f":"Oljedatabase[[#This Row],[Sesong]]","v":"Sommerforhold"},15,5,"6",0.45,633,"Kjemisk dispergerbar",0.28000000000000003,0.7,0.01,74,"Ingen eksplosjonsfare",7,"Kjemisk dispergerbar","Nei",1.29,"2010-09-28T02:00:00",882,"Sogn og Fjordane til Møre og Romsdal",37,6850000,-185942,"Gullfaks A 2010 Forvitringsrapport.pdf"]
["Gullfaks A 2010","Vinterforhold",{"$f":"Oljedatabase[[#This Row],[Oljetype]]&\"-\"&Oljedatabase[[#This Row],[SesongNy]]&\"-\"&Oljedatabase[[#This Row],[Vind (m/s)]]&\"-\"&Oljedatabase[[#This Row],[Tidspunkt (timer)]]","v":"Gullfaks A 2010-Vinterforhold-10-1"},{"$f":"Oljedatabase[[#This Row],[Sesong]]","v":"Vinterforhold"},5,10,"1",0.28999999999999998,245,"Kjemisk dispergerbar",0.21,0.74,0.05,51,"Eksplosjonsfare ved tanking",0,"Kjemisk dispergerbar","Nei",1.05,"2010-09-28T02:00:00",882,"Sogn og Fjordane til Møre og Romsdal",37,6850000,-185942,"Gullfaks A 2010 Forvitringsrapport.pdf"]
["Gullfaks C 2010","Vinterforhold",{"$f":"Oljedatabase[[#This Row],[Oljetype]]&\"-\"&Oljedatabase[[#This Row],[SesongNy]]&\"-\"&Oljedatabase[[#This Row],[Vind (m/s)]]&\"-\"&Oljedatabase[[#This Row],[Tidspunkt (timer)]]","v":"Gullfaks C 2010-Vinterforhold-10-48"},{"$f":"Oljedatabase[[#This Row],[Sesong]]","v":"Vinterforhold"},5,10,"48",0.74,20424,"Lav/dårlig kjemisk dispergerbarhet",0.41,0.23,0.36,133,"Ingen eksplosjonsfare",26.3,"Redusert kjemisk dispergerbarhet","ja",0.88,"2010-09-28T02:00:00",882,"Sogn og Fjordane til Møre og Romsdal",38,6850000,-185942,"Gullfaks C 2010 Forvitringsrapport.pdf"]
["Gullfaks C 2010","Vinterforhold",{"$f":"Oljedatabase[[#This Row],[Oljetype]]&\"-\"&Oljedatabase[[#This Row],[SesongNy]]&\"-\"&Oljedatabase[[#This Row],[Vind (m/s)]]&\"-\"&Oljedatabase[[#This Row],[Tidspunkt (timer)]]","v":"Gullfaks C 2010-Vinterforhold-15-1"},{"$f":"Oljedatabase[[#This Row],[Sesong]]","v":"Vinterforhold"},5,15,"1",0.27,770,"Kjemisk dispergerbar",0.28999999999999998,0.53,0.18,80,"Ingen eksplosjonsfare",10.7,"Kjemisk dispergerbar","nei",0.72,"2010-09-28T02:00:00",882,"Sogn og Fjordane til Møre og Romsdal",38,6850000,-185942,"Gullfaks C 2010 Forvitringsrapport.pdf"]
["Gullfaks C 2010","Vinterforhold",{"$f":"Oljedatabase[[#This Row],[Oljetype]]&\"-\"&Oljedatabase[[#This Row],[SesongNy]]&\"-\"&Oljedatabase[[#This Row],[Vind (m/s)]]&\"-\"&Oljedatabase[[#This Row],[Tidspunkt (timer)]]","v":"Gullfaks C 2010-Vinterforhold-10-2"},{"$f":"Oljedatabase[[#This Row],[Sesong]]","v":"Vinterforhold"},5,10,"2",0.26,742,"Kjemisk dispergerbar",0.3,0.63,7.0000000000000007E-2,80,"Ingen eksplosjonsfare",10.8,"Kjemisk dispergerbar","nei",0.84,"2010-09-28T02:00:00",882,"Sogn og Fjordane til Møre og Romsdal",38,6850000,-185942,"Gullfaks C 2010 Forvitringsrapport.pdf"]
["Gullfaks Sør 1996","Sommerforhold",{"$f":"Oljedatabase[[#This Row],[Oljetype]]&\"-\"&Oljedatabase[[#This Row],[SesongNy]]&\"-\"&Oljedatabase[[#This Row],[Vind (m/s)]]&\"-\"&Oljedatabase[[#This Row],[Tidspunkt (timer)]]","v":"Gullfaks Sør 1996-Sommerforhold-15-2"},{"$f":"Oljedatabase[[#This Row],[Sesong]]","v":"Sommerforhold"},15,15,"2",0.8,2100,"Redusert kjemisk dispergerbarhet",0.14000000000000001,0.69,0.16,87,"Ingen eksplosjonsfare",20,"Kjemisk dispergerbar","Nei",3.45,"1995-12-31T01:00:00",856,"Sogn og Fjordane til Møre og Romsdal",33,6843698,-184151,"Gullfaks Sør 1996 Forvitringsrapport.pdf"]
["Gullfaks Sør 1996","Sommerforhold",{"$f":"Oljedatabase[[#This Row],[Oljetype]]&\"-\"&Oljedatabase[[#This Row],[SesongNy]]&\"-\"&Oljedatabase[[#This Row],[Vind (m/s)]]&\"-\"&Oljedatabase[[#This Row],[Tidspunkt (timer)]]","v":"Gullfaks Sør 1996-Sommerforhold-10-1"},{"$f":"Oljedatabase[[#This Row],[Sesong]]","v":"Sommerforhold"},15,10,"1",0.62,1200,"Redusert kjemisk dispergerbarhet",0.12,0.86,0.02,70,"Ingen eksplosjonsfare",17,"Kjemisk dispergerbar","Nei",2.2599999999999998,"1995-12-31T01:00:00",856,"Sogn og Fjordane til Møre og Romsdal",33,6843698,-184151,"Gullfaks Sør 1996 Forvitringsrapport.pdf"]
["Gullfaks C 2010","Vinterforhold",{"$f":"Oljedatabase[[#This Row],[Oljetype]]&\"-\"&Oljedatabase[[#This Row],[SesongNy]]&\"-\"&Oljedatabase[[#This Row],[Vind (m/s)]]&\"-\"&Oljedatabase[[#This Row],[Tidspunkt (timer)]]","v":"Gullfaks C 2010-Vinterforhold-15-96"},{"$f":"Oljedatabase[[#This Row],[Sesong]]","v":"Vinterforhold"},5,15,"96",0.74,20367,"Lav/dårlig kjemisk dispergerbarhet",0.37,0,0.63,132,"Ingen eksplosjonsfare",26.1,"Redusert kjemisk dispergerbarhet","ja",0,"2010-09-28T02:00:00",882,"Sogn og Fjordane til Møre og Romsdal",38,6850000,-185942,"Gullfaks C 2010 Forvitringsrapport.pdf"]
["Gullfaks C 2010","Vinterforhold",{"$f":"Oljedatabase[[#This Row],[Oljetype]]&\"-\"&Oljedatabase[[#This Row],[SesongNy]]&\"-\"&Oljedatabase[[#This Row],[Vind (m/s)]]&\"-\"&Oljedatabase[[#This Row],[Tidspunkt (timer)]]","v":"Gullfaks C 2010-Vinterforhold-5-96"},{"$f":"Oljedatabase[[#This Row],[Sesong]]","v":"Vinterforhold"},5,5,"96",0.74,17632,"Redusert kjemisk dispergerbarhet",0.42,0.52,0.06,128,"Ingen eksplosjonsfare",24.8,"Redusert kjemisk dispergerbarhet","nei",1.96,"2010-09-28T02:00:00",882,"Sogn og Fjordane til Møre og Romsdal",38,6850000,-185942,"Gullfaks C 2010 Forvitringsrapport.pdf"]
["Gullfaks Sør 1996","Vinterforhold",{"$f":"Oljedatabase[[#This Row],[Oljetype]]&\"-\"&Oljedatabase[[#This Row],[SesongNy]]&\"-\"&Oljedatabase[[#This Row],[Vind (m/s)]]&\"-\"&Oljedatabase[[#This Row],[Tidspunkt (timer)]]","v":"Gullfaks Sør 1996-Vinterforhold-15-6"},{"$f":"Oljedatabase[[#This Row],[Sesong]]","v":"Vinterforhold"},5,15,"6",0.8,4200,"Redusert kjemisk dispergerbarhet",0.15,0.54,0.31,92,"Ingen eksplosjonsfare",21,"Lav/dårlig dispergerbarhet","Nei",2.7,"1995-12-31T01:00:00",856,"Sogn og Fjordane til Møre og Romsdal",33,6843698,-184151,"Gullfaks Sør 1996 Forvitringsrapport.pdf"]
["Gyda 2002","Sommerforhold",{"$f":"Oljedatabase[[#This Row],[Oljetype]]&\"-\"&Oljedatabase[[#This Row],[SesongNy]]&\"-\"&Oljedatabase[[#This Row],[Vind (m/s)]]&\"-\"&Oljedatabase[[#This Row],[Tidspunkt (timer)]]","v":"Gyda 2002-Sommerforhold-10-9"},{"$f":"Oljedatabase[[#This Row],[Sesong]]","v":"Sommerforhold"},15,10,"9",0.8,3700,"Redusert kjemisk dispergerbarhet",0.36,0.48,0.15,0,"Ikke angitt",25,"Redusert kjemisk dispergerbarhet","Nei",2.41,"2002-02-11T01:00:00",823,"Vest-Agder til Hordaland",40,6370191,-223503,"Gyda 2002 Forvitringsrapport.pdf"]
["Gyda 2002","Sommerforhold",{"$f":"Oljedatabase[[#This Row],[Oljetype]]&\"-\"&Oljedatabase[[#This Row],[SesongNy]]&\"-\"&Oljedatabase[[#This Row],[Vind (m/s)]]&\"-\"&Oljedatabase[[#This Row],[Tidspunkt (timer)]]","v":"Gyda 2002-Sommerforhold-2-6"},{"$f":"Oljedatabase[[#This Row],[Sesong]]","v":"Sommerforhold"},15,2,"6",0.52,700,"Redusert kjemisk dispergerbarhet",0.28000000000000003,0.72,0,0,"Ikke angitt",15,"Kjemisk dispergerbar","Nei",1.5,"2002-02-11T01:00:00",823,"Vest-Agder til Hordaland",40,6370191,-223503,"Gyda 2002 Forvitringsrapport.pdf"]
["Gyda 2002","Sommerforhold",{"$f":"Oljedatabase[[#This Row],[Oljetype]]&\"-\"&Oljedatabase[[#This Row],[SesongNy]]&\"-\"&Oljedatabase[[#This Row],[Vind (m/s)]]&\"-\"&Oljedatabase[[#This Row],[Tidspunkt (timer)]]","v":"Gyda 2002-Sommerforhold-15-72"},{"$f":"Oljedatabase[[#This Row],[Sesong]]","v":"Sommerforhold"},15,15,"72",0.8,5400,"Redusert kjemisk dispergerbarhet",0.38,0,0.62,0,"Ikke angitt",30,"Redusert kjemisk dispergerbarhet","Nei",0,"2002-02-11T01:00:00",823,"Vest-Agder til Hordaland",40,6370191,-223503,"Gyda 2002 Forvitringsrapport.pdf"]
["Gyda 2002","Vinterforhold",{"$f":"Oljedatabase[[#This Row],[Oljetype]]&\"-\"&Oljedatabase[[#This Row],[SesongNy]]&\"-\"&Oljedatabase[[#This Row],[Vind (m/s)]]&\"-\"&Oljedatabase[[#This Row],[Tidspunkt (timer)]]","v":"Gyda 2002-Vinterforhold-2-9"},{"$f":"Oljedatabase[[#This Row],[Sesong]]","v":"Vinterforhold"},5,2,"9",0.63,1600,"Redusert kjemisk dispergerbarhet",0.26,0.73,0,0,"Ikke angitt",14,"Redusert kjemisk dispergerbarhet","Nei",1.97,"2002-02-11T01:00:00",823,"Vest-Agder til Hordaland",40,6370191,-223503,"Gyda 2002 Forvitringsrapport.pdf"]
["Gyda 2002","Sommerforhold",{"$f":"Oljedatabase[[#This Row],[Oljetype]]&\"-\"&Oljedatabase[[#This Row],[SesongNy]]&\"-\"&Oljedatabase[[#This Row],[Vind (m/s)]]&\"-\"&Oljedatabase[[#This Row],[Tidspunkt (timer)]]","v":"Gyda 2002-Sommerforhold-15-48"},{"$f":"Oljedatabase[[#This Row],[Sesong]]","v":"Sommerforhold"},15,15,"48",0.8,5400,"Redusert kjemisk dispergerbarhet",0.38,0,0.62,0,"Ikke angitt",30,"Redusert kjemisk dispergerbarhet","Nei",0,"2002-02-11T01:00:00",823,"Vest-Agder til Hordaland",40,6370191,-223503,"Gyda 2002 Forvitringsrapport.pdf"]
["Gyda 2002","Vinterforhold",{"$f":"Oljedatabase[[#This Row],[Oljetype]]&\"-\"&Oljedatabase[[#This Row],[SesongNy]]&\"-\"&Oljedatabase[[#This Row],[Vind (m/s)]]&\"-\"&Oljedatabase[[#This Row],[Tidspunkt (timer)]]","v":"Gyda 2002-Vinterforhold-15-2"},{"$f":"Oljedatabase[[#This Row],[Sesong]]","v":"Vinterforhold"},5,15,"2",0.8,4200,"Redusert kjemisk dispergerbarhet",0.3,0.51,0.18,0,"Ikke angitt",19,"Redusert kjemisk dispergerbarhet","Nei",2.57,"2002-02-11T01:00:00",823,"Vest-Agder til Hordaland",40,6370191,-223503,"Gyda 2002 Forvitringsrapport.pdf"]
["Gyda 2002","Sommerforhold",{"$f":"Oljedatabase[[#This Row],[Oljetype]]&\"-\"&Oljedatabase[[#This Row],[SesongNy]]&\"-\"&Oljedatabase[[#This Row],[Vind (m/s)]]&\"-\"&Oljedatabase[[#This Row],[Tidspunkt (timer)]]","v":"Gyda 2002-Sommerforhold-15-3"},{"$f":"Oljedatabase[[#This Row],[Sesong]]","v":"Sommerforhold"},15,15,"3",0.8,3300,"Redusert kjemisk dispergerbarhet",0.34,0.39,0.26,0,"Ikke angitt",24,"Redusert kjemisk dispergerbarhet","Nei",1.96,"2002-02-11T01:00:00",823,"Vest-Agder til Hordaland",40,6370191,-223503,"Gyda 2002 Forvitringsrapport.pdf"]
["Havis 2013","Sommerforhold",{"$f":"Oljedatabase[[#This Row],[Oljetype]]&\"-\"&Oljedatabase[[#This Row],[SesongNy]]&\"-\"&Oljedatabase[[#This Row],[Vind (m/s)]]&\"-\"&Oljedatabase[[#This Row],[Tidspunkt (timer)]]","v":"Havis 2013-Sommerforhold-5-96"},{"$f":"Oljedatabase[[#This Row],[Sesong]]","v":"Sommerforhold"},10,5,"96",0.73,3080,"Redusert kjemisk dispergerbarhet",0.31,0.57999999999999996,0.1,130,"Ingen eksplosjonsfare",26.3,"Lav/dårlig dispergerbarhet","Nei",2.2400000000000002,"2013-05-14T02:00:00",850,"Finnmark",34,8047718,673119,"Havis 2013 Forvitringsrapport.pdf"]
["Havis 2013","Sommerforhold",{"$f":"Oljedatabase[[#This Row],[Oljetype]]&\"-\"&Oljedatabase[[#This Row],[SesongNy]]&\"-\"&Oljedatabase[[#This Row],[Vind (m/s)]]&\"-\"&Oljedatabase[[#This Row],[Tidspunkt (timer)]]","v":"Havis 2013-Sommerforhold-15-120"},{"$f":"Oljedatabase[[#This Row],[Sesong]]","v":"Sommerforhold"},10,15,"120",0.74,6010,"Redusert kjemisk dispergerbarhet",0.27,0,0.72,166,"Ingen eksplosjonsfare",32.700000000000003,"Lav/dårlig dispergerbarhet","Nei",0,"2013-05-14T02:00:00",850,"Finnmark",34,8047718,673119,"Havis 2013 Forvitringsrapport.pdf"]
["Havis 2013","Sommerforhold",{"$f":"Oljedatabase[[#This Row],[Oljetype]]&\"-\"&Oljedatabase[[#This Row],[SesongNy]]&\"-\"&Oljedatabase[[#This Row],[Vind (m/s)]]&\"-\"&Oljedatabase[[#This Row],[Tidspunkt (timer)]]","v":"Havis 2013-Sommerforhold-15-2"},{"$f":"Oljedatabase[[#This Row],[Sesong]]","v":"Sommerforhold"},10,15,"2",0.39,561,"Kjemisk dispergerbar",0.18,0.63,0.17,85,"Ingen eksplosjonsfare",17.5,"Redusert kjemisk dispergerbarhet","Nei",1.04,"2013-05-14T02:00:00",850,"Finnmark",34,8047718,673119,"Havis 2013 Forvitringsrapport.pdf"]
["Havis 2013","Sommerforhold",{"$f":"Oljedatabase[[#This Row],[Oljetype]]&\"-\"&Oljedatabase[[#This Row],[SesongNy]]&\"-\"&Oljedatabase[[#This Row],[Vind (m/s)]]&\"-\"&Oljedatabase[[#This Row],[Tidspunkt (timer)]]","v":"Havis 2013-Sommerforhold-15-24"},{"$f":"Oljedatabase[[#This Row],[Sesong]]","v":"Sommerforhold"},10,15,"24",0.74,3410,"Redusert kjemisk dispergerbarhet",0.26,0.02,0.71,135,"Ingen eksplosjonsfare",27.2,"Lav/dårlig dispergerbarhet","Nei",0.08,"2013-05-14T02:00:00",850,"Finnmark",34,8047718,673119,"Havis 2013 Forvitringsrapport.pdf"]
["Havis 2013","Vinterforhold",{"$f":"Oljedatabase[[#This Row],[Oljetype]]&\"-\"&Oljedatabase[[#This Row],[SesongNy]]&\"-\"&Oljedatabase[[#This Row],[Vind (m/s)]]&\"-\"&Oljedatabase[[#This Row],[Tidspunkt (timer)]]","v":"Havis 2013-Vinterforhold-2-72"},{"$f":"Oljedatabase[[#This Row],[Sesong]]","v":"Vinterforhold"},5,2,"72",0.44,1300,"Kjemisk dispergerbar",0.25,0.74,0,105,"Ingen eksplosjonsfare",21.4,"Lav/dårlig dispergerbarhet","Nei",1.34,"2013-05-14T02:00:00",850,"Finnmark",34,8047718,673119,"Havis 2013 Forvitringsrapport.pdf"]
["Havis 2013","Sommerforhold",{"$f":"Oljedatabase[[#This Row],[Oljetype]]&\"-\"&Oljedatabase[[#This Row],[SesongNy]]&\"-\"&Oljedatabase[[#This Row],[Vind (m/s)]]&\"-\"&Oljedatabase[[#This Row],[Tidspunkt (timer)]]","v":"Havis 2013-Sommerforhold-2-120"},{"$f":"Oljedatabase[[#This Row],[Sesong]]","v":"Sommerforhold"},10,2,"120",0.59,1860,"Redusert kjemisk dispergerbarhet",0.28999999999999998,0.7,0,119,"Ingen eksplosjonsfare",24.2,"Redusert kjemisk dispergerbarhet","Nei",1.72,"2013-05-14T02:00:00",850,"Finnmark",34,8047718,673119,"Havis 2013 Forvitringsrapport.pdf"]
["Heidrun 1999","Vinterforhold",{"$f":"Oljedatabase[[#This Row],[Oljetype]]&\"-\"&Oljedatabase[[#This Row],[SesongNy]]&\"-\"&Oljedatabase[[#This Row],[Vind (m/s)]]&\"-\"&Oljedatabase[[#This Row],[Tidspunkt (timer)]]","v":"Heidrun 1999-Vinterforhold-5-1"},{"$f":"Oljedatabase[[#This Row],[Sesong]]","v":"Vinterforhold"},5,5,"1",0.06,57,"Kjemisk dispergerbar",7.0000000000000007E-2,0.93,0,37,"Eksplosjonsfare ved tanking",-43,"Kjemisk dispergerbar","Nei",0.98,"1999-09-30T02:00:00",883,"Sør-Trøndelag til Nordland",28,7266572,142838,"Heidrun 1999 Forvitringsrapport.pdf"]
["Heidrun 1999","Sommerforhold",{"$f":"Oljedatabase[[#This Row],[Oljetype]]&\"-\"&Oljedatabase[[#This Row],[SesongNy]]&\"-\"&Oljedatabase[[#This Row],[Vind (m/s)]]&\"-\"&Oljedatabase[[#This Row],[Tidspunkt (timer)]]","v":"Heidrun 1999-Sommerforhold-10-120"},{"$f":"Oljedatabase[[#This Row],[Sesong]]","v":"Sommerforhold"},15,10,"120",0.71,12000,"Lav/dårlig kjemisk dispergerbarhet",0.32,0.01,0.67,191,"Ingen eksplosjonsfare",-2,"Kjemisk dispergerbar","Ja",0.03,"1999-09-30T02:00:00",883,"Sør-Trøndelag til Nordland",28,7266572,142838,"Heidrun 1999 Forvitringsrapport.pdf"]
["Heidrun 1999","Sommerforhold",{"$f":"Oljedatabase[[#This Row],[Oljetype]]&\"-\"&Oljedatabase[[#This Row],[SesongNy]]&\"-\"&Oljedatabase[[#This Row],[Vind (m/s)]]&\"-\"&Oljedatabase[[#This Row],[Tidspunkt (timer)]]","v":"Heidrun 1999-Sommerforhold-2-120"},{"$f":"Oljedatabase[[#This Row],[Sesong]]","v":"Sommerforhold"},15,2,"120",0.66,3700,"Redusert kjemisk dispergerbarhet",0.3,0.7,0,143,"Ingen eksplosjonsfare",-14,"Kjemisk dispergerbar","Nei",2.0499999999999998,"1999-09-30T02:00:00",883,"Sør-Trøndelag til Nordland",28,7266572,142838,"Heidrun 1999 Forvitringsrapport.pdf"]
["Havis 2013","Vinterforhold",{"$f":"Oljedatabase[[#This Row],[Oljetype]]&\"-\"&Oljedatabase[[#This Row],[SesongNy]]&\"-\"&Oljedatabase[[#This Row],[Vind (m/s)]]&\"-\"&Oljedatabase[[#This Row],[Tidspunkt (timer)]]","v":"Havis 2013-Vinterforhold-5-12"},{"$f":"Oljedatabase[[#This Row],[Sesong]]","v":"Vinterforhold"},5,5,"12",0.34,689,"Kjemisk dispergerbar",0.2,0.77,0.02,89,"Ingen eksplosjonsfare",18.3,"Redusert kjemisk dispergerbarhet","Nei",1.18,"2013-05-14T02:00:00",850,"Finnmark",34,8047718,673119,"Havis 2013 Forvitringsrapport.pdf"]
["Heidrun 1999","Vinterforhold",{"$f":"Oljedatabase[[#This Row],[Oljetype]]&\"-\"&Oljedatabase[[#This Row],[SesongNy]]&\"-\"&Oljedatabase[[#This Row],[Vind (m/s)]]&\"-\"&Oljedatabase[[#This Row],[Tidspunkt (timer)]]","v":"Heidrun 1999-Vinterforhold-2-3"},{"$f":"Oljedatabase[[#This Row],[Sesong]]","v":"Vinterforhold"},5,2,"3",0.05,66,"Kjemisk dispergerbar",0.09,0.91,0,45,"Eksplosjonsfare ved tanking",-40,"Kjemisk dispergerbar","Nei",0.95,"1999-09-30T02:00:00",883,"Sør-Trøndelag til Nordland",28,7266572,142838,"Heidrun 1999 Forvitringsrapport.pdf"]
["Havis 2013","Sommerforhold",{"$f":"Oljedatabase[[#This Row],[Oljetype]]&\"-\"&Oljedatabase[[#This Row],[SesongNy]]&\"-\"&Oljedatabase[[#This Row],[Vind (m/s)]]&\"-\"&Oljedatabase[[#This Row],[Tidspunkt (timer)]]","v":"Havis 2013-Sommerforhold-10-24"},{"$f":"Oljedatabase[[#This Row],[Sesong]]","v":"Sommerforhold"},10,10,"24",0.73,2720,"Redusert kjemisk dispergerbarhet",0.28000000000000003,0.35,0.36,124,"Ingen eksplosjonsfare",25.2,"Lav/dårlig dispergerbarhet","Nei",1.31,"2013-05-14T02:00:00",850,"Finnmark",34,8047718,673119,"Havis 2013 Forvitringsrapport.pdf"]
["Heidrun 1999","Sommerforhold",{"$f":"Oljedatabase[[#This Row],[Oljetype]]&\"-\"&Oljedatabase[[#This Row],[SesongNy]]&\"-\"&Oljedatabase[[#This Row],[Vind (m/s)]]&\"-\"&Oljedatabase[[#This Row],[Tidspunkt (timer)]]","v":"Heidrun 1999-Sommerforhold-10-1"},{"$f":"Oljedatabase[[#This Row],[Sesong]]","v":"Sommerforhold"},15,10,"1",0.18,79,"Kjemisk dispergerbar",0.1,0.9,0,52,"Eksplosjonsfare ved tanking",-38,"Kjemisk dispergerbar","Nei",1.0900000000000001,"1999-09-30T02:00:00",883,"Sør-Trøndelag til Nordland",28,7266572,142838,"Heidrun 1999 Forvitringsrapport.pdf"]
["Huldra 1998","Sommerforhold",{"$f":"Oljedatabase[[#This Row],[Oljetype]]&\"-\"&Oljedatabase[[#This Row],[SesongNy]]&\"-\"&Oljedatabase[[#This Row],[Vind (m/s)]]&\"-\"&Oljedatabase[[#This Row],[Tidspunkt (timer)]]","v":"Huldra 1998-Sommerforhold-5-72"},{"$f":"Oljedatabase[[#This Row],[Sesong]]","v":"Sommerforhold"},15,5,"72",0.4,880,"Kjemisk dispergerbar",0.56000000000000005,0.03,0.4,151,"Ingen eksplosjonsfare",34.6,"Lav/dårlig dispergerbarhet","Nei",0.05,"1998-02-19T01:00:00",809,"Sogn og Fjordane til Møre og Romsdal",43,6809987,-168210,"Huldra 1998 Forvitringsrapport.pdf"]
["Huldra 1998","Sommerforhold",{"$f":"Oljedatabase[[#This Row],[Oljetype]]&\"-\"&Oljedatabase[[#This Row],[SesongNy]]&\"-\"&Oljedatabase[[#This Row],[Vind (m/s)]]&\"-\"&Oljedatabase[[#This Row],[Tidspunkt (timer)]]","v":"Huldra 1998-Sommerforhold-2-12"},{"$f":"Oljedatabase[[#This Row],[Sesong]]","v":"Sommerforhold"},15,2,"12",0.4,321,"Kjemisk dispergerbar",0.45,0.54,0,102,"Ingen eksplosjonsfare",22.7,"Redusert kjemisk dispergerbarhet","Nei",0.9,"1998-02-19T01:00:00",809,"Sogn og Fjordane til Møre og Romsdal",43,6809987,-168210,"Huldra 1998 Forvitringsrapport.pdf"]
["Huldra 1998","Sommerforhold",{"$f":"Oljedatabase[[#This Row],[Oljetype]]&\"-\"&Oljedatabase[[#This Row],[SesongNy]]&\"-\"&Oljedatabase[[#This Row],[Vind (m/s)]]&\"-\"&Oljedatabase[[#This Row],[Tidspunkt (timer)]]","v":"Huldra 1998-Sommerforhold-10-48"},{"$f":"Oljedatabase[[#This Row],[Sesong]]","v":"Sommerforhold"},15,10,"48",0.4,523,"Kjemisk dispergerbar",0.47,0,0.52,125,"Ingen eksplosjonsfare",28.4,"Redusert kjemisk dispergerbarhet","Nei",0,"1998-02-19T01:00:00",809,"Sogn og Fjordane til Møre og Romsdal",43,6809987,-168210,"Huldra 1998 Forvitringsrapport.pdf"]
["Huldra 1998","Vinterforhold",{"$f":"Oljedatabase[[#This Row],[Oljetype]]&\"-\"&Oljedatabase[[#This Row],[SesongNy]]&\"-\"&Oljedatabase[[#This Row],[Vind (m/s)]]&\"-\"&Oljedatabase[[#This Row],[Tidspunkt (timer)]]","v":"Huldra 1998-Vinterforhold-2-1"},{"$f":"Oljedatabase[[#This Row],[Sesong]]","v":"Vinterforhold"},5,2,"1",0.01,14,"Kjemisk dispergerbar",0.17,0.82,0,17,"Eksplosjonsfare ved tanking",-0.6,"Kjemisk dispergerbar","Nei",0.83,"1998-02-19T01:00:00",809,"Sogn og Fjordane til Møre og Romsdal",43,6809987,-168210,"Huldra 1998 Forvitringsrapport.pdf"]
["Huldra 1998","Vinterforhold",{"$f":"Oljedatabase[[#This Row],[Oljetype]]&\"-\"&Oljedatabase[[#This Row],[SesongNy]]&\"-\"&Oljedatabase[[#This Row],[Vind (m/s)]]&\"-\"&Oljedatabase[[#This Row],[Tidspunkt (timer)]]","v":"Huldra 1998-Vinterforhold-10-3"},{"$f":"Oljedatabase[[#This Row],[Sesong]]","v":"Vinterforhold"},5,10,"3",0.4,419,"Kjemisk dispergerbar",0.41,0.32,0.26,93,"Ingen eksplosjonsfare",20.5,"Lav/dårlig dispergerbarhet","Nei",0.54,"1998-02-19T01:00:00",809,"Sogn og Fjordane til Møre og Romsdal",43,6809987,-168210,"Huldra 1998 Forvitringsrapport.pdf"]
["Huldra 1998","Vinterforhold",{"$f":"Oljedatabase[[#This Row],[Oljetype]]&\"-\"&Oljedatabase[[#This Row],[SesongNy]]&\"-\"&Oljedatabase[[#This Row],[Vind (m/s)]]&\"-\"&Oljedatabase[[#This Row],[Tidspunkt (timer)]]","v":"Huldra 1998-Vinterforhold-2-48"},{"$f":"Oljedatabase[[#This Row],[Sesong]]","v":"Vinterforhold"},5,2,"48",0.4,812,"Kjemisk dispergerbar",0.5,0.48,0.01,120,"Ingen eksplosjonsfare",27.4,"Lav/dårlig dispergerbarhet","Nei",0.8,"1998-02-19T01:00:00",809,"Sogn og Fjordane til Møre og Romsdal",43,6809987,-168210,"Huldra 1998 Forvitringsrapport.pdf"]
["Huldra 1998","Sommerforhold",{"$f":"Oljedatabase[[#This Row],[Oljetype]]&\"-\"&Oljedatabase[[#This Row],[SesongNy]]&\"-\"&Oljedatabase[[#This Row],[Vind (m/s)]]&\"-\"&Oljedatabase[[#This Row],[Tidspunkt (timer)]]","v":"Huldra 1998-Sommerforhold-10-2"},{"$f":"Oljedatabase[[#This Row],[Sesong]]","v":"Sommerforhold"},15,10,"2",0.4,283,"Kjemisk dispergerbar",0.42,0.38,0.18,96,"Ingen eksplosjonsfare",21.3,"Redusert kjemisk dispergerbarhet","Nei",0.64,"1998-02-19T01:00:00",809,"Sogn og Fjordane til Møre og Romsdal",43,6809987,-168210,"Huldra 1998 Forvitringsrapport.pdf"]
["Huldra 1998","Sommerforhold",{"$f":"Oljedatabase[[#This Row],[Oljetype]]&\"-\"&Oljedatabase[[#This Row],[SesongNy]]&\"-\"&Oljedatabase[[#This Row],[Vind (m/s)]]&\"-\"&Oljedatabase[[#This Row],[Tidspunkt (timer)]]","v":"Huldra 1998-Sommerforhold-15-2"},{"$f":"Oljedatabase[[#This Row],[Sesong]]","v":"Sommerforhold"},15,15,"2",0.4,351,"Kjemisk dispergerbar",0.42,0.04,0.53,106,"Ingen eksplosjonsfare",23.7,"Redusert kjemisk dispergerbarhet","Nei",7.0000000000000007E-2,"1998-02-19T01:00:00",809,"Sogn og Fjordane til Møre og Romsdal",43,6809987,-168210,"Huldra 1998 Forvitringsrapport.pdf"]
["Heidrun 1999","Vinterforhold",{"$f":"Oljedatabase[[#This Row],[Oljetype]]&\"-\"&Oljedatabase[[#This Row],[SesongNy]]&\"-\"&Oljedatabase[[#This Row],[Vind (m/s)]]&\"-\"&Oljedatabase[[#This Row],[Tidspunkt (timer)]]","v":"Heidrun 1999-Vinterforhold-2-9"},{"$f":"Oljedatabase[[#This Row],[Sesong]]","v":"Vinterforhold"},5,2,"9",0,180,"Kjemisk dispergerbar",0,0,0,0,"Ingen eksplosjonsfare",0,"Kjemisk dispergerbar",null,0,"1999-09-30T02:00:00",0,null,0,7266572,142838,"Heidrun 1999 Forvitringsrapport.pdf"]
["Huldra 1998","Vinterforhold",{"$f":"Oljedatabase[[#This Row],[Oljetype]]&\"-\"&Oljedatabase[[#This Row],[SesongNy]]&\"-\"&Oljedatabase[[#This Row],[Vind (m/s)]]&\"-\"&Oljedatabase[[#This Row],[Tidspunkt (timer)]]","v":"Huldra 1998-Vinterforhold-10-24"},{"$f":"Oljedatabase[[#This Row],[Sesong]]","v":"Vinterforhold"},5,10,"24",0.4,708,"Kjemisk dispergerbar",0.44,0,0.55000000000000004,115,"Ingen eksplosjonsfare",25.9,"Lav/dårlig dispergerbarhet","Nei",0,"1998-02-19T01:00:00",809,"Sogn og Fjordane til Møre og Romsdal",43,6809987,-168210,"Huldra 1998 Forvitringsrapport.pdf"]
["Huldra 1998","Vinterforhold",{"$f":"Oljedatabase[[#This Row],[Oljetype]]&\"-\"&Oljedatabase[[#This Row],[SesongNy]]&\"-\"&Oljedatabase[[#This Row],[Vind (m/s)]]&\"-\"&Oljedatabase[[#This Row],[Tidspunkt (timer)]]","v":"Huldra 1998-Vinterforhold-10-48"},{"$f":"Oljedatabase[[#This Row],[Sesong]]","v":"Vinterforhold"},5,10,"48",0.4,708,"Kjemisk dispergerbar",0.44,0,0.55000000000000004,115,"Ingen eksplosjonsfare",25.9,"Lav/dårlig dispergerbarhet","Nei",0,"1998-02-19T01:00:00",809,"Sogn og Fjordane til Møre og Romsdal",43,6809987,-168210,"Huldra 1998 Forvitringsrapport.pdf"]
["Draupne (Ivar Aasen) 2012","Sommerforhold",{"$f":"Oljedatabase[[#This Row],[Oljetype]]&\"-\"&Oljedatabase[[#This Row],[SesongNy]]&\"-\"&Oljedatabase[[#This Row],[Vind (m/s)]]&\"-\"&Oljedatabase[[#This Row],[Tidspunkt (timer)]]","v":"Draupne (Ivar Aasen) 2012-Sommerforhold-5-3"},{"$f":"Oljedatabase[[#This Row],[Sesong]]","v":"Sommerforhold"},10,5,"3",0.42,309,"Kjemisk dispergerbar",0.21,0.77,0,63,"Ingen eksplosjonsfare",11.7,"Kjemisk dispergerbar","Nei",1.35,"2012-11-29T01:00:00",838,"Vest-Agder til Hordaland",37,6602103,-234252,"Draupne (Ivar Aasen) 2012 Forvitringsrapport.pdf"]
["Draupne (Ivar Aasen) 2012","Sommerforhold",{"$f":"Oljedatabase[[#This Row],[Oljetype]]&\"-\"&Oljedatabase[[#This Row],[SesongNy]]&\"-\"&Oljedatabase[[#This Row],[Vind (m/s)]]&\"-\"&Oljedatabase[[#This Row],[Tidspunkt (timer)]]","v":"Draupne (Ivar Aasen) 2012-Sommerforhold-10-6"},{"$f":"Oljedatabase[[#This Row],[Sesong]]","v":"Sommerforhold"},10,10,"6",0.78,2900,"Redusert kjemisk dispergerbarhet",0.28999999999999998,0.55000000000000004,0.15,92,"Ingen eksplosjonsfare",18.100000000000001,"Redusert kjemisk dispergerbarhet","Nei",2.59,"2012-11-29T01:00:00",838,"Vest-Agder til Hordaland",37,6602103,-234252,"Draupne (Ivar Aasen) 2012 Forvitringsrapport.pdf"]
["Draupne (Ivar Aasen) 2012","Sommerforhold",{"$f":"Oljedatabase[[#This Row],[Oljetype]]&\"-\"&Oljedatabase[[#This Row],[SesongNy]]&\"-\"&Oljedatabase[[#This Row],[Vind (m/s)]]&\"-\"&Oljedatabase[[#This Row],[Tidspunkt (timer)]]","v":"Draupne (Ivar Aasen) 2012-Sommerforhold-15-1"},{"$f":"Oljedatabase[[#This Row],[Sesong]]","v":"Sommerforhold"},10,15,"1",0.59,812,"Kjemisk dispergerbar",0.23,0.55000000000000004,0.2,73,"Ingen eksplosjonsfare",14,"Kjemisk dispergerbar","Nei",1.36,"2012-11-29T01:00:00",838,"Vest-Agder til Hordaland",37,6602103,-234252,"Draupne (Ivar Aasen) 2012 Forvitringsrapport.pdf"]
["Huldra 1998","Sommerforhold",{"$f":"Oljedatabase[[#This Row],[Oljetype]]&\"-\"&Oljedatabase[[#This Row],[SesongNy]]&\"-\"&Oljedatabase[[#This Row],[Vind (m/s)]]&\"-\"&Oljedatabase[[#This Row],[Tidspunkt (timer)]]","v":"Huldra 1998-Sommerforhold-15-96"},{"$f":"Oljedatabase[[#This Row],[Sesong]]","v":"Sommerforhold"},15,15,"96",0.4,377,"Kjemisk dispergerbar",0.42,0,0.56999999999999995,109,"Ingen eksplosjonsfare",24.6,"Redusert kjemisk dispergerbarhet","Nei",0,"1998-02-19T01:00:00",809,"Sogn og Fjordane til Møre og Romsdal",43,6809987,-168210,"Huldra 1998 Forvitringsrapport.pdf"]
["Draupne (Ivar Aasen) 2012","Vinterforhold",{"$f":"Oljedatabase[[#This Row],[Oljetype]]&\"-\"&Oljedatabase[[#This Row],[SesongNy]]&\"-\"&Oljedatabase[[#This Row],[Vind (m/s)]]&\"-\"&Oljedatabase[[#This Row],[Tidspunkt (timer)]]","v":"Draupne (Ivar Aasen) 2012-Vinterforhold-2-6"},{"$f":"Oljedatabase[[#This Row],[Sesong]]","v":"Vinterforhold"},5,2,"6",0.28999999999999998,172,"Kjemisk dispergerbar",0.17,0.82,0,50,"Eksplosjonsfare ved tanking",8.6999999999999993,"Kjemisk dispergerbar","Nei",1.1599999999999999,"2012-11-29T01:00:00",838,"Vest-Agder til Hordaland",37,6602103,-234252,"Draupne (Ivar Aasen) 2012 Forvitringsrapport.pdf"]
["Jordbær 2011","Sommerforhold",{"$f":"Oljedatabase[[#This Row],[Oljetype]]&\"-\"&Oljedatabase[[#This Row],[SesongNy]]&\"-\"&Oljedatabase[[#This Row],[Vind (m/s)]]&\"-\"&Oljedatabase[[#This Row],[Tidspunkt (timer)]]","v":"Jordbær 2011-Sommerforhold-10-96"},{"$f":"Oljedatabase[[#This Row],[Sesong]]","v":"Sommerforhold"},15,10,"96",0.84,15200,"Redusert kjemisk dispergerbarhet",0.49,0.05,0.45,126,"Ingen eksplosjonsfare",32.799999999999997,"Lav/dårlig dispergerbarhet","Ja",0.36,"2013-06-25T02:00:00",802,"Sogn og Fjordane til Møre og Romsdal",44,6912608,-144851,"Jordbær 2011 Forvitringsrapport.pdf"]
["Jordbær 2011","Vinterforhold",{"$f":"Oljedatabase[[#This Row],[Oljetype]]&\"-\"&Oljedatabase[[#This Row],[SesongNy]]&\"-\"&Oljedatabase[[#This Row],[Vind (m/s)]]&\"-\"&Oljedatabase[[#This Row],[Tidspunkt (timer)]]","v":"Jordbær 2011-Vinterforhold-15-2"},{"$f":"Oljedatabase[[#This Row],[Sesong]]","v":"Vinterforhold"},5,15,"2",0.78,3940,"Kjemisk dispergerbar",0.32,0.52,0.15,57,"Eksplosjonsfare ved tanking",11.3,"Redusert kjemisk dispergerbarhet","Nei",2.46,"2013-06-25T02:00:00",802,"Sogn og Fjordane til Møre og Romsdal",44,6912608,-144851,"Jordbær 2011 Forvitringsrapport.pdf"]
["Jordbær 2011","Sommerforhold",{"$f":"Oljedatabase[[#This Row],[Oljetype]]&\"-\"&Oljedatabase[[#This Row],[SesongNy]]&\"-\"&Oljedatabase[[#This Row],[Vind (m/s)]]&\"-\"&Oljedatabase[[#This Row],[Tidspunkt (timer)]]","v":"Jordbær 2011-Sommerforhold-2-12"},{"$f":"Oljedatabase[[#This Row],[Sesong]]","v":"Sommerforhold"},15,2,"12",0.36,280,"Kjemisk dispergerbar",0.35,0.64,0,62,"Ingen eksplosjonsfare",12.9,"Kjemisk dispergerbar","Nei",1.01,"2013-06-25T02:00:00",802,"Sogn og Fjordane til Møre og Romsdal",44,6912608,-144851,"Jordbær 2011 Forvitringsrapport.pdf"]
["Huldra 1998","Sommerforhold",{"$f":"Oljedatabase[[#This Row],[Oljetype]]&\"-\"&Oljedatabase[[#This Row],[SesongNy]]&\"-\"&Oljedatabase[[#This Row],[Vind (m/s)]]&\"-\"&Oljedatabase[[#This Row],[Tidspunkt (timer)]]","v":"Huldra 1998-Sommerforhold-15-48"},{"$f":"Oljedatabase[[#This Row],[Sesong]]","v":"Sommerforhold"},15,15,"48",0.4,377,"Kjemisk dispergerbar",0.42,0,0.56999999999999995,109,"Ingen eksplosjonsfare",24.6,"Redusert kjemisk dispergerbarhet","Nei",0,"1998-02-19T01:00:00",809,"Sogn og Fjordane til Møre og Romsdal",43,6809987,-168210,"Huldra 1998 Forvitringsrapport.pdf"]
["Jordbær 2011","Sommerforhold",{"$f":"Oljedatabase[[#This Row],[Oljetype]]&\"-\"&Oljedatabase[[#This Row],[SesongNy]]&\"-\"&Oljedatabase[[#This Row],[Vind (m/s)]]&\"-\"&Oljedatabase[[#This Row],[Tidspunkt (timer)]]","v":"Jordbær 2011-Sommerforhold-2-3"},{"$f":"Oljedatabase[[#This Row],[Sesong]]","v":"Sommerforhold"},15,2,"3",0.11,34,"Kjemisk dispergerbar",0.23,0.76,0,28,"Eksplosjonsfare ved tanking",1.2,"Kjemisk dispergerbar","Nei",0.86,"2013-06-25T02:00:00",802,"Sogn og Fjordane til Møre og Romsdal",44,6912608,-144851,"Jordbær 2011 Forvitringsrapport.pdf"]
["Draupne (Ivar Aasen) 2012","Vinterforhold",{"$f":"Oljedatabase[[#This Row],[Oljetype]]&\"-\"&Oljedatabase[[#This Row],[SesongNy]]&\"-\"&Oljedatabase[[#This Row],[Vind (m/s)]]&\"-\"&Oljedatabase[[#This Row],[Tidspunkt (timer)]]","v":"Draupne (Ivar Aasen) 2012-Vinterforhold-5-120"},{"$f":"Oljedatabase[[#This Row],[Sesong]]","v":"Vinterforhold"},5,5,"120",0.8,7020,"Redusert kjemisk dispergerbarhet",0.33,0.56000000000000005,0.09,107,"Ingen eksplosjonsfare",21.3,"Lav/dårlig dispergerbarhet","Nei",2.84,"2012-11-29T01:00:00",838,"Vest-Agder til Hordaland",37,6602103,-234252,"Draupne (Ivar Aasen) 2012 Forvitringsrapport.pdf"]
["Draupne (Ivar Aasen) 2012","Sommerforhold",{"$f":"Oljedatabase[[#This Row],[Oljetype]]&\"-\"&Oljedatabase[[#This Row],[SesongNy]]&\"-\"&Oljedatabase[[#This Row],[Vind (m/s)]]&\"-\"&Oljedatabase[[#This Row],[Tidspunkt (timer)]]","v":"Draupne (Ivar Aasen) 2012-Sommerforhold-10-2"},{"$f":"Oljedatabase[[#This Row],[Sesong]]","v":"Sommerforhold"},10,10,"2",0.59,839,"Kjemisk dispergerbar",0.24,0.67,0.08,74,"Ingen eksplosjonsfare",14.2,"Kjemisk dispergerbar","Nei",1.65,"2012-11-29T01:00:00",838,"Vest-Agder til Hordaland",37,6602103,-234252,"Draupne (Ivar Aasen) 2012 Forvitringsrapport.pdf"]
["Kristin 2006","Sommerforhold",{"$f":"Oljedatabase[[#This Row],[Oljetype]]&\"-\"&Oljedatabase[[#This Row],[SesongNy]]&\"-\"&Oljedatabase[[#This Row],[Vind (m/s)]]&\"-\"&Oljedatabase[[#This Row],[Tidspunkt (timer)]]","v":"Kristin 2006-Sommerforhold-2-24"},{"$f":"Oljedatabase[[#This Row],[Sesong]]","v":"Sommerforhold"},15,2,"24",0.44,500,"Kjemisk dispergerbar",0.45,0.55000000000000004,0,80,"Ingen eksplosjonsfare",16,"Kjemisk dispergerbar","Nei",0.98,"2006-08-21T02:00:00",793,"Sør-Trøndelag til Nordland",46,7234411,102430,"Kristin 2006 Forvitringsrapport.pdf"]
["Draupne (Ivar Aasen) 2012","Sommerforhold",{"$f":"Oljedatabase[[#This Row],[Oljetype]]&\"-\"&Oljedatabase[[#This Row],[SesongNy]]&\"-\"&Oljedatabase[[#This Row],[Vind (m/s)]]&\"-\"&Oljedatabase[[#This Row],[Tidspunkt (timer)]]","v":"Draupne (Ivar Aasen) 2012-Sommerforhold-2-1"},{"$f":"Oljedatabase[[#This Row],[Sesong]]","v":"Sommerforhold"},10,2,"1",0.12,28,"Kjemisk dispergerbar",0.09,0.9,0,25,"Eksplosjonsfare ved tanking",2.5,"Kjemisk dispergerbar","Nei",1.03,"2012-11-29T01:00:00",838,"Vest-Agder til Hordaland",37,6602103,-234252,"Draupne (Ivar Aasen) 2012 Forvitringsrapport.pdf"]
["Draupne (Ivar Aasen) 2012","Vinterforhold",{"$f":"Oljedatabase[[#This Row],[Oljetype]]&\"-\"&Oljedatabase[[#This Row],[SesongNy]]&\"-\"&Oljedatabase[[#This Row],[Vind (m/s)]]&\"-\"&Oljedatabase[[#This Row],[Tidspunkt (timer)]]","v":"Draupne (Ivar Aasen) 2012-Vinterforhold-10-24"},{"$f":"Oljedatabase[[#This Row],[Sesong]]","v":"Vinterforhold"},5,10,"24",0.8,5960,"Redusert kjemisk dispergerbarhet",0.3,0.36,0.33,100,"Ingen eksplosjonsfare",19.8,"Redusert kjemisk dispergerbarhet","Nei",1.83,"2012-11-29T01:00:00",838,"Vest-Agder til Hordaland",37,6602103,-234252,"Draupne (Ivar Aasen) 2012 Forvitringsrapport.pdf"]
["Kristin 2006","Sommerforhold",{"$f":"Oljedatabase[[#This Row],[Oljetype]]&\"-\"&Oljedatabase[[#This Row],[SesongNy]]&\"-\"&Oljedatabase[[#This Row],[Vind (m/s)]]&\"-\"&Oljedatabase[[#This Row],[Tidspunkt (timer)]]","v":"Kristin 2006-Sommerforhold-15-1"},{"$f":"Oljedatabase[[#This Row],[Sesong]]","v":"Sommerforhold"},15,15,"1",0.23,280,"Kjemisk dispergerbar",0.39,0.41,0.2,62,"Ingen eksplosjonsfare",10,"Kjemisk dispergerbar","Nei",0.53,"2006-08-21T02:00:00",793,"Sør-Trøndelag til Nordland",46,7234411,102430,"Kristin 2006 Forvitringsrapport.pdf"]
["Kristin 2006","Sommerforhold",{"$f":"Oljedatabase[[#This Row],[Oljetype]]&\"-\"&Oljedatabase[[#This Row],[SesongNy]]&\"-\"&Oljedatabase[[#This Row],[Vind (m/s)]]&\"-\"&Oljedatabase[[#This Row],[Tidspunkt (timer)]]","v":"Kristin 2006-Sommerforhold-5-3"},{"$f":"Oljedatabase[[#This Row],[Sesong]]","v":"Sommerforhold"},15,5,"3",0.14000000000000001,180,"Kjemisk dispergerbar",0.35,0.65,0,51,"Eksplosjonsfare ved tanking",2,"Kjemisk dispergerbar","Nei",0.75,"2006-08-21T02:00:00",793,"Sør-Trøndelag til Nordland",46,7234411,102430,"Kristin 2006 Forvitringsrapport.pdf"]
["Draupne (Ivar Aasen) 2012","Vinterforhold",{"$f":"Oljedatabase[[#This Row],[Oljetype]]&\"-\"&Oljedatabase[[#This Row],[SesongNy]]&\"-\"&Oljedatabase[[#This Row],[Vind (m/s)]]&\"-\"&Oljedatabase[[#This Row],[Tidspunkt (timer)]]","v":"Draupne (Ivar Aasen) 2012-Vinterforhold-10-72"},{"$f":"Oljedatabase[[#This Row],[Sesong]]","v":"Vinterforhold"},5,10,"72",0.8,8370,"Redusert kjemisk dispergerbarhet",0.32,0.14000000000000001,0.53,115,"Ingen eksplosjonsfare",22.9,"Lav/dårlig dispergerbarhet","Nei",0.72,"2012-11-29T01:00:00",838,"Vest-Agder til Hordaland",37,6602103,-234252,"Draupne (Ivar Aasen) 2012 Forvitringsrapport.pdf"]
["Kristin 2006","Vinterforhold",{"$f":"Oljedatabase[[#This Row],[Oljetype]]&\"-\"&Oljedatabase[[#This Row],[SesongNy]]&\"-\"&Oljedatabase[[#This Row],[Vind (m/s)]]&\"-\"&Oljedatabase[[#This Row],[Tidspunkt (timer)]]","v":"Kristin 2006-Vinterforhold-10-120"},{"$f":"Oljedatabase[[#This Row],[Sesong]]","v":"Vinterforhold"},5,10,"120",0.7,4000,"Redusert kjemisk dispergerbarhet",0.5,0,0.5,126,"Ingen eksplosjonsfare",34,"Lav/dårlig dispergerbarhet","Nei",0,"2006-08-21T02:00:00",793,"Sør-Trøndelag til Nordland",46,7234411,102430,"Kristin 2006 Forvitringsrapport.pdf"]
["Jordbær 2011","Sommerforhold",{"$f":"Oljedatabase[[#This Row],[Oljetype]]&\"-\"&Oljedatabase[[#This Row],[SesongNy]]&\"-\"&Oljedatabase[[#This Row],[Vind (m/s)]]&\"-\"&Oljedatabase[[#This Row],[Tidspunkt (timer)]]","v":"Jordbær 2011-Sommerforhold-15-12"},{"$f":"Oljedatabase[[#This Row],[Sesong]]","v":"Sommerforhold"},15,15,"12",0.84,9970,"Redusert kjemisk dispergerbarhet",0.43,0.11,0.45,103,"Ingen eksplosjonsfare",26,"Redusert kjemisk dispergerbarhet","Nei",0.76,"2013-06-25T02:00:00",802,"Sogn og Fjordane til Møre og Romsdal",44,6912608,-144851,"Jordbær 2011 Forvitringsrapport.pdf"]
["Jordbær 2011","Vinterforhold",{"$f":"Oljedatabase[[#This Row],[Oljetype]]&\"-\"&Oljedatabase[[#This Row],[SesongNy]]&\"-\"&Oljedatabase[[#This Row],[Vind (m/s)]]&\"-\"&Oljedatabase[[#This Row],[Tidspunkt (timer)]]","v":"Jordbær 2011-Vinterforhold-10-72"},{"$f":"Oljedatabase[[#This Row],[Sesong]]","v":"Vinterforhold"},5,10,"72",0.84,17600,"Redusert kjemisk dispergerbarhet",0.45,0.13,0.41,107,"Ingen eksplosjonsfare",27.2,"Lav/dårlig dispergerbarhet","Ja",0.85,"2013-06-25T02:00:00",802,"Sogn og Fjordane til Møre og Romsdal",44,6912608,-144851,"Jordbær 2011 Forvitringsrapport.pdf"]
["Jordbær 2011","Vinterforhold",{"$f":"Oljedatabase[[#This Row],[Oljetype]]&\"-\"&Oljedatabase[[#This Row],[SesongNy]]&\"-\"&Oljedatabase[[#This Row],[Vind (m/s)]]&\"-\"&Oljedatabase[[#This Row],[Tidspunkt (timer)]]","v":"Jordbær 2011-Vinterforhold-10-48"},{"$f":"Oljedatabase[[#This Row],[Sesong]]","v":"Vinterforhold"},5,10,"48",0.84,15600,"Redusert kjemisk dispergerbarhet",0.44,0.2,0.34,101,"Ingen eksplosjonsfare",25.5,"Lav/dårlig dispergerbarhet","Ja",1.33,"2013-06-25T02:00:00",802,"Sogn og Fjordane til Møre og Romsdal",44,6912608,-144851,"Jordbær 2011 Forvitringsrapport.pdf"]
["Kristin 2006","Vinterforhold",{"$f":"Oljedatabase[[#This Row],[Oljetype]]&\"-\"&Oljedatabase[[#This Row],[SesongNy]]&\"-\"&Oljedatabase[[#This Row],[Vind (m/s)]]&\"-\"&Oljedatabase[[#This Row],[Tidspunkt (timer)]]","v":"Kristin 2006-Vinterforhold-5-2"},{"$f":"Oljedatabase[[#This Row],[Sesong]]","v":"Vinterforhold"},5,5,"2",0.13,190,"Kjemisk dispergerbar",0.27,0.73,0,23,"Eksplosjonsfare ved tanking",-9,"Kjemisk dispergerbar","Nei",0.83,"2006-08-21T02:00:00",793,"Sør-Trøndelag til Nordland",46,7234411,102430,"Kristin 2006 Forvitringsrapport.pdf"]
["Jordbær 2011","Sommerforhold",{"$f":"Oljedatabase[[#This Row],[Oljetype]]&\"-\"&Oljedatabase[[#This Row],[SesongNy]]&\"-\"&Oljedatabase[[#This Row],[Vind (m/s)]]&\"-\"&Oljedatabase[[#This Row],[Tidspunkt (timer)]]","v":"Jordbær 2011-Sommerforhold-10-72"},{"$f":"Oljedatabase[[#This Row],[Sesong]]","v":"Sommerforhold"},15,10,"72",0.84,13800,"Redusert kjemisk dispergerbarhet",0.48,0.09,0.41,121,"Ingen eksplosjonsfare",31.3,"Lav/dårlig dispergerbarhet","Ja",0.61,"2013-06-25T02:00:00",802,"Sogn og Fjordane til Møre og Romsdal",44,6912608,-144851,"Jordbær 2011 Forvitringsrapport.pdf"]
["Kristin 2006","Vinterforhold",{"$f":"Oljedatabase[[#This Row],[Oljetype]]&\"-\"&Oljedatabase[[#This Row],[SesongNy]]&\"-\"&Oljedatabase[[#This Row],[Vind (m/s)]]&\"-\"&Oljedatabase[[#This Row],[Tidspunkt (timer)]]","v":"Kristin 2006-Vinterforhold-10-12"},{"$f":"Oljedatabase[[#This Row],[Sesong]]","v":"Vinterforhold"},5,10,"12",0.61,1800,"Kjemisk dispergerbar",0.48,0.18,0.34,97,"Ingen eksplosjonsfare",22,"Lav/dårlig dispergerbarhet","Nei",0.46,"2006-08-21T02:00:00",793,"Sør-Trøndelag til Nordland",46,7234411,102430,"Kristin 2006 Forvitringsrapport.pdf"]
["Kvitebjørn 2009","Sommerforhold",{"$f":"Oljedatabase[[#This Row],[Oljetype]]&\"-\"&Oljedatabase[[#This Row],[SesongNy]]&\"-\"&Oljedatabase[[#This Row],[Vind (m/s)]]&\"-\"&Oljedatabase[[#This Row],[Tidspunkt (timer)]]","v":"Kvitebjørn 2009-Sommerforhold-15-3"},{"$f":"Oljedatabase[[#This Row],[Sesong]]","v":"Sommerforhold"},15,15,"3",0.36,291,"Ikke testet",0.41,0.03,0.56000000000000005,91,"Ingen eksplosjonsfare",17,null,null,0,"2009-12-16T01:00:00",802,"Sogn og Fjordane til Møre og Romsdal",44,6836225,-171505,"Kvitebjørn 2009 Forvitringsrapport.pdf"]
["Lavrans 1997","Sommerforhold",{"$f":"Oljedatabase[[#This Row],[Oljetype]]&\"-\"&Oljedatabase[[#This Row],[SesongNy]]&\"-\"&Oljedatabase[[#This Row],[Vind (m/s)]]&\"-\"&Oljedatabase[[#This Row],[Tidspunkt (timer)]]","v":"Lavrans 1997-Sommerforhold-10-6"},{"$f":"Oljedatabase[[#This Row],[Sesong]]","v":"Sommerforhold"},15,10,"6",0,30,"Ikke testet",0.51,0.02,0.47,103,"Ingen eksplosjonsfare",26,"Redusert kjemisk dispergerbarhet","Nei",0.02,"1997-08-21T02:00:00",798,"Sør-Trøndelag til Nordland",45,7220447,103166,"Lavrans 1997 Forvitringsrapport.pdf"]
["Kvitebjørn 2009","Vinterforhold",{"$f":"Oljedatabase[[#This Row],[Oljetype]]&\"-\"&Oljedatabase[[#This Row],[SesongNy]]&\"-\"&Oljedatabase[[#This Row],[Vind (m/s)]]&\"-\"&Oljedatabase[[#This Row],[Tidspunkt (timer)]]","v":"Kvitebjørn 2009-Vinterforhold-15-1"},{"$f":"Oljedatabase[[#This Row],[Sesong]]","v":"Vinterforhold"},5,15,"1",0.12,347,"Ikke testet",0.33,0.39,0.28000000000000003,61,"Ingen eksplosjonsfare",9,null,null,0,"2009-12-16T01:00:00",802,"Sogn og Fjordane til Møre og Romsdal",44,6836225,-171505,"Kvitebjørn 2009 Forvitringsrapport.pdf"]
["Kvitebjørn 2009","Sommerforhold",{"$f":"Oljedatabase[[#This Row],[Oljetype]]&\"-\"&Oljedatabase[[#This Row],[SesongNy]]&\"-\"&Oljedatabase[[#This Row],[Vind (m/s)]]&\"-\"&Oljedatabase[[#This Row],[Tidspunkt (timer)]]","v":"Kvitebjørn 2009-Sommerforhold-15-2"},{"$f":"Oljedatabase[[#This Row],[Sesong]]","v":"Sommerforhold"},15,15,"2",0.32,220,"Ikke testet",0.4,0.1,0.5,85,"Ingen eksplosjonsfare",15,null,null,0,"2009-12-16T01:00:00",802,"Sogn og Fjordane til Møre og Romsdal",44,6836225,-171505,"Kvitebjørn 2009 Forvitringsrapport.pdf"]
["Kvitebjørn 2009","Vinterforhold",{"$f":"Oljedatabase[[#This Row],[Oljetype]]&\"-\"&Oljedatabase[[#This Row],[SesongNy]]&\"-\"&Oljedatabase[[#This Row],[Vind (m/s)]]&\"-\"&Oljedatabase[[#This Row],[Tidspunkt (timer)]]","v":"Kvitebjørn 2009-Vinterforhold-15-96"},{"$f":"Oljedatabase[[#This Row],[Sesong]]","v":"Vinterforhold"},5,15,"96",0.2,6013,"Ikke testet",0.39,0,0.61,125,"Ingen eksplosjonsfare",25,null,null,0,"2009-12-16T01:00:00",802,"Sogn og Fjordane til Møre og Romsdal",44,6836225,-171505,"Kvitebjørn 2009 Forvitringsrapport.pdf"]
["Kristin 2006","Sommerforhold",{"$f":"Oljedatabase[[#This Row],[Oljetype]]&\"-\"&Oljedatabase[[#This Row],[SesongNy]]&\"-\"&Oljedatabase[[#This Row],[Vind (m/s)]]&\"-\"&Oljedatabase[[#This Row],[Tidspunkt (timer)]]","v":"Kristin 2006-Sommerforhold-10-6"},{"$f":"Oljedatabase[[#This Row],[Sesong]]","v":"Sommerforhold"},15,10,"6",0.56999999999999995,600,"Kjemisk dispergerbar",0.48,0.28000000000000003,0.24,93,"Ingen eksplosjonsfare",21,"Redusert kjemisk dispergerbarhet","Nei",0.65,"2006-08-21T02:00:00",793,"Sør-Trøndelag til Nordland",46,7234411,102430,"Kristin 2006 Forvitringsrapport.pdf"]
["Lavrans 1997","Sommerforhold",{"$f":"Oljedatabase[[#This Row],[Oljetype]]&\"-\"&Oljedatabase[[#This Row],[SesongNy]]&\"-\"&Oljedatabase[[#This Row],[Vind (m/s)]]&\"-\"&Oljedatabase[[#This Row],[Tidspunkt (timer)]]","v":"Lavrans 1997-Sommerforhold-15-24"},{"$f":"Oljedatabase[[#This Row],[Sesong]]","v":"Sommerforhold"},15,15,"24",0,25,"Ikke testet",0.46,0,0.54,91,"Ingen eksplosjonsfare",24,"Redusert kjemisk dispergerbarhet","Nei",0,"1997-08-21T02:00:00",798,"Sør-Trøndelag til Nordland",45,7220447,103166,"Lavrans 1997 Forvitringsrapport.pdf"]
["Kristin 2006","Sommerforhold",{"$f":"Oljedatabase[[#This Row],[Oljetype]]&\"-\"&Oljedatabase[[#This Row],[SesongNy]]&\"-\"&Oljedatabase[[#This Row],[Vind (m/s)]]&\"-\"&Oljedatabase[[#This Row],[Tidspunkt (timer)]]","v":"Kristin 2006-Sommerforhold-5-6"},{"$f":"Oljedatabase[[#This Row],[Sesong]]","v":"Sommerforhold"},15,5,"6",0.32,350,"Kjemisk dispergerbar",0.43,0.55000000000000004,0.02,70,"Ingen eksplosjonsfare",10,"Kjemisk dispergerbar","Nei",0.8,"2006-08-21T02:00:00",793,"Sør-Trøndelag til Nordland",46,7234411,102430,"Kristin 2006 Forvitringsrapport.pdf"]
["Kristin 2006","Vinterforhold",{"$f":"Oljedatabase[[#This Row],[Oljetype]]&\"-\"&Oljedatabase[[#This Row],[SesongNy]]&\"-\"&Oljedatabase[[#This Row],[Vind (m/s)]]&\"-\"&Oljedatabase[[#This Row],[Tidspunkt (timer)]]","v":"Kristin 2006-Vinterforhold-15-6"},{"$f":"Oljedatabase[[#This Row],[Sesong]]","v":"Vinterforhold"},5,15,"6",0.6,1700,"Kjemisk dispergerbar",0.44,0.02,0.54,95,"Ingen eksplosjonsfare",22,"Lav/dårlig dispergerbarhet","Nei",0.05,"2006-08-21T02:00:00",793,"Sør-Trøndelag til Nordland",46,7234411,102430,"Kristin 2006 Forvitringsrapport.pdf"]
["Lavrans 1997","Vinterforhold",{"$f":"Oljedatabase[[#This Row],[Oljetype]]&\"-\"&Oljedatabase[[#This Row],[SesongNy]]&\"-\"&Oljedatabase[[#This Row],[Vind (m/s)]]&\"-\"&Oljedatabase[[#This Row],[Tidspunkt (timer)]]","v":"Lavrans 1997-Vinterforhold-15-96"},{"$f":"Oljedatabase[[#This Row],[Sesong]]","v":"Vinterforhold"},5,15,"96",0,30,"Ikke testet",0.43,0,0.56999999999999995,82,"Ingen eksplosjonsfare",22,"Lav/dårlig dispergerbarhet","Nei",0,"1997-08-21T02:00:00",798,"Sør-Trøndelag til Nordland",45,7220447,103166,"Lavrans 1997 Forvitringsrapport.pdf"]
["Lavrans 1997","Vinterforhold",{"$f":"Oljedatabase[[#This Row],[Oljetype]]&\"-\"&Oljedatabase[[#This Row],[SesongNy]]&\"-\"&Oljedatabase[[#This Row],[Vind (m/s)]]&\"-\"&Oljedatabase[[#This Row],[Tidspunkt (timer)]]","v":"Lavrans 1997-Vinterforhold-2-3"},{"$f":"Oljedatabase[[#This Row],[Sesong]]","v":"Vinterforhold"},5,2,"3",0,14,"Ikke testet",0.36,0.64,0,45,"Eksplosjonsfare ved tanking",15,"Redusert kjemisk dispergerbarhet","Nei",0.64,"1997-08-21T02:00:00",798,"Sør-Trøndelag til Nordland",45,7220447,103166,"Lavrans 1997 Forvitringsrapport.pdf"]
["Lillefrigg 1996","Sommerforhold",{"$f":"Oljedatabase[[#This Row],[Oljetype]]&\"-\"&Oljedatabase[[#This Row],[SesongNy]]&\"-\"&Oljedatabase[[#This Row],[Vind (m/s)]]&\"-\"&Oljedatabase[[#This Row],[Tidspunkt (timer)]]","v":"Lillefrigg 1996-Sommerforhold-10-96"},{"$f":"Oljedatabase[[#This Row],[Sesong]]","v":"Sommerforhold"},15,10,"96",0.7,2300,"Ikke testet",0.45,0,0.55000000000000004,213,"Ingen eksplosjonsfare",45,"Lav/dårlig dispergerbarhet","Nei",0,"1996-08-04T02:00:00",785,"Vest-Agder til Hordaland",48,6714346,-201257,"Lillefrigg 1996 Forvitringsrapport.pdf"]
["Lavrans 1997","Vinterforhold",{"$f":"Oljedatabase[[#This Row],[Oljetype]]&\"-\"&Oljedatabase[[#This Row],[SesongNy]]&\"-\"&Oljedatabase[[#This Row],[Vind (m/s)]]&\"-\"&Oljedatabase[[#This Row],[Tidspunkt (timer)]]","v":"Lavrans 1997-Vinterforhold-2-12"},{"$f":"Oljedatabase[[#This Row],[Sesong]]","v":"Vinterforhold"},5,2,"12",0,29,"Ikke testet",0.48,0.52,0,81,"Ingen eksplosjonsfare",22,"Lav/dårlig dispergerbarhet","Nei",0.52,"1997-08-21T02:00:00",798,"Sør-Trøndelag til Nordland",45,7220447,103166,"Lavrans 1997 Forvitringsrapport.pdf"]
["Lavrans 1997","Vinterforhold",{"$f":"Oljedatabase[[#This Row],[Oljetype]]&\"-\"&Oljedatabase[[#This Row],[SesongNy]]&\"-\"&Oljedatabase[[#This Row],[Vind (m/s)]]&\"-\"&Oljedatabase[[#This Row],[Tidspunkt (timer)]]","v":"Lavrans 1997-Vinterforhold-15-48"},{"$f":"Oljedatabase[[#This Row],[Sesong]]","v":"Vinterforhold"},5,15,"48",0,30,"Ikke testet",0.43,0,0.56999999999999995,82,"Ingen eksplosjonsfare",22,"Lav/dårlig dispergerbarhet","Nei",0,"1997-08-21T02:00:00",798,"Sør-Trøndelag til Nordland",45,7220447,103166,"Lavrans 1997 Forvitringsrapport.pdf"]
["Lillefrigg 1996","Vinterforhold",{"$f":"Oljedatabase[[#This Row],[Oljetype]]&\"-\"&Oljedatabase[[#This Row],[SesongNy]]&\"-\"&Oljedatabase[[#This Row],[Vind (m/s)]]&\"-\"&Oljedatabase[[#This Row],[Tidspunkt (timer)]]","v":"Lillefrigg 1996-Vinterforhold-2-72"},{"$f":"Oljedatabase[[#This Row],[Sesong]]","v":"Vinterforhold"},5,2,"72",0.66,1100,"Ikke testet",0.54,0.42,0.05,150,"Ingen eksplosjonsfare",37,"Lav/dårlig dispergerbarhet","Nei",1.23,"1996-08-04T02:00:00",785,"Vest-Agder til Hordaland",48,6714346,-201257,"Lillefrigg 1996 Forvitringsrapport.pdf"]
["Lavrans 1997","Vinterforhold",{"$f":"Oljedatabase[[#This Row],[Oljetype]]&\"-\"&Oljedatabase[[#This Row],[SesongNy]]&\"-\"&Oljedatabase[[#This Row],[Vind (m/s)]]&\"-\"&Oljedatabase[[#This Row],[Tidspunkt (timer)]]","v":"Lavrans 1997-Vinterforhold-10-12"},{"$f":"Oljedatabase[[#This Row],[Sesong]]","v":"Vinterforhold"},5,10,"12",0,38,"Ikke testet",0.48,0,0.52,95,"Ingen eksplosjonsfare",25,"Lav/dårlig dispergerbarhet","Nei",0,"1997-08-21T02:00:00",798,"Sør-Trøndelag til Nordland",45,7220447,103166,"Lavrans 1997 Forvitringsrapport.pdf"]
["Lillefrigg 1996","Sommerforhold",{"$f":"Oljedatabase[[#This Row],[Oljetype]]&\"-\"&Oljedatabase[[#This Row],[SesongNy]]&\"-\"&Oljedatabase[[#This Row],[Vind (m/s)]]&\"-\"&Oljedatabase[[#This Row],[Tidspunkt (timer)]]","v":"Lillefrigg 1996-Sommerforhold-5-24"},{"$f":"Oljedatabase[[#This Row],[Sesong]]","v":"Sommerforhold"},15,5,"24",0.7,790,"Ikke testet",0.53,7.0000000000000007E-2,0.4,168,"Ingen eksplosjonsfare",39,"Lav/dårlig dispergerbarhet","Nei",0.23,"1996-08-04T02:00:00",785,"Vest-Agder til Hordaland",48,6714346,-201257,"Lillefrigg 1996 Forvitringsrapport.pdf"]
["Kvitebjørn 2009","Vinterforhold",{"$f":"Oljedatabase[[#This Row],[Oljetype]]&\"-\"&Oljedatabase[[#This Row],[SesongNy]]&\"-\"&Oljedatabase[[#This Row],[Vind (m/s)]]&\"-\"&Oljedatabase[[#This Row],[Tidspunkt (timer)]]","v":"Kvitebjørn 2009-Vinterforhold-15-24"},{"$f":"Oljedatabase[[#This Row],[Sesong]]","v":"Vinterforhold"},5,15,"24",0.2,3153,"Ikke testet",0.39,0,0.61,106,"Ingen eksplosjonsfare",21,null,null,0,"2009-12-16T01:00:00",802,"Sogn og Fjordane til Møre og Romsdal",44,6836225,-171505,"Kvitebjørn 2009 Forvitringsrapport.pdf"]
["Kvitebjørn 2009","Vinterforhold",{"$f":"Oljedatabase[[#This Row],[Oljetype]]&\"-\"&Oljedatabase[[#This Row],[SesongNy]]&\"-\"&Oljedatabase[[#This Row],[Vind (m/s)]]&\"-\"&Oljedatabase[[#This Row],[Tidspunkt (timer)]]","v":"Kvitebjørn 2009-Vinterforhold-2-1"},{"$f":"Oljedatabase[[#This Row],[Sesong]]","v":"Vinterforhold"},5,2,"1",0.01,31,"Ikke testet",0.14000000000000001,0.86,0,17,"Eksplosjonsfare ved tanking",-4,null,null,0,"2009-12-16T01:00:00",802,"Sogn og Fjordane til Møre og Romsdal",44,6836225,-171505,"Kvitebjørn 2009 Forvitringsrapport.pdf"]
["Linerle 2005","Vinterforhold",{"$f":"Oljedatabase[[#This Row],[Oljetype]]&\"-\"&Oljedatabase[[#This Row],[SesongNy]]&\"-\"&Oljedatabase[[#This Row],[Vind (m/s)]]&\"-\"&Oljedatabase[[#This Row],[Tidspunkt (timer)]]","v":"Linerle 2005-Vinterforhold-10-3"},{"$f":"Oljedatabase[[#This Row],[Sesong]]","v":"Vinterforhold"},5,10,"3",0.18,5000,"Ikke testet",0.01,0.98,0.02,100,"Ingen eksplosjonsfare",-15,"Kjemisk dispergerbar","Nei",1.19,"2005-06-27T02:00:00",951,"Sør-Trøndelag til Nordland",17,7357606,204573,"Linerle 2005 Forvitringsrapport.pdf"]
["Jordbær 2011","Vinterforhold",{"$f":"Oljedatabase[[#This Row],[Oljetype]]&\"-\"&Oljedatabase[[#This Row],[SesongNy]]&\"-\"&Oljedatabase[[#This Row],[Vind (m/s)]]&\"-\"&Oljedatabase[[#This Row],[Tidspunkt (timer)]]","v":"Jordbær 2011-Vinterforhold-5-2"},{"$f":"Oljedatabase[[#This Row],[Sesong]]","v":"Vinterforhold"},5,5,"2",0.26,91,"Kjemisk dispergerbar",0.21,0.78,0,23,"Eksplosjonsfare ved tanking",-0.4,"Kjemisk dispergerbar","Nei",1.05,"2013-06-25T02:00:00",802,"Sogn og Fjordane til Møre og Romsdal",44,6912608,-144851,"Jordbær 2011 Forvitringsrapport.pdf"]
["Linerle 2005","Sommerforhold",{"$f":"Oljedatabase[[#This Row],[Oljetype]]&\"-\"&Oljedatabase[[#This Row],[SesongNy]]&\"-\"&Oljedatabase[[#This Row],[Vind (m/s)]]&\"-\"&Oljedatabase[[#This Row],[Tidspunkt (timer)]]","v":"Linerle 2005-Sommerforhold-10-48"},{"$f":"Oljedatabase[[#This Row],[Sesong]]","v":"Sommerforhold"},15,10,"48",0.68,14000,"Ikke testet",0.04,0.55000000000000004,0.41,100,"Ingen eksplosjonsfare",-15,"Kjemisk dispergerbar","Ja",1.71,"2005-06-27T02:00:00",951,"Sør-Trøndelag til Nordland",17,7357606,204573,"Linerle 2005 Forvitringsrapport.pdf"]
["Lavrans 1997","Sommerforhold",{"$f":"Oljedatabase[[#This Row],[Oljetype]]&\"-\"&Oljedatabase[[#This Row],[SesongNy]]&\"-\"&Oljedatabase[[#This Row],[Vind (m/s)]]&\"-\"&Oljedatabase[[#This Row],[Tidspunkt (timer)]]","v":"Lavrans 1997-Sommerforhold-2-24"},{"$f":"Oljedatabase[[#This Row],[Sesong]]","v":"Sommerforhold"},15,2,"24",0,32,"Ikke testet",0.56000000000000005,0.43,0.01,107,"Ingen eksplosjonsfare",27,"Redusert kjemisk dispergerbarhet","Nei",0.43,"1997-08-21T02:00:00",798,"Sør-Trøndelag til Nordland",45,7220447,103166,"Lavrans 1997 Forvitringsrapport.pdf"]
["Lillefrigg 1996","Sommerforhold",{"$f":"Oljedatabase[[#This Row],[Oljetype]]&\"-\"&Oljedatabase[[#This Row],[SesongNy]]&\"-\"&Oljedatabase[[#This Row],[Vind (m/s)]]&\"-\"&Oljedatabase[[#This Row],[Tidspunkt (timer)]]","v":"Lillefrigg 1996-Sommerforhold-10-6"},{"$f":"Oljedatabase[[#This Row],[Sesong]]","v":"Sommerforhold"},15,10,"6",0.7,390,"Ikke testet",0.44,0.01,0.55000000000000004,136,"Ingen eksplosjonsfare",35,"Lav/dårlig dispergerbarhet","Nei",0.03,"1996-08-04T02:00:00",785,"Vest-Agder til Hordaland",48,6714346,-201257,"Lillefrigg 1996 Forvitringsrapport.pdf"]
["Luno (Edvard Grieg) 2011","Sommerforhold",{"$f":"Oljedatabase[[#This Row],[Oljetype]]&\"-\"&Oljedatabase[[#This Row],[SesongNy]]&\"-\"&Oljedatabase[[#This Row],[Vind (m/s)]]&\"-\"&Oljedatabase[[#This Row],[Tidspunkt (timer)]]","v":"Luno (Edvard Grieg) 2011-Sommerforhold-2-24"},{"$f":"Oljedatabase[[#This Row],[Sesong]]","v":"Sommerforhold"},15,2,"24",0.35,1070,"Kjemisk dispergerbar",0.28999999999999998,0.7,0,88,"Ingen eksplosjonsfare",22.4,"Redusert kjemisk dispergerbarhet","Nei",1.0900000000000001,"2011-02-23T01:00:00",850,"Vest-Agder til Hordaland",34,6592172,-233995,"Luno (Edvard Grieg) 2011 Forvitringsrapport.pdf"]
["Linerle 2005","Vinterforhold",{"$f":"Oljedatabase[[#This Row],[Oljetype]]&\"-\"&Oljedatabase[[#This Row],[SesongNy]]&\"-\"&Oljedatabase[[#This Row],[Vind (m/s)]]&\"-\"&Oljedatabase[[#This Row],[Tidspunkt (timer)]]","v":"Linerle 2005-Vinterforhold-15-6"},{"$f":"Oljedatabase[[#This Row],[Sesong]]","v":"Vinterforhold"},5,15,"6",0.41,10000,"Ikke testet",0.02,0.68,0.3,100,"Ingen eksplosjonsfare",-15,"Kjemisk dispergerbar","Nei",1.1499999999999999,"2005-06-27T02:00:00",951,"Sør-Trøndelag til Nordland",17,7357606,204573,"Linerle 2005 Forvitringsrapport.pdf"]
["Luno (Edvard Grieg) 2011","Sommerforhold",{"$f":"Oljedatabase[[#This Row],[Oljetype]]&\"-\"&Oljedatabase[[#This Row],[SesongNy]]&\"-\"&Oljedatabase[[#This Row],[Vind (m/s)]]&\"-\"&Oljedatabase[[#This Row],[Tidspunkt (timer)]]","v":"Luno (Edvard Grieg) 2011-Sommerforhold-5-12"},{"$f":"Oljedatabase[[#This Row],[Sesong]]","v":"Sommerforhold"},15,5,"12",0.55000000000000004,3630,"Redusert kjemisk dispergerbarhet",0.3,0.67,0.01,91,"Ingen eksplosjonsfare",22.8,"Redusert kjemisk dispergerbarhet","Nei",1.51,"2011-02-23T01:00:00",850,"Vest-Agder til Hordaland",34,6592172,-233995,"Luno (Edvard Grieg) 2011 Forvitringsrapport.pdf"]
["Lillefrigg 1996","Vinterforhold",{"$f":"Oljedatabase[[#This Row],[Oljetype]]&\"-\"&Oljedatabase[[#This Row],[SesongNy]]&\"-\"&Oljedatabase[[#This Row],[Vind (m/s)]]&\"-\"&Oljedatabase[[#This Row],[Tidspunkt (timer)]]","v":"Lillefrigg 1996-Vinterforhold-5-6"},{"$f":"Oljedatabase[[#This Row],[Sesong]]","v":"Vinterforhold"},5,5,"6",0.67,300,"Ikke testet",0.43,0.47,0.1,100,"Ingen eksplosjonsfare",30,"Lav/dårlig dispergerbarhet","Nei",1.42,"1996-08-04T02:00:00",785,"Vest-Agder til Hordaland",48,6714346,-201257,"Lillefrigg 1996 Forvitringsrapport.pdf"]
["Linerle 2005","Vinterforhold",{"$f":"Oljedatabase[[#This Row],[Oljetype]]&\"-\"&Oljedatabase[[#This Row],[SesongNy]]&\"-\"&Oljedatabase[[#This Row],[Vind (m/s)]]&\"-\"&Oljedatabase[[#This Row],[Tidspunkt (timer)]]","v":"Linerle 2005-Vinterforhold-10-24"},{"$f":"Oljedatabase[[#This Row],[Sesong]]","v":"Vinterforhold"},5,10,"24",0.51,15000,"Ikke testet",0.03,0.73,0.23,100,"Ingen eksplosjonsfare",-15,"Kjemisk dispergerbar","Ja",1.48,"2005-06-27T02:00:00",951,"Sør-Trøndelag til Nordland",17,7357606,204573,"Linerle 2005 Forvitringsrapport.pdf"]
["Linerle 2005","Vinterforhold",{"$f":"Oljedatabase[[#This Row],[Oljetype]]&\"-\"&Oljedatabase[[#This Row],[SesongNy]]&\"-\"&Oljedatabase[[#This Row],[Vind (m/s)]]&\"-\"&Oljedatabase[[#This Row],[Tidspunkt (timer)]]","v":"Linerle 2005-Vinterforhold-10-96"},{"$f":"Oljedatabase[[#This Row],[Sesong]]","v":"Vinterforhold"},5,10,"96",0.56999999999999995,19000,"Ikke testet",0.04,0.4,0.56999999999999995,100,"Ingen eksplosjonsfare",-15,"Kjemisk dispergerbar","Ja",0.93,"2005-06-27T02:00:00",951,"Sør-Trøndelag til Nordland",17,7357606,204573,"Linerle 2005 Forvitringsrapport.pdf"]
["Linerle 2005","Vinterforhold",{"$f":"Oljedatabase[[#This Row],[Oljetype]]&\"-\"&Oljedatabase[[#This Row],[SesongNy]]&\"-\"&Oljedatabase[[#This Row],[Vind (m/s)]]&\"-\"&Oljedatabase[[#This Row],[Tidspunkt (timer)]]","v":"Linerle 2005-Vinterforhold-2-72"},{"$f":"Oljedatabase[[#This Row],[Sesong]]","v":"Vinterforhold"},5,2,"72",0.25,6000,"Ikke testet",0.01,0.99,0,100,"Ingen eksplosjonsfare",-15,"Kjemisk dispergerbar","Nei",1.32,"2005-06-27T02:00:00",951,"Sør-Trøndelag til Nordland",17,7357606,204573,"Linerle 2005 Forvitringsrapport.pdf"]
["Luno (Edvard Grieg) 2011","Sommerforhold",{"$f":"Oljedatabase[[#This Row],[Oljetype]]&\"-\"&Oljedatabase[[#This Row],[SesongNy]]&\"-\"&Oljedatabase[[#This Row],[Vind (m/s)]]&\"-\"&Oljedatabase[[#This Row],[Tidspunkt (timer)]]","v":"Luno (Edvard Grieg) 2011-Sommerforhold-5-24"},{"$f":"Oljedatabase[[#This Row],[Sesong]]","v":"Sommerforhold"},15,5,"24",0.71,12500,"Redusert kjemisk dispergerbarhet",0.32,0.64,0.02,101,"Ingen eksplosjonsfare",24.3,"Redusert kjemisk dispergerbarhet","Ja",2.2400000000000002,"2011-02-23T01:00:00",850,"Vest-Agder til Hordaland",34,6592172,-233995,"Luno (Edvard Grieg) 2011 Forvitringsrapport.pdf"]
["Luno (Edvard Grieg) 2011","Sommerforhold",{"$f":"Oljedatabase[[#This Row],[Oljetype]]&\"-\"&Oljedatabase[[#This Row],[SesongNy]]&\"-\"&Oljedatabase[[#This Row],[Vind (m/s)]]&\"-\"&Oljedatabase[[#This Row],[Tidspunkt (timer)]]","v":"Luno (Edvard Grieg) 2011-Sommerforhold-2-48"},{"$f":"Oljedatabase[[#This Row],[Sesong]]","v":"Sommerforhold"},15,2,"48",0.54,4080,"Redusert kjemisk dispergerbarhet",0.32,0.67,0,98,"Ingen eksplosjonsfare",23.9,"Redusert kjemisk dispergerbarhet","Nei",1.49,"2011-02-23T01:00:00",850,"Vest-Agder til Hordaland",34,6592172,-233995,"Luno (Edvard Grieg) 2011 Forvitringsrapport.pdf"]
["Linerle 2005","Sommerforhold",{"$f":"Oljedatabase[[#This Row],[Oljetype]]&\"-\"&Oljedatabase[[#This Row],[SesongNy]]&\"-\"&Oljedatabase[[#This Row],[Vind (m/s)]]&\"-\"&Oljedatabase[[#This Row],[Tidspunkt (timer)]]","v":"Linerle 2005-Sommerforhold-10-12"},{"$f":"Oljedatabase[[#This Row],[Sesong]]","v":"Sommerforhold"},15,10,"12",0.48,6800,"Ikke testet",0.03,0.81,0.16,100,"Ingen eksplosjonsfare",-15,"Kjemisk dispergerbar","Nei",1.55,"2005-06-27T02:00:00",951,"Sør-Trøndelag til Nordland",17,7357606,204573,"Linerle 2005 Forvitringsrapport.pdf"]
["Luno (Edvard Grieg) 2011","Sommerforhold",{"$f":"Oljedatabase[[#This Row],[Oljetype]]&\"-\"&Oljedatabase[[#This Row],[SesongNy]]&\"-\"&Oljedatabase[[#This Row],[Vind (m/s)]]&\"-\"&Oljedatabase[[#This Row],[Tidspunkt (timer)]]","v":"Luno (Edvard Grieg) 2011-Sommerforhold-5-1"},{"$f":"Oljedatabase[[#This Row],[Sesong]]","v":"Sommerforhold"},15,5,"1",7.0000000000000007E-2,98,"Kjemisk dispergerbar",0.18,0.81,0,48,"Eksplosjonsfare ved tanking",16.100000000000001,"Kjemisk dispergerbar","Nei",0.87,"2011-02-23T01:00:00",850,"Vest-Agder til Hordaland",34,6592172,-233995,"Luno (Edvard Grieg) 2011 Forvitringsrapport.pdf"]
["Luno (Edvard Grieg) 2011","Sommerforhold",{"$f":"Oljedatabase[[#This Row],[Oljetype]]&\"-\"&Oljedatabase[[#This Row],[SesongNy]]&\"-\"&Oljedatabase[[#This Row],[Vind (m/s)]]&\"-\"&Oljedatabase[[#This Row],[Tidspunkt (timer)]]","v":"Luno (Edvard Grieg) 2011-Sommerforhold-10-1"},{"$f":"Oljedatabase[[#This Row],[Sesong]]","v":"Sommerforhold"},15,10,"1",0.22,340,"Kjemisk dispergerbar",0.24,0.71,0.04,67,"Ingen eksplosjonsfare",19.2,"Kjemisk dispergerbar","Nei",0.92,"2011-02-23T01:00:00",850,"Vest-Agder til Hordaland",34,6592172,-233995,"Luno (Edvard Grieg) 2011 Forvitringsrapport.pdf"]
["Lavrans 1997","Vinterforhold",{"$f":"Oljedatabase[[#This Row],[Oljetype]]&\"-\"&Oljedatabase[[#This Row],[SesongNy]]&\"-\"&Oljedatabase[[#This Row],[Vind (m/s)]]&\"-\"&Oljedatabase[[#This Row],[Tidspunkt (timer)]]","v":"Lavrans 1997-Vinterforhold-15-1"},{"$f":"Oljedatabase[[#This Row],[Sesong]]","v":"Vinterforhold"},5,15,"1",0,25,"Ikke testet",0.41,0.14000000000000001,0.45,73,"Ingen eksplosjonsfare",21,"Lav/dårlig dispergerbarhet","Nei",0.14000000000000001,"1997-08-21T02:00:00",798,"Sør-Trøndelag til Nordland",45,7220447,103166,"Lavrans 1997 Forvitringsrapport.pdf"]
["Linerle 2005","Vinterforhold",{"$f":"Oljedatabase[[#This Row],[Oljetype]]&\"-\"&Oljedatabase[[#This Row],[SesongNy]]&\"-\"&Oljedatabase[[#This Row],[Vind (m/s)]]&\"-\"&Oljedatabase[[#This Row],[Tidspunkt (timer)]]","v":"Linerle 2005-Vinterforhold-2-48"},{"$f":"Oljedatabase[[#This Row],[Sesong]]","v":"Vinterforhold"},5,2,"48",0.2,5400,"Ikke testet",0,1,0,100,"Ingen eksplosjonsfare",-15,"Kjemisk dispergerbar","Nei",1.25,"2005-06-27T02:00:00",951,"Sør-Trøndelag til Nordland",17,7357606,204573,"Linerle 2005 Forvitringsrapport.pdf"]
["Luno (Edvard Grieg) 2011","Vinterforhold",{"$f":"Oljedatabase[[#This Row],[Oljetype]]&\"-\"&Oljedatabase[[#This Row],[SesongNy]]&\"-\"&Oljedatabase[[#This Row],[Vind (m/s)]]&\"-\"&Oljedatabase[[#This Row],[Tidspunkt (timer)]]","v":"Luno (Edvard Grieg) 2011-Vinterforhold-2-3"},{"$f":"Oljedatabase[[#This Row],[Sesong]]","v":"Vinterforhold"},5,2,"3",0.05,130,"Kjemisk dispergerbar",0.18,0.81,0,46,"Eksplosjonsfare ved tanking",15.8,"Redusert kjemisk dispergerbarhet","Nei",0.86,"2011-02-23T01:00:00",850,"Vest-Agder til Hordaland",34,6592172,-233995,"Luno (Edvard Grieg) 2011 Forvitringsrapport.pdf"]
["Luno (Edvard Grieg) 2011","Vinterforhold",{"$f":"Oljedatabase[[#This Row],[Oljetype]]&\"-\"&Oljedatabase[[#This Row],[SesongNy]]&\"-\"&Oljedatabase[[#This Row],[Vind (m/s)]]&\"-\"&Oljedatabase[[#This Row],[Tidspunkt (timer)]]","v":"Luno (Edvard Grieg) 2011-Vinterforhold-2-120"},{"$f":"Oljedatabase[[#This Row],[Sesong]]","v":"Vinterforhold"},5,2,"120",0.7,21200,"Redusert kjemisk dispergerbarhet",0.32,0.67,0,99,"Ingen eksplosjonsfare",24.1,"Lav/dårlig dispergerbarhet","Ja",2.31,"2011-02-23T01:00:00",850,"Vest-Agder til Hordaland",34,6592172,-233995,"Luno (Edvard Grieg) 2011 Forvitringsrapport.pdf"]
["Luno (Edvard Grieg) 2011","Vinterforhold",{"$f":"Oljedatabase[[#This Row],[Oljetype]]&\"-\"&Oljedatabase[[#This Row],[SesongNy]]&\"-\"&Oljedatabase[[#This Row],[Vind (m/s)]]&\"-\"&Oljedatabase[[#This Row],[Tidspunkt (timer)]]","v":"Luno (Edvard Grieg) 2011-Vinterforhold-10-24"},{"$f":"Oljedatabase[[#This Row],[Sesong]]","v":"Vinterforhold"},5,10,"24",0.74,30100,"Lav/dårlig kjemisk dispergerbarhet",0.32,0.45,0.21,104,"Ingen eksplosjonsfare",24.8,"Lav/dårlig dispergerbarhet","Ja",1.79,"2011-02-23T01:00:00",850,"Vest-Agder til Hordaland",34,6592172,-233995,"Luno (Edvard Grieg) 2011 Forvitringsrapport.pdf"]
["Luno (Edvard Grieg) 2011","Sommerforhold",{"$f":"Oljedatabase[[#This Row],[Oljetype]]&\"-\"&Oljedatabase[[#This Row],[SesongNy]]&\"-\"&Oljedatabase[[#This Row],[Vind (m/s)]]&\"-\"&Oljedatabase[[#This Row],[Tidspunkt (timer)]]","v":"Luno (Edvard Grieg) 2011-Sommerforhold-15-72"},{"$f":"Oljedatabase[[#This Row],[Sesong]]","v":"Sommerforhold"},15,15,"72",0.77,43600,"Lav/dårlig kjemisk dispergerbarhet",0.34,0,0.64,144,"Ingen eksplosjonsfare",30.4,"Lav/dårlig dispergerbarhet","Ja",0.02,"2011-02-23T01:00:00",850,"Vest-Agder til Hordaland",34,6592172,-233995,"Luno (Edvard Grieg) 2011 Forvitringsrapport.pdf"]
["Luno (Edvard Grieg) 2011","Vinterforhold",{"$f":"Oljedatabase[[#This Row],[Oljetype]]&\"-\"&Oljedatabase[[#This Row],[SesongNy]]&\"-\"&Oljedatabase[[#This Row],[Vind (m/s)]]&\"-\"&Oljedatabase[[#This Row],[Tidspunkt (timer)]]","v":"Luno (Edvard Grieg) 2011-Vinterforhold-2-96"},{"$f":"Oljedatabase[[#This Row],[Sesong]]","v":"Vinterforhold"},5,2,"96",0.68,16500,"Redusert kjemisk dispergerbarhet",0.31,0.68,0,96,"Ingen eksplosjonsfare",23.6,"Lav/dårlig dispergerbarhet","Ja",2.14,"2011-02-23T01:00:00",850,"Vest-Agder til Hordaland",34,6592172,-233995,"Luno (Edvard Grieg) 2011 Forvitringsrapport.pdf"]
["Solveig (Luno II) 2014","Sommerforhold",{"$f":"Oljedatabase[[#This Row],[Oljetype]]&\"-\"&Oljedatabase[[#This Row],[SesongNy]]&\"-\"&Oljedatabase[[#This Row],[Vind (m/s)]]&\"-\"&Oljedatabase[[#This Row],[Tidspunkt (timer)]]","v":"Solveig (Luno II) 2014-Sommerforhold-10-1"},{"$f":"Oljedatabase[[#This Row],[Sesong]]","v":"Sommerforhold"},15,10,"1",0.17,597,"Kjemisk dispergerbar",0.28000000000000003,0.68,0.03,60,"Ingen eksplosjonsfare",8.6,"Kjemisk dispergerbar","Nei",0.83,"2014-05-12T02:00:00",851,"Vestlandet",34,6596013,-231691,"Solveig (Luno II) 2014 Forvitringsrapport.pdf"]
["Luno (Edvard Grieg) 2011","Vinterforhold",{"$f":"Oljedatabase[[#This Row],[Oljetype]]&\"-\"&Oljedatabase[[#This Row],[SesongNy]]&\"-\"&Oljedatabase[[#This Row],[Vind (m/s)]]&\"-\"&Oljedatabase[[#This Row],[Tidspunkt (timer)]]","v":"Luno (Edvard Grieg) 2011-Vinterforhold-15-24"},{"$f":"Oljedatabase[[#This Row],[Sesong]]","v":"Vinterforhold"},5,15,"24",0.74,37000,"Lav/dårlig kjemisk dispergerbarhet",0.31,0.12,0.56000000000000005,113,"Ingen eksplosjonsfare",26,"Lav/dårlig dispergerbarhet","Ja",0.48,"2011-02-23T01:00:00",850,"Vest-Agder til Hordaland",34,6592172,-233995,"Luno (Edvard Grieg) 2011 Forvitringsrapport.pdf"]
["Solveig (Luno II) 2014","Sommerforhold",{"$f":"Oljedatabase[[#This Row],[Oljetype]]&\"-\"&Oljedatabase[[#This Row],[SesongNy]]&\"-\"&Oljedatabase[[#This Row],[Vind (m/s)]]&\"-\"&Oljedatabase[[#This Row],[Tidspunkt (timer)]]","v":"Solveig (Luno II) 2014-Sommerforhold-10-48"},{"$f":"Oljedatabase[[#This Row],[Sesong]]","v":"Sommerforhold"},15,10,"48",0.73,54100,"Ikke kjemisk dispergerbar",0.39,0.31,0.28999999999999998,119,"Ingen eksplosjonsfare",25.2,"Redusert kjemisk dispergerbarhet","Ja",1.18,"2014-05-12T02:00:00",851,"Vestlandet",34,6596013,-231691,"Solveig (Luno II) 2014 Forvitringsrapport.pdf"]
["Solveig (Luno II) 2014","Sommerforhold",{"$f":"Oljedatabase[[#This Row],[Oljetype]]&\"-\"&Oljedatabase[[#This Row],[SesongNy]]&\"-\"&Oljedatabase[[#This Row],[Vind (m/s)]]&\"-\"&Oljedatabase[[#This Row],[Tidspunkt (timer)]]","v":"Solveig (Luno II) 2014-Sommerforhold-10-3"},{"$f":"Oljedatabase[[#This Row],[Sesong]]","v":"Sommerforhold"},15,10,"3",0.41,2190,"Kjemisk dispergerbar",0.32,0.59,7.0000000000000007E-2,79,"Ingen eksplosjonsfare",14.1,"Kjemisk dispergerbar","Nei",1.01,"2014-05-12T02:00:00",851,"Vestlandet",34,6596013,-231691,"Solveig (Luno II) 2014 Forvitringsrapport.pdf"]
["Solveig (Luno II) 2014","Sommerforhold",{"$f":"Oljedatabase[[#This Row],[Oljetype]]&\"-\"&Oljedatabase[[#This Row],[SesongNy]]&\"-\"&Oljedatabase[[#This Row],[Vind (m/s)]]&\"-\"&Oljedatabase[[#This Row],[Tidspunkt (timer)]]","v":"Solveig (Luno II) 2014-Sommerforhold-5-9"},{"$f":"Oljedatabase[[#This Row],[Sesong]]","v":"Sommerforhold"},15,5,"9",0.37,1990,"Kjemisk dispergerbar",0.33,0.65,0.01,80,"Ingen eksplosjonsfare",14.4,"Kjemisk dispergerbar","Nei",1.06,"2014-05-12T02:00:00",851,"Vestlandet",34,6596013,-231691,"Solveig (Luno II) 2014 Forvitringsrapport.pdf"]
["Solveig (Luno II) 2014","Vinterforhold",{"$f":"Oljedatabase[[#This Row],[Oljetype]]&\"-\"&Oljedatabase[[#This Row],[SesongNy]]&\"-\"&Oljedatabase[[#This Row],[Vind (m/s)]]&\"-\"&Oljedatabase[[#This Row],[Tidspunkt (timer)]]","v":"Solveig (Luno II) 2014-Vinterforhold-2-9"},{"$f":"Oljedatabase[[#This Row],[Sesong]]","v":"Vinterforhold"},5,2,"9",0.11,837,"Kjemisk dispergerbar",0.27,0.72,0,56,"Eksplosjonsfare ved tanking",7.3,"Kjemisk dispergerbar","Nei",0.82,"2014-05-12T02:00:00",851,"Vestlandet",34,6596013,-231691,"Solveig (Luno II) 2014 Forvitringsrapport.pdf"]
["Maria 2013","Sommerforhold",{"$f":"Oljedatabase[[#This Row],[Oljetype]]&\"-\"&Oljedatabase[[#This Row],[SesongNy]]&\"-\"&Oljedatabase[[#This Row],[Vind (m/s)]]&\"-\"&Oljedatabase[[#This Row],[Tidspunkt (timer)]]","v":"Maria 2013-Sommerforhold-2-9"},{"$f":"Oljedatabase[[#This Row],[Sesong]]","v":"Sommerforhold"},15,2,"9",0.27,296,"Kjemisk dispergerbar",0.23,0.76,0,67,"Ingen eksplosjonsfare",4.5999999999999996,"Kjemisk dispergerbar","Nei",1.06,"2013-07-11T02:00:00",847,"Nordland",35,7229657,122084,"Maria 2013 Forvitringsrapport.pdf"]
["Solveig (Luno II) 2014","Vinterforhold",{"$f":"Oljedatabase[[#This Row],[Oljetype]]&\"-\"&Oljedatabase[[#This Row],[SesongNy]]&\"-\"&Oljedatabase[[#This Row],[Vind (m/s)]]&\"-\"&Oljedatabase[[#This Row],[Tidspunkt (timer)]]","v":"Solveig (Luno II) 2014-Vinterforhold-2-3"},{"$f":"Oljedatabase[[#This Row],[Sesong]]","v":"Vinterforhold"},5,2,"3",0.04,322,"Kjemisk dispergerbar",0.22,0.78,0,35,"Eksplosjonsfare ved tanking",0.8,"Kjemisk dispergerbar","Nei",0.82,"2014-05-12T02:00:00",851,"Vestlandet",34,6596013,-231691,"Solveig (Luno II) 2014 Forvitringsrapport.pdf"]
["Solveig (Luno II) 2014","Vinterforhold",{"$f":"Oljedatabase[[#This Row],[Oljetype]]&\"-\"&Oljedatabase[[#This Row],[SesongNy]]&\"-\"&Oljedatabase[[#This Row],[Vind (m/s)]]&\"-\"&Oljedatabase[[#This Row],[Tidspunkt (timer)]]","v":"Solveig (Luno II) 2014-Vinterforhold-15-24"},{"$f":"Oljedatabase[[#This Row],[Sesong]]","v":"Vinterforhold"},5,15,"24",0.68,52200,"Ikke kjemisk dispergerbar",0.34,0.12,0.53,106,"Ingen eksplosjonsfare",21.5,"Lav/dårlig dispergerbarhet","Ja",0.39,"2014-05-12T02:00:00",851,"Vestlandet",34,6596013,-231691,"Solveig (Luno II) 2014 Forvitringsrapport.pdf"]
["Solveig (Luno II) 2014","Vinterforhold",{"$f":"Oljedatabase[[#This Row],[Oljetype]]&\"-\"&Oljedatabase[[#This Row],[SesongNy]]&\"-\"&Oljedatabase[[#This Row],[Vind (m/s)]]&\"-\"&Oljedatabase[[#This Row],[Tidspunkt (timer)]]","v":"Solveig (Luno II) 2014-Vinterforhold-10-6"},{"$f":"Oljedatabase[[#This Row],[Sesong]]","v":"Vinterforhold"},5,10,"6",0.56000000000000005,8930,"Redusert kjemisk dispergerbarhet",0.32,0.56999999999999995,0.1,79,"Ingen eksplosjonsfare",13.9,"Redusert kjemisk dispergerbarhet","Nei",1.31,"2014-05-12T02:00:00",851,"Vestlandet",34,6596013,-231691,"Solveig (Luno II) 2014 Forvitringsrapport.pdf"]
["Maria 2013","Sommerforhold",{"$f":"Oljedatabase[[#This Row],[Oljetype]]&\"-\"&Oljedatabase[[#This Row],[SesongNy]]&\"-\"&Oljedatabase[[#This Row],[Vind (m/s)]]&\"-\"&Oljedatabase[[#This Row],[Tidspunkt (timer)]]","v":"Maria 2013-Sommerforhold-5-3"},{"$f":"Oljedatabase[[#This Row],[Sesong]]","v":"Sommerforhold"},15,5,"3",0.34,357,"Kjemisk dispergerbar",0.22,0.77,0,63,"Ingen eksplosjonsfare",3.2,"Kjemisk dispergerbar","Nei",1.17,"2013-07-11T02:00:00",847,"Nordland",35,7229657,122084,"Maria 2013 Forvitringsrapport.pdf"]
["Solveig (Luno II) 2014","Vinterforhold",{"$f":"Oljedatabase[[#This Row],[Oljetype]]&\"-\"&Oljedatabase[[#This Row],[SesongNy]]&\"-\"&Oljedatabase[[#This Row],[Vind (m/s)]]&\"-\"&Oljedatabase[[#This Row],[Tidspunkt (timer)]]","v":"Solveig (Luno II) 2014-Vinterforhold-15-72"},{"$f":"Oljedatabase[[#This Row],[Sesong]]","v":"Vinterforhold"},5,15,"72",0.68,84600,"Ikke kjemisk dispergerbar",0.35,0.01,0.63,121,"Ingen eksplosjonsfare",25.6,"Lav/dårlig dispergerbarhet","Ja",0.04,"2014-05-12T02:00:00",851,"Vestlandet",34,6596013,-231691,"Solveig (Luno II) 2014 Forvitringsrapport.pdf"]
["Maria 2013","Sommerforhold",{"$f":"Oljedatabase[[#This Row],[Oljetype]]&\"-\"&Oljedatabase[[#This Row],[SesongNy]]&\"-\"&Oljedatabase[[#This Row],[Vind (m/s)]]&\"-\"&Oljedatabase[[#This Row],[Tidspunkt (timer)]]","v":"Maria 2013-Sommerforhold-15-1"},{"$f":"Oljedatabase[[#This Row],[Sesong]]","v":"Sommerforhold"},15,15,"1",0.57999999999999996,1450,"Kjemisk dispergerbar",0.24,0.59,0.16,73,"Ingen eksplosjonsfare",6.3,"Kjemisk dispergerbar","Nei",1.44,"2013-07-11T02:00:00",847,"Nordland",35,7229657,122084,"Maria 2013 Forvitringsrapport.pdf"]
["Maria 2013","Vinterforhold",{"$f":"Oljedatabase[[#This Row],[Oljetype]]&\"-\"&Oljedatabase[[#This Row],[SesongNy]]&\"-\"&Oljedatabase[[#This Row],[Vind (m/s)]]&\"-\"&Oljedatabase[[#This Row],[Tidspunkt (timer)]]","v":"Maria 2013-Vinterforhold-10-24"},{"$f":"Oljedatabase[[#This Row],[Sesong]]","v":"Vinterforhold"},5,10,"24",0.8,16800,"Redusert kjemisk dispergerbarhet",0.3,0.45,0.23,101,"Ingen eksplosjonsfare",15.2,"Redusert kjemisk dispergerbarhet","Ja",2.27,"2013-07-11T02:00:00",847,"Nordland",35,7229657,122084,"Maria 2013 Forvitringsrapport.pdf"]
["Maria 2013","Sommerforhold",{"$f":"Oljedatabase[[#This Row],[Oljetype]]&\"-\"&Oljedatabase[[#This Row],[SesongNy]]&\"-\"&Oljedatabase[[#This Row],[Vind (m/s)]]&\"-\"&Oljedatabase[[#This Row],[Tidspunkt (timer)]]","v":"Maria 2013-Sommerforhold-10-72"},{"$f":"Oljedatabase[[#This Row],[Sesong]]","v":"Sommerforhold"},15,10,"72",0.8,19500,"Redusert kjemisk dispergerbarhet",0.37,0.19,0.43,135,"Ingen eksplosjonsfare",25.4,"Redusert kjemisk dispergerbarhet","Ja",0.95,"2013-07-11T02:00:00",847,"Nordland",35,7229657,122084,"Maria 2013 Forvitringsrapport.pdf"]
["Maria 2013","Sommerforhold",{"$f":"Oljedatabase[[#This Row],[Oljetype]]&\"-\"&Oljedatabase[[#This Row],[SesongNy]]&\"-\"&Oljedatabase[[#This Row],[Vind (m/s)]]&\"-\"&Oljedatabase[[#This Row],[Tidspunkt (timer)]]","v":"Maria 2013-Sommerforhold-10-12"},{"$f":"Oljedatabase[[#This Row],[Sesong]]","v":"Sommerforhold"},15,10,"12",0.8,9800,"Redusert kjemisk dispergerbarhet",0.31,0.5,0.17,104,"Ingen eksplosjonsfare",16,"Kjemisk dispergerbar","Nei",2.54,"2013-07-11T02:00:00",847,"Nordland",35,7229657,122084,"Maria 2013 Forvitringsrapport.pdf"]
["Maria 2013","Sommerforhold",{"$f":"Oljedatabase[[#This Row],[Oljetype]]&\"-\"&Oljedatabase[[#This Row],[SesongNy]]&\"-\"&Oljedatabase[[#This Row],[Vind (m/s)]]&\"-\"&Oljedatabase[[#This Row],[Tidspunkt (timer)]]","v":"Maria 2013-Sommerforhold-2-96"},{"$f":"Oljedatabase[[#This Row],[Sesong]]","v":"Sommerforhold"},15,2,"96",0.79,9660,"Redusert kjemisk dispergerbarhet",0.33,0.66,0,105,"Ingen eksplosjonsfare",16.5,"Kjemisk dispergerbar","Nei",3.19,"2013-07-11T02:00:00",847,"Nordland",35,7229657,122084,"Maria 2013 Forvitringsrapport.pdf"]
["Martin Linge kondensat 2016","Vinterforhold",{"$f":"Oljedatabase[[#This Row],[Oljetype]]&\"-\"&Oljedatabase[[#This Row],[SesongNy]]&\"-\"&Oljedatabase[[#This Row],[Vind (m/s)]]&\"-\"&Oljedatabase[[#This Row],[Tidspunkt (timer)]]","v":"Martin Linge kondensat 2016-Vinterforhold-2-96"},{"$f":"Oljedatabase[[#This Row],[Sesong]]","v":"Vinterforhold"},5,2,"96",0.14000000000000001,1420,"Ikke testet",0.51,0.46,0.01,113,"Ingen eksplosjonsfare",26.6,"Lav/dårlig dispergerbarhet","Nei",0.55000000000000004,"2016-12-18T01:00:00",814,"Nord Vestlandet",42,6778264,-210008,"Martin Linge kondensat 2016 Forvitringsrapport.pdf"]
["Martin Linge kondensat 2016","Vinterforhold",{"$f":"Oljedatabase[[#This Row],[Oljetype]]&\"-\"&Oljedatabase[[#This Row],[SesongNy]]&\"-\"&Oljedatabase[[#This Row],[Vind (m/s)]]&\"-\"&Oljedatabase[[#This Row],[Tidspunkt (timer)]]","v":"Martin Linge kondensat 2016-Vinterforhold-2-24"},{"$f":"Oljedatabase[[#This Row],[Sesong]]","v":"Vinterforhold"},5,2,"24",0.1,586,"Ikke testet",0.42,0.56999999999999995,0,86,"Ingen eksplosjonsfare",20,"Redusert kjemisk dispergerbarhet","Nei",0.64,"2016-12-18T01:00:00",814,"Nord Vestlandet",42,6778264,-210008,"Martin Linge kondensat 2016 Forvitringsrapport.pdf"]
["Martin Linge kondensat 2016","Sommerforhold",{"$f":"Oljedatabase[[#This Row],[Oljetype]]&\"-\"&Oljedatabase[[#This Row],[SesongNy]]&\"-\"&Oljedatabase[[#This Row],[Vind (m/s)]]&\"-\"&Oljedatabase[[#This Row],[Tidspunkt (timer)]]","v":"Martin Linge kondensat 2016-Sommerforhold-15-48"},{"$f":"Oljedatabase[[#This Row],[Sesong]]","v":"Sommerforhold"},15,15,"48",0.19,1870,"Ikke testet",0.41,0,0.57999999999999996,152,"Ingen eksplosjonsfare",35.6,"Lav/dårlig dispergerbarhet","Nei",0,"2016-12-18T01:00:00",814,"Nord Vestlandet",42,6778264,-210008,"Martin Linge kondensat 2016 Forvitringsrapport.pdf"]
["Martin Linge kondensat 2016","Sommerforhold",{"$f":"Oljedatabase[[#This Row],[Oljetype]]&\"-\"&Oljedatabase[[#This Row],[SesongNy]]&\"-\"&Oljedatabase[[#This Row],[Vind (m/s)]]&\"-\"&Oljedatabase[[#This Row],[Tidspunkt (timer)]]","v":"Martin Linge kondensat 2016-Sommerforhold-15-72"},{"$f":"Oljedatabase[[#This Row],[Sesong]]","v":"Sommerforhold"},15,15,"72",0.19,2390,"Ikke testet",0.41,0,0.57999999999999996,160,"Ingen eksplosjonsfare",37.200000000000003,"Lav/dårlig dispergerbarhet","Nei",0,"2016-12-18T01:00:00",814,"Nord Vestlandet",42,6778264,-210008,"Martin Linge kondensat 2016 Forvitringsrapport.pdf"]
["Martin Linge kondensat 2016","Sommerforhold",{"$f":"Oljedatabase[[#This Row],[Oljetype]]&\"-\"&Oljedatabase[[#This Row],[SesongNy]]&\"-\"&Oljedatabase[[#This Row],[Vind (m/s)]]&\"-\"&Oljedatabase[[#This Row],[Tidspunkt (timer)]]","v":"Martin Linge kondensat 2016-Sommerforhold-5-6"},{"$f":"Oljedatabase[[#This Row],[Sesong]]","v":"Sommerforhold"},15,5,"6",0.1,248,"Ikke testet",0.41,0.56000000000000005,0.02,82,"Ingen eksplosjonsfare",18.899999999999999,"Kjemisk dispergerbar","Nei",0.63,"2016-12-18T01:00:00",814,"Nord Vestlandet",42,6778264,-210008,"Martin Linge kondensat 2016 Forvitringsrapport.pdf"]
["Martin Linge kondensat 2016","Sommerforhold",{"$f":"Oljedatabase[[#This Row],[Oljetype]]&\"-\"&Oljedatabase[[#This Row],[SesongNy]]&\"-\"&Oljedatabase[[#This Row],[Vind (m/s)]]&\"-\"&Oljedatabase[[#This Row],[Tidspunkt (timer)]]","v":"Martin Linge kondensat 2016-Sommerforhold-5-96"},{"$f":"Oljedatabase[[#This Row],[Sesong]]","v":"Sommerforhold"},15,5,"96",0.19,1380,"Ikke testet",0.56000000000000005,0.03,0.4,143,"Ingen eksplosjonsfare",33.5,"Lav/dårlig dispergerbarhet","Nei",0.05,"2016-12-18T01:00:00",814,"Nord Vestlandet",42,6778264,-210008,"Martin Linge kondensat 2016 Forvitringsrapport.pdf"]
["Martin Linge kondensat 2016","Vinterforhold",{"$f":"Oljedatabase[[#This Row],[Oljetype]]&\"-\"&Oljedatabase[[#This Row],[SesongNy]]&\"-\"&Oljedatabase[[#This Row],[Vind (m/s)]]&\"-\"&Oljedatabase[[#This Row],[Tidspunkt (timer)]]","v":"Martin Linge kondensat 2016-Vinterforhold-5-120"},{"$f":"Oljedatabase[[#This Row],[Sesong]]","v":"Vinterforhold"},5,5,"120",0.17,2490,"Ikke testet",0.53,0.04,0.42,132,"Ingen eksplosjonsfare",30.9,"Lav/dårlig dispergerbarhet","Nei",0.05,"2016-12-18T01:00:00",814,"Nord Vestlandet",42,6778264,-210008,"Martin Linge kondensat 2016 Forvitringsrapport.pdf"]
["Martin Linge olje 2016","Sommerforhold",{"$f":"Oljedatabase[[#This Row],[Oljetype]]&\"-\"&Oljedatabase[[#This Row],[SesongNy]]&\"-\"&Oljedatabase[[#This Row],[Vind (m/s)]]&\"-\"&Oljedatabase[[#This Row],[Tidspunkt (timer)]]","v":"Martin Linge olje 2016-Sommerforhold-5-96"},{"$f":"Oljedatabase[[#This Row],[Sesong]]","v":"Sommerforhold"},15,5,"96",0.77,13800,"Redusert kjemisk dispergerbarhet",0.06,0.87,0.06,120,"Ingen eksplosjonsfare",-24,"Kjemisk dispergerbar","Ja",3.93,"2016-12-18T01:00:00",930,"Nord Vestlandet",20,6778264,-210008,"Martin Linge olje 2016 Forvitringsrapport.pdf"]
["Martin Linge kondensat 2016","Vinterforhold",{"$f":"Oljedatabase[[#This Row],[Oljetype]]&\"-\"&Oljedatabase[[#This Row],[SesongNy]]&\"-\"&Oljedatabase[[#This Row],[Vind (m/s)]]&\"-\"&Oljedatabase[[#This Row],[Tidspunkt (timer)]]","v":"Martin Linge kondensat 2016-Vinterforhold-5-9"},{"$f":"Oljedatabase[[#This Row],[Sesong]]","v":"Vinterforhold"},5,5,"9",0.09,455,"Ikke testet",0.39,0.56000000000000005,0.03,79,"Ingen eksplosjonsfare",18.2,"Redusert kjemisk dispergerbarhet","Nei",0.62,"2016-12-18T01:00:00",814,"Nord Vestlandet",42,6778264,-210008,"Martin Linge kondensat 2016 Forvitringsrapport.pdf"]
["Martin Linge kondensat 2016","Vinterforhold",{"$f":"Oljedatabase[[#This Row],[Oljetype]]&\"-\"&Oljedatabase[[#This Row],[SesongNy]]&\"-\"&Oljedatabase[[#This Row],[Vind (m/s)]]&\"-\"&Oljedatabase[[#This Row],[Tidspunkt (timer)]]","v":"Martin Linge kondensat 2016-Vinterforhold-10-9"},{"$f":"Oljedatabase[[#This Row],[Sesong]]","v":"Vinterforhold"},5,10,"9",0.12,820,"Ikke testet",0.42,0.15,0.42,96,"Ingen eksplosjonsfare",22.4,"Lav/dårlig dispergerbarhet","Nei",0.17,"2016-12-18T01:00:00",814,"Nord Vestlandet",42,6778264,-210008,"Martin Linge kondensat 2016 Forvitringsrapport.pdf"]
["Martin Linge olje 2016","Vinterforhold",{"$f":"Oljedatabase[[#This Row],[Oljetype]]&\"-\"&Oljedatabase[[#This Row],[SesongNy]]&\"-\"&Oljedatabase[[#This Row],[Vind (m/s)]]&\"-\"&Oljedatabase[[#This Row],[Tidspunkt (timer)]]","v":"Martin Linge olje 2016-Vinterforhold-5-72"},{"$f":"Oljedatabase[[#This Row],[Sesong]]","v":"Vinterforhold"},5,5,"72",0.71,13900,"Redusert kjemisk dispergerbarhet",0.03,0.91,0.04,113,"Ingen eksplosjonsfare",-28.8,"Kjemisk dispergerbar","Ja",3.27,"2016-12-18T01:00:00",930,"Nord Vestlandet",20,6778264,-210008,"Martin Linge olje 2016 Forvitringsrapport.pdf"]
["Martin Linge olje 2016","Sommerforhold",{"$f":"Oljedatabase[[#This Row],[Oljetype]]&\"-\"&Oljedatabase[[#This Row],[SesongNy]]&\"-\"&Oljedatabase[[#This Row],[Vind (m/s)]]&\"-\"&Oljedatabase[[#This Row],[Tidspunkt (timer)]]","v":"Martin Linge olje 2016-Sommerforhold-15-9"},{"$f":"Oljedatabase[[#This Row],[Sesong]]","v":"Sommerforhold"},15,15,"9",0.78,12300,"Redusert kjemisk dispergerbarhet",0.04,0.45,0.5,116,"Ingen eksplosjonsfare",-26.9,"Kjemisk dispergerbar","Ja",2.0699999999999998,"2016-12-18T01:00:00",930,"Nord Vestlandet",20,6778264,-210008,"Martin Linge olje 2016 Forvitringsrapport.pdf"]
["Martin Linge olje 2016","Sommerforhold",{"$f":"Oljedatabase[[#This Row],[Oljetype]]&\"-\"&Oljedatabase[[#This Row],[SesongNy]]&\"-\"&Oljedatabase[[#This Row],[Vind (m/s)]]&\"-\"&Oljedatabase[[#This Row],[Tidspunkt (timer)]]","v":"Martin Linge olje 2016-Sommerforhold-5-1"},{"$f":"Oljedatabase[[#This Row],[Sesong]]","v":"Sommerforhold"},15,5,"1",0.05,318,"Kjemisk dispergerbar",0,0.99,0,105,"Ingen eksplosjonsfare",-34.1,"Kjemisk dispergerbar","Nei",1.05,"2016-12-18T01:00:00",930,"Nord Vestlandet",20,6778264,-210008,"Martin Linge olje 2016 Forvitringsrapport.pdf"]
["Martin Linge olje 2016","Sommerforhold",{"$f":"Oljedatabase[[#This Row],[Oljetype]]&\"-\"&Oljedatabase[[#This Row],[SesongNy]]&\"-\"&Oljedatabase[[#This Row],[Vind (m/s)]]&\"-\"&Oljedatabase[[#This Row],[Tidspunkt (timer)]]","v":"Martin Linge olje 2016-Sommerforhold-2-9"},{"$f":"Oljedatabase[[#This Row],[Sesong]]","v":"Sommerforhold"},15,2,"9",0.11,403,"Kjemisk dispergerbar",0.01,0.98,0,106,"Ingen eksplosjonsfare",-33.1,"Kjemisk dispergerbar","Nei",1.1200000000000001,"2016-12-18T01:00:00",930,"Nord Vestlandet",20,6778264,-210008,"Martin Linge olje 2016 Forvitringsrapport.pdf"]
["Martin Linge olje 2016","Vinterforhold",{"$f":"Oljedatabase[[#This Row],[Oljetype]]&\"-\"&Oljedatabase[[#This Row],[SesongNy]]&\"-\"&Oljedatabase[[#This Row],[Vind (m/s)]]&\"-\"&Oljedatabase[[#This Row],[Tidspunkt (timer)]]","v":"Martin Linge olje 2016-Vinterforhold-2-9"},{"$f":"Oljedatabase[[#This Row],[Sesong]]","v":"Vinterforhold"},5,2,"9",0.1,702,"Kjemisk dispergerbar",0,0.99,0,105,"Ingen eksplosjonsfare",-33.700000000000003,"Kjemisk dispergerbar","Nei",1.1100000000000001,"2016-12-18T01:00:00",930,"Nord Vestlandet",20,6778264,-210008,"Martin Linge olje 2016 Forvitringsrapport.pdf"]
["Morvin 2008","Sommerforhold",{"$f":"Oljedatabase[[#This Row],[Oljetype]]&\"-\"&Oljedatabase[[#This Row],[SesongNy]]&\"-\"&Oljedatabase[[#This Row],[Vind (m/s)]]&\"-\"&Oljedatabase[[#This Row],[Tidspunkt (timer)]]","v":"Morvin 2008-Sommerforhold-5-6"},{"$f":"Oljedatabase[[#This Row],[Sesong]]","v":"Sommerforhold"},15,5,"6",0.48,360,"Kjemisk dispergerbar",0.41,0.22,0.37,82,"Ingen eksplosjonsfare",17,"Kjemisk dispergerbar","Nei",0.42,"2008-05-18T02:00:00",817,"Sør-Trøndelag til Nordland",41,7250701,101140,"Morvin 2008 Forvitringsrapport.pdf"]
["Morvin 2008","Sommerforhold",{"$f":"Oljedatabase[[#This Row],[Oljetype]]&\"-\"&Oljedatabase[[#This Row],[SesongNy]]&\"-\"&Oljedatabase[[#This Row],[Vind (m/s)]]&\"-\"&Oljedatabase[[#This Row],[Tidspunkt (timer)]]","v":"Morvin 2008-Sommerforhold-2-72"},{"$f":"Oljedatabase[[#This Row],[Sesong]]","v":"Sommerforhold"},15,2,"72",0.73,790,"Kjemisk dispergerbar",0.44,0,0.56000000000000005,122,"Ingen eksplosjonsfare",31,"Lav/dårlig dispergerbarhet","Nei",0,"2008-05-18T02:00:00",817,"Sør-Trøndelag til Nordland",41,7250701,101140,"Morvin 2008 Forvitringsrapport.pdf"]
["Martin Linge olje 2016","Vinterforhold",{"$f":"Oljedatabase[[#This Row],[Oljetype]]&\"-\"&Oljedatabase[[#This Row],[SesongNy]]&\"-\"&Oljedatabase[[#This Row],[Vind (m/s)]]&\"-\"&Oljedatabase[[#This Row],[Tidspunkt (timer)]]","v":"Martin Linge olje 2016-Vinterforhold-2-1"},{"$f":"Oljedatabase[[#This Row],[Sesong]]","v":"Vinterforhold"},5,2,"1",0.01,511,"Kjemisk dispergerbar",0,0.99,0,104,"Ingen eksplosjonsfare",-34.4,"Kjemisk dispergerbar","Nei",1.01,"2016-12-18T01:00:00",930,"Nord Vestlandet",20,6778264,-210008,"Martin Linge olje 2016 Forvitringsrapport.pdf"]
["Martin Linge olje 2016","Vinterforhold",{"$f":"Oljedatabase[[#This Row],[Oljetype]]&\"-\"&Oljedatabase[[#This Row],[SesongNy]]&\"-\"&Oljedatabase[[#This Row],[Vind (m/s)]]&\"-\"&Oljedatabase[[#This Row],[Tidspunkt (timer)]]","v":"Martin Linge olje 2016-Vinterforhold-10-2"},{"$f":"Oljedatabase[[#This Row],[Sesong]]","v":"Vinterforhold"},5,10,"2",0.28000000000000003,1260,"Kjemisk dispergerbar",0,0.95,0.04,106,"Ingen eksplosjonsfare",-33.4,"Kjemisk dispergerbar","Nei",1.32,"2016-12-18T01:00:00",930,"Nord Vestlandet",20,6778264,-210008,"Martin Linge olje 2016 Forvitringsrapport.pdf"]
["Morvin 2008","Vinterforhold",{"$f":"Oljedatabase[[#This Row],[Oljetype]]&\"-\"&Oljedatabase[[#This Row],[SesongNy]]&\"-\"&Oljedatabase[[#This Row],[Vind (m/s)]]&\"-\"&Oljedatabase[[#This Row],[Tidspunkt (timer)]]","v":"Morvin 2008-Vinterforhold-10-96"},{"$f":"Oljedatabase[[#This Row],[Sesong]]","v":"Vinterforhold"},5,10,"96",0.74,7600,"Kjemisk dispergerbar",0.47,0.03,0.51,143,"Ingen eksplosjonsfare",39,"Lav/dårlig dispergerbarhet","Nei",0.11,"2008-05-18T02:00:00",817,"Sør-Trøndelag til Nordland",41,7250701,101140,"Morvin 2008 Forvitringsrapport.pdf"]
["Morvin 2008","Sommerforhold",{"$f":"Oljedatabase[[#This Row],[Oljetype]]&\"-\"&Oljedatabase[[#This Row],[SesongNy]]&\"-\"&Oljedatabase[[#This Row],[Vind (m/s)]]&\"-\"&Oljedatabase[[#This Row],[Tidspunkt (timer)]]","v":"Morvin 2008-Sommerforhold-10-2"},{"$f":"Oljedatabase[[#This Row],[Sesong]]","v":"Sommerforhold"},15,10,"2",0.44,290,"Kjemisk dispergerbar",0.35,0.54,0.12,73,"Ingen eksplosjonsfare",13,"Kjemisk dispergerbar","Nei",0.96,"2008-05-18T02:00:00",817,"Sør-Trøndelag til Nordland",41,7250701,101140,"Morvin 2008 Forvitringsrapport.pdf"]
["Morvin 2008","Sommerforhold",{"$f":"Oljedatabase[[#This Row],[Oljetype]]&\"-\"&Oljedatabase[[#This Row],[SesongNy]]&\"-\"&Oljedatabase[[#This Row],[Vind (m/s)]]&\"-\"&Oljedatabase[[#This Row],[Tidspunkt (timer)]]","v":"Morvin 2008-Sommerforhold-2-24"},{"$f":"Oljedatabase[[#This Row],[Sesong]]","v":"Sommerforhold"},15,2,"24",0.57999999999999996,520,"Kjemisk dispergerbar",0.44,0.01,0.55000000000000004,100,"Ingen eksplosjonsfare",24,"Redusert kjemisk dispergerbarhet","Nei",0.02,"2008-05-18T02:00:00",817,"Sør-Trøndelag til Nordland",41,7250701,101140,"Morvin 2008 Forvitringsrapport.pdf"]
["Morvin 2008","Vinterforhold",{"$f":"Oljedatabase[[#This Row],[Oljetype]]&\"-\"&Oljedatabase[[#This Row],[SesongNy]]&\"-\"&Oljedatabase[[#This Row],[Vind (m/s)]]&\"-\"&Oljedatabase[[#This Row],[Tidspunkt (timer)]]","v":"Morvin 2008-Vinterforhold-2-24"},{"$f":"Oljedatabase[[#This Row],[Sesong]]","v":"Vinterforhold"},5,2,"24",0.45,1200,"Kjemisk dispergerbar",0.37,0.63,0,93,"Ingen eksplosjonsfare",19,"Redusert kjemisk dispergerbarhet","Nei",1.1399999999999999,"2008-05-18T02:00:00",817,"Sør-Trøndelag til Nordland",41,7250701,101140,"Morvin 2008 Forvitringsrapport.pdf"]
["Morvin 2008","Vinterforhold",{"$f":"Oljedatabase[[#This Row],[Oljetype]]&\"-\"&Oljedatabase[[#This Row],[SesongNy]]&\"-\"&Oljedatabase[[#This Row],[Vind (m/s)]]&\"-\"&Oljedatabase[[#This Row],[Tidspunkt (timer)]]","v":"Morvin 2008-Vinterforhold-5-9"},{"$f":"Oljedatabase[[#This Row],[Sesong]]","v":"Vinterforhold"},5,5,"9",0.46,1100,"Kjemisk dispergerbar",0.34,0.65,0.01,83,"Ingen eksplosjonsfare",17,"Redusert kjemisk dispergerbarhet","Nei",1.2,"2008-05-18T02:00:00",817,"Sør-Trøndelag til Nordland",41,7250701,101140,"Morvin 2008 Forvitringsrapport.pdf"]
["Morvin 2008","Vinterforhold",{"$f":"Oljedatabase[[#This Row],[Oljetype]]&\"-\"&Oljedatabase[[#This Row],[SesongNy]]&\"-\"&Oljedatabase[[#This Row],[Vind (m/s)]]&\"-\"&Oljedatabase[[#This Row],[Tidspunkt (timer)]]","v":"Morvin 2008-Vinterforhold-5-12"},{"$f":"Oljedatabase[[#This Row],[Sesong]]","v":"Vinterforhold"},5,5,"12",0.52,1200,"Kjemisk dispergerbar",0.36,0.63,0.01,89,"Ingen eksplosjonsfare",19,"Redusert kjemisk dispergerbarhet","Nei",1.31,"2008-05-18T02:00:00",817,"Sør-Trøndelag til Nordland",41,7250701,101140,"Morvin 2008 Forvitringsrapport.pdf"]
["Morvin 2008","Vinterforhold",{"$f":"Oljedatabase[[#This Row],[Oljetype]]&\"-\"&Oljedatabase[[#This Row],[SesongNy]]&\"-\"&Oljedatabase[[#This Row],[Vind (m/s)]]&\"-\"&Oljedatabase[[#This Row],[Tidspunkt (timer)]]","v":"Morvin 2008-Vinterforhold-15-9"},{"$f":"Oljedatabase[[#This Row],[Sesong]]","v":"Vinterforhold"},5,15,"9",0.65,2600,"Kjemisk dispergerbar",0.4,0.16,0.44,110,"Ingen eksplosjonsfare",27,"Lav/dårlig dispergerbarhet","Nei",0.45,"2008-05-18T02:00:00",817,"Sør-Trøndelag til Nordland",41,7250701,101140,"Morvin 2008 Forvitringsrapport.pdf"]
["Norne 2018","Sommerforhold",{"$f":"Oljedatabase[[#This Row],[Oljetype]]&\"-\"&Oljedatabase[[#This Row],[SesongNy]]&\"-\"&Oljedatabase[[#This Row],[Vind (m/s)]]&\"-\"&Oljedatabase[[#This Row],[Tidspunkt (timer)]]","v":"Norne 2018-Sommerforhold-5-6"},{"$f":"Oljedatabase[[#This Row],[Sesong]]","v":"Sommerforhold"},15,5,"6",0.69599999999999995,824,"Kjemisk dispergerbar",0.14699999999999999,0.84399999999999997,8.9999999999999993E-3,79,"Ingen eksplosjonsfare",26.2,"Redusert kjemisk dispergerbarhet","Nei",2.78,"2018-01-08T01:00:00",861,"Sør-Trøndelag til Nordland",33,7340222,187149,"Norne 2018 Forvitringsrapport.pdf"]
["Norne 2018","Vinterforhold",{"$f":"Oljedatabase[[#This Row],[Oljetype]]&\"-\"&Oljedatabase[[#This Row],[SesongNy]]&\"-\"&Oljedatabase[[#This Row],[Vind (m/s)]]&\"-\"&Oljedatabase[[#This Row],[Tidspunkt (timer)]]","v":"Norne 2018-Vinterforhold-2-72"},{"$f":"Oljedatabase[[#This Row],[Sesong]]","v":"Vinterforhold"},5,2,"72",0.27800000000000002,3320,"Redusert kjemisk dispergerbarhet",0.17199999999999999,0.82699999999999996,1E-3,89,"Ingen eksplosjonsfare",27.4,"Lav/dårlig dispergerbarhet","Nei",1.1499999999999999,"2018-01-08T01:00:00",861,"Sør-Trøndelag til Nordland",33,7340222,187149,"Norne 2018 Forvitringsrapport.pdf"]
["Norne 2018","Sommerforhold",{"$f":"Oljedatabase[[#This Row],[Oljetype]]&\"-\"&Oljedatabase[[#This Row],[SesongNy]]&\"-\"&Oljedatabase[[#This Row],[Vind (m/s)]]&\"-\"&Oljedatabase[[#This Row],[Tidspunkt (timer)]]","v":"Norne 2018-Sommerforhold-5-120"},{"$f":"Oljedatabase[[#This Row],[Sesong]]","v":"Sommerforhold"},15,5,"120",0.79,2110,"Kjemisk dispergerbar",0.252,0.622,0.126,124,"Ingen eksplosjonsfare",31.4,"Lav/dårlig dispergerbarhet","Nei",2.96,"2018-01-08T01:00:00",861,"Sør-Trøndelag til Nordland",33,7340222,187149,"Norne 2018 Forvitringsrapport.pdf"]
["Norne 2018","Sommerforhold",{"$f":"Oljedatabase[[#This Row],[Oljetype]]&\"-\"&Oljedatabase[[#This Row],[SesongNy]]&\"-\"&Oljedatabase[[#This Row],[Vind (m/s)]]&\"-\"&Oljedatabase[[#This Row],[Tidspunkt (timer)]]","v":"Norne 2018-Sommerforhold-5-1"},{"$f":"Oljedatabase[[#This Row],[Sesong]]","v":"Sommerforhold"},15,5,"1",0.23599999999999999,400,"Kjemisk dispergerbar",8.5999999999999993E-2,0.91300000000000003,1E-3,55,"Eksplosjonsfare ved tanking",23.3,"Redusert kjemisk dispergerbarhet","Nei",1.2,"2018-01-08T01:00:00",861,"Sør-Trøndelag til Nordland",33,7340222,187149,"Norne 2018 Forvitringsrapport.pdf"]
["Norne 2018","Sommerforhold",{"$f":"Oljedatabase[[#This Row],[Oljetype]]&\"-\"&Oljedatabase[[#This Row],[SesongNy]]&\"-\"&Oljedatabase[[#This Row],[Vind (m/s)]]&\"-\"&Oljedatabase[[#This Row],[Tidspunkt (timer)]]","v":"Norne 2018-Sommerforhold-5-12"},{"$f":"Oljedatabase[[#This Row],[Sesong]]","v":"Sommerforhold"},15,5,"12",0.77900000000000003,1020,"Kjemisk dispergerbar",0.16900000000000001,0.81399999999999995,1.7000000000000001E-2,88,"Ingen eksplosjonsfare",27.3,"Redusert kjemisk dispergerbarhet","Nei",3.68,"2018-01-08T01:00:00",861,"Sør-Trøndelag til Nordland",33,7340222,187149,"Norne 2018 Forvitringsrapport.pdf"]
["Norne 2018","Vinterforhold",{"$f":"Oljedatabase[[#This Row],[Oljetype]]&\"-\"&Oljedatabase[[#This Row],[SesongNy]]&\"-\"&Oljedatabase[[#This Row],[Vind (m/s)]]&\"-\"&Oljedatabase[[#This Row],[Tidspunkt (timer)]]","v":"Norne 2018-Vinterforhold-10-3"},{"$f":"Oljedatabase[[#This Row],[Sesong]]","v":"Vinterforhold"},5,10,"3",0.183,2250,"Kjemisk dispergerbar",0.13600000000000001,0.81,5.3999999999999999E-2,75,"Ingen eksplosjonsfare",25.7,"Lav/dårlig dispergerbarhet","Nei",0.99,"2018-01-08T01:00:00",861,"Sør-Trøndelag til Nordland",33,7340222,187149,"Norne 2018 Forvitringsrapport.pdf"]
["Norne 2018","Sommerforhold",{"$f":"Oljedatabase[[#This Row],[Oljetype]]&\"-\"&Oljedatabase[[#This Row],[SesongNy]]&\"-\"&Oljedatabase[[#This Row],[Vind (m/s)]]&\"-\"&Oljedatabase[[#This Row],[Tidspunkt (timer)]]","v":"Norne 2018-Sommerforhold-5-96"},{"$f":"Oljedatabase[[#This Row],[Sesong]]","v":"Sommerforhold"},15,5,"96",0.79,1960,"Kjemisk dispergerbar",0.24399999999999999,0.65100000000000002,0.105,120,"Ingen eksplosjonsfare",31,"Lav/dårlig dispergerbarhet","Nei",3.1,"2018-01-08T01:00:00",861,"Sør-Trøndelag til Nordland",33,7340222,187149,"Norne 2018 Forvitringsrapport.pdf"]
["Ormen Lange 2008","Sommerforhold",{"$f":"Oljedatabase[[#This Row],[Oljetype]]&\"-\"&Oljedatabase[[#This Row],[SesongNy]]&\"-\"&Oljedatabase[[#This Row],[Vind (m/s)]]&\"-\"&Oljedatabase[[#This Row],[Tidspunkt (timer)]]","v":"Ormen Lange 2008-Sommerforhold-10-9"},{"$f":"Oljedatabase[[#This Row],[Sesong]]","v":"Sommerforhold"},15,10,"9",0,0,"Ikke testet",0.64,0,0.35,126,"Ingen eksplosjonsfare",-6.4,"Kjemisk dispergerbar",null,0,"2008-05-22T02:00:00",750,"Sogn og Fjordane til Møre og Romsdal",57,7076891,22703,"Ormen Lange 2008 Forvitringsrapport.pdf"]
["Norne 2018","Vinterforhold",{"$f":"Oljedatabase[[#This Row],[Oljetype]]&\"-\"&Oljedatabase[[#This Row],[SesongNy]]&\"-\"&Oljedatabase[[#This Row],[Vind (m/s)]]&\"-\"&Oljedatabase[[#This Row],[Tidspunkt (timer)]]","v":"Norne 2018-Vinterforhold-10-1"},{"$f":"Oljedatabase[[#This Row],[Sesong]]","v":"Vinterforhold"},5,10,"1",7.0999999999999994E-2,1440,"Kjemisk dispergerbar",0.10299999999999999,0.88,1.7000000000000001E-2,62,"Ingen eksplosjonsfare",24.1,"Lav/dårlig dispergerbarhet","Nei",0.95,"2018-01-08T01:00:00",861,"Sør-Trøndelag til Nordland",33,7340222,187149,"Norne 2018 Forvitringsrapport.pdf"]
["Ormen Lange 2008","Vinterforhold",{"$f":"Oljedatabase[[#This Row],[Oljetype]]&\"-\"&Oljedatabase[[#This Row],[SesongNy]]&\"-\"&Oljedatabase[[#This Row],[Vind (m/s)]]&\"-\"&Oljedatabase[[#This Row],[Tidspunkt (timer)]]","v":"Ormen Lange 2008-Vinterforhold-2-12"},{"$f":"Oljedatabase[[#This Row],[Sesong]]","v":"Vinterforhold"},5,2,"12",0,0,"Ikke testet",0.68,0.3,0.01,77,"Ingen eksplosjonsfare",-11.9,"Kjemisk dispergerbar",null,0.3,"2008-05-22T02:00:00",750,"Sogn og Fjordane til Møre og Romsdal",57,7076891,22703,"Ormen Lange 2008 Forvitringsrapport.pdf"]
["Ormen Lange 2008","Sommerforhold",{"$f":"Oljedatabase[[#This Row],[Oljetype]]&\"-\"&Oljedatabase[[#This Row],[SesongNy]]&\"-\"&Oljedatabase[[#This Row],[Vind (m/s)]]&\"-\"&Oljedatabase[[#This Row],[Tidspunkt (timer)]]","v":"Ormen Lange 2008-Sommerforhold-5-48"},{"$f":"Oljedatabase[[#This Row],[Sesong]]","v":"Sommerforhold"},15,5,"48",0,0,"Ikke testet",0.75,0,0.24,155,"Ingen eksplosjonsfare",-3.4,"Kjemisk dispergerbar",null,0,"2008-05-22T02:00:00",750,"Sogn og Fjordane til Møre og Romsdal",57,7076891,22703,"Ormen Lange 2008 Forvitringsrapport.pdf"]
["Ormen Lange 2008","Vinterforhold",{"$f":"Oljedatabase[[#This Row],[Oljetype]]&\"-\"&Oljedatabase[[#This Row],[SesongNy]]&\"-\"&Oljedatabase[[#This Row],[Vind (m/s)]]&\"-\"&Oljedatabase[[#This Row],[Tidspunkt (timer)]]","v":"Ormen Lange 2008-Vinterforhold-5-120"},{"$f":"Oljedatabase[[#This Row],[Sesong]]","v":"Vinterforhold"},5,5,"120",0,0,"Ikke testet",0.71,0,0.28000000000000003,155,"Ingen eksplosjonsfare",-3.3,"Kjemisk dispergerbar",null,0,"2008-05-22T02:00:00",750,"Sogn og Fjordane til Møre og Romsdal",57,7076891,22703,"Ormen Lange 2008 Forvitringsrapport.pdf"]
["Ormen Lange 2008","Sommerforhold",{"$f":"Oljedatabase[[#This Row],[Oljetype]]&\"-\"&Oljedatabase[[#This Row],[SesongNy]]&\"-\"&Oljedatabase[[#This Row],[Vind (m/s)]]&\"-\"&Oljedatabase[[#This Row],[Tidspunkt (timer)]]","v":"Ormen Lange 2008-Sommerforhold-10-12"},{"$f":"Oljedatabase[[#This Row],[Sesong]]","v":"Sommerforhold"},15,10,"12",0,0,"Ikke testet",0.64,0,0.35,138,"Ingen eksplosjonsfare",-5.0999999999999996,"Kjemisk dispergerbar",null,0,"2008-05-22T02:00:00",750,"Sogn og Fjordane til Møre og Romsdal",57,7076891,22703,"Ormen Lange 2008 Forvitringsrapport.pdf"]
["Norne 2018","Vinterforhold",{"$f":"Oljedatabase[[#This Row],[Oljetype]]&\"-\"&Oljedatabase[[#This Row],[SesongNy]]&\"-\"&Oljedatabase[[#This Row],[Vind (m/s)]]&\"-\"&Oljedatabase[[#This Row],[Tidspunkt (timer)]]","v":"Norne 2018-Vinterforhold-2-120"},{"$f":"Oljedatabase[[#This Row],[Sesong]]","v":"Vinterforhold"},5,2,"120",0.371,4100,"Redusert kjemisk dispergerbarhet",0.189,0.80900000000000005,2E-3,96,"Ingen eksplosjonsfare",28.2,"Lav/dårlig dispergerbarhet","Nei",1.29,"2018-01-08T01:00:00",861,"Sør-Trøndelag til Nordland",33,7340222,187149,"Norne 2018 Forvitringsrapport.pdf"]
["Ormen Lange 2008","Vinterforhold",{"$f":"Oljedatabase[[#This Row],[Oljetype]]&\"-\"&Oljedatabase[[#This Row],[SesongNy]]&\"-\"&Oljedatabase[[#This Row],[Vind (m/s)]]&\"-\"&Oljedatabase[[#This Row],[Tidspunkt (timer)]]","v":"Ormen Lange 2008-Vinterforhold-15-24"},{"$f":"Oljedatabase[[#This Row],[Sesong]]","v":"Vinterforhold"},5,15,"24",0,0,"Ikke testet",0.53,0,0.46,154,"Ingen eksplosjonsfare",-3.4,"Kjemisk dispergerbar",null,0,"2008-05-22T02:00:00",750,"Sogn og Fjordane til Møre og Romsdal",57,7076891,22703,"Ormen Lange 2008 Forvitringsrapport.pdf"]
["Ormen Lange 2008","Vinterforhold",{"$f":"Oljedatabase[[#This Row],[Oljetype]]&\"-\"&Oljedatabase[[#This Row],[SesongNy]]&\"-\"&Oljedatabase[[#This Row],[Vind (m/s)]]&\"-\"&Oljedatabase[[#This Row],[Tidspunkt (timer)]]","v":"Ormen Lange 2008-Vinterforhold-5-48"},{"$f":"Oljedatabase[[#This Row],[Sesong]]","v":"Vinterforhold"},5,5,"48",0,0,"Ikke testet",0.71,0,0.28000000000000003,134,"Ingen eksplosjonsfare",-5.5,"Kjemisk dispergerbar",null,0,"2008-05-22T02:00:00",750,"Sogn og Fjordane til Møre og Romsdal",57,7076891,22703,"Ormen Lange 2008 Forvitringsrapport.pdf"]
["Oseberg A 2013","Sommerforhold",{"$f":"Oljedatabase[[#This Row],[Oljetype]]&\"-\"&Oljedatabase[[#This Row],[SesongNy]]&\"-\"&Oljedatabase[[#This Row],[Vind (m/s)]]&\"-\"&Oljedatabase[[#This Row],[Tidspunkt (timer)]]","v":"Oseberg A 2013-Sommerforhold-5-12"},{"$f":"Oljedatabase[[#This Row],[Sesong]]","v":"Sommerforhold"},15,5,"12",0.46,1390,"Kjemisk dispergerbar",0.16,0.81,0.02,88,"Ingen eksplosjonsfare",-21.9,"Kjemisk dispergerbar","Nei",1.53,"2013-12-05T01:00:00",902,"Sogn og Fjordane til Møre og Romsdal",25,6768130,-166244,"Oseberg A 2013 Forvitringsrapport.pdf"]
["Oseberg A 2013","Sommerforhold",{"$f":"Oljedatabase[[#This Row],[Oljetype]]&\"-\"&Oljedatabase[[#This Row],[SesongNy]]&\"-\"&Oljedatabase[[#This Row],[Vind (m/s)]]&\"-\"&Oljedatabase[[#This Row],[Tidspunkt (timer)]]","v":"Oseberg A 2013-Sommerforhold-15-1"},{"$f":"Oljedatabase[[#This Row],[Sesong]]","v":"Sommerforhold"},15,15,"1",0.33,536,"Kjemisk dispergerbar",0.13,0.7,0.17,75,"Ingen eksplosjonsfare",-23,"Kjemisk dispergerbar","Nei",1.04,"2013-12-05T01:00:00",902,"Sogn og Fjordane til Møre og Romsdal",25,6768130,-166244,"Oseberg A 2013 Forvitringsrapport.pdf"]
["Oseberg A 2013","Vinterforhold",{"$f":"Oljedatabase[[#This Row],[Oljetype]]&\"-\"&Oljedatabase[[#This Row],[SesongNy]]&\"-\"&Oljedatabase[[#This Row],[Vind (m/s)]]&\"-\"&Oljedatabase[[#This Row],[Tidspunkt (timer)]]","v":"Oseberg A 2013-Vinterforhold-2-120"},{"$f":"Oljedatabase[[#This Row],[Sesong]]","v":"Vinterforhold"},5,2,"120",0.65,12500,"Redusert kjemisk dispergerbarhet",0.18,0.81,0,97,"Ingen eksplosjonsfare",-21.1,"Kjemisk dispergerbar","Ja",2.37,"2013-12-05T01:00:00",902,"Sogn og Fjordane til Møre og Romsdal",25,6768130,-166244,"Oseberg A 2013 Forvitringsrapport.pdf"]
["Ormen Lange 2008","Sommerforhold",{"$f":"Oljedatabase[[#This Row],[Oljetype]]&\"-\"&Oljedatabase[[#This Row],[SesongNy]]&\"-\"&Oljedatabase[[#This Row],[Vind (m/s)]]&\"-\"&Oljedatabase[[#This Row],[Tidspunkt (timer)]]","v":"Ormen Lange 2008-Sommerforhold-5-12"},{"$f":"Oljedatabase[[#This Row],[Sesong]]","v":"Sommerforhold"},15,5,"12",0,0,"Ikke testet",0.75,0.01,0.23,110,"Ingen eksplosjonsfare",-8.1,"Kjemisk dispergerbar",null,0.01,"2008-05-22T02:00:00",750,"Sogn og Fjordane til Møre og Romsdal",57,7076891,22703,"Ormen Lange 2008 Forvitringsrapport.pdf"]
["Oseberg A 2013","Sommerforhold",{"$f":"Oljedatabase[[#This Row],[Oljetype]]&\"-\"&Oljedatabase[[#This Row],[SesongNy]]&\"-\"&Oljedatabase[[#This Row],[Vind (m/s)]]&\"-\"&Oljedatabase[[#This Row],[Tidspunkt (timer)]]","v":"Oseberg A 2013-Sommerforhold-15-2"},{"$f":"Oljedatabase[[#This Row],[Sesong]]","v":"Sommerforhold"},15,15,"2",0.51,1790,"Kjemisk dispergerbar",0.15,0.56999999999999995,0.27,86,"Ingen eksplosjonsfare",-22,"Kjemisk dispergerbar","Nei",1.19,"2013-12-05T01:00:00",902,"Sogn og Fjordane til Møre og Romsdal",25,6768130,-166244,"Oseberg A 2013 Forvitringsrapport.pdf"]
["Oseberg A 2013","Sommerforhold",{"$f":"Oljedatabase[[#This Row],[Oljetype]]&\"-\"&Oljedatabase[[#This Row],[SesongNy]]&\"-\"&Oljedatabase[[#This Row],[Vind (m/s)]]&\"-\"&Oljedatabase[[#This Row],[Tidspunkt (timer)]]","v":"Oseberg A 2013-Sommerforhold-5-2"},{"$f":"Oljedatabase[[#This Row],[Sesong]]","v":"Sommerforhold"},15,5,"2",0.11,182,"Kjemisk dispergerbar",0.09,0.89,0,60,"Ingen eksplosjonsfare",-24.3,"Kjemisk dispergerbar","Nei",1.01,"2013-12-05T01:00:00",902,"Sogn og Fjordane til Møre og Romsdal",25,6768130,-166244,"Oseberg A 2013 Forvitringsrapport.pdf"]
["Oseberg Blend 2007","Sommerforhold",{"$f":"Oljedatabase[[#This Row],[Oljetype]]&\"-\"&Oljedatabase[[#This Row],[SesongNy]]&\"-\"&Oljedatabase[[#This Row],[Vind (m/s)]]&\"-\"&Oljedatabase[[#This Row],[Tidspunkt (timer)]]","v":"Oseberg Blend 2007-Sommerforhold-15-96"},{"$f":"Oljedatabase[[#This Row],[Sesong]]","v":"Sommerforhold"},15,15,"96",0.79,14000,"Lav/dårlig kjemisk dispergerbarhet",0.35,0,0.65,147,"Ingen eksplosjonsfare",26.6,"Redusert kjemisk dispergerbarhet","Ja",0,"1999-09-29T02:00:00",847,"Sogn og Fjordane til Møre og Romsdal",35,6768130,-166244,"Oseberg Blend 2007 Forvitringsrapport.pdf"]
["Oseberg Blend 2007","Vinterforhold",{"$f":"Oljedatabase[[#This Row],[Oljetype]]&\"-\"&Oljedatabase[[#This Row],[SesongNy]]&\"-\"&Oljedatabase[[#This Row],[Vind (m/s)]]&\"-\"&Oljedatabase[[#This Row],[Tidspunkt (timer)]]","v":"Oseberg Blend 2007-Vinterforhold-2-9"},{"$f":"Oljedatabase[[#This Row],[Sesong]]","v":"Vinterforhold"},5,2,"9",0.33,280,"Kjemisk dispergerbar",0.19,0.81,0,56,"Eksplosjonsfare ved tanking",12,"Redusert kjemisk dispergerbarhet","Nei",1.22,"1999-09-29T02:00:00",847,"Sogn og Fjordane til Møre og Romsdal",35,6768130,-166244,"Oseberg Blend 2007 Forvitringsrapport.pdf"]
["Oseberg Blend 2007","Sommerforhold",{"$f":"Oljedatabase[[#This Row],[Oljetype]]&\"-\"&Oljedatabase[[#This Row],[SesongNy]]&\"-\"&Oljedatabase[[#This Row],[Vind (m/s)]]&\"-\"&Oljedatabase[[#This Row],[Tidspunkt (timer)]]","v":"Oseberg Blend 2007-Sommerforhold-10-24"},{"$f":"Oljedatabase[[#This Row],[Sesong]]","v":"Sommerforhold"},15,10,"24",0.79,6100,"Redusert kjemisk dispergerbarhet",0.33,0.52,0.15,112,"Ingen eksplosjonsfare",21.3,"Redusert kjemisk dispergerbarhet","Nei",2.5,"1999-09-29T02:00:00",847,"Sogn og Fjordane til Møre og Romsdal",35,6768130,-166244,"Oseberg Blend 2007 Forvitringsrapport.pdf"]
["Oseberg Blend 2007","Vinterforhold",{"$f":"Oljedatabase[[#This Row],[Oljetype]]&\"-\"&Oljedatabase[[#This Row],[SesongNy]]&\"-\"&Oljedatabase[[#This Row],[Vind (m/s)]]&\"-\"&Oljedatabase[[#This Row],[Tidspunkt (timer)]]","v":"Oseberg Blend 2007-Vinterforhold-10-48"},{"$f":"Oljedatabase[[#This Row],[Sesong]]","v":"Vinterforhold"},5,10,"48",0.78,10000,"Lav/dårlig kjemisk dispergerbarhet",0.32,0.43,0.25,112,"Ingen eksplosjonsfare",20.9,"Lav/dårlig dispergerbarhet","Nei",1.95,"1999-09-29T02:00:00",847,"Sogn og Fjordane til Møre og Romsdal",35,6768130,-166244,"Oseberg Blend 2007 Forvitringsrapport.pdf"]
["Oseberg C 1999","Sommerforhold",{"$f":"Oljedatabase[[#This Row],[Oljetype]]&\"-\"&Oljedatabase[[#This Row],[SesongNy]]&\"-\"&Oljedatabase[[#This Row],[Vind (m/s)]]&\"-\"&Oljedatabase[[#This Row],[Tidspunkt (timer)]]","v":"Oseberg C 1999-Sommerforhold-2-1"},{"$f":"Oljedatabase[[#This Row],[Sesong]]","v":"Sommerforhold"},15,2,"1",0.05,42,"Kjemisk dispergerbar",0.13,0.87,0,43,"Eksplosjonsfare ved tanking",3,"Kjemisk dispergerbar","Nei",0.91,"1999-10-29T02:00:00",855,"Sogn og Fjordane til Møre og Romsdal",33,6781476,-166634,"Oseberg C 1999 Forvitringsrapport.pdf"]
["Oseberg A 2013","Sommerforhold",{"$f":"Oljedatabase[[#This Row],[Oljetype]]&\"-\"&Oljedatabase[[#This Row],[SesongNy]]&\"-\"&Oljedatabase[[#This Row],[Vind (m/s)]]&\"-\"&Oljedatabase[[#This Row],[Tidspunkt (timer)]]","v":"Oseberg A 2013-Sommerforhold-15-3"},{"$f":"Oljedatabase[[#This Row],[Sesong]]","v":"Sommerforhold"},15,15,"3",0.62,4580,"Kjemisk dispergerbar",0.16,0.5,0.33,93,"Ingen eksplosjonsfare",-21.4,"Kjemisk dispergerbar","Nei",1.34,"2013-12-05T01:00:00",902,"Sogn og Fjordane til Møre og Romsdal",25,6768130,-166244,"Oseberg A 2013 Forvitringsrapport.pdf"]
["Oseberg C 1999","Sommerforhold",{"$f":"Oljedatabase[[#This Row],[Oljetype]]&\"-\"&Oljedatabase[[#This Row],[SesongNy]]&\"-\"&Oljedatabase[[#This Row],[Vind (m/s)]]&\"-\"&Oljedatabase[[#This Row],[Tidspunkt (timer)]]","v":"Oseberg C 1999-Sommerforhold-2-48"},{"$f":"Oljedatabase[[#This Row],[Sesong]]","v":"Sommerforhold"},15,2,"48",0.76,3700,"Redusert kjemisk dispergerbarhet",0.3,0.7,0,106,"Ingen eksplosjonsfare",18,"Kjemisk dispergerbar","Nei",2.91,"1999-10-29T02:00:00",855,"Sogn og Fjordane til Møre og Romsdal",33,6781476,-166634,"Oseberg C 1999 Forvitringsrapport.pdf"]
["Oseberg Blend 2007","Vinterforhold",{"$f":"Oljedatabase[[#This Row],[Oljetype]]&\"-\"&Oljedatabase[[#This Row],[SesongNy]]&\"-\"&Oljedatabase[[#This Row],[Vind (m/s)]]&\"-\"&Oljedatabase[[#This Row],[Tidspunkt (timer)]]","v":"Oseberg Blend 2007-Vinterforhold-15-1"},{"$f":"Oljedatabase[[#This Row],[Sesong]]","v":"Vinterforhold"},5,15,"1",0.66,760,"Kjemisk dispergerbar",0.15,0.82,0.03,42,"Eksplosjonsfare ved tanking",9.4,"Kjemisk dispergerbar","Nei",2.42,"1999-09-29T02:00:00",847,"Sogn og Fjordane til Møre og Romsdal",35,6768130,-166244,"Oseberg Blend 2007 Forvitringsrapport.pdf"]
["Oseberg A 2013","Vinterforhold",{"$f":"Oljedatabase[[#This Row],[Oljetype]]&\"-\"&Oljedatabase[[#This Row],[SesongNy]]&\"-\"&Oljedatabase[[#This Row],[Vind (m/s)]]&\"-\"&Oljedatabase[[#This Row],[Tidspunkt (timer)]]","v":"Oseberg A 2013-Vinterforhold-15-72"},{"$f":"Oljedatabase[[#This Row],[Sesong]]","v":"Vinterforhold"},5,15,"72",0.72,68100,"Ikke kjemisk dispergerbar",0.19,0.03,0.76,133,"Ingen eksplosjonsfare",-18.2,"Kjemisk dispergerbar","Ja",0.13,"2013-12-05T01:00:00",902,"Sogn og Fjordane til Møre og Romsdal",25,6768130,-166244,"Oseberg A 2013 Forvitringsrapport.pdf"]
["Oseberg C 1999","Vinterforhold",{"$f":"Oljedatabase[[#This Row],[Oljetype]]&\"-\"&Oljedatabase[[#This Row],[SesongNy]]&\"-\"&Oljedatabase[[#This Row],[Vind (m/s)]]&\"-\"&Oljedatabase[[#This Row],[Tidspunkt (timer)]]","v":"Oseberg C 1999-Vinterforhold-2-3"},{"$f":"Oljedatabase[[#This Row],[Sesong]]","v":"Vinterforhold"},5,2,"3",0.14000000000000001,130,"Kjemisk dispergerbar",0.17,0.83,0,56,"Eksplosjonsfare ved tanking",7,"Kjemisk dispergerbar","Nei",0.96,"1999-10-29T02:00:00",855,"Sogn og Fjordane til Møre og Romsdal",33,6781476,-166634,"Oseberg C 1999 Forvitringsrapport.pdf"]
["Oseberg Blend 2007","Vinterforhold",{"$f":"Oljedatabase[[#This Row],[Oljetype]]&\"-\"&Oljedatabase[[#This Row],[SesongNy]]&\"-\"&Oljedatabase[[#This Row],[Vind (m/s)]]&\"-\"&Oljedatabase[[#This Row],[Tidspunkt (timer)]]","v":"Oseberg Blend 2007-Vinterforhold-5-48"},{"$f":"Oljedatabase[[#This Row],[Sesong]]","v":"Vinterforhold"},5,5,"48",0.77,6500,"Redusert kjemisk dispergerbarhet",0.3,0.67,0.03,97,"Ingen eksplosjonsfare",18.8,"Redusert kjemisk dispergerbarhet","Nei",2.99,"1999-09-29T02:00:00",847,"Sogn og Fjordane til Møre og Romsdal",35,6768130,-166244,"Oseberg Blend 2007 Forvitringsrapport.pdf"]
["Oseberg A 2013","Vinterforhold",{"$f":"Oljedatabase[[#This Row],[Oljetype]]&\"-\"&Oljedatabase[[#This Row],[SesongNy]]&\"-\"&Oljedatabase[[#This Row],[Vind (m/s)]]&\"-\"&Oljedatabase[[#This Row],[Tidspunkt (timer)]]","v":"Oseberg A 2013-Vinterforhold-2-96"},{"$f":"Oljedatabase[[#This Row],[Sesong]]","v":"Vinterforhold"},5,2,"96",0.61,7960,"Kjemisk dispergerbar",0.17,0.82,0,93,"Ingen eksplosjonsfare",-21.4,"Kjemisk dispergerbar","Nei",2.13,"2013-12-05T01:00:00",902,"Sogn og Fjordane til Møre og Romsdal",25,6768130,-166244,"Oseberg A 2013 Forvitringsrapport.pdf"]
["Oseberg Blend 2007","Vinterforhold",{"$f":"Oljedatabase[[#This Row],[Oljetype]]&\"-\"&Oljedatabase[[#This Row],[SesongNy]]&\"-\"&Oljedatabase[[#This Row],[Vind (m/s)]]&\"-\"&Oljedatabase[[#This Row],[Tidspunkt (timer)]]","v":"Oseberg Blend 2007-Vinterforhold-2-6"},{"$f":"Oljedatabase[[#This Row],[Sesong]]","v":"Vinterforhold"},5,2,"6",0.25,140,"Kjemisk dispergerbar",0.17,0.83,0,47,"Eksplosjonsfare ved tanking",10.3,"Redusert kjemisk dispergerbarhet","Nei",1.1000000000000001,"1999-09-29T02:00:00",847,"Sogn og Fjordane til Møre og Romsdal",35,6768130,-166244,"Oseberg Blend 2007 Forvitringsrapport.pdf"]
["Oseberg Blend 2007","Vinterforhold",{"$f":"Oljedatabase[[#This Row],[Oljetype]]&\"-\"&Oljedatabase[[#This Row],[SesongNy]]&\"-\"&Oljedatabase[[#This Row],[Vind (m/s)]]&\"-\"&Oljedatabase[[#This Row],[Tidspunkt (timer)]]","v":"Oseberg Blend 2007-Vinterforhold-10-24"},{"$f":"Oljedatabase[[#This Row],[Sesong]]","v":"Vinterforhold"},5,10,"24",0.78,7700,"Redusert kjemisk dispergerbarhet",0.3,0.54,0.16,101,"Ingen eksplosjonsfare",19.5,"Redusert kjemisk dispergerbarhet","Nei",2.4500000000000002,"1999-09-29T02:00:00",847,"Sogn og Fjordane til Møre og Romsdal",35,6768130,-166244,"Oseberg Blend 2007 Forvitringsrapport.pdf"]
["Oseberg Blend 2007","Sommerforhold",{"$f":"Oljedatabase[[#This Row],[Oljetype]]&\"-\"&Oljedatabase[[#This Row],[SesongNy]]&\"-\"&Oljedatabase[[#This Row],[Vind (m/s)]]&\"-\"&Oljedatabase[[#This Row],[Tidspunkt (timer)]]","v":"Oseberg Blend 2007-Sommerforhold-5-9"},{"$f":"Oljedatabase[[#This Row],[Sesong]]","v":"Sommerforhold"},15,5,"9",0.7,1800,"Kjemisk dispergerbar",0.25,0.75,0,78,"Ingen eksplosjonsfare",15.7,"Kjemisk dispergerbar","Nei",2.56,"1999-09-29T02:00:00",847,"Sogn og Fjordane til Møre og Romsdal",35,6768130,-166244,"Oseberg Blend 2007 Forvitringsrapport.pdf"]
["Oseberg Blend 2007","Vinterforhold",{"$f":"Oljedatabase[[#This Row],[Oljetype]]&\"-\"&Oljedatabase[[#This Row],[SesongNy]]&\"-\"&Oljedatabase[[#This Row],[Vind (m/s)]]&\"-\"&Oljedatabase[[#This Row],[Tidspunkt (timer)]]","v":"Oseberg Blend 2007-Vinterforhold-5-2"},{"$f":"Oljedatabase[[#This Row],[Sesong]]","v":"Vinterforhold"},5,5,"2",0.31,120,"Kjemisk dispergerbar",0.12,0.88,0,33,"Eksplosjonsfare ved tanking",7.8,"Kjemisk dispergerbar","Nei",1.28,"1999-09-29T02:00:00",847,"Sogn og Fjordane til Møre og Romsdal",35,6768130,-166244,"Oseberg Blend 2007 Forvitringsrapport.pdf"]
["Oseberg C 1999","Vinterforhold",{"$f":"Oljedatabase[[#This Row],[Oljetype]]&\"-\"&Oljedatabase[[#This Row],[SesongNy]]&\"-\"&Oljedatabase[[#This Row],[Vind (m/s)]]&\"-\"&Oljedatabase[[#This Row],[Tidspunkt (timer)]]","v":"Oseberg C 1999-Vinterforhold-5-1"},{"$f":"Oljedatabase[[#This Row],[Sesong]]","v":"Vinterforhold"},5,5,"1",0.18,140,"Kjemisk dispergerbar",0.15,0.85,0,50,"Eksplosjonsfare ved tanking",5,"Kjemisk dispergerbar","Nei",1.03,"1999-10-29T02:00:00",855,"Sogn og Fjordane til Møre og Romsdal",33,6781476,-166634,"Oseberg C 1999 Forvitringsrapport.pdf"]
["Oseberg C 1999","Sommerforhold",{"$f":"Oljedatabase[[#This Row],[Oljetype]]&\"-\"&Oljedatabase[[#This Row],[SesongNy]]&\"-\"&Oljedatabase[[#This Row],[Vind (m/s)]]&\"-\"&Oljedatabase[[#This Row],[Tidspunkt (timer)]]","v":"Oseberg C 1999-Sommerforhold-5-48"},{"$f":"Oljedatabase[[#This Row],[Sesong]]","v":"Sommerforhold"},15,5,"48",0.79,5400,"Redusert kjemisk dispergerbarhet",0.33,0.62,0.04,120,"Ingen eksplosjonsfare",21,"Redusert kjemisk dispergerbarhet","Nei",2.95,"1999-10-29T02:00:00",855,"Sogn og Fjordane til Møre og Romsdal",33,6781476,-166634,"Oseberg C 1999 Forvitringsrapport.pdf"]
["Oseberg C 1999","Vinterforhold",{"$f":"Oljedatabase[[#This Row],[Oljetype]]&\"-\"&Oljedatabase[[#This Row],[SesongNy]]&\"-\"&Oljedatabase[[#This Row],[Vind (m/s)]]&\"-\"&Oljedatabase[[#This Row],[Tidspunkt (timer)]]","v":"Oseberg C 1999-Vinterforhold-15-48"},{"$f":"Oljedatabase[[#This Row],[Sesong]]","v":"Vinterforhold"},5,15,"48",0.77,10000,"Lav/dårlig kjemisk dispergerbarhet",0.3,0.01,0.69,129,"Ingen eksplosjonsfare",23,"Lav/dårlig dispergerbarhet","Nei",0.04,"1999-10-29T02:00:00",855,"Sogn og Fjordane til Møre og Romsdal",33,6781476,-166634,"Oseberg C 1999 Forvitringsrapport.pdf"]
["Oseberg Sør 2013","Sommerforhold",{"$f":"Oljedatabase[[#This Row],[Oljetype]]&\"-\"&Oljedatabase[[#This Row],[SesongNy]]&\"-\"&Oljedatabase[[#This Row],[Vind (m/s)]]&\"-\"&Oljedatabase[[#This Row],[Tidspunkt (timer)]]","v":"Oseberg Sør 2013-Sommerforhold-2-48"},{"$f":"Oljedatabase[[#This Row],[Sesong]]","v":"Sommerforhold"},15,2,"48",0.69,3180,"Redusert kjemisk dispergerbarhet",0.28000000000000003,0.71,0,93,"Ingen eksplosjonsfare",25.1,"Redusert kjemisk dispergerbarhet","Nei",2.35,"2013-08-15T02:00:00",842,"Sogn og Fjordane til Møre og Romsdal",36,6752268,-165113,"Oseberg Sør 2013 Forvitringsrapport.pdf"]
["Oseberg Sør 2013","Sommerforhold",{"$f":"Oljedatabase[[#This Row],[Oljetype]]&\"-\"&Oljedatabase[[#This Row],[SesongNy]]&\"-\"&Oljedatabase[[#This Row],[Vind (m/s)]]&\"-\"&Oljedatabase[[#This Row],[Tidspunkt (timer)]]","v":"Oseberg Sør 2013-Sommerforhold-5-48"},{"$f":"Oljedatabase[[#This Row],[Sesong]]","v":"Sommerforhold"},15,5,"48",0.79,4950,"Redusert kjemisk dispergerbarhet",0.32,0.63,0.04,107,"Ingen eksplosjonsfare",27.1,"Redusert kjemisk dispergerbarhet","Nei",3.16,"2013-08-15T02:00:00",842,"Sogn og Fjordane til Møre og Romsdal",36,6752268,-165113,"Oseberg Sør 2013 Forvitringsrapport.pdf"]
["Oseberg C 1999","Vinterforhold",{"$f":"Oljedatabase[[#This Row],[Oljetype]]&\"-\"&Oljedatabase[[#This Row],[SesongNy]]&\"-\"&Oljedatabase[[#This Row],[Vind (m/s)]]&\"-\"&Oljedatabase[[#This Row],[Tidspunkt (timer)]]","v":"Oseberg C 1999-Vinterforhold-15-96"},{"$f":"Oljedatabase[[#This Row],[Sesong]]","v":"Vinterforhold"},5,15,"96",0.77,10000,"Lav/dårlig kjemisk dispergerbarhet",0.3,0,0.7,129,"Ingen eksplosjonsfare",23,"Lav/dårlig dispergerbarhet","Nei",0,"1999-10-29T02:00:00",855,"Sogn og Fjordane til Møre og Romsdal",33,6781476,-166634,"Oseberg C 1999 Forvitringsrapport.pdf"]
["Oseberg Sør 2013","Vinterforhold",{"$f":"Oljedatabase[[#This Row],[Oljetype]]&\"-\"&Oljedatabase[[#This Row],[SesongNy]]&\"-\"&Oljedatabase[[#This Row],[Vind (m/s)]]&\"-\"&Oljedatabase[[#This Row],[Tidspunkt (timer)]]","v":"Oseberg Sør 2013-Vinterforhold-10-120"},{"$f":"Oljedatabase[[#This Row],[Sesong]]","v":"Vinterforhold"},5,10,"120",0.7,22600,"Ikke kjemisk dispergerbar",0.33,0.13,0.53,122,"Ingen eksplosjonsfare",29.3,"Lav/dårlig dispergerbarhet","Ja",0.44,"2013-08-15T02:00:00",842,"Sogn og Fjordane til Møre og Romsdal",36,6752268,-165113,"Oseberg Sør 2013 Forvitringsrapport.pdf"]
["Oseberg Sør 2013","Sommerforhold",{"$f":"Oljedatabase[[#This Row],[Oljetype]]&\"-\"&Oljedatabase[[#This Row],[SesongNy]]&\"-\"&Oljedatabase[[#This Row],[Vind (m/s)]]&\"-\"&Oljedatabase[[#This Row],[Tidspunkt (timer)]]","v":"Oseberg Sør 2013-Sommerforhold-15-2"},{"$f":"Oljedatabase[[#This Row],[Sesong]]","v":"Sommerforhold"},15,15,"2",0.7,2400,"Redusert kjemisk dispergerbarhet",0.25,0.54,0.2,85,"Ingen eksplosjonsfare",23.8,"Redusert kjemisk dispergerbarhet","Nei",1.82,"2013-08-15T02:00:00",842,"Sogn og Fjordane til Møre og Romsdal",36,6752268,-165113,"Oseberg Sør 2013 Forvitringsrapport.pdf"]
["Oseberg Sør 2013","Vinterforhold",{"$f":"Oljedatabase[[#This Row],[Oljetype]]&\"-\"&Oljedatabase[[#This Row],[SesongNy]]&\"-\"&Oljedatabase[[#This Row],[Vind (m/s)]]&\"-\"&Oljedatabase[[#This Row],[Tidspunkt (timer)]]","v":"Oseberg Sør 2013-Vinterforhold-10-12"},{"$f":"Oljedatabase[[#This Row],[Sesong]]","v":"Vinterforhold"},5,10,"12",0.65,9320,"Redusert kjemisk dispergerbarhet",0.27,0.59,0.13,90,"Ingen eksplosjonsfare",24.6,"Lav/dårlig dispergerbarhet","Nei",1.69,"2013-08-15T02:00:00",842,"Sogn og Fjordane til Møre og Romsdal",36,6752268,-165113,"Oseberg Sør 2013 Forvitringsrapport.pdf"]
["Oseberg Sør 2013","Sommerforhold",{"$f":"Oljedatabase[[#This Row],[Oljetype]]&\"-\"&Oljedatabase[[#This Row],[SesongNy]]&\"-\"&Oljedatabase[[#This Row],[Vind (m/s)]]&\"-\"&Oljedatabase[[#This Row],[Tidspunkt (timer)]]","v":"Oseberg Sør 2013-Sommerforhold-15-12"},{"$f":"Oljedatabase[[#This Row],[Sesong]]","v":"Sommerforhold"},15,15,"12",0.8,5800,"Redusert kjemisk dispergerbarhet",0.3,0.14000000000000001,0.55000000000000004,112,"Ingen eksplosjonsfare",27.9,"Redusert kjemisk dispergerbarhet","Nei",0.72,"2013-08-15T02:00:00",842,"Sogn og Fjordane til Møre og Romsdal",36,6752268,-165113,"Oseberg Sør 2013 Forvitringsrapport.pdf"]
["Oseberg Sør 2013","Vinterforhold",{"$f":"Oljedatabase[[#This Row],[Oljetype]]&\"-\"&Oljedatabase[[#This Row],[SesongNy]]&\"-\"&Oljedatabase[[#This Row],[Vind (m/s)]]&\"-\"&Oljedatabase[[#This Row],[Tidspunkt (timer)]]","v":"Oseberg Sør 2013-Vinterforhold-2-12"},{"$f":"Oljedatabase[[#This Row],[Sesong]]","v":"Vinterforhold"},5,2,"12",0.12,4250,"Redusert kjemisk dispergerbarhet",0.2,0.79,0,62,"Ingen eksplosjonsfare",20.2,"Lav/dårlig dispergerbarhet","Nei",0.91,"2013-08-15T02:00:00",842,"Sogn og Fjordane til Møre og Romsdal",36,6752268,-165113,"Oseberg Sør 2013 Forvitringsrapport.pdf"]
["Oseberg Sør 2013","Vinterforhold",{"$f":"Oljedatabase[[#This Row],[Oljetype]]&\"-\"&Oljedatabase[[#This Row],[SesongNy]]&\"-\"&Oljedatabase[[#This Row],[Vind (m/s)]]&\"-\"&Oljedatabase[[#This Row],[Tidspunkt (timer)]]","v":"Oseberg Sør 2013-Vinterforhold-2-9"},{"$f":"Oljedatabase[[#This Row],[Sesong]]","v":"Vinterforhold"},5,2,"9",0.09,3760,"Redusert kjemisk dispergerbarhet",0.19,0.8,0,58,"Eksplosjonsfare ved tanking",19.5,"Redusert kjemisk dispergerbarhet","Nei",0.89,"2013-08-15T02:00:00",842,"Sogn og Fjordane til Møre og Romsdal",36,6752268,-165113,"Oseberg Sør 2013 Forvitringsrapport.pdf"]
["Oseberg Øst 2013","Sommerforhold",{"$f":"Oljedatabase[[#This Row],[Oljetype]]&\"-\"&Oljedatabase[[#This Row],[SesongNy]]&\"-\"&Oljedatabase[[#This Row],[Vind (m/s)]]&\"-\"&Oljedatabase[[#This Row],[Tidspunkt (timer)]]","v":"Oseberg Øst 2013-Sommerforhold-10-96"},{"$f":"Oljedatabase[[#This Row],[Sesong]]","v":"Sommerforhold"},15,10,"96",0.79,16700,"Redusert kjemisk dispergerbarhet",0.36,0.13,0.5,139,"Ingen eksplosjonsfare",32.299999999999997,"Lav/dårlig dispergerbarhet","Ja",0.63,"2013-08-15T02:00:00",839,"Vestlandet",37,6790001,-156108,"Oseberg Øst 2013 Forvitringsrapport.pdf"]
["Oseberg Øst 2013","Sommerforhold",{"$f":"Oljedatabase[[#This Row],[Oljetype]]&\"-\"&Oljedatabase[[#This Row],[SesongNy]]&\"-\"&Oljedatabase[[#This Row],[Vind (m/s)]]&\"-\"&Oljedatabase[[#This Row],[Tidspunkt (timer)]]","v":"Oseberg Øst 2013-Sommerforhold-2-12"},{"$f":"Oljedatabase[[#This Row],[Sesong]]","v":"Sommerforhold"},15,2,"12",0.18,1300,"Kjemisk dispergerbar",0.24,0.75,0,79,"Ingen eksplosjonsfare",24.3,"Redusert kjemisk dispergerbarhet","Nei",0.92,"2013-08-15T02:00:00",839,"Vestlandet",37,6790001,-156108,"Oseberg Øst 2013 Forvitringsrapport.pdf"]
["Oseberg Øst 2013","Sommerforhold",{"$f":"Oljedatabase[[#This Row],[Oljetype]]&\"-\"&Oljedatabase[[#This Row],[SesongNy]]&\"-\"&Oljedatabase[[#This Row],[Vind (m/s)]]&\"-\"&Oljedatabase[[#This Row],[Tidspunkt (timer)]]","v":"Oseberg Øst 2013-Sommerforhold-2-9"},{"$f":"Oljedatabase[[#This Row],[Sesong]]","v":"Sommerforhold"},15,2,"9",0.14000000000000001,1110,"Kjemisk dispergerbar",0.23,0.76,0,75,"Ingen eksplosjonsfare",23.7,"Redusert kjemisk dispergerbarhet","Nei",0.89,"2013-08-15T02:00:00",839,"Vestlandet",37,6790001,-156108,"Oseberg Øst 2013 Forvitringsrapport.pdf"]
["Oseberg Sør 2013","Vinterforhold",{"$f":"Oljedatabase[[#This Row],[Oljetype]]&\"-\"&Oljedatabase[[#This Row],[SesongNy]]&\"-\"&Oljedatabase[[#This Row],[Vind (m/s)]]&\"-\"&Oljedatabase[[#This Row],[Tidspunkt (timer)]]","v":"Oseberg Sør 2013-Vinterforhold-15-96"},{"$f":"Oljedatabase[[#This Row],[Sesong]]","v":"Vinterforhold"},5,15,"96",0.7,26500,"Ikke kjemisk dispergerbar",0.3,0,0.69,128,"Ingen eksplosjonsfare",30.1,"Lav/dårlig dispergerbarhet","Ja",0,"2013-08-15T02:00:00",839,"Vestlandet",37,6752268,-165113,"Oseberg Sør 2013 Forvitringsrapport.pdf"]
["Oseberg Øst 2013","Sommerforhold",{"$f":"Oljedatabase[[#This Row],[Oljetype]]&\"-\"&Oljedatabase[[#This Row],[SesongNy]]&\"-\"&Oljedatabase[[#This Row],[Vind (m/s)]]&\"-\"&Oljedatabase[[#This Row],[Tidspunkt (timer)]]","v":"Oseberg Øst 2013-Sommerforhold-10-72"},{"$f":"Oljedatabase[[#This Row],[Sesong]]","v":"Sommerforhold"},15,10,"72",0.79,15200,"Redusert kjemisk dispergerbarhet",0.36,0.18,0.44,134,"Ingen eksplosjonsfare",31.7,"Lav/dårlig dispergerbarhet","Ja",0.91,"2013-08-15T02:00:00",839,"Vestlandet",37,6790001,-156108,"Oseberg Øst 2013 Forvitringsrapport.pdf"]
["Oselvar 2012","Sommerforhold",{"$f":"Oljedatabase[[#This Row],[Oljetype]]&\"-\"&Oljedatabase[[#This Row],[SesongNy]]&\"-\"&Oljedatabase[[#This Row],[Vind (m/s)]]&\"-\"&Oljedatabase[[#This Row],[Tidspunkt (timer)]]","v":"Oselvar 2012-Sommerforhold-2-24"},{"$f":"Oljedatabase[[#This Row],[Sesong]]","v":"Sommerforhold"},15,2,"24",0.34,253,"Kjemisk dispergerbar",0.45,0.54,0,81,"Ingen eksplosjonsfare",3.6,"Kjemisk dispergerbar","Nei",0.83,"2012-10-30T01:00:00",791,"Vest-Agder til Hordaland",47,6377788,-247921,"Oselvar 2012 Forvitringsrapport.pdf"]
["Oseberg Øst 2013","Vinterforhold",{"$f":"Oljedatabase[[#This Row],[Oljetype]]&\"-\"&Oljedatabase[[#This Row],[SesongNy]]&\"-\"&Oljedatabase[[#This Row],[Vind (m/s)]]&\"-\"&Oljedatabase[[#This Row],[Tidspunkt (timer)]]","v":"Oseberg Øst 2013-Vinterforhold-10-6"},{"$f":"Oljedatabase[[#This Row],[Sesong]]","v":"Vinterforhold"},5,10,"6",0.3,8350,"Redusert kjemisk dispergerbarhet",0.26,0.66,7.0000000000000007E-2,86,"Ingen eksplosjonsfare",25.3,"Lav/dårlig dispergerbarhet","Nei",0.95,"2013-08-15T02:00:00",839,"Vestlandet",37,6790001,-156108,"Oseberg Øst 2013 Forvitringsrapport.pdf"]
["Oseberg Øst 2013","Vinterforhold",{"$f":"Oljedatabase[[#This Row],[Oljetype]]&\"-\"&Oljedatabase[[#This Row],[SesongNy]]&\"-\"&Oljedatabase[[#This Row],[Vind (m/s)]]&\"-\"&Oljedatabase[[#This Row],[Tidspunkt (timer)]]","v":"Oseberg Øst 2013-Vinterforhold-5-12"},{"$f":"Oljedatabase[[#This Row],[Sesong]]","v":"Vinterforhold"},5,5,"12",0.19,6560,"Redusert kjemisk dispergerbarhet",0.25,0.73,0,81,"Ingen eksplosjonsfare",24.6,"Lav/dårlig dispergerbarhet","Nei",0.91,"2013-08-15T02:00:00",839,"Vestlandet",37,6790001,-156108,"Oseberg Øst 2013 Forvitringsrapport.pdf"]
["Oseberg Øst 2013","Vinterforhold",{"$f":"Oljedatabase[[#This Row],[Oljetype]]&\"-\"&Oljedatabase[[#This Row],[SesongNy]]&\"-\"&Oljedatabase[[#This Row],[Vind (m/s)]]&\"-\"&Oljedatabase[[#This Row],[Tidspunkt (timer)]]","v":"Oseberg Øst 2013-Vinterforhold-2-9"},{"$f":"Oljedatabase[[#This Row],[Sesong]]","v":"Vinterforhold"},5,2,"9",0.03,3840,"Redusert kjemisk dispergerbarhet",0.21,0.78,0,65,"Ingen eksplosjonsfare",22.3,"Lav/dårlig dispergerbarhet","Nei",0.82,"2013-08-15T02:00:00",839,"Vestlandet",37,6790001,-156108,"Oseberg Øst 2013 Forvitringsrapport.pdf"]
["Oselvar 2012","Vinterforhold",{"$f":"Oljedatabase[[#This Row],[Oljetype]]&\"-\"&Oljedatabase[[#This Row],[SesongNy]]&\"-\"&Oljedatabase[[#This Row],[Vind (m/s)]]&\"-\"&Oljedatabase[[#This Row],[Tidspunkt (timer)]]","v":"Oselvar 2012-Vinterforhold-5-1"},{"$f":"Oljedatabase[[#This Row],[Sesong]]","v":"Vinterforhold"},5,5,"1",0,11,"Kjemisk dispergerbar",0.18,0.81,0,14,"Eksplosjonsfare ved tanking",-2.1,"Kjemisk dispergerbar","Nei",0.81,"2012-10-30T01:00:00",791,"Vest-Agder til Hordaland",47,6377788,-247921,"Oselvar 2012 Forvitringsrapport.pdf"]
["Oselvar 2012","Sommerforhold",{"$f":"Oljedatabase[[#This Row],[Oljetype]]&\"-\"&Oljedatabase[[#This Row],[SesongNy]]&\"-\"&Oljedatabase[[#This Row],[Vind (m/s)]]&\"-\"&Oljedatabase[[#This Row],[Tidspunkt (timer)]]","v":"Oselvar 2012-Sommerforhold-15-6"},{"$f":"Oljedatabase[[#This Row],[Sesong]]","v":"Sommerforhold"},15,15,"6",0.54,717,"Kjemisk dispergerbar",0.44,0.05,0.5,97,"Ingen eksplosjonsfare",4.8,"Kjemisk dispergerbar","Nei",0.12,"2012-10-30T01:00:00",791,"Vest-Agder til Hordaland",47,6377788,-247921,"Oselvar 2012 Forvitringsrapport.pdf"]
["Oselvar 2012","Sommerforhold",{"$f":"Oljedatabase[[#This Row],[Oljetype]]&\"-\"&Oljedatabase[[#This Row],[SesongNy]]&\"-\"&Oljedatabase[[#This Row],[Vind (m/s)]]&\"-\"&Oljedatabase[[#This Row],[Tidspunkt (timer)]]","v":"Oselvar 2012-Sommerforhold-5-12"},{"$f":"Oljedatabase[[#This Row],[Sesong]]","v":"Sommerforhold"},15,5,"12",0.4,327,"Kjemisk dispergerbar",0.46,0.5,0.03,83,"Ingen eksplosjonsfare",3.7,"Kjemisk dispergerbar","Nei",0.85,"2012-10-30T01:00:00",791,"Vest-Agder til Hordaland",47,6377788,-247921,"Oselvar 2012 Forvitringsrapport.pdf"]
["Oselvar 2012","Sommerforhold",{"$f":"Oljedatabase[[#This Row],[Oljetype]]&\"-\"&Oljedatabase[[#This Row],[SesongNy]]&\"-\"&Oljedatabase[[#This Row],[Vind (m/s)]]&\"-\"&Oljedatabase[[#This Row],[Tidspunkt (timer)]]","v":"Oselvar 2012-Sommerforhold-5-24"},{"$f":"Oljedatabase[[#This Row],[Sesong]]","v":"Sommerforhold"},15,5,"24",0.51,616,"Kjemisk dispergerbar",0.49,0.44,0.05,94,"Ingen eksplosjonsfare",4.5,"Kjemisk dispergerbar","Nei",0.93,"2012-10-30T01:00:00",791,"Vest-Agder til Hordaland",47,6377788,-247921,"Oselvar 2012 Forvitringsrapport.pdf"]
["Oselvar 2012","Sommerforhold",{"$f":"Oljedatabase[[#This Row],[Oljetype]]&\"-\"&Oljedatabase[[#This Row],[SesongNy]]&\"-\"&Oljedatabase[[#This Row],[Vind (m/s)]]&\"-\"&Oljedatabase[[#This Row],[Tidspunkt (timer)]]","v":"Oselvar 2012-Sommerforhold-2-120"},{"$f":"Oljedatabase[[#This Row],[Sesong]]","v":"Sommerforhold"},15,2,"120",0.59,984,"Redusert kjemisk dispergerbarhet",0.53,0.46,0,104,"Ingen eksplosjonsfare",5.3,"Kjemisk dispergerbar","Nei",1.1299999999999999,"2012-10-30T01:00:00",791,"Vest-Agder til Hordaland",47,6377788,-247921,"Oselvar 2012 Forvitringsrapport.pdf"]
["Ringhorne 2002","Sommerforhold",{"$f":"Oljedatabase[[#This Row],[Oljetype]]&\"-\"&Oljedatabase[[#This Row],[SesongNy]]&\"-\"&Oljedatabase[[#This Row],[Vind (m/s)]]&\"-\"&Oljedatabase[[#This Row],[Tidspunkt (timer)]]","v":"Ringhorne 2002-Sommerforhold-5-6"},{"$f":"Oljedatabase[[#This Row],[Sesong]]","v":"Sommerforhold"},15,5,"6",0.63,3100,"Redusert kjemisk dispergerbarhet",0.28999999999999998,0.71,0.01,52,"Eksplosjonsfare ved tanking",20,"Kjemisk dispergerbar","Nei",1.91,"2002-08-25T02:00:00",830,"Vest-Agder til Hordaland",38,6637182,-212699,"Ringhorne 2002 Forvitringsrapport.pdf"]
["Oselvar 2012","Vinterforhold",{"$f":"Oljedatabase[[#This Row],[Oljetype]]&\"-\"&Oljedatabase[[#This Row],[SesongNy]]&\"-\"&Oljedatabase[[#This Row],[Vind (m/s)]]&\"-\"&Oljedatabase[[#This Row],[Tidspunkt (timer)]]","v":"Oselvar 2012-Vinterforhold-15-9"},{"$f":"Oljedatabase[[#This Row],[Sesong]]","v":"Vinterforhold"},5,15,"9",0.49,894,"Redusert kjemisk dispergerbarhet",0.4,0.02,0.56999999999999995,92,"Ingen eksplosjonsfare",4.4000000000000004,"Kjemisk dispergerbar","Nei",0.04,"2012-10-30T01:00:00",791,"Vest-Agder til Hordaland",47,6377788,-247921,"Oselvar 2012 Forvitringsrapport.pdf"]
["Ringhorne 2002","Vinterforhold",{"$f":"Oljedatabase[[#This Row],[Oljetype]]&\"-\"&Oljedatabase[[#This Row],[SesongNy]]&\"-\"&Oljedatabase[[#This Row],[Vind (m/s)]]&\"-\"&Oljedatabase[[#This Row],[Tidspunkt (timer)]]","v":"Ringhorne 2002-Vinterforhold-5-120"},{"$f":"Oljedatabase[[#This Row],[Sesong]]","v":"Vinterforhold"},5,5,"120",0.72,25000,"Lav/dårlig kjemisk dispergerbarhet",0.37,0.56999999999999995,0.06,118,"Ingen eksplosjonsfare",25,"Lav/dårlig dispergerbarhet","Ja",2.0299999999999998,"2002-08-25T02:00:00",830,"Vest-Agder til Hordaland",38,6637182,-212699,"Ringhorne 2002 Forvitringsrapport.pdf"]
["Oselvar 2012","Vinterforhold",{"$f":"Oljedatabase[[#This Row],[Oljetype]]&\"-\"&Oljedatabase[[#This Row],[SesongNy]]&\"-\"&Oljedatabase[[#This Row],[Vind (m/s)]]&\"-\"&Oljedatabase[[#This Row],[Tidspunkt (timer)]]","v":"Oselvar 2012-Vinterforhold-5-12"},{"$f":"Oljedatabase[[#This Row],[Sesong]]","v":"Vinterforhold"},5,5,"12",0.31,278,"Kjemisk dispergerbar",0.41,0.54,0.03,72,"Ingen eksplosjonsfare",2.9,"Kjemisk dispergerbar","Nei",0.8,"2012-10-30T01:00:00",791,"Vest-Agder til Hordaland",47,6377788,-247921,"Oselvar 2012 Forvitringsrapport.pdf"]
["Ringhorne 2002","Sommerforhold",{"$f":"Oljedatabase[[#This Row],[Oljetype]]&\"-\"&Oljedatabase[[#This Row],[SesongNy]]&\"-\"&Oljedatabase[[#This Row],[Vind (m/s)]]&\"-\"&Oljedatabase[[#This Row],[Tidspunkt (timer)]]","v":"Ringhorne 2002-Sommerforhold-10-2"},{"$f":"Oljedatabase[[#This Row],[Sesong]]","v":"Sommerforhold"},15,10,"2",0.66,3200,"Redusert kjemisk dispergerbarhet",0.28000000000000003,0.68,0.04,50,"Eksplosjonsfare ved tanking",20,"Kjemisk dispergerbar","Nei",2,"2002-08-25T02:00:00",830,"Vest-Agder til Hordaland",38,6637182,-212699,"Ringhorne 2002 Forvitringsrapport.pdf"]
["Ringhorne 2002","Vinterforhold",{"$f":"Oljedatabase[[#This Row],[Oljetype]]&\"-\"&Oljedatabase[[#This Row],[SesongNy]]&\"-\"&Oljedatabase[[#This Row],[Vind (m/s)]]&\"-\"&Oljedatabase[[#This Row],[Tidspunkt (timer)]]","v":"Ringhorne 2002-Vinterforhold-2-6"},{"$f":"Oljedatabase[[#This Row],[Sesong]]","v":"Vinterforhold"},5,2,"6",0.26,2100,"Redusert kjemisk dispergerbarhet",0.22,0.78,0,42,"Eksplosjonsfare ved tanking",16,"Redusert kjemisk dispergerbarhet","Nei",1.05,"2002-08-25T02:00:00",830,"Vest-Agder til Hordaland",38,6637182,-212699,"Ringhorne 2002 Forvitringsrapport.pdf"]
["Ringhorne 2002","Sommerforhold",{"$f":"Oljedatabase[[#This Row],[Oljetype]]&\"-\"&Oljedatabase[[#This Row],[SesongNy]]&\"-\"&Oljedatabase[[#This Row],[Vind (m/s)]]&\"-\"&Oljedatabase[[#This Row],[Tidspunkt (timer)]]","v":"Ringhorne 2002-Sommerforhold-10-96"},{"$f":"Oljedatabase[[#This Row],[Sesong]]","v":"Sommerforhold"},15,10,"96",0.8,27000,"Lav/dårlig kjemisk dispergerbarhet",0.41,0.13,0.46,109,"Ingen eksplosjonsfare",29,"Redusert kjemisk dispergerbarhet","Ja",0.65,"2002-08-25T02:00:00",830,"Vest-Agder til Hordaland",38,6637182,-212699,"Ringhorne 2002 Forvitringsrapport.pdf"]
["Ringhorne 2002","Sommerforhold",{"$f":"Oljedatabase[[#This Row],[Oljetype]]&\"-\"&Oljedatabase[[#This Row],[SesongNy]]&\"-\"&Oljedatabase[[#This Row],[Vind (m/s)]]&\"-\"&Oljedatabase[[#This Row],[Tidspunkt (timer)]]","v":"Ringhorne 2002-Sommerforhold-15-9"},{"$f":"Oljedatabase[[#This Row],[Sesong]]","v":"Sommerforhold"},15,15,"9",0.8,13000,"Lav/dårlig kjemisk dispergerbarhet",0.35,0.25,0.4,85,"Ingen eksplosjonsfare",25,"Redusert kjemisk dispergerbarhet","Ja",1.25,"2002-08-25T02:00:00",830,"Vest-Agder til Hordaland",38,6637182,-212699,"Ringhorne 2002 Forvitringsrapport.pdf"]
["Ringhorne 2002","Vinterforhold",{"$f":"Oljedatabase[[#This Row],[Oljetype]]&\"-\"&Oljedatabase[[#This Row],[SesongNy]]&\"-\"&Oljedatabase[[#This Row],[Vind (m/s)]]&\"-\"&Oljedatabase[[#This Row],[Tidspunkt (timer)]]","v":"Ringhorne 2002-Vinterforhold-5-24"},{"$f":"Oljedatabase[[#This Row],[Sesong]]","v":"Vinterforhold"},5,5,"24",0.72,12000,"Redusert kjemisk dispergerbarhet",0.31,0.67,0.02,91,"Ingen eksplosjonsfare",22,"Lav/dårlig dispergerbarhet","Ja",2.39,"2002-08-25T02:00:00",830,"Vest-Agder til Hordaland",38,6637182,-212699,"Ringhorne 2002 Forvitringsrapport.pdf"]
["Skarfjell 2014","Vinterforhold",{"$f":"Oljedatabase[[#This Row],[Oljetype]]&\"-\"&Oljedatabase[[#This Row],[SesongNy]]&\"-\"&Oljedatabase[[#This Row],[Vind (m/s)]]&\"-\"&Oljedatabase[[#This Row],[Tidspunkt (timer)]]","v":"Skarfjell 2014-Vinterforhold-15-2"},{"$f":"Oljedatabase[[#This Row],[Sesong]]","v":"Vinterforhold"},5,15,"2",0.314,3580,"Redusert kjemisk dispergerbarhet",0.33900000000000002,0.52400000000000002,0.13700000000000001,65,"Ingen eksplosjonsfare",18.5,"Redusert kjemisk dispergerbarhet","Nei",0.76,"2014-03-18T01:00:00",824,"Nordvestlandet",40,6845418,-105299,"Skarfjell 2014 Forvitringsrapport.pdf"]
["Skarfjell 2014","Sommerforhold",{"$f":"Oljedatabase[[#This Row],[Oljetype]]&\"-\"&Oljedatabase[[#This Row],[SesongNy]]&\"-\"&Oljedatabase[[#This Row],[Vind (m/s)]]&\"-\"&Oljedatabase[[#This Row],[Tidspunkt (timer)]]","v":"Skarfjell 2014-Sommerforhold-2-120"},{"$f":"Oljedatabase[[#This Row],[Sesong]]","v":"Sommerforhold"},15,2,"120",0.8,3080,"Redusert kjemisk dispergerbarhet",0.39500000000000002,0.60399999999999998,1E-3,107,"Ingen eksplosjonsfare",29.6,"Redusert kjemisk dispergerbarhet","Nei",3.02,"2014-03-18T01:00:00",824,"Nordvestlandet",40,6845418,-105299,"Skarfjell 2014 Forvitringsrapport.pdf"]
["Skarfjell 2014","Sommerforhold",{"$f":"Oljedatabase[[#This Row],[Oljetype]]&\"-\"&Oljedatabase[[#This Row],[SesongNy]]&\"-\"&Oljedatabase[[#This Row],[Vind (m/s)]]&\"-\"&Oljedatabase[[#This Row],[Tidspunkt (timer)]]","v":"Skarfjell 2014-Sommerforhold-2-48"},{"$f":"Oljedatabase[[#This Row],[Sesong]]","v":"Sommerforhold"},15,2,"48",0.77600000000000002,2170,"Redusert kjemisk dispergerbarhet",0.32800000000000001,0.67200000000000004,0,94,"Ingen eksplosjonsfare",26.3,"Redusert kjemisk dispergerbarhet","Nei",3,"2014-03-18T01:00:00",824,"Nordvestlandet",40,6845418,-105299,"Skarfjell 2014 Forvitringsrapport.pdf"]
["Skarfjell 2014","Sommerforhold",{"$f":"Oljedatabase[[#This Row],[Oljetype]]&\"-\"&Oljedatabase[[#This Row],[SesongNy]]&\"-\"&Oljedatabase[[#This Row],[Vind (m/s)]]&\"-\"&Oljedatabase[[#This Row],[Tidspunkt (timer)]]","v":"Skarfjell 2014-Sommerforhold-5-96"},{"$f":"Oljedatabase[[#This Row],[Sesong]]","v":"Sommerforhold"},15,5,"96",0.8,4230,"Redusert kjemisk dispergerbarhet",0.42699999999999999,0.53300000000000003,0.04,116,"Ingen eksplosjonsfare",32,"Lav/dårlig dispergerbarhet","Nei",2.67,"2014-03-18T01:00:00",824,"Nordvestlandet",40,6845418,-105299,"Skarfjell 2014 Forvitringsrapport.pdf"]
["Ringhorne 2002","Vinterforhold",{"$f":"Oljedatabase[[#This Row],[Oljetype]]&\"-\"&Oljedatabase[[#This Row],[SesongNy]]&\"-\"&Oljedatabase[[#This Row],[Vind (m/s)]]&\"-\"&Oljedatabase[[#This Row],[Tidspunkt (timer)]]","v":"Ringhorne 2002-Vinterforhold-15-120"},{"$f":"Oljedatabase[[#This Row],[Sesong]]","v":"Vinterforhold"},5,15,"120",0.73,35000,"Lav/dårlig kjemisk dispergerbarhet",0.35,0,0.65,146,"Ingen eksplosjonsfare",26,"Lav/dårlig dispergerbarhet","Ja",0,"2002-08-25T02:00:00",830,"Vest-Agder til Hordaland",38,6637182,-212699,"Ringhorne 2002 Forvitringsrapport.pdf"]
["Skarfjell 2014","Sommerforhold",{"$f":"Oljedatabase[[#This Row],[Oljetype]]&\"-\"&Oljedatabase[[#This Row],[SesongNy]]&\"-\"&Oljedatabase[[#This Row],[Vind (m/s)]]&\"-\"&Oljedatabase[[#This Row],[Tidspunkt (timer)]]","v":"Skarfjell 2014-Sommerforhold-10-2"},{"$f":"Oljedatabase[[#This Row],[Sesong]]","v":"Sommerforhold"},15,10,"2",0.66900000000000004,1560,"Redusert kjemisk dispergerbarhet",0.312,0.66700000000000004,2.1000000000000001E-2,76,"Ingen eksplosjonsfare",21.6,"Redusert kjemisk dispergerbarhet","Nei",2.02,"2014-03-18T01:00:00",824,"Nordvestlandet",40,6845418,-105299,"Skarfjell 2014 Forvitringsrapport.pdf"]
["Skarfjell 2014","Sommerforhold",{"$f":"Oljedatabase[[#This Row],[Oljetype]]&\"-\"&Oljedatabase[[#This Row],[SesongNy]]&\"-\"&Oljedatabase[[#This Row],[Vind (m/s)]]&\"-\"&Oljedatabase[[#This Row],[Tidspunkt (timer)]]","v":"Skarfjell 2014-Sommerforhold-15-12"},{"$f":"Oljedatabase[[#This Row],[Sesong]]","v":"Sommerforhold"},15,15,"12",0.8,3610,"Redusert kjemisk dispergerbarhet",0.41,0.09,0.5,111,"Ingen eksplosjonsfare",30.8,"Lav/dårlig dispergerbarhet","Nei",0.45,"2014-03-18T01:00:00",824,"Nordvestlandet",40,6845418,-105299,"Skarfjell 2014 Forvitringsrapport.pdf"]
["Skarfjell 2014","Vinterforhold",{"$f":"Oljedatabase[[#This Row],[Oljetype]]&\"-\"&Oljedatabase[[#This Row],[SesongNy]]&\"-\"&Oljedatabase[[#This Row],[Vind (m/s)]]&\"-\"&Oljedatabase[[#This Row],[Tidspunkt (timer)]]","v":"Skarfjell 2014-Vinterforhold-15-3"},{"$f":"Oljedatabase[[#This Row],[Sesong]]","v":"Vinterforhold"},5,15,"3",0.496,4000,"Redusert kjemisk dispergerbarhet",0.35299999999999998,0.45100000000000001,0.19600000000000001,76,"Ingen eksplosjonsfare",21.4,"Lav/dårlig dispergerbarhet","Nei",0.89,"2014-03-18T01:00:00",824,"Nordvestlandet",40,6845418,-105299,"Skarfjell 2014 Forvitringsrapport.pdf"]
["Skarfjell 2014","Vinterforhold",{"$f":"Oljedatabase[[#This Row],[Oljetype]]&\"-\"&Oljedatabase[[#This Row],[SesongNy]]&\"-\"&Oljedatabase[[#This Row],[Vind (m/s)]]&\"-\"&Oljedatabase[[#This Row],[Tidspunkt (timer)]]","v":"Skarfjell 2014-Vinterforhold-2-12"},{"$f":"Oljedatabase[[#This Row],[Sesong]]","v":"Vinterforhold"},5,2,"12",0.11700000000000001,4310,"Redusert kjemisk dispergerbarhet",0.24099999999999999,0.75900000000000001,0,60,"Eksplosjonsfare ved tanking",17.100000000000001,"Redusert kjemisk dispergerbarhet","Nei",0.86,"2014-03-18T01:00:00",824,"Nordvestlandet",40,6845418,-105299,"Skarfjell 2014 Forvitringsrapport.pdf"]
["Skarfjell 2014","Vinterforhold",{"$f":"Oljedatabase[[#This Row],[Oljetype]]&\"-\"&Oljedatabase[[#This Row],[SesongNy]]&\"-\"&Oljedatabase[[#This Row],[Vind (m/s)]]&\"-\"&Oljedatabase[[#This Row],[Tidspunkt (timer)]]","v":"Skarfjell 2014-Vinterforhold-10-6"},{"$f":"Oljedatabase[[#This Row],[Sesong]]","v":"Vinterforhold"},5,10,"6",0.40200000000000002,3960,"Redusert kjemisk dispergerbarhet",0.33200000000000002,0.628,0.04,72,"Ingen eksplosjonsfare",20.5,"Lav/dårlig dispergerbarhet","Nei",1.05,"2014-03-18T01:00:00",824,"Nordvestlandet",40,6845418,-105299,"Skarfjell 2014 Forvitringsrapport.pdf"]
["Skarfjell 2014","Vinterforhold",{"$f":"Oljedatabase[[#This Row],[Oljetype]]&\"-\"&Oljedatabase[[#This Row],[SesongNy]]&\"-\"&Oljedatabase[[#This Row],[Vind (m/s)]]&\"-\"&Oljedatabase[[#This Row],[Tidspunkt (timer)]]","v":"Skarfjell 2014-Vinterforhold-2-120"},{"$f":"Oljedatabase[[#This Row],[Sesong]]","v":"Vinterforhold"},5,2,"120",0.60499999999999998,5880,"Redusert kjemisk dispergerbarhet",0.36499999999999999,0.63400000000000001,1E-3,92,"Ingen eksplosjonsfare",25.9,"Lav/dårlig dispergerbarhet","Nei",1.61,"2014-03-18T01:00:00",824,"Nordvestlandet",40,6845418,-105299,"Skarfjell 2014 Forvitringsrapport.pdf"]
["Skarv kondensat 2014","Sommerforhold",{"$f":"Oljedatabase[[#This Row],[Oljetype]]&\"-\"&Oljedatabase[[#This Row],[SesongNy]]&\"-\"&Oljedatabase[[#This Row],[Vind (m/s)]]&\"-\"&Oljedatabase[[#This Row],[Tidspunkt (timer)]]","v":"Skarv kondensat 2014-Sommerforhold-2-3"},{"$f":"Oljedatabase[[#This Row],[Sesong]]","v":"Sommerforhold"},15,2,"3",0,57,"Kjemisk dispergerbar",0.39,0.6,0,50,"Eksplosjonsfare ved tanking",18,"Kjemisk dispergerbar","Nei",0.6,"2014-05-06T02:00:00",829,"Sør-Trøndelag til Nordland",39,7305950,163129,"Skarv kondensat 2014 Forvitringsrapport.pdf"]
["Skarfjell 2014","Vinterforhold",{"$f":"Oljedatabase[[#This Row],[Oljetype]]&\"-\"&Oljedatabase[[#This Row],[SesongNy]]&\"-\"&Oljedatabase[[#This Row],[Vind (m/s)]]&\"-\"&Oljedatabase[[#This Row],[Tidspunkt (timer)]]","v":"Skarfjell 2014-Vinterforhold-2-6"},{"$f":"Oljedatabase[[#This Row],[Sesong]]","v":"Vinterforhold"},5,2,"6",4.1000000000000002E-2,2940,"Redusert kjemisk dispergerbarhet",0.16,0.84,0,41,"Eksplosjonsfare ved tanking",11.8,"Redusert kjemisk dispergerbarhet","Nei",0.88,"2014-03-18T01:00:00",824,"Nordvestlandet",40,6845418,-105299,"Skarfjell 2014 Forvitringsrapport.pdf"]
["Skarv olje 2004","Vinterforhold",{"$f":"Oljedatabase[[#This Row],[Oljetype]]&\"-\"&Oljedatabase[[#This Row],[SesongNy]]&\"-\"&Oljedatabase[[#This Row],[Vind (m/s)]]&\"-\"&Oljedatabase[[#This Row],[Tidspunkt (timer)]]","v":"Skarv olje 2004-Vinterforhold-2-1"},{"$f":"Oljedatabase[[#This Row],[Sesong]]","v":"Vinterforhold"},5,2,"1",0.01,1480,"Redusert kjemisk dispergerbarhet",7.0000000000000007E-2,0.92,0,42,"Eksplosjonsfare ved tanking",16.5,"Redusert kjemisk dispergerbarhet","Nei",0.93,"2004-05-04T02:00:00",860,"Sør-Trøndelag til Nordland",33,7305950,163129,"Skarv olje 2004 Forvitringsrapport.pdf"]
["Skarv olje 2004","Sommerforhold",{"$f":"Oljedatabase[[#This Row],[Oljetype]]&\"-\"&Oljedatabase[[#This Row],[SesongNy]]&\"-\"&Oljedatabase[[#This Row],[Vind (m/s)]]&\"-\"&Oljedatabase[[#This Row],[Tidspunkt (timer)]]","v":"Skarv olje 2004-Sommerforhold-15-3"},{"$f":"Oljedatabase[[#This Row],[Sesong]]","v":"Sommerforhold"},15,15,"3",0.65,4120,"Redusert kjemisk dispergerbarhet",0.24,0.46,0.3,110,"Ingen eksplosjonsfare",26,"Redusert kjemisk dispergerbarhet","Nei",1.33,"2004-05-04T02:00:00",860,"Sør-Trøndelag til Nordland",33,7305950,163129,"Skarv olje 2004 Forvitringsrapport.pdf"]
["Skarv olje 2004","Vinterforhold",{"$f":"Oljedatabase[[#This Row],[Oljetype]]&\"-\"&Oljedatabase[[#This Row],[SesongNy]]&\"-\"&Oljedatabase[[#This Row],[Vind (m/s)]]&\"-\"&Oljedatabase[[#This Row],[Tidspunkt (timer)]]","v":"Skarv olje 2004-Vinterforhold-2-24"},{"$f":"Oljedatabase[[#This Row],[Sesong]]","v":"Vinterforhold"},5,2,"24",0.26,4600,"Lav/dårlig kjemisk dispergerbarhet",0.2,0.79,0,91,"Ingen eksplosjonsfare",23.5,"Lav/dårlig dispergerbarhet","Nei",1.07,"2004-05-04T02:00:00",860,"Sør-Trøndelag til Nordland",33,7305950,163129,"Skarv olje 2004 Forvitringsrapport.pdf"]
["Ringhorne 2002","Vinterforhold",{"$f":"Oljedatabase[[#This Row],[Oljetype]]&\"-\"&Oljedatabase[[#This Row],[SesongNy]]&\"-\"&Oljedatabase[[#This Row],[Vind (m/s)]]&\"-\"&Oljedatabase[[#This Row],[Tidspunkt (timer)]]","v":"Ringhorne 2002-Vinterforhold-2-1"},{"$f":"Oljedatabase[[#This Row],[Sesong]]","v":"Vinterforhold"},5,2,"1",0.05,540,"Kjemisk dispergerbar",0.11,0.89,0,6,"Eksplosjonsfare ved tanking",11,"Redusert kjemisk dispergerbarhet","Nei",0.93,"2002-08-25T02:00:00",830,"Vest-Agder til Hordaland",38,6637182,-212699,"Ringhorne 2002 Forvitringsrapport.pdf"]
["Skarv kondensat 2014","Vinterforhold",{"$f":"Oljedatabase[[#This Row],[Oljetype]]&\"-\"&Oljedatabase[[#This Row],[SesongNy]]&\"-\"&Oljedatabase[[#This Row],[Vind (m/s)]]&\"-\"&Oljedatabase[[#This Row],[Tidspunkt (timer)]]","v":"Skarv kondensat 2014-Vinterforhold-2-24"},{"$f":"Oljedatabase[[#This Row],[Sesong]]","v":"Vinterforhold"},5,2,"24",0,237,"Kjemisk dispergerbar",0.56999999999999995,0.42,0,86,"Ingen eksplosjonsfare",23.6,"Lav/dårlig dispergerbarhet","Nei",0.42,"2014-05-06T02:00:00",829,"Sør-Trøndelag til Nordland",39,7305950,163129,"Skarv kondensat 2014 Forvitringsrapport.pdf"]
["Skarv olje 2004","Vinterforhold",{"$f":"Oljedatabase[[#This Row],[Oljetype]]&\"-\"&Oljedatabase[[#This Row],[SesongNy]]&\"-\"&Oljedatabase[[#This Row],[Vind (m/s)]]&\"-\"&Oljedatabase[[#This Row],[Tidspunkt (timer)]]","v":"Skarv olje 2004-Vinterforhold-15-72"},{"$f":"Oljedatabase[[#This Row],[Sesong]]","v":"Vinterforhold"},5,15,"72",0.7,22300,"Lav/dårlig kjemisk dispergerbarhet",0.27,0,0.72,147,"Ingen eksplosjonsfare",30.6,"Lav/dårlig dispergerbarhet","Ja",0.01,"2004-05-04T02:00:00",860,"Sør-Trøndelag til Nordland",33,7305950,163129,"Skarv olje 2004 Forvitringsrapport.pdf"]
["Skarv olje 2004","Vinterforhold",{"$f":"Oljedatabase[[#This Row],[Oljetype]]&\"-\"&Oljedatabase[[#This Row],[SesongNy]]&\"-\"&Oljedatabase[[#This Row],[Vind (m/s)]]&\"-\"&Oljedatabase[[#This Row],[Tidspunkt (timer)]]","v":"Skarv olje 2004-Vinterforhold-2-6"},{"$f":"Oljedatabase[[#This Row],[Sesong]]","v":"Vinterforhold"},5,2,"6",7.0000000000000007E-2,2790,"Lav/dårlig kjemisk dispergerbarhet",0.15,0.84,0,72,"Ingen eksplosjonsfare",20.8,"Lav/dårlig dispergerbarhet","Nei",0.91,"2004-05-04T02:00:00",860,"Sør-Trøndelag til Nordland",33,7305950,163129,"Skarv olje 2004 Forvitringsrapport.pdf"]
["Skrugard 2012","Sommerforhold",{"$f":"Oljedatabase[[#This Row],[Oljetype]]&\"-\"&Oljedatabase[[#This Row],[SesongNy]]&\"-\"&Oljedatabase[[#This Row],[Vind (m/s)]]&\"-\"&Oljedatabase[[#This Row],[Tidspunkt (timer)]]","v":"Skrugard 2012-Sommerforhold-5-6"},{"$f":"Oljedatabase[[#This Row],[Sesong]]","v":"Sommerforhold"},10,5,"6",0.49,341,"Kjemisk dispergerbar",0.08,0.9,0.01,77,"Ingen eksplosjonsfare",-13.1,"Kjemisk dispergerbar","Nei",1.79,"2012-02-22T01:00:00",871,"Troms og Finnmark",30,8051690,678899,"Skrugard 2012 Forvitringsrapport.pdf"]
["Skarv kondensat 2014","Sommerforhold",{"$f":"Oljedatabase[[#This Row],[Oljetype]]&\"-\"&Oljedatabase[[#This Row],[SesongNy]]&\"-\"&Oljedatabase[[#This Row],[Vind (m/s)]]&\"-\"&Oljedatabase[[#This Row],[Tidspunkt (timer)]]","v":"Skarv kondensat 2014-Sommerforhold-15-2"},{"$f":"Oljedatabase[[#This Row],[Sesong]]","v":"Sommerforhold"},15,15,"2",0,148,"Kjemisk dispergerbar",0.52,0.03,0.44,89,"Ingen eksplosjonsfare",24,"Redusert kjemisk dispergerbarhet","Nei",0.03,"2014-05-06T02:00:00",829,"Sør-Trøndelag til Nordland",39,7305950,163129,"Skarv kondensat 2014 Forvitringsrapport.pdf"]
["Skarv kondensat 2014","Vinterforhold",{"$f":"Oljedatabase[[#This Row],[Oljetype]]&\"-\"&Oljedatabase[[#This Row],[SesongNy]]&\"-\"&Oljedatabase[[#This Row],[Vind (m/s)]]&\"-\"&Oljedatabase[[#This Row],[Tidspunkt (timer)]]","v":"Skarv kondensat 2014-Vinterforhold-2-3"},{"$f":"Oljedatabase[[#This Row],[Sesong]]","v":"Vinterforhold"},5,2,"3",0,61,"Kjemisk dispergerbar",0.32,0.67,0,38,"Eksplosjonsfare ved tanking",15.9,"Redusert kjemisk dispergerbarhet","Nei",0.67,"2014-05-06T02:00:00",829,"Sør-Trøndelag til Nordland",39,7305950,163129,"Skarv kondensat 2014 Forvitringsrapport.pdf"]
["Skarv kondensat 2014","Sommerforhold",{"$f":"Oljedatabase[[#This Row],[Oljetype]]&\"-\"&Oljedatabase[[#This Row],[SesongNy]]&\"-\"&Oljedatabase[[#This Row],[Vind (m/s)]]&\"-\"&Oljedatabase[[#This Row],[Tidspunkt (timer)]]","v":"Skarv kondensat 2014-Sommerforhold-5-72"},{"$f":"Oljedatabase[[#This Row],[Sesong]]","v":"Sommerforhold"},15,5,"72",0,354,"Kjemisk dispergerbar",0.68,0,0.3,129,"Ingen eksplosjonsfare",29.6,"Redusert kjemisk dispergerbarhet","Nei",0,"2014-05-06T02:00:00",829,"Sør-Trøndelag til Nordland",39,7305950,163129,"Skarv kondensat 2014 Forvitringsrapport.pdf"]
["Skarv kondensat 2014","Sommerforhold",{"$f":"Oljedatabase[[#This Row],[Oljetype]]&\"-\"&Oljedatabase[[#This Row],[SesongNy]]&\"-\"&Oljedatabase[[#This Row],[Vind (m/s)]]&\"-\"&Oljedatabase[[#This Row],[Tidspunkt (timer)]]","v":"Skarv kondensat 2014-Sommerforhold-5-9"},{"$f":"Oljedatabase[[#This Row],[Sesong]]","v":"Sommerforhold"},15,5,"9",0,152,"Kjemisk dispergerbar",0.59,0.34,0.06,91,"Ingen eksplosjonsfare",24.2,"Redusert kjemisk dispergerbarhet","Nei",0.35,"2014-05-06T02:00:00",829,"Sør-Trøndelag til Nordland",39,7305950,163129,"Skarv kondensat 2014 Forvitringsrapport.pdf"]
["Skarv kondensat 2014","Sommerforhold",{"$f":"Oljedatabase[[#This Row],[Oljetype]]&\"-\"&Oljedatabase[[#This Row],[SesongNy]]&\"-\"&Oljedatabase[[#This Row],[Vind (m/s)]]&\"-\"&Oljedatabase[[#This Row],[Tidspunkt (timer)]]","v":"Skarv kondensat 2014-Sommerforhold-5-120"},{"$f":"Oljedatabase[[#This Row],[Sesong]]","v":"Sommerforhold"},15,5,"120",0,388,"Kjemisk dispergerbar",0.69,0,0.31,133,"Ingen eksplosjonsfare",30.2,"Lav/dårlig dispergerbarhet","Nei",0,"2014-05-06T02:00:00",829,"Sør-Trøndelag til Nordland",39,7305950,163129,"Skarv kondensat 2014 Forvitringsrapport.pdf"]
["Skarv kondensat 2014","Sommerforhold",{"$f":"Oljedatabase[[#This Row],[Oljetype]]&\"-\"&Oljedatabase[[#This Row],[SesongNy]]&\"-\"&Oljedatabase[[#This Row],[Vind (m/s)]]&\"-\"&Oljedatabase[[#This Row],[Tidspunkt (timer)]]","v":"Skarv kondensat 2014-Sommerforhold-2-120"},{"$f":"Oljedatabase[[#This Row],[Sesong]]","v":"Sommerforhold"},15,2,"120",0,340,"Kjemisk dispergerbar",0.75,0.2,0.04,127,"Ingen eksplosjonsfare",29.3,"Redusert kjemisk dispergerbarhet","Nei",0.21,"2014-05-06T02:00:00",829,"Sør-Trøndelag til Nordland",39,7305950,163129,"Skarv kondensat 2014 Forvitringsrapport.pdf"]
["Skrugard 2012","Vinterforhold",{"$f":"Oljedatabase[[#This Row],[Oljetype]]&\"-\"&Oljedatabase[[#This Row],[SesongNy]]&\"-\"&Oljedatabase[[#This Row],[Vind (m/s)]]&\"-\"&Oljedatabase[[#This Row],[Tidspunkt (timer)]]","v":"Skrugard 2012-Vinterforhold-2-120"},{"$f":"Oljedatabase[[#This Row],[Sesong]]","v":"Vinterforhold"},5,2,"120",0.78,4840,"Redusert kjemisk dispergerbarhet",0.15,0.84,0,101,"Ingen eksplosjonsfare",-7.1,"Kjemisk dispergerbar","Nei",3.96,"2012-02-22T01:00:00",871,"Troms og Finnmark",30,8051690,678899,"Skrugard 2012 Forvitringsrapport.pdf"]
["Skarv kondensat 2014","Vinterforhold",{"$f":"Oljedatabase[[#This Row],[Oljetype]]&\"-\"&Oljedatabase[[#This Row],[SesongNy]]&\"-\"&Oljedatabase[[#This Row],[Vind (m/s)]]&\"-\"&Oljedatabase[[#This Row],[Tidspunkt (timer)]]","v":"Skarv kondensat 2014-Vinterforhold-10-24"},{"$f":"Oljedatabase[[#This Row],[Sesong]]","v":"Vinterforhold"},5,10,"24",0,438,"Kjemisk dispergerbar",0.55000000000000004,0,0.44,111,"Ingen eksplosjonsfare",27.1,"Lav/dårlig dispergerbarhet","Nei",0,"2014-05-06T02:00:00",829,"Sør-Trøndelag til Nordland",39,7305950,163129,"Skarv kondensat 2014 Forvitringsrapport.pdf"]
["Skrugard 2012","Sommerforhold",{"$f":"Oljedatabase[[#This Row],[Oljetype]]&\"-\"&Oljedatabase[[#This Row],[SesongNy]]&\"-\"&Oljedatabase[[#This Row],[Vind (m/s)]]&\"-\"&Oljedatabase[[#This Row],[Tidspunkt (timer)]]","v":"Skrugard 2012-Sommerforhold-15-6"},{"$f":"Oljedatabase[[#This Row],[Sesong]]","v":"Sommerforhold"},10,15,"6",0.79,4000,"Redusert kjemisk dispergerbarhet",0.15,0.47,0.38,99,"Ingen eksplosjonsfare",-7.6,"Kjemisk dispergerbar","Nei",2.29,"2012-02-22T01:00:00",871,"Troms og Finnmark",30,8051690,678899,"Skrugard 2012 Forvitringsrapport.pdf"]
["Skarv kondensat 2014","Vinterforhold",{"$f":"Oljedatabase[[#This Row],[Oljetype]]&\"-\"&Oljedatabase[[#This Row],[SesongNy]]&\"-\"&Oljedatabase[[#This Row],[Vind (m/s)]]&\"-\"&Oljedatabase[[#This Row],[Tidspunkt (timer)]]","v":"Skarv kondensat 2014-Vinterforhold-15-24"},{"$f":"Oljedatabase[[#This Row],[Sesong]]","v":"Vinterforhold"},5,15,"24",0,554,"Kjemisk dispergerbar",0.48,0,0.51,121,"Ingen eksplosjonsfare",28.5,"Lav/dårlig dispergerbarhet","Nei",0,"2014-05-06T02:00:00",829,"Sør-Trøndelag til Nordland",39,7305950,163129,"Skarv kondensat 2014 Forvitringsrapport.pdf"]
["Sleipner 2002","Sommerforhold",{"$f":"Oljedatabase[[#This Row],[Oljetype]]&\"-\"&Oljedatabase[[#This Row],[SesongNy]]&\"-\"&Oljedatabase[[#This Row],[Vind (m/s)]]&\"-\"&Oljedatabase[[#This Row],[Tidspunkt (timer)]]","v":"Sleipner 2002-Sommerforhold-10-12"},{"$f":"Oljedatabase[[#This Row],[Sesong]]","v":"Sommerforhold"},15,10,"12",0.01,5,"Kjemisk dispergerbar",0.72,0,0.28000000000000003,111,"Ingen eksplosjonsfare",11,"Kjemisk dispergerbar","Nei",0,"2002-05-28T02:00:00",745,"Vest-Agder til Hordaland",58,6544312,-262840,"Sleipner 2002 Forvitringsrapport.pdf"]
["Skrugard 2012","Vinterforhold",{"$f":"Oljedatabase[[#This Row],[Oljetype]]&\"-\"&Oljedatabase[[#This Row],[SesongNy]]&\"-\"&Oljedatabase[[#This Row],[Vind (m/s)]]&\"-\"&Oljedatabase[[#This Row],[Tidspunkt (timer)]]","v":"Skrugard 2012-Vinterforhold-10-6"},{"$f":"Oljedatabase[[#This Row],[Sesong]]","v":"Vinterforhold"},5,10,"6",0.76,2840,"Redusert kjemisk dispergerbarhet",0.1,0.79,0.1,84,"Ingen eksplosjonsfare",-11.1,"Kjemisk dispergerbar","Nei",3.39,"2012-02-22T01:00:00",871,"Troms og Finnmark",30,8051690,678899,"Skrugard 2012 Forvitringsrapport.pdf"]
["Skrugard 2012","Vinterforhold",{"$f":"Oljedatabase[[#This Row],[Oljetype]]&\"-\"&Oljedatabase[[#This Row],[SesongNy]]&\"-\"&Oljedatabase[[#This Row],[Vind (m/s)]]&\"-\"&Oljedatabase[[#This Row],[Tidspunkt (timer)]]","v":"Skrugard 2012-Vinterforhold-15-96"},{"$f":"Oljedatabase[[#This Row],[Sesong]]","v":"Vinterforhold"},5,15,"96",0.79,12200,"Lav/dårlig kjemisk dispergerbarhet",0.26,0,0.82,140,"Ingen eksplosjonsfare",2.1,"Kjemisk dispergerbar","Ja",-0.47,"2012-02-22T01:00:00",871,"Troms og Finnmark",30,8051690,678899,"Skrugard 2012 Forvitringsrapport.pdf"]
["Sleipner 2002","Sommerforhold",{"$f":"Oljedatabase[[#This Row],[Oljetype]]&\"-\"&Oljedatabase[[#This Row],[SesongNy]]&\"-\"&Oljedatabase[[#This Row],[Vind (m/s)]]&\"-\"&Oljedatabase[[#This Row],[Tidspunkt (timer)]]","v":"Sleipner 2002-Sommerforhold-2-72"},{"$f":"Oljedatabase[[#This Row],[Sesong]]","v":"Sommerforhold"},15,2,"72",0,5,"Kjemisk dispergerbar",0.88,0.02,0.09,111,"Ingen eksplosjonsfare",10,"Kjemisk dispergerbar","Nei",0.02,"2002-05-28T02:00:00",745,"Vest-Agder til Hordaland",58,6544312,-262840,"Sleipner 2002 Forvitringsrapport.pdf"]
["Skarv olje 2004","Vinterforhold",{"$f":"Oljedatabase[[#This Row],[Oljetype]]&\"-\"&Oljedatabase[[#This Row],[SesongNy]]&\"-\"&Oljedatabase[[#This Row],[Vind (m/s)]]&\"-\"&Oljedatabase[[#This Row],[Tidspunkt (timer)]]","v":"Skarv olje 2004-Vinterforhold-10-3"},{"$f":"Oljedatabase[[#This Row],[Sesong]]","v":"Vinterforhold"},5,10,"3",0.38,5000,"Redusert kjemisk dispergerbarhet",0.19,0.76,0.04,89,"Ingen eksplosjonsfare",23.2,"Lav/dårlig dispergerbarhet","Nei",1.22,"2004-05-04T02:00:00",860,"Sør-Trøndelag til Nordland",33,7305950,163129,"Skarv olje 2004 Forvitringsrapport.pdf"]
["Sleipner 2002","Vinterforhold",{"$f":"Oljedatabase[[#This Row],[Oljetype]]&\"-\"&Oljedatabase[[#This Row],[SesongNy]]&\"-\"&Oljedatabase[[#This Row],[Vind (m/s)]]&\"-\"&Oljedatabase[[#This Row],[Tidspunkt (timer)]]","v":"Sleipner 2002-Vinterforhold-5-24"},{"$f":"Oljedatabase[[#This Row],[Sesong]]","v":"Vinterforhold"},5,5,"24",0.01,6,"Kjemisk dispergerbar",0.77,0,0.23,101,"Ingen eksplosjonsfare",9,"Kjemisk dispergerbar","Nei",0,"2002-05-28T02:00:00",745,"Vest-Agder til Hordaland",58,6544312,-262840,"Sleipner 2002 Forvitringsrapport.pdf"]
["Skarv kondensat 2014","Vinterforhold",{"$f":"Oljedatabase[[#This Row],[Oljetype]]&\"-\"&Oljedatabase[[#This Row],[SesongNy]]&\"-\"&Oljedatabase[[#This Row],[Vind (m/s)]]&\"-\"&Oljedatabase[[#This Row],[Tidspunkt (timer)]]","v":"Skarv kondensat 2014-Vinterforhold-15-2"},{"$f":"Oljedatabase[[#This Row],[Sesong]]","v":"Vinterforhold"},5,15,"2",0,197,"Kjemisk dispergerbar",0.47,0.06,0.45,79,"Ingen eksplosjonsfare",22.5,"Lav/dårlig dispergerbarhet","Nei",7.0000000000000007E-2,"2014-05-06T02:00:00",829,"Sør-Trøndelag til Nordland",39,7305950,163129,"Skarv kondensat 2014 Forvitringsrapport.pdf"]
["Sleipner 2002","Vinterforhold",{"$f":"Oljedatabase[[#This Row],[Oljetype]]&\"-\"&Oljedatabase[[#This Row],[SesongNy]]&\"-\"&Oljedatabase[[#This Row],[Vind (m/s)]]&\"-\"&Oljedatabase[[#This Row],[Tidspunkt (timer)]]","v":"Sleipner 2002-Vinterforhold-5-72"},{"$f":"Oljedatabase[[#This Row],[Sesong]]","v":"Vinterforhold"},5,5,"72",0.01,7,"Kjemisk dispergerbar",0.77,0,0.23,111,"Ingen eksplosjonsfare",11,"Redusert kjemisk dispergerbarhet","Nei",0,"2002-05-28T02:00:00",745,"Vest-Agder til Hordaland",58,6544312,-262840,"Sleipner 2002 Forvitringsrapport.pdf"]
["Sleipner Vest 1998","Sommerforhold",{"$f":"Oljedatabase[[#This Row],[Oljetype]]&\"-\"&Oljedatabase[[#This Row],[SesongNy]]&\"-\"&Oljedatabase[[#This Row],[Vind (m/s)]]&\"-\"&Oljedatabase[[#This Row],[Tidspunkt (timer)]]","v":"Sleipner Vest 1998-Sommerforhold-10-12"},{"$f":"Oljedatabase[[#This Row],[Sesong]]","v":"Sommerforhold"},15,10,"12",0.22,20000,"Redusert kjemisk dispergerbarhet",0.13,0.79,0.08,0,"Ikke angitt",33,"Lav/dårlig dispergerbarhet","Ja",1.01,"1998-01-05T01:00:00",913,"Vest-Agder til Hordaland",23,6544312,-262840,"Sleipner Vest 1998 Forvitringsrapport.pdf"]
["Sleipner 2002","Sommerforhold",{"$f":"Oljedatabase[[#This Row],[Oljetype]]&\"-\"&Oljedatabase[[#This Row],[SesongNy]]&\"-\"&Oljedatabase[[#This Row],[Vind (m/s)]]&\"-\"&Oljedatabase[[#This Row],[Tidspunkt (timer)]]","v":"Sleipner 2002-Sommerforhold-2-96"},{"$f":"Oljedatabase[[#This Row],[Sesong]]","v":"Sommerforhold"},15,2,"96",0.01,5,"Kjemisk dispergerbar",0.88,0,0.1,112,"Ingen eksplosjonsfare",11,"Kjemisk dispergerbar","Nei",0,"2002-05-28T02:00:00",745,"Vest-Agder til Hordaland",58,6544312,-262840,"Sleipner 2002 Forvitringsrapport.pdf"]
["Sleipner 2002","Vinterforhold",{"$f":"Oljedatabase[[#This Row],[Oljetype]]&\"-\"&Oljedatabase[[#This Row],[SesongNy]]&\"-\"&Oljedatabase[[#This Row],[Vind (m/s)]]&\"-\"&Oljedatabase[[#This Row],[Tidspunkt (timer)]]","v":"Sleipner 2002-Vinterforhold-10-12"},{"$f":"Oljedatabase[[#This Row],[Sesong]]","v":"Vinterforhold"},5,10,"12",0.01,6,"Kjemisk dispergerbar",0.69,0,0.31,104,"Ingen eksplosjonsfare",9,"Kjemisk dispergerbar","Nei",0,"2002-05-28T02:00:00",745,"Vest-Agder til Hordaland",58,6544312,-262840,"Sleipner 2002 Forvitringsrapport.pdf"]
["Sleipner Vest 1998","Sommerforhold",{"$f":"Oljedatabase[[#This Row],[Oljetype]]&\"-\"&Oljedatabase[[#This Row],[SesongNy]]&\"-\"&Oljedatabase[[#This Row],[Vind (m/s)]]&\"-\"&Oljedatabase[[#This Row],[Tidspunkt (timer)]]","v":"Sleipner Vest 1998-Sommerforhold-2-96"},{"$f":"Oljedatabase[[#This Row],[Sesong]]","v":"Sommerforhold"},15,2,"96",0.14000000000000001,21000,"Lav/dårlig kjemisk dispergerbarhet",0.13,0.87,0,0,"Ikke angitt",33,"Lav/dårlig dispergerbarhet","Ja",1.01,"1998-01-05T01:00:00",913,"Vest-Agder til Hordaland",23,6544312,-262840,"Sleipner Vest 1998 Forvitringsrapport.pdf"]
["Sleipner Vest 1998","Vinterforhold",{"$f":"Oljedatabase[[#This Row],[Oljetype]]&\"-\"&Oljedatabase[[#This Row],[SesongNy]]&\"-\"&Oljedatabase[[#This Row],[Vind (m/s)]]&\"-\"&Oljedatabase[[#This Row],[Tidspunkt (timer)]]","v":"Sleipner Vest 1998-Vinterforhold-15-96"},{"$f":"Oljedatabase[[#This Row],[Sesong]]","v":"Vinterforhold"},5,15,"96",0.59,77000,"Lav/dårlig kjemisk dispergerbarhet",0.15,0.04,0.81,0,"Ikke angitt",35,"Lav/dårlig dispergerbarhet","Ja",0.09,"1998-01-05T01:00:00",913,"Vest-Agder til Hordaland",23,6544312,-262840,"Sleipner Vest 1998 Forvitringsrapport.pdf"]
["Sleipner 2002","Sommerforhold",{"$f":"Oljedatabase[[#This Row],[Oljetype]]&\"-\"&Oljedatabase[[#This Row],[SesongNy]]&\"-\"&Oljedatabase[[#This Row],[Vind (m/s)]]&\"-\"&Oljedatabase[[#This Row],[Tidspunkt (timer)]]","v":"Sleipner 2002-Sommerforhold-15-24"},{"$f":"Oljedatabase[[#This Row],[Sesong]]","v":"Sommerforhold"},15,15,"24",0.01,6,"Kjemisk dispergerbar",0.66,0,0.34,117,"Ingen eksplosjonsfare",12,"Kjemisk dispergerbar","Nei",0,"2002-05-28T02:00:00",745,"Vest-Agder til Hordaland",58,6544312,-262840,"Sleipner 2002 Forvitringsrapport.pdf"]
["Sleipner Vest 1998","Vinterforhold",{"$f":"Oljedatabase[[#This Row],[Oljetype]]&\"-\"&Oljedatabase[[#This Row],[SesongNy]]&\"-\"&Oljedatabase[[#This Row],[Vind (m/s)]]&\"-\"&Oljedatabase[[#This Row],[Tidspunkt (timer)]]","v":"Sleipner Vest 1998-Vinterforhold-15-1"},{"$f":"Oljedatabase[[#This Row],[Sesong]]","v":"Vinterforhold"},5,15,"1",0.04,48000,"Lav/dårlig kjemisk dispergerbarhet",0.08,0.9,0.02,0,"Ikke angitt",31,"Lav/dårlig dispergerbarhet","Ja",0.94,"1998-01-05T01:00:00",913,"Vest-Agder til Hordaland",23,6544312,-262840,"Sleipner Vest 1998 Forvitringsrapport.pdf"]
["Sleipner Vest 1998","Vinterforhold",{"$f":"Oljedatabase[[#This Row],[Oljetype]]&\"-\"&Oljedatabase[[#This Row],[SesongNy]]&\"-\"&Oljedatabase[[#This Row],[Vind (m/s)]]&\"-\"&Oljedatabase[[#This Row],[Tidspunkt (timer)]]","v":"Sleipner Vest 1998-Vinterforhold-5-72"},{"$f":"Oljedatabase[[#This Row],[Sesong]]","v":"Vinterforhold"},5,5,"72",0.33,58000,"Lav/dårlig kjemisk dispergerbarhet",0.13,0.85,0.02,0,"Ikke angitt",33,"Lav/dårlig dispergerbarhet","Ja",1.27,"1998-01-05T01:00:00",913,"Vest-Agder til Hordaland",23,6544312,-262840,"Sleipner Vest 1998 Forvitringsrapport.pdf"]
["Sleipner Vest 1998","Vinterforhold",{"$f":"Oljedatabase[[#This Row],[Oljetype]]&\"-\"&Oljedatabase[[#This Row],[SesongNy]]&\"-\"&Oljedatabase[[#This Row],[Vind (m/s)]]&\"-\"&Oljedatabase[[#This Row],[Tidspunkt (timer)]]","v":"Sleipner Vest 1998-Vinterforhold-5-48"},{"$f":"Oljedatabase[[#This Row],[Sesong]]","v":"Vinterforhold"},5,5,"48",0.25,57000,"Lav/dårlig kjemisk dispergerbarhet",0.12,0.87,0.01,0,"Ikke angitt",32,"Lav/dårlig dispergerbarhet","Ja",1.1599999999999999,"1998-01-05T01:00:00",913,"Vest-Agder til Hordaland",23,6544312,-262840,"Sleipner Vest 1998 Forvitringsrapport.pdf"]
["Smørbukk olje 2003","Vinterforhold",{"$f":"Oljedatabase[[#This Row],[Oljetype]]&\"-\"&Oljedatabase[[#This Row],[SesongNy]]&\"-\"&Oljedatabase[[#This Row],[Vind (m/s)]]&\"-\"&Oljedatabase[[#This Row],[Tidspunkt (timer)]]","v":"Smørbukk olje 2003-Vinterforhold-2-96"},{"$f":"Oljedatabase[[#This Row],[Sesong]]","v":"Vinterforhold"},5,2,"96",0.5,2400,"Kjemisk dispergerbar",0.42,0.57999999999999996,0,103,"Ingen eksplosjonsfare",26,"Lav/dårlig dispergerbarhet","Nei",1.1599999999999999,"2003-06-29T02:00:00",819,"Sør-Trøndelag til Nordland",41,7252655,113299,"Smørbukk olje 2003 Forvitringsrapport.pdf"]
["Sleipner Vest 1998","Vinterforhold",{"$f":"Oljedatabase[[#This Row],[Oljetype]]&\"-\"&Oljedatabase[[#This Row],[SesongNy]]&\"-\"&Oljedatabase[[#This Row],[Vind (m/s)]]&\"-\"&Oljedatabase[[#This Row],[Tidspunkt (timer)]]","v":"Sleipner Vest 1998-Vinterforhold-5-120"},{"$f":"Oljedatabase[[#This Row],[Sesong]]","v":"Vinterforhold"},5,5,"120",0.44,61000,"Lav/dårlig kjemisk dispergerbarhet",0.14000000000000001,0.83,0.03,0,"Ikke angitt",33,"Lav/dårlig dispergerbarhet","Ja",1.49,"1998-01-05T01:00:00",913,"Vest-Agder til Hordaland",23,6544312,-262840,"Sleipner Vest 1998 Forvitringsrapport.pdf"]
["Sleipner Vest 1998","Vinterforhold",{"$f":"Oljedatabase[[#This Row],[Oljetype]]&\"-\"&Oljedatabase[[#This Row],[SesongNy]]&\"-\"&Oljedatabase[[#This Row],[Vind (m/s)]]&\"-\"&Oljedatabase[[#This Row],[Tidspunkt (timer)]]","v":"Sleipner Vest 1998-Vinterforhold-10-120"},{"$f":"Oljedatabase[[#This Row],[Sesong]]","v":"Vinterforhold"},5,10,"120",0.59,69000,"Lav/dårlig kjemisk dispergerbarhet",0.15,0.44,0.41,0,"Ikke angitt",34,"Lav/dårlig dispergerbarhet","Ja",1.07,"1998-01-05T01:00:00",913,"Vest-Agder til Hordaland",23,6544312,-262840,"Sleipner Vest 1998 Forvitringsrapport.pdf"]
["Sleipner Vest 1998","Vinterforhold",{"$f":"Oljedatabase[[#This Row],[Oljetype]]&\"-\"&Oljedatabase[[#This Row],[SesongNy]]&\"-\"&Oljedatabase[[#This Row],[Vind (m/s)]]&\"-\"&Oljedatabase[[#This Row],[Tidspunkt (timer)]]","v":"Sleipner Vest 1998-Vinterforhold-15-6"},{"$f":"Oljedatabase[[#This Row],[Sesong]]","v":"Vinterforhold"},5,15,"6",0.23,55000,"Lav/dårlig kjemisk dispergerbarhet",0.11,0.75,0.14000000000000001,0,"Ikke angitt",32,"Lav/dårlig dispergerbarhet","Ja",0.97,"1998-01-05T01:00:00",913,"Vest-Agder til Hordaland",23,6544312,-262840,"Sleipner Vest 1998 Forvitringsrapport.pdf"]
["Sleipner Vest 1998","Vinterforhold",{"$f":"Oljedatabase[[#This Row],[Oljetype]]&\"-\"&Oljedatabase[[#This Row],[SesongNy]]&\"-\"&Oljedatabase[[#This Row],[Vind (m/s)]]&\"-\"&Oljedatabase[[#This Row],[Tidspunkt (timer)]]","v":"Sleipner Vest 1998-Vinterforhold-2-48"},{"$f":"Oljedatabase[[#This Row],[Sesong]]","v":"Vinterforhold"},5,2,"48",7.0000000000000007E-2,54000,"Lav/dårlig kjemisk dispergerbarhet",0.11,0.89,0,0,"Ikke angitt",32,"Lav/dårlig dispergerbarhet","Ja",0.96,"1998-01-05T01:00:00",913,"Vest-Agder til Hordaland",23,6544312,-262840,"Sleipner Vest 1998 Forvitringsrapport.pdf"]
["Smørbukk olje 2003","Vinterforhold",{"$f":"Oljedatabase[[#This Row],[Oljetype]]&\"-\"&Oljedatabase[[#This Row],[SesongNy]]&\"-\"&Oljedatabase[[#This Row],[Vind (m/s)]]&\"-\"&Oljedatabase[[#This Row],[Tidspunkt (timer)]]","v":"Smørbukk olje 2003-Vinterforhold-2-120"},{"$f":"Oljedatabase[[#This Row],[Sesong]]","v":"Vinterforhold"},5,2,"120",0.5,2600,"Kjemisk dispergerbar",0.43,0.56999999999999995,0,105,"Ingen eksplosjonsfare",27,"Lav/dårlig dispergerbarhet","Nei",1.1399999999999999,"2003-06-29T02:00:00",819,"Sør-Trøndelag til Nordland",41,7252655,113299,"Smørbukk olje 2003 Forvitringsrapport.pdf"]
["Smørbukk kondensat 2003","Sommerforhold",{"$f":"Oljedatabase[[#This Row],[Oljetype]]&\"-\"&Oljedatabase[[#This Row],[SesongNy]]&\"-\"&Oljedatabase[[#This Row],[Vind (m/s)]]&\"-\"&Oljedatabase[[#This Row],[Tidspunkt (timer)]]","v":"Smørbukk kondensat 2003-Sommerforhold-2-48"},{"$f":"Oljedatabase[[#This Row],[Sesong]]","v":"Sommerforhold"},15,2,"48",0.24,180,"Kjemisk dispergerbar",0.48,0.52,0,95,"Ingen eksplosjonsfare",18,"Kjemisk dispergerbar","Nei",0.68,"2003-06-05T02:00:00",804,"Sør-Trøndelag til Nordland",44,7252655,113299,"Smørbukk kondensat 2003 Forvitringsrapport.pdf"]
["Smørbukk kondensat 2003","Sommerforhold",{"$f":"Oljedatabase[[#This Row],[Oljetype]]&\"-\"&Oljedatabase[[#This Row],[SesongNy]]&\"-\"&Oljedatabase[[#This Row],[Vind (m/s)]]&\"-\"&Oljedatabase[[#This Row],[Tidspunkt (timer)]]","v":"Smørbukk kondensat 2003-Sommerforhold-2-24"},{"$f":"Oljedatabase[[#This Row],[Sesong]]","v":"Sommerforhold"},15,2,"24",0.21,120,"Kjemisk dispergerbar",0.44,0.56000000000000005,0,80,"Ingen eksplosjonsfare",15,"Kjemisk dispergerbar","Nei",0.7,"2003-06-05T02:00:00",804,"Sør-Trøndelag til Nordland",44,7252655,113299,"Smørbukk kondensat 2003 Forvitringsrapport.pdf"]
["Smørbukk olje 2003","Sommerforhold",{"$f":"Oljedatabase[[#This Row],[Oljetype]]&\"-\"&Oljedatabase[[#This Row],[SesongNy]]&\"-\"&Oljedatabase[[#This Row],[Vind (m/s)]]&\"-\"&Oljedatabase[[#This Row],[Tidspunkt (timer)]]","v":"Smørbukk olje 2003-Sommerforhold-10-1"},{"$f":"Oljedatabase[[#This Row],[Sesong]]","v":"Sommerforhold"},15,10,"1",0.28999999999999998,580,"Kjemisk dispergerbar",0.33,0.63,0.04,79,"Ingen eksplosjonsfare",21,"Redusert kjemisk dispergerbarhet","Nei",0.88,"2003-06-29T02:00:00",819,"Sør-Trøndelag til Nordland",41,7252655,113299,"Smørbukk olje 2003 Forvitringsrapport.pdf"]
["Smørbukk kondensat 2003","Sommerforhold",{"$f":"Oljedatabase[[#This Row],[Oljetype]]&\"-\"&Oljedatabase[[#This Row],[SesongNy]]&\"-\"&Oljedatabase[[#This Row],[Vind (m/s)]]&\"-\"&Oljedatabase[[#This Row],[Tidspunkt (timer)]]","v":"Smørbukk kondensat 2003-Sommerforhold-5-48"},{"$f":"Oljedatabase[[#This Row],[Sesong]]","v":"Sommerforhold"},15,5,"48",0.27,250,"Kjemisk dispergerbar",0.51,0.27,0.22,112,"Ingen eksplosjonsfare",22,"Redusert kjemisk dispergerbarhet","Nei",0.36,"2003-06-05T02:00:00",804,"Sør-Trøndelag til Nordland",44,7252655,113299,"Smørbukk kondensat 2003 Forvitringsrapport.pdf"]
["Smørbukk olje 2003","Sommerforhold",{"$f":"Oljedatabase[[#This Row],[Oljetype]]&\"-\"&Oljedatabase[[#This Row],[SesongNy]]&\"-\"&Oljedatabase[[#This Row],[Vind (m/s)]]&\"-\"&Oljedatabase[[#This Row],[Tidspunkt (timer)]]","v":"Smørbukk olje 2003-Sommerforhold-2-120"},{"$f":"Oljedatabase[[#This Row],[Sesong]]","v":"Sommerforhold"},15,2,"120",0.5,1500,"Kjemisk dispergerbar",0.46,0.54,0,113,"Ingen eksplosjonsfare",28,"Redusert kjemisk dispergerbarhet","Nei",1.08,"2003-06-29T02:00:00",819,"Sør-Trøndelag til Nordland",41,7252655,113299,"Smørbukk olje 2003 Forvitringsrapport.pdf"]
["Smørbukk olje 2003","Vinterforhold",{"$f":"Oljedatabase[[#This Row],[Oljetype]]&\"-\"&Oljedatabase[[#This Row],[SesongNy]]&\"-\"&Oljedatabase[[#This Row],[Vind (m/s)]]&\"-\"&Oljedatabase[[#This Row],[Tidspunkt (timer)]]","v":"Smørbukk olje 2003-Vinterforhold-2-2"},{"$f":"Oljedatabase[[#This Row],[Sesong]]","v":"Vinterforhold"},5,2,"2",0.06,480,"Kjemisk dispergerbar",0.24,0.76,0,52,"Eksplosjonsfare ved tanking",16,"Redusert kjemisk dispergerbarhet","Nei",0.8,"2003-06-29T02:00:00",819,"Sør-Trøndelag til Nordland",41,7252655,113299,"Smørbukk olje 2003 Forvitringsrapport.pdf"]
["Smørbukk olje 2003","Sommerforhold",{"$f":"Oljedatabase[[#This Row],[Oljetype]]&\"-\"&Oljedatabase[[#This Row],[SesongNy]]&\"-\"&Oljedatabase[[#This Row],[Vind (m/s)]]&\"-\"&Oljedatabase[[#This Row],[Tidspunkt (timer)]]","v":"Smørbukk olje 2003-Sommerforhold-5-120"},{"$f":"Oljedatabase[[#This Row],[Sesong]]","v":"Sommerforhold"},15,5,"120",0.5,2000,"Kjemisk dispergerbar",0.49,0.39,0.12,130,"Ingen eksplosjonsfare",30,"Redusert kjemisk dispergerbarhet","Nei",0.78,"2003-06-29T02:00:00",819,"Sør-Trøndelag til Nordland",41,7252655,113299,"Smørbukk olje 2003 Forvitringsrapport.pdf"]
["Smørbukk olje 2003","Vinterforhold",{"$f":"Oljedatabase[[#This Row],[Oljetype]]&\"-\"&Oljedatabase[[#This Row],[SesongNy]]&\"-\"&Oljedatabase[[#This Row],[Vind (m/s)]]&\"-\"&Oljedatabase[[#This Row],[Tidspunkt (timer)]]","v":"Smørbukk olje 2003-Vinterforhold-15-120"},{"$f":"Oljedatabase[[#This Row],[Sesong]]","v":"Vinterforhold"},5,15,"120",0.5,7000,"Redusert kjemisk dispergerbarhet",0.4,0,0.6,140,"Ingen eksplosjonsfare",31,"Lav/dårlig dispergerbarhet","Nei",0,"2003-06-29T02:00:00",819,"Sør-Trøndelag til Nordland",41,7252655,113299,"Smørbukk olje 2003 Forvitringsrapport.pdf"]
["Smørbukk kondensat 2003","Sommerforhold",{"$f":"Oljedatabase[[#This Row],[Oljetype]]&\"-\"&Oljedatabase[[#This Row],[SesongNy]]&\"-\"&Oljedatabase[[#This Row],[Vind (m/s)]]&\"-\"&Oljedatabase[[#This Row],[Tidspunkt (timer)]]","v":"Smørbukk kondensat 2003-Sommerforhold-5-72"},{"$f":"Oljedatabase[[#This Row],[Sesong]]","v":"Sommerforhold"},15,5,"72",0.28999999999999998,350,"Kjemisk dispergerbar",0.52,0.2,0.28000000000000003,119,"Ingen eksplosjonsfare",24,"Redusert kjemisk dispergerbarhet","Nei",0.28000000000000003,"2003-06-05T02:00:00",804,"Sør-Trøndelag til Nordland",44,7252655,113299,"Smørbukk kondensat 2003 Forvitringsrapport.pdf"]
["Smørbukk kondensat 2003","Vinterforhold",{"$f":"Oljedatabase[[#This Row],[Oljetype]]&\"-\"&Oljedatabase[[#This Row],[SesongNy]]&\"-\"&Oljedatabase[[#This Row],[Vind (m/s)]]&\"-\"&Oljedatabase[[#This Row],[Tidspunkt (timer)]]","v":"Smørbukk kondensat 2003-Vinterforhold-5-24"},{"$f":"Oljedatabase[[#This Row],[Sesong]]","v":"Vinterforhold"},5,5,"24",0.21,200,"Kjemisk dispergerbar",0.43,0.43,0.14000000000000001,88,"Ingen eksplosjonsfare",15,"Redusert kjemisk dispergerbarhet","Nei",0.54,"2003-06-05T02:00:00",804,"Sør-Trøndelag til Nordland",44,7252655,113299,"Smørbukk kondensat 2003 Forvitringsrapport.pdf"]
["Smørbukk kondensat 2003","Vinterforhold",{"$f":"Oljedatabase[[#This Row],[Oljetype]]&\"-\"&Oljedatabase[[#This Row],[SesongNy]]&\"-\"&Oljedatabase[[#This Row],[Vind (m/s)]]&\"-\"&Oljedatabase[[#This Row],[Tidspunkt (timer)]]","v":"Smørbukk kondensat 2003-Vinterforhold-2-24"},{"$f":"Oljedatabase[[#This Row],[Sesong]]","v":"Vinterforhold"},5,2,"24",0.17,110,"Kjemisk dispergerbar",0.39,0.61,0,60,"Eksplosjonsfare ved tanking",11,"Redusert kjemisk dispergerbarhet","Nei",0.73,"2003-06-05T02:00:00",804,"Sør-Trøndelag til Nordland",44,7252655,113299,"Smørbukk kondensat 2003 Forvitringsrapport.pdf"]
["Smørbukk kondensat 2003","Vinterforhold",{"$f":"Oljedatabase[[#This Row],[Oljetype]]&\"-\"&Oljedatabase[[#This Row],[SesongNy]]&\"-\"&Oljedatabase[[#This Row],[Vind (m/s)]]&\"-\"&Oljedatabase[[#This Row],[Tidspunkt (timer)]]","v":"Smørbukk kondensat 2003-Vinterforhold-5-2"},{"$f":"Oljedatabase[[#This Row],[Sesong]]","v":"Vinterforhold"},5,5,"2",0.1,40,"Kjemisk dispergerbar",0.28000000000000003,0.7,0.02,42,"Eksplosjonsfare ved tanking",5,"Kjemisk dispergerbar","Nei",0.77,"2003-06-05T02:00:00",804,"Sør-Trøndelag til Nordland",44,7252655,113299,"Smørbukk kondensat 2003 Forvitringsrapport.pdf"]
["Smørbukk kondensat 2003","Vinterforhold",{"$f":"Oljedatabase[[#This Row],[Oljetype]]&\"-\"&Oljedatabase[[#This Row],[SesongNy]]&\"-\"&Oljedatabase[[#This Row],[Vind (m/s)]]&\"-\"&Oljedatabase[[#This Row],[Tidspunkt (timer)]]","v":"Smørbukk kondensat 2003-Vinterforhold-5-6"},{"$f":"Oljedatabase[[#This Row],[Sesong]]","v":"Vinterforhold"},5,5,"6",0.15,95,"Kjemisk dispergerbar",0.35,0.6,0.05,62,"Ingen eksplosjonsfare",10,"Kjemisk dispergerbar","Nei",0.7,"2003-06-05T02:00:00",804,"Sør-Trøndelag til Nordland",44,7252655,113299,"Smørbukk kondensat 2003 Forvitringsrapport.pdf"]
["Smørbukk Sør 2003","Sommerforhold",{"$f":"Oljedatabase[[#This Row],[Oljetype]]&\"-\"&Oljedatabase[[#This Row],[SesongNy]]&\"-\"&Oljedatabase[[#This Row],[Vind (m/s)]]&\"-\"&Oljedatabase[[#This Row],[Tidspunkt (timer)]]","v":"Smørbukk Sør 2003-Sommerforhold-15-12"},{"$f":"Oljedatabase[[#This Row],[Sesong]]","v":"Sommerforhold"},15,15,"12",0.8,2000,"Kjemisk dispergerbar",0.34,0,0.66,100,"Ingen eksplosjonsfare",26,"Redusert kjemisk dispergerbarhet","Nei",0,"2003-06-05T02:00:00",829,"Sør-Trøndelag til Nordland",39,7235784,118788,"Smørbukk Sør 2003 Forvitringsrapport.pdf"]
["Smørbukk Sør 2003","Sommerforhold",{"$f":"Oljedatabase[[#This Row],[Oljetype]]&\"-\"&Oljedatabase[[#This Row],[SesongNy]]&\"-\"&Oljedatabase[[#This Row],[Vind (m/s)]]&\"-\"&Oljedatabase[[#This Row],[Tidspunkt (timer)]]","v":"Smørbukk Sør 2003-Sommerforhold-10-3"},{"$f":"Oljedatabase[[#This Row],[Sesong]]","v":"Sommerforhold"},15,10,"3",0.75,900,"Kjemisk dispergerbar",0.33,0.48,0.19,59,"Eksplosjonsfare ved tanking",20,"Kjemisk dispergerbar","Nei",1.92,"2003-06-05T02:00:00",829,"Sør-Trøndelag til Nordland",39,7235784,118788,"Smørbukk Sør 2003 Forvitringsrapport.pdf"]
["Smørbukk kondensat 2003","Vinterforhold",{"$f":"Oljedatabase[[#This Row],[Oljetype]]&\"-\"&Oljedatabase[[#This Row],[SesongNy]]&\"-\"&Oljedatabase[[#This Row],[Vind (m/s)]]&\"-\"&Oljedatabase[[#This Row],[Tidspunkt (timer)]]","v":"Smørbukk kondensat 2003-Vinterforhold-15-96"},{"$f":"Oljedatabase[[#This Row],[Sesong]]","v":"Vinterforhold"},5,15,"96",0.28999999999999998,1500,"Kjemisk dispergerbar",0.34,0,0.66,140,"Ingen eksplosjonsfare",27,"Lav/dårlig dispergerbarhet","Nei",0,"2003-06-05T02:00:00",804,"Sør-Trøndelag til Nordland",44,7252655,113299,"Smørbukk kondensat 2003 Forvitringsrapport.pdf"]
["Smørbukk kondensat 2003","Vinterforhold",{"$f":"Oljedatabase[[#This Row],[Oljetype]]&\"-\"&Oljedatabase[[#This Row],[SesongNy]]&\"-\"&Oljedatabase[[#This Row],[Vind (m/s)]]&\"-\"&Oljedatabase[[#This Row],[Tidspunkt (timer)]]","v":"Smørbukk kondensat 2003-Vinterforhold-15-12"},{"$f":"Oljedatabase[[#This Row],[Sesong]]","v":"Vinterforhold"},5,15,"12",0.24,400,"Kjemisk dispergerbar",0.34,0,0.66,104,"Ingen eksplosjonsfare",20,"Redusert kjemisk dispergerbarhet","Nei",0,"2003-06-05T02:00:00",804,"Sør-Trøndelag til Nordland",44,7252655,113299,"Smørbukk kondensat 2003 Forvitringsrapport.pdf"]
["Smørbukk Sør 2003","Sommerforhold",{"$f":"Oljedatabase[[#This Row],[Oljetype]]&\"-\"&Oljedatabase[[#This Row],[SesongNy]]&\"-\"&Oljedatabase[[#This Row],[Vind (m/s)]]&\"-\"&Oljedatabase[[#This Row],[Tidspunkt (timer)]]","v":"Smørbukk Sør 2003-Sommerforhold-5-6"},{"$f":"Oljedatabase[[#This Row],[Sesong]]","v":"Sommerforhold"},15,5,"6",0.65,550,"Kjemisk dispergerbar",0.32,0.65,0.03,50,"Eksplosjonsfare ved tanking",19,"Kjemisk dispergerbar","Nei",1.85,"2003-06-05T02:00:00",829,"Sør-Trøndelag til Nordland",39,7235784,118788,"Smørbukk Sør 2003 Forvitringsrapport.pdf"]
["Smørbukk Sør 2003","Sommerforhold",{"$f":"Oljedatabase[[#This Row],[Oljetype]]&\"-\"&Oljedatabase[[#This Row],[SesongNy]]&\"-\"&Oljedatabase[[#This Row],[Vind (m/s)]]&\"-\"&Oljedatabase[[#This Row],[Tidspunkt (timer)]]","v":"Smørbukk Sør 2003-Sommerforhold-15-120"},{"$f":"Oljedatabase[[#This Row],[Sesong]]","v":"Sommerforhold"},15,15,"120",0.8,5000,"Redusert kjemisk dispergerbarhet",0.34,0,0.66,155,"Ingen eksplosjonsfare",33,"Lav/dårlig dispergerbarhet","Nei",0,"2003-06-05T02:00:00",829,"Sør-Trøndelag til Nordland",39,7235784,118788,"Smørbukk Sør 2003 Forvitringsrapport.pdf"]
["Snorre B 2004","Sommerforhold",{"$f":"Oljedatabase[[#This Row],[Oljetype]]&\"-\"&Oljedatabase[[#This Row],[SesongNy]]&\"-\"&Oljedatabase[[#This Row],[Vind (m/s)]]&\"-\"&Oljedatabase[[#This Row],[Tidspunkt (timer)]]","v":"Snorre B 2004-Sommerforhold-2-6"},{"$f":"Oljedatabase[[#This Row],[Sesong]]","v":"Sommerforhold"},15,2,"6",0.14000000000000001,320,"Ikke testet",0.2,0.8,0,0,"Ikke angitt",7,"Kjemisk dispergerbar","Nei",0.93,"2004-06-23T02:00:00",826,"Sogn og Fjordane til Møre og Romsdal",39,6888144,-177111,"Snorre B 2004 Forvitringsrapport.pdf"]
["Snorre B 2004","Sommerforhold",{"$f":"Oljedatabase[[#This Row],[Oljetype]]&\"-\"&Oljedatabase[[#This Row],[SesongNy]]&\"-\"&Oljedatabase[[#This Row],[Vind (m/s)]]&\"-\"&Oljedatabase[[#This Row],[Tidspunkt (timer)]]","v":"Snorre B 2004-Sommerforhold-2-24"},{"$f":"Oljedatabase[[#This Row],[Sesong]]","v":"Sommerforhold"},15,2,"24",0.42,1400,"Ikke testet",0.3,0.7,0,0,"Ikke angitt",14,"Kjemisk dispergerbar","Nei",1.2,"2004-06-23T02:00:00",826,"Sogn og Fjordane til Møre og Romsdal",39,6888144,-177111,"Snorre B 2004 Forvitringsrapport.pdf"]
["Smørbukk Sør 2003","Vinterforhold",{"$f":"Oljedatabase[[#This Row],[Oljetype]]&\"-\"&Oljedatabase[[#This Row],[SesongNy]]&\"-\"&Oljedatabase[[#This Row],[Vind (m/s)]]&\"-\"&Oljedatabase[[#This Row],[Tidspunkt (timer)]]","v":"Smørbukk Sør 2003-Vinterforhold-10-6"},{"$f":"Oljedatabase[[#This Row],[Sesong]]","v":"Vinterforhold"},5,10,"6",0.76,1600,"Kjemisk dispergerbar",0.32,0.4,0.28000000000000003,58,"Eksplosjonsfare ved tanking",20,"Redusert kjemisk dispergerbarhet","Nei",1.66,"2003-06-05T02:00:00",829,"Sør-Trøndelag til Nordland",39,7235784,118788,"Smørbukk Sør 2003 Forvitringsrapport.pdf"]
["Snorre B 2004","Sommerforhold",{"$f":"Oljedatabase[[#This Row],[Oljetype]]&\"-\"&Oljedatabase[[#This Row],[SesongNy]]&\"-\"&Oljedatabase[[#This Row],[Vind (m/s)]]&\"-\"&Oljedatabase[[#This Row],[Tidspunkt (timer)]]","v":"Snorre B 2004-Sommerforhold-10-6"},{"$f":"Oljedatabase[[#This Row],[Sesong]]","v":"Sommerforhold"},15,10,"6",0.74,3100,"Ikke testet",0.33,0.54,0.13,0,"Ikke angitt",17,"Kjemisk dispergerbar","Nei",2.0699999999999998,"2004-06-23T02:00:00",826,"Sogn og Fjordane til Møre og Romsdal",39,6888144,-177111,"Snorre B 2004 Forvitringsrapport.pdf"]
["Snorre B 2004","Vinterforhold",{"$f":"Oljedatabase[[#This Row],[Oljetype]]&\"-\"&Oljedatabase[[#This Row],[SesongNy]]&\"-\"&Oljedatabase[[#This Row],[Vind (m/s)]]&\"-\"&Oljedatabase[[#This Row],[Tidspunkt (timer)]]","v":"Snorre B 2004-Vinterforhold-5-2"},{"$f":"Oljedatabase[[#This Row],[Sesong]]","v":"Vinterforhold"},5,5,"2",0.17,350,"Ikke testet",0.16,0.84,0,0,"Ikke angitt",4,"Kjemisk dispergerbar","Nei",1.01,"2004-06-23T02:00:00",826,"Sogn og Fjordane til Møre og Romsdal",39,6888144,-177111,"Snorre B 2004 Forvitringsrapport.pdf"]
["Snorre B 2004","Sommerforhold",{"$f":"Oljedatabase[[#This Row],[Oljetype]]&\"-\"&Oljedatabase[[#This Row],[SesongNy]]&\"-\"&Oljedatabase[[#This Row],[Vind (m/s)]]&\"-\"&Oljedatabase[[#This Row],[Tidspunkt (timer)]]","v":"Snorre B 2004-Sommerforhold-15-24"},{"$f":"Oljedatabase[[#This Row],[Sesong]]","v":"Sommerforhold"},15,15,"24",0.8,9600,"Ikke testet",0.36,0.02,0.62,0,"Ikke angitt",24,"Redusert kjemisk dispergerbarhet","Nei",0.1,"2004-06-23T02:00:00",826,"Sogn og Fjordane til Møre og Romsdal",39,6888144,-177111,"Snorre B 2004 Forvitringsrapport.pdf"]
["Snorre B 2004","Vinterforhold",{"$f":"Oljedatabase[[#This Row],[Oljetype]]&\"-\"&Oljedatabase[[#This Row],[SesongNy]]&\"-\"&Oljedatabase[[#This Row],[Vind (m/s)]]&\"-\"&Oljedatabase[[#This Row],[Tidspunkt (timer)]]","v":"Snorre B 2004-Vinterforhold-5-24"},{"$f":"Oljedatabase[[#This Row],[Sesong]]","v":"Vinterforhold"},5,5,"24",0.76,5500,"Ikke testet",0.31,0.66,0.02,0,"Ikke angitt",16,"Redusert kjemisk dispergerbarhet","Nei",2.75,"2004-06-23T02:00:00",826,"Sogn og Fjordane til Møre og Romsdal",39,6888144,-177111,"Snorre B 2004 Forvitringsrapport.pdf"]
["Snorre B 2004","Vinterforhold",{"$f":"Oljedatabase[[#This Row],[Oljetype]]&\"-\"&Oljedatabase[[#This Row],[SesongNy]]&\"-\"&Oljedatabase[[#This Row],[Vind (m/s)]]&\"-\"&Oljedatabase[[#This Row],[Tidspunkt (timer)]]","v":"Snorre B 2004-Vinterforhold-15-2"},{"$f":"Oljedatabase[[#This Row],[Sesong]]","v":"Vinterforhold"},5,15,"2",0.66,2700,"Ikke testet",0.26,0.51,0.23,0,"Ikke angitt",13,"Redusert kjemisk dispergerbarhet","Nei",1.5,"2004-06-23T02:00:00",826,"Sogn og Fjordane til Møre og Romsdal",39,6888144,-177111,"Snorre B 2004 Forvitringsrapport.pdf"]
["Snorre B 2004","Vinterforhold",{"$f":"Oljedatabase[[#This Row],[Oljetype]]&\"-\"&Oljedatabase[[#This Row],[SesongNy]]&\"-\"&Oljedatabase[[#This Row],[Vind (m/s)]]&\"-\"&Oljedatabase[[#This Row],[Tidspunkt (timer)]]","v":"Snorre B 2004-Vinterforhold-15-3"},{"$f":"Oljedatabase[[#This Row],[Sesong]]","v":"Vinterforhold"},5,15,"3",0.74,4100,"Ikke testet",0.28000000000000003,0.42,0.3,0,"Ikke angitt",14,"Redusert kjemisk dispergerbarhet","Nei",1.61,"2004-06-23T02:00:00",826,"Sogn og Fjordane til Møre og Romsdal",39,6888144,-177111,"Snorre B 2004 Forvitringsrapport.pdf"]
["Snorre blend 1999","Sommerforhold",{"$f":"Oljedatabase[[#This Row],[Oljetype]]&\"-\"&Oljedatabase[[#This Row],[SesongNy]]&\"-\"&Oljedatabase[[#This Row],[Vind (m/s)]]&\"-\"&Oljedatabase[[#This Row],[Tidspunkt (timer)]]","v":"Snorre blend 1999-Sommerforhold-5-12"},{"$f":"Oljedatabase[[#This Row],[Sesong]]","v":"Sommerforhold"},15,5,"12",0.77,4600,"Redusert kjemisk dispergerbarhet",0.31,0.69,0,81,"Ingen eksplosjonsfare",25,"Redusert kjemisk dispergerbarhet","Nei",3,"1999-10-29T02:00:00",834,"Sogn og Fjordane til Møre og Romsdal",38,6880490,-182310,"Snorre blend 1999 Forvitringsrapport.pdf"]
["Snorre B 2004","Vinterforhold",{"$f":"Oljedatabase[[#This Row],[Oljetype]]&\"-\"&Oljedatabase[[#This Row],[SesongNy]]&\"-\"&Oljedatabase[[#This Row],[Vind (m/s)]]&\"-\"&Oljedatabase[[#This Row],[Tidspunkt (timer)]]","v":"Snorre B 2004-Vinterforhold-10-120"},{"$f":"Oljedatabase[[#This Row],[Sesong]]","v":"Vinterforhold"},5,10,"120",0.79,23000,"Ikke testet",0.37,0.09,0.54,0,"Ikke angitt",24,"Lav/dårlig dispergerbarhet","Ja",0.42,"2004-06-23T02:00:00",826,"Sogn og Fjordane til Møre og Romsdal",39,6888144,-177111,"Snorre B 2004 Forvitringsrapport.pdf"]
["Snorre B 2004","Vinterforhold",{"$f":"Oljedatabase[[#This Row],[Oljetype]]&\"-\"&Oljedatabase[[#This Row],[SesongNy]]&\"-\"&Oljedatabase[[#This Row],[Vind (m/s)]]&\"-\"&Oljedatabase[[#This Row],[Tidspunkt (timer)]]","v":"Snorre B 2004-Vinterforhold-5-120"},{"$f":"Oljedatabase[[#This Row],[Sesong]]","v":"Vinterforhold"},5,5,"120",0.78,14000,"Ikke testet",0.38,0.55000000000000004,7.0000000000000007E-2,0,"Ikke angitt",21,"Lav/dårlig dispergerbarhet","Ja",2.5,"2004-06-23T02:00:00",826,"Sogn og Fjordane til Møre og Romsdal",39,6888144,-177111,"Snorre B 2004 Forvitringsrapport.pdf"]
["Snorre blend 1999","Vinterforhold",{"$f":"Oljedatabase[[#This Row],[Oljetype]]&\"-\"&Oljedatabase[[#This Row],[SesongNy]]&\"-\"&Oljedatabase[[#This Row],[Vind (m/s)]]&\"-\"&Oljedatabase[[#This Row],[Tidspunkt (timer)]]","v":"Snorre blend 1999-Vinterforhold-5-1"},{"$f":"Oljedatabase[[#This Row],[Sesong]]","v":"Vinterforhold"},5,5,"1",0.19,57,"Kjemisk dispergerbar",0.11,0.89,0,10,"Eksplosjonsfare ved tanking",10,"Kjemisk dispergerbar","Nei",1.0900000000000001,"1999-10-29T02:00:00",834,"Sogn og Fjordane til Møre og Romsdal",38,6880490,-182310,"Snorre blend 1999 Forvitringsrapport.pdf"]
["Snorre blend 1999","Vinterforhold",{"$f":"Oljedatabase[[#This Row],[Oljetype]]&\"-\"&Oljedatabase[[#This Row],[SesongNy]]&\"-\"&Oljedatabase[[#This Row],[Vind (m/s)]]&\"-\"&Oljedatabase[[#This Row],[Tidspunkt (timer)]]","v":"Snorre blend 1999-Vinterforhold-2-24"},{"$f":"Oljedatabase[[#This Row],[Sesong]]","v":"Vinterforhold"},5,2,"24",0.64,3100,"Redusert kjemisk dispergerbarhet",0.28000000000000003,0.72,0,71,"Ingen eksplosjonsfare",23,"Lav/dårlig dispergerbarhet","Nei",2,"1999-10-29T02:00:00",834,"Sogn og Fjordane til Møre og Romsdal",38,6880490,-182310,"Snorre blend 1999 Forvitringsrapport.pdf"]
["Snorre blend 1999","Sommerforhold",{"$f":"Oljedatabase[[#This Row],[Oljetype]]&\"-\"&Oljedatabase[[#This Row],[SesongNy]]&\"-\"&Oljedatabase[[#This Row],[Vind (m/s)]]&\"-\"&Oljedatabase[[#This Row],[Tidspunkt (timer)]]","v":"Snorre blend 1999-Sommerforhold-15-96"},{"$f":"Oljedatabase[[#This Row],[Sesong]]","v":"Sommerforhold"},15,15,"96",0.8,23000,"Lav/dårlig kjemisk dispergerbarhet",0.4,0.01,0.59,146,"Ingen eksplosjonsfare",36,"Lav/dårlig dispergerbarhet","Ja",0.05,"1999-10-29T02:00:00",834,"Sogn og Fjordane til Møre og Romsdal",38,6880490,-182310,"Snorre blend 1999 Forvitringsrapport.pdf"]
["Snorre B 2004","Vinterforhold",{"$f":"Oljedatabase[[#This Row],[Oljetype]]&\"-\"&Oljedatabase[[#This Row],[SesongNy]]&\"-\"&Oljedatabase[[#This Row],[Vind (m/s)]]&\"-\"&Oljedatabase[[#This Row],[Tidspunkt (timer)]]","v":"Snorre B 2004-Vinterforhold-10-6"},{"$f":"Oljedatabase[[#This Row],[Sesong]]","v":"Vinterforhold"},5,10,"6",0.74,4200,"Ikke testet",0.28999999999999998,0.57999999999999996,0.12,0,"Ikke angitt",14,"Redusert kjemisk dispergerbarhet","Nei",2.23,"2004-06-23T02:00:00",826,"Sogn og Fjordane til Møre og Romsdal",39,6888144,-177111,"Snorre B 2004 Forvitringsrapport.pdf"]
["Snorre TLP 2004","Sommerforhold",{"$f":"Oljedatabase[[#This Row],[Oljetype]]&\"-\"&Oljedatabase[[#This Row],[SesongNy]]&\"-\"&Oljedatabase[[#This Row],[Vind (m/s)]]&\"-\"&Oljedatabase[[#This Row],[Tidspunkt (timer)]]","v":"Snorre TLP 2004-Sommerforhold-2-6"},{"$f":"Oljedatabase[[#This Row],[Sesong]]","v":"Sommerforhold"},15,2,"6",0.27,200,"Kjemisk dispergerbar",0.22,0.78,0,49,"Eksplosjonsfare ved tanking",19,"Kjemisk dispergerbar","Nei",1.06,"2006-06-23T02:00:00",834,"Sogn og Fjordane til Møre og Romsdal",38,6880490,-182310,"Snorre TLP 2004 Forvitringsrapport.pdf"]
["Snorre TLP 2004","Sommerforhold",{"$f":"Oljedatabase[[#This Row],[Oljetype]]&\"-\"&Oljedatabase[[#This Row],[SesongNy]]&\"-\"&Oljedatabase[[#This Row],[Vind (m/s)]]&\"-\"&Oljedatabase[[#This Row],[Tidspunkt (timer)]]","v":"Snorre TLP 2004-Sommerforhold-5-12"},{"$f":"Oljedatabase[[#This Row],[Sesong]]","v":"Sommerforhold"},15,5,"12",0.76,5500,"Lav/dårlig kjemisk dispergerbarhet",0.3,0.69,0.01,82,"Ingen eksplosjonsfare",25,"Redusert kjemisk dispergerbarhet","Nei",2.87,"2006-06-23T02:00:00",834,"Sogn og Fjordane til Møre og Romsdal",38,6880490,-182310,"Snorre TLP 2004 Forvitringsrapport.pdf"]
["Snorre blend 1999","Vinterforhold",{"$f":"Oljedatabase[[#This Row],[Oljetype]]&\"-\"&Oljedatabase[[#This Row],[SesongNy]]&\"-\"&Oljedatabase[[#This Row],[Vind (m/s)]]&\"-\"&Oljedatabase[[#This Row],[Tidspunkt (timer)]]","v":"Snorre blend 1999-Vinterforhold-5-2"},{"$f":"Oljedatabase[[#This Row],[Sesong]]","v":"Vinterforhold"},5,5,"2",0.33,190,"Kjemisk dispergerbar",0.15,0.85,0,22,"Eksplosjonsfare ved tanking",13,"Redusert kjemisk dispergerbarhet","Nei",1.26,"1999-10-29T02:00:00",834,"Sogn og Fjordane til Møre og Romsdal",38,6880490,-182310,"Snorre blend 1999 Forvitringsrapport.pdf"]
["Snorre TLP 2004","Sommerforhold",{"$f":"Oljedatabase[[#This Row],[Oljetype]]&\"-\"&Oljedatabase[[#This Row],[SesongNy]]&\"-\"&Oljedatabase[[#This Row],[Vind (m/s)]]&\"-\"&Oljedatabase[[#This Row],[Tidspunkt (timer)]]","v":"Snorre TLP 2004-Sommerforhold-15-24"},{"$f":"Oljedatabase[[#This Row],[Sesong]]","v":"Sommerforhold"},15,15,"24",0.8,20000,"Lav/dårlig kjemisk dispergerbarhet",0.35,7.0000000000000007E-2,0.57999999999999996,120,"Ingen eksplosjonsfare",32,"Lav/dårlig dispergerbarhet","Ja",0.35,"2006-06-23T02:00:00",834,"Sogn og Fjordane til Møre og Romsdal",38,6880490,-182310,"Snorre TLP 2004 Forvitringsrapport.pdf"]
["Snorre TLP 2004","Sommerforhold",{"$f":"Oljedatabase[[#This Row],[Oljetype]]&\"-\"&Oljedatabase[[#This Row],[SesongNy]]&\"-\"&Oljedatabase[[#This Row],[Vind (m/s)]]&\"-\"&Oljedatabase[[#This Row],[Tidspunkt (timer)]]","v":"Snorre TLP 2004-Sommerforhold-10-3"},{"$f":"Oljedatabase[[#This Row],[Sesong]]","v":"Sommerforhold"},15,10,"3",0.65,4000,"Redusert kjemisk dispergerbarhet",0.28999999999999998,0.64,7.0000000000000007E-2,76,"Ingen eksplosjonsfare",25,"Redusert kjemisk dispergerbarhet","Nei",1.82,"2006-06-23T02:00:00",834,"Sogn og Fjordane til Møre og Romsdal",38,6880490,-182310,"Snorre TLP 2004 Forvitringsrapport.pdf"]
["Snorre TLP 2004","Sommerforhold",{"$f":"Oljedatabase[[#This Row],[Oljetype]]&\"-\"&Oljedatabase[[#This Row],[SesongNy]]&\"-\"&Oljedatabase[[#This Row],[Vind (m/s)]]&\"-\"&Oljedatabase[[#This Row],[Tidspunkt (timer)]]","v":"Snorre TLP 2004-Sommerforhold-5-48"},{"$f":"Oljedatabase[[#This Row],[Sesong]]","v":"Sommerforhold"},15,5,"48",0.8,12000,"Lav/dårlig kjemisk dispergerbarhet",0.36,0.6,0.04,104,"Ingen eksplosjonsfare",29,"Redusert kjemisk dispergerbarhet","Ja",3,"2006-06-23T02:00:00",834,"Sogn og Fjordane til Møre og Romsdal",38,6880490,-182310,"Snorre TLP 2004 Forvitringsrapport.pdf"]
["Snorre TLP 2004","Sommerforhold",{"$f":"Oljedatabase[[#This Row],[Oljetype]]&\"-\"&Oljedatabase[[#This Row],[SesongNy]]&\"-\"&Oljedatabase[[#This Row],[Vind (m/s)]]&\"-\"&Oljedatabase[[#This Row],[Tidspunkt (timer)]]","v":"Snorre TLP 2004-Sommerforhold-5-6"},{"$f":"Oljedatabase[[#This Row],[Sesong]]","v":"Sommerforhold"},15,5,"6",0.65,1900,"Kjemisk dispergerbar",0.28000000000000003,0.71,0.01,70,"Ingen eksplosjonsfare",23,"Redusert kjemisk dispergerbarhet","Nei",2.02,"2006-06-23T02:00:00",834,"Sogn og Fjordane til Møre og Romsdal",38,6880490,-182310,"Snorre TLP 2004 Forvitringsrapport.pdf"]
["Snorre TLP 2004","Vinterforhold",{"$f":"Oljedatabase[[#This Row],[Oljetype]]&\"-\"&Oljedatabase[[#This Row],[SesongNy]]&\"-\"&Oljedatabase[[#This Row],[Vind (m/s)]]&\"-\"&Oljedatabase[[#This Row],[Tidspunkt (timer)]]","v":"Snorre TLP 2004-Vinterforhold-15-120"},{"$f":"Oljedatabase[[#This Row],[Sesong]]","v":"Vinterforhold"},5,15,"120",0.8,59000,"Lav/dårlig kjemisk dispergerbarhet",0.34,0,0.66,131,"Ingen eksplosjonsfare",34,"Lav/dårlig dispergerbarhet","Ja",0,"2006-06-23T02:00:00",834,"Sogn og Fjordane til Møre og Romsdal",38,6880490,-182310,"Snorre TLP 2004 Forvitringsrapport.pdf"]
["Snøhvit 2001","Sommerforhold",{"$f":"Oljedatabase[[#This Row],[Oljetype]]&\"-\"&Oljedatabase[[#This Row],[SesongNy]]&\"-\"&Oljedatabase[[#This Row],[Vind (m/s)]]&\"-\"&Oljedatabase[[#This Row],[Tidspunkt (timer)]]","v":"Snøhvit 2001-Sommerforhold-5-3"},{"$f":"Oljedatabase[[#This Row],[Sesong]]","v":"Sommerforhold"},15,5,"3",0,4,"Kjemisk dispergerbar",0.8,0.12,7.0000000000000007E-2,0,"Ikke angitt",-14,"Kjemisk dispergerbar","Nei",0.12,"2001-08-29T02:00:00",761,"Troms og Finnmark",54,7952218,719404,"Snøhvit 2001 Forvitringsrapport.pdf"]
["Snorre TLP 2004","Vinterforhold",{"$f":"Oljedatabase[[#This Row],[Oljetype]]&\"-\"&Oljedatabase[[#This Row],[SesongNy]]&\"-\"&Oljedatabase[[#This Row],[Vind (m/s)]]&\"-\"&Oljedatabase[[#This Row],[Tidspunkt (timer)]]","v":"Snorre TLP 2004-Vinterforhold-2-48"},{"$f":"Oljedatabase[[#This Row],[Sesong]]","v":"Vinterforhold"},5,2,"48",0.77,9000,"Lav/dårlig kjemisk dispergerbarhet",0.3,0.7,0,80,"Ingen eksplosjonsfare",25,"Lav/dårlig dispergerbarhet","Nei",3.04,"2006-06-23T02:00:00",834,"Sogn og Fjordane til Møre og Romsdal",38,6880490,-182310,"Snorre TLP 2004 Forvitringsrapport.pdf"]
["Snorre TLP 2004","Vinterforhold",{"$f":"Oljedatabase[[#This Row],[Oljetype]]&\"-\"&Oljedatabase[[#This Row],[SesongNy]]&\"-\"&Oljedatabase[[#This Row],[Vind (m/s)]]&\"-\"&Oljedatabase[[#This Row],[Tidspunkt (timer)]]","v":"Snorre TLP 2004-Vinterforhold-2-2"},{"$f":"Oljedatabase[[#This Row],[Sesong]]","v":"Vinterforhold"},5,2,"2",0.1,45,"Kjemisk dispergerbar",0.12,0.88,0,16,"Eksplosjonsfare ved tanking",12,"Redusert kjemisk dispergerbarhet","Nei",0.97,"2006-06-23T02:00:00",834,"Sogn og Fjordane til Møre og Romsdal",38,6880490,-182310,"Snorre TLP 2004 Forvitringsrapport.pdf"]
["Snøhvit 2001","Vinterforhold",{"$f":"Oljedatabase[[#This Row],[Oljetype]]&\"-\"&Oljedatabase[[#This Row],[SesongNy]]&\"-\"&Oljedatabase[[#This Row],[Vind (m/s)]]&\"-\"&Oljedatabase[[#This Row],[Tidspunkt (timer)]]","v":"Snøhvit 2001-Vinterforhold-5-6"},{"$f":"Oljedatabase[[#This Row],[Sesong]]","v":"Vinterforhold"},5,5,"6",0,5,"Kjemisk dispergerbar",0.8,0.06,0.14000000000000001,0,"Ikke angitt",-14,"Kjemisk dispergerbar","Nei",0.06,"2001-08-29T02:00:00",761,"Troms og Finnmark",54,7952218,719404,"Snøhvit 2001 Forvitringsrapport.pdf"]
["Snøhvit 2001","Sommerforhold",{"$f":"Oljedatabase[[#This Row],[Oljetype]]&\"-\"&Oljedatabase[[#This Row],[SesongNy]]&\"-\"&Oljedatabase[[#This Row],[Vind (m/s)]]&\"-\"&Oljedatabase[[#This Row],[Tidspunkt (timer)]]","v":"Snøhvit 2001-Sommerforhold-15-120"},{"$f":"Oljedatabase[[#This Row],[Sesong]]","v":"Sommerforhold"},15,15,"120",0,3,"Kjemisk dispergerbar",0.7,0,0.3,0,"Ikke angitt",-18,"Kjemisk dispergerbar","Nei",0,"2001-08-29T02:00:00",761,"Troms og Finnmark",54,7952218,719404,"Snøhvit 2001 Forvitringsrapport.pdf"]
["Snøhvit 2001","Sommerforhold",{"$f":"Oljedatabase[[#This Row],[Oljetype]]&\"-\"&Oljedatabase[[#This Row],[SesongNy]]&\"-\"&Oljedatabase[[#This Row],[Vind (m/s)]]&\"-\"&Oljedatabase[[#This Row],[Tidspunkt (timer)]]","v":"Snøhvit 2001-Sommerforhold-2-48"},{"$f":"Oljedatabase[[#This Row],[Sesong]]","v":"Sommerforhold"},15,2,"48",0,5,"Kjemisk dispergerbar",0.92,0.01,0.06,0,"Ikke angitt",-9,"Kjemisk dispergerbar","Nei",0.01,"2001-08-29T02:00:00",761,"Troms og Finnmark",54,7952218,719404,"Snøhvit 2001 Forvitringsrapport.pdf"]
["Snorre blend 1999","Vinterforhold",{"$f":"Oljedatabase[[#This Row],[Oljetype]]&\"-\"&Oljedatabase[[#This Row],[SesongNy]]&\"-\"&Oljedatabase[[#This Row],[Vind (m/s)]]&\"-\"&Oljedatabase[[#This Row],[Tidspunkt (timer)]]","v":"Snorre blend 1999-Vinterforhold-15-96"},{"$f":"Oljedatabase[[#This Row],[Sesong]]","v":"Vinterforhold"},5,15,"96",0.8,30000,"Lav/dårlig kjemisk dispergerbarhet",0.37,0.02,0.61,129,"Ingen eksplosjonsfare",34,"Lav/dårlig dispergerbarhet","Ja",0.1,"1999-10-29T02:00:00",834,"Sogn og Fjordane til Møre og Romsdal",38,6880490,-182310,"Snorre blend 1999 Forvitringsrapport.pdf"]
["Snorre TLP 2004","Vinterforhold",{"$f":"Oljedatabase[[#This Row],[Oljetype]]&\"-\"&Oljedatabase[[#This Row],[SesongNy]]&\"-\"&Oljedatabase[[#This Row],[Vind (m/s)]]&\"-\"&Oljedatabase[[#This Row],[Tidspunkt (timer)]]","v":"Snorre TLP 2004-Vinterforhold-5-48"},{"$f":"Oljedatabase[[#This Row],[Sesong]]","v":"Vinterforhold"},5,5,"48",0.8,17000,"Lav/dårlig kjemisk dispergerbarhet",0.33,0.63,0.04,94,"Ingen eksplosjonsfare",27,"Lav/dårlig dispergerbarhet","Ja",3.15,"2006-06-23T02:00:00",834,"Sogn og Fjordane til Møre og Romsdal",38,6880490,-182310,"Snorre TLP 2004 Forvitringsrapport.pdf"]
["Statfjord 1999","Sommerforhold",{"$f":"Oljedatabase[[#This Row],[Oljetype]]&\"-\"&Oljedatabase[[#This Row],[SesongNy]]&\"-\"&Oljedatabase[[#This Row],[Vind (m/s)]]&\"-\"&Oljedatabase[[#This Row],[Tidspunkt (timer)]]","v":"Statfjord 1999-Sommerforhold-15-24"},{"$f":"Oljedatabase[[#This Row],[Sesong]]","v":"Sommerforhold"},15,15,"24",0.76,7200,"Lav/dårlig kjemisk dispergerbarhet",0.35,0.16,0.49,97,"Ingen eksplosjonsfare",31,"Lav/dårlig dispergerbarhet","Nei",0.66,"1999-10-29T02:00:00",832,"Sogn og Fjordane til Møre og Romsdal",38,6862327,-201935,"Statfjord 1999 Forvitringsrapport.pdf"]
["Snøhvit 2001","Vinterforhold",{"$f":"Oljedatabase[[#This Row],[Oljetype]]&\"-\"&Oljedatabase[[#This Row],[SesongNy]]&\"-\"&Oljedatabase[[#This Row],[Vind (m/s)]]&\"-\"&Oljedatabase[[#This Row],[Tidspunkt (timer)]]","v":"Snøhvit 2001-Vinterforhold-10-48"},{"$f":"Oljedatabase[[#This Row],[Sesong]]","v":"Vinterforhold"},5,10,"48",0,4,"Kjemisk dispergerbar",0.72,0,0.28000000000000003,0,"Ikke angitt",-17,"Kjemisk dispergerbar","Nei",0,"2001-08-29T02:00:00",761,"Troms og Finnmark",54,7952218,719404,"Snøhvit 2001 Forvitringsrapport.pdf"]
["Snøhvit 2001","Vinterforhold",{"$f":"Oljedatabase[[#This Row],[Oljetype]]&\"-\"&Oljedatabase[[#This Row],[SesongNy]]&\"-\"&Oljedatabase[[#This Row],[Vind (m/s)]]&\"-\"&Oljedatabase[[#This Row],[Tidspunkt (timer)]]","v":"Snøhvit 2001-Vinterforhold-2-96"},{"$f":"Oljedatabase[[#This Row],[Sesong]]","v":"Vinterforhold"},5,2,"96",0,6,"Kjemisk dispergerbar",0.91,0,0.09,0,"Ikke angitt",-10,"Kjemisk dispergerbar","Nei",0,"2001-08-29T02:00:00",761,"Troms og Finnmark",54,7952218,719404,"Snøhvit 2001 Forvitringsrapport.pdf"]
["Statfjord A 2001","Sommerforhold",{"$f":"Oljedatabase[[#This Row],[Oljetype]]&\"-\"&Oljedatabase[[#This Row],[SesongNy]]&\"-\"&Oljedatabase[[#This Row],[Vind (m/s)]]&\"-\"&Oljedatabase[[#This Row],[Tidspunkt (timer)]]","v":"Statfjord A 2001-Sommerforhold-2-72"},{"$f":"Oljedatabase[[#This Row],[Sesong]]","v":"Sommerforhold"},15,2,"72",0.56000000000000005,4420,"Redusert kjemisk dispergerbarhet",0.37,0.62,0,0,"Ikke angitt",21.7,"Redusert kjemisk dispergerbarhet","Nei",1.45,"2001-01-11T01:00:00",847,"Sogn og Fjordane til Møre og Romsdal",35,6862327,-201935,"Statfjord A 2001 Forvitringsrapport.pdf"]
["Statfjord A 2001","Sommerforhold",{"$f":"Oljedatabase[[#This Row],[Oljetype]]&\"-\"&Oljedatabase[[#This Row],[SesongNy]]&\"-\"&Oljedatabase[[#This Row],[Vind (m/s)]]&\"-\"&Oljedatabase[[#This Row],[Tidspunkt (timer)]]","v":"Statfjord A 2001-Sommerforhold-10-72"},{"$f":"Oljedatabase[[#This Row],[Sesong]]","v":"Sommerforhold"},15,10,"72",0.76,11500,"Redusert kjemisk dispergerbarhet",0.41,0.12,0.45,0,"Ikke angitt",26.2,"Redusert kjemisk dispergerbarhet","Ja",0.52,"2001-01-11T01:00:00",847,"Sogn og Fjordane til Møre og Romsdal",35,6862327,-201935,"Statfjord A 2001 Forvitringsrapport.pdf"]
["Snøhvit 2001","Vinterforhold",{"$f":"Oljedatabase[[#This Row],[Oljetype]]&\"-\"&Oljedatabase[[#This Row],[SesongNy]]&\"-\"&Oljedatabase[[#This Row],[Vind (m/s)]]&\"-\"&Oljedatabase[[#This Row],[Tidspunkt (timer)]]","v":"Snøhvit 2001-Vinterforhold-10-24"},{"$f":"Oljedatabase[[#This Row],[Sesong]]","v":"Vinterforhold"},5,10,"24",0,4,"Kjemisk dispergerbar",0.72,0,0.28000000000000003,0,"Ikke angitt",-17,"Kjemisk dispergerbar","Nei",0,"2001-08-29T02:00:00",761,"Troms og Finnmark",54,7952218,719404,"Snøhvit 2001 Forvitringsrapport.pdf"]
["Snøhvit 2001","Sommerforhold",{"$f":"Oljedatabase[[#This Row],[Oljetype]]&\"-\"&Oljedatabase[[#This Row],[SesongNy]]&\"-\"&Oljedatabase[[#This Row],[Vind (m/s)]]&\"-\"&Oljedatabase[[#This Row],[Tidspunkt (timer)]]","v":"Snøhvit 2001-Sommerforhold-5-120"},{"$f":"Oljedatabase[[#This Row],[Sesong]]","v":"Sommerforhold"},15,5,"120",0,4,"Kjemisk dispergerbar",0.85,0,0.15,0,"Ikke angitt",-12,"Kjemisk dispergerbar","Nei",0,"2001-08-29T02:00:00",761,"Troms og Finnmark",54,7952218,719404,"Snøhvit 2001 Forvitringsrapport.pdf"]
["Snøhvit 2001","Vinterforhold",{"$f":"Oljedatabase[[#This Row],[Oljetype]]&\"-\"&Oljedatabase[[#This Row],[SesongNy]]&\"-\"&Oljedatabase[[#This Row],[Vind (m/s)]]&\"-\"&Oljedatabase[[#This Row],[Tidspunkt (timer)]]","v":"Snøhvit 2001-Vinterforhold-10-2"},{"$f":"Oljedatabase[[#This Row],[Sesong]]","v":"Vinterforhold"},5,10,"2",0,4,"Kjemisk dispergerbar",0.72,0,0.27,0,"Ikke angitt",-17,"Kjemisk dispergerbar","Nei",0,"2001-08-29T02:00:00",761,"Troms og Finnmark",54,7952218,719404,"Snøhvit 2001 Forvitringsrapport.pdf"]
["Statfjord 1999","Vinterforhold",{"$f":"Oljedatabase[[#This Row],[Oljetype]]&\"-\"&Oljedatabase[[#This Row],[SesongNy]]&\"-\"&Oljedatabase[[#This Row],[Vind (m/s)]]&\"-\"&Oljedatabase[[#This Row],[Tidspunkt (timer)]]","v":"Statfjord 1999-Vinterforhold-5-120"},{"$f":"Oljedatabase[[#This Row],[Sesong]]","v":"Vinterforhold"},5,5,"120",0.76,9700,"Lav/dårlig kjemisk dispergerbarhet",0.36,0.59,0.04,99,"Ingen eksplosjonsfare",29,"Lav/dårlig dispergerbarhet","Nei",2.4500000000000002,"1999-10-29T02:00:00",832,"Sogn og Fjordane til Møre og Romsdal",38,6862327,-201935,"Statfjord 1999 Forvitringsrapport.pdf"]
["Statfjord A 2001","Sommerforhold",{"$f":"Oljedatabase[[#This Row],[Oljetype]]&\"-\"&Oljedatabase[[#This Row],[SesongNy]]&\"-\"&Oljedatabase[[#This Row],[Vind (m/s)]]&\"-\"&Oljedatabase[[#This Row],[Tidspunkt (timer)]]","v":"Statfjord A 2001-Sommerforhold-10-6"},{"$f":"Oljedatabase[[#This Row],[Sesong]]","v":"Sommerforhold"},15,10,"6",0.61,3940,"Redusert kjemisk dispergerbarhet",0.34,0.54,0.1,0,"Ikke angitt",20.7,"Redusert kjemisk dispergerbarhet","Nei",1.41,"2001-01-11T01:00:00",847,"Sogn og Fjordane til Møre og Romsdal",35,6862327,-201935,"Statfjord A 2001 Forvitringsrapport.pdf"]
["Statfjord A 2001","Sommerforhold",{"$f":"Oljedatabase[[#This Row],[Oljetype]]&\"-\"&Oljedatabase[[#This Row],[SesongNy]]&\"-\"&Oljedatabase[[#This Row],[Vind (m/s)]]&\"-\"&Oljedatabase[[#This Row],[Tidspunkt (timer)]]","v":"Statfjord A 2001-Sommerforhold-15-120"},{"$f":"Oljedatabase[[#This Row],[Sesong]]","v":"Sommerforhold"},15,15,"120",0.76,9660,"Redusert kjemisk dispergerbarhet",0.38,0,0.61,0,"Ikke angitt",25.1,"Redusert kjemisk dispergerbarhet","Nei",0,"2001-01-11T01:00:00",847,"Sogn og Fjordane til Møre og Romsdal",35,6862327,-201935,"Statfjord A 2001 Forvitringsrapport.pdf"]
["Statfjord A 2001","Vinterforhold",{"$f":"Oljedatabase[[#This Row],[Oljetype]]&\"-\"&Oljedatabase[[#This Row],[SesongNy]]&\"-\"&Oljedatabase[[#This Row],[Vind (m/s)]]&\"-\"&Oljedatabase[[#This Row],[Tidspunkt (timer)]]","v":"Statfjord A 2001-Vinterforhold-5-48"},{"$f":"Oljedatabase[[#This Row],[Sesong]]","v":"Vinterforhold"},5,5,"48",0.65,10400,"Redusert kjemisk dispergerbarhet",0.35,0.6,0.03,0,"Ikke angitt",21,"Lav/dårlig dispergerbarhet","Ja",1.77,"2001-01-11T01:00:00",847,"Sogn og Fjordane til Møre og Romsdal",35,6862327,-201935,"Statfjord A 2001 Forvitringsrapport.pdf"]
["Snøhvit 2001","Vinterforhold",{"$f":"Oljedatabase[[#This Row],[Oljetype]]&\"-\"&Oljedatabase[[#This Row],[SesongNy]]&\"-\"&Oljedatabase[[#This Row],[Vind (m/s)]]&\"-\"&Oljedatabase[[#This Row],[Tidspunkt (timer)]]","v":"Snøhvit 2001-Vinterforhold-10-12"},{"$f":"Oljedatabase[[#This Row],[Sesong]]","v":"Vinterforhold"},5,10,"12",0,4,"Kjemisk dispergerbar",0.72,0,0.28000000000000003,0,"Ikke angitt",-17,"Kjemisk dispergerbar","Nei",0,"2001-08-29T02:00:00",761,"Troms og Finnmark",54,7952218,719404,"Snøhvit 2001 Forvitringsrapport.pdf"]
["Statfjord C Blend 2001","Sommerforhold",{"$f":"Oljedatabase[[#This Row],[Oljetype]]&\"-\"&Oljedatabase[[#This Row],[SesongNy]]&\"-\"&Oljedatabase[[#This Row],[Vind (m/s)]]&\"-\"&Oljedatabase[[#This Row],[Tidspunkt (timer)]]","v":"Statfjord C Blend 2001-Sommerforhold-10-12"},{"$f":"Oljedatabase[[#This Row],[Sesong]]","v":"Sommerforhold"},15,10,"12",0.66,7800,"Redusert kjemisk dispergerbarhet",0.36,0.46,0.17,0,"Ikke angitt",23,"Redusert kjemisk dispergerbarhet","Nei",1.35,"2001-01-11T01:00:00",847,"Sogn og Fjordane til Møre og Romsdal",35,6866292,-198445,"Statfjord C Blend 2001 Forvitringsrapport.pdf"]
["Statfjord A 2001","Vinterforhold",{"$f":"Oljedatabase[[#This Row],[Oljetype]]&\"-\"&Oljedatabase[[#This Row],[SesongNy]]&\"-\"&Oljedatabase[[#This Row],[Vind (m/s)]]&\"-\"&Oljedatabase[[#This Row],[Tidspunkt (timer)]]","v":"Statfjord A 2001-Vinterforhold-5-3"},{"$f":"Oljedatabase[[#This Row],[Sesong]]","v":"Vinterforhold"},5,5,"3",0.13,2050,"Redusert kjemisk dispergerbarhet",0.25,0.74,0,0,"Ikke angitt",14.7,"Redusert kjemisk dispergerbarhet","Nei",0.86,"2001-01-11T01:00:00",847,"Sogn og Fjordane til Møre og Romsdal",35,6862327,-201935,"Statfjord A 2001 Forvitringsrapport.pdf"]
["Statfjord A 2001","Sommerforhold",{"$f":"Oljedatabase[[#This Row],[Oljetype]]&\"-\"&Oljedatabase[[#This Row],[SesongNy]]&\"-\"&Oljedatabase[[#This Row],[Vind (m/s)]]&\"-\"&Oljedatabase[[#This Row],[Tidspunkt (timer)]]","v":"Statfjord A 2001-Sommerforhold-2-12"},{"$f":"Oljedatabase[[#This Row],[Sesong]]","v":"Sommerforhold"},15,2,"12",0.15,1590,"Redusert kjemisk dispergerbarhet",0.3,0.69,0,0,"Ikke angitt",17.600000000000001,"Kjemisk dispergerbar","Nei",0.82,"2001-01-11T01:00:00",847,"Sogn og Fjordane til Møre og Romsdal",35,6862327,-201935,"Statfjord A 2001 Forvitringsrapport.pdf"]
["Svalin 2014","Sommerforhold",{"$f":"Oljedatabase[[#This Row],[Oljetype]]&\"-\"&Oljedatabase[[#This Row],[SesongNy]]&\"-\"&Oljedatabase[[#This Row],[Vind (m/s)]]&\"-\"&Oljedatabase[[#This Row],[Tidspunkt (timer)]]","v":"Svalin 2014-Sommerforhold-2-1"},{"$f":"Oljedatabase[[#This Row],[Sesong]]","v":"Sommerforhold"},15,2,"1",0,226,"kjemisk dispergerbar",0.03,0.96,0,69,"Ingen eksplosjonsfare",-12.3,"Kjemisk dispergerbar","Nei",0.97,"2014-11-19T01:00:00",917,"Vest-Agder til Hordaland",22,6624110,-217630,"Svalin 2014 Forvitringsrapport.pdf"]
["Statfjord C Blend 2001","Sommerforhold",{"$f":"Oljedatabase[[#This Row],[Oljetype]]&\"-\"&Oljedatabase[[#This Row],[SesongNy]]&\"-\"&Oljedatabase[[#This Row],[Vind (m/s)]]&\"-\"&Oljedatabase[[#This Row],[Tidspunkt (timer)]]","v":"Statfjord C Blend 2001-Sommerforhold-15-120"},{"$f":"Oljedatabase[[#This Row],[Sesong]]","v":"Sommerforhold"},15,15,"120",0.7,17000,"Lav/dårlig kjemisk dispergerbarhet",0.38,0,0.62,0,"Ikke angitt",27,"Redusert kjemisk dispergerbarhet","Ja",0,"2001-01-11T01:00:00",847,"Sogn og Fjordane til Møre og Romsdal",35,6866292,-198445,"Statfjord C Blend 2001 Forvitringsrapport.pdf"]
["Svalin 2014","Sommerforhold",{"$f":"Oljedatabase[[#This Row],[Oljetype]]&\"-\"&Oljedatabase[[#This Row],[SesongNy]]&\"-\"&Oljedatabase[[#This Row],[Vind (m/s)]]&\"-\"&Oljedatabase[[#This Row],[Tidspunkt (timer)]]","v":"Svalin 2014-Sommerforhold-2-9"},{"$f":"Oljedatabase[[#This Row],[Sesong]]","v":"Sommerforhold"},15,2,"9",0.13,438,"kjemisk dispergerbar",0.05,0.94,0,76,"Ingen eksplosjonsfare",-9,"Kjemisk dispergerbar","Nei",1.0900000000000001,"2014-11-19T01:00:00",917,"Vest-Agder til Hordaland",22,6624110,-217630,"Svalin 2014 Forvitringsrapport.pdf"]
["Statfjord C Blend 2001","Vinterforhold",{"$f":"Oljedatabase[[#This Row],[Oljetype]]&\"-\"&Oljedatabase[[#This Row],[SesongNy]]&\"-\"&Oljedatabase[[#This Row],[Vind (m/s)]]&\"-\"&Oljedatabase[[#This Row],[Tidspunkt (timer)]]","v":"Statfjord C Blend 2001-Vinterforhold-2-2"},{"$f":"Oljedatabase[[#This Row],[Sesong]]","v":"Vinterforhold"},5,2,"2",0.02,440,"Kjemisk dispergerbar",0.18,0.82,0,0,"Ikke angitt",9,"Kjemisk dispergerbar","Nei",0.83,"2001-01-11T01:00:00",847,"Sogn og Fjordane til Møre og Romsdal",35,6866292,-198445,"Statfjord C Blend 2001 Forvitringsrapport.pdf"]
["Svalin 2014","Sommerforhold",{"$f":"Oljedatabase[[#This Row],[Oljetype]]&\"-\"&Oljedatabase[[#This Row],[SesongNy]]&\"-\"&Oljedatabase[[#This Row],[Vind (m/s)]]&\"-\"&Oljedatabase[[#This Row],[Tidspunkt (timer)]]","v":"Svalin 2014-Sommerforhold-5-72"},{"$f":"Oljedatabase[[#This Row],[Sesong]]","v":"Sommerforhold"},15,5,"72",0.8,14500,"Lav/dårlig kjemisk dispergerbarhet",0.12,0.82,0.04,99,"Ingen eksplosjonsfare",2.7,"Kjemisk dispergerbar","Ja",4.34,"2014-11-19T01:00:00",917,"Vest-Agder til Hordaland",22,6624110,-217630,"Svalin 2014 Forvitringsrapport.pdf"]
["Svalin 2014","Vinterforhold",{"$f":"Oljedatabase[[#This Row],[Oljetype]]&\"-\"&Oljedatabase[[#This Row],[SesongNy]]&\"-\"&Oljedatabase[[#This Row],[Vind (m/s)]]&\"-\"&Oljedatabase[[#This Row],[Tidspunkt (timer)]]","v":"Svalin 2014-Vinterforhold-2-24"},{"$f":"Oljedatabase[[#This Row],[Sesong]]","v":"Vinterforhold"},5,2,"24",0.3,1570,"kjemisk dispergerbar",0.06,0.93,0,77,"Ingen eksplosjonsfare",-8.4,"Kjemisk dispergerbar","Nei",1.35,"2014-11-19T01:00:00",917,"Vest-Agder til Hordaland",22,6624110,-217630,"Svalin 2014 Forvitringsrapport.pdf"]
["Statfjord C Blend 2001","Vinterforhold",{"$f":"Oljedatabase[[#This Row],[Oljetype]]&\"-\"&Oljedatabase[[#This Row],[SesongNy]]&\"-\"&Oljedatabase[[#This Row],[Vind (m/s)]]&\"-\"&Oljedatabase[[#This Row],[Tidspunkt (timer)]]","v":"Statfjord C Blend 2001-Vinterforhold-2-1"},{"$f":"Oljedatabase[[#This Row],[Sesong]]","v":"Vinterforhold"},5,2,"1",0.01,210,"Kjemisk dispergerbar",0.13,0.87,0,0,"Ikke angitt",6,"Kjemisk dispergerbar","Nei",0.87,"2001-01-11T01:00:00",847,"Sogn og Fjordane til Møre og Romsdal",35,6866292,-198445,"Statfjord C Blend 2001 Forvitringsrapport.pdf"]
["Svalin 2014","Vinterforhold",{"$f":"Oljedatabase[[#This Row],[Oljetype]]&\"-\"&Oljedatabase[[#This Row],[SesongNy]]&\"-\"&Oljedatabase[[#This Row],[Vind (m/s)]]&\"-\"&Oljedatabase[[#This Row],[Tidspunkt (timer)]]","v":"Svalin 2014-Vinterforhold-5-48"},{"$f":"Oljedatabase[[#This Row],[Sesong]]","v":"Vinterforhold"},5,5,"48",0.75,14600,"Lav/dårlig kjemisk dispergerbarhet",0.09,0.87,0.03,87,"Ingen eksplosjonsfare",-3.2,"Kjemisk dispergerbar","Ja",3.54,"2014-11-19T01:00:00",917,"Vest-Agder til Hordaland",22,6624110,-217630,"Svalin 2014 Forvitringsrapport.pdf"]
["Svalin 2014","Vinterforhold",{"$f":"Oljedatabase[[#This Row],[Oljetype]]&\"-\"&Oljedatabase[[#This Row],[SesongNy]]&\"-\"&Oljedatabase[[#This Row],[Vind (m/s)]]&\"-\"&Oljedatabase[[#This Row],[Tidspunkt (timer)]]","v":"Svalin 2014-Vinterforhold-10-6"},{"$f":"Oljedatabase[[#This Row],[Sesong]]","v":"Vinterforhold"},5,10,"6",0.64,6910,"kjemisk dispergerbar",7.0000000000000007E-2,0.83,0.09,80,"Ingen eksplosjonsfare",-6.7,"Kjemisk dispergerbar","Nei",2.33,"2014-11-19T01:00:00",917,"Vest-Agder til Hordaland",22,6624110,-217630,"Svalin 2014 Forvitringsrapport.pdf"]
["Svalin 2014","Sommerforhold",{"$f":"Oljedatabase[[#This Row],[Oljetype]]&\"-\"&Oljedatabase[[#This Row],[SesongNy]]&\"-\"&Oljedatabase[[#This Row],[Vind (m/s)]]&\"-\"&Oljedatabase[[#This Row],[Tidspunkt (timer)]]","v":"Svalin 2014-Sommerforhold-5-24"},{"$f":"Oljedatabase[[#This Row],[Sesong]]","v":"Sommerforhold"},15,5,"24",0.72,6890,"Redusert kjemisk dispergerbarhet",0.09,0.88,0.02,89,"Ingen eksplosjonsfare",-2.6,"Kjemisk dispergerbar","Nei",3.17,"2014-11-19T01:00:00",917,"Vest-Agder til Hordaland",22,6624110,-217630,"Svalin 2014 Forvitringsrapport.pdf"]
["Tambar 2002","Sommerforhold",{"$f":"Oljedatabase[[#This Row],[Oljetype]]&\"-\"&Oljedatabase[[#This Row],[SesongNy]]&\"-\"&Oljedatabase[[#This Row],[Vind (m/s)]]&\"-\"&Oljedatabase[[#This Row],[Tidspunkt (timer)]]","v":"Tambar 2002-Sommerforhold-5-96"},{"$f":"Oljedatabase[[#This Row],[Sesong]]","v":"Sommerforhold"},15,5,"96",0.8,3700,"Ikke testet",0.37,0.54,0.09,0,"Ikke angitt",23,"Redusert kjemisk dispergerbarhet","Nei",2.7,"2002-01-11T01:00:00",828,"Vest-Agder til Hordaland",39,6380131,-229598,"Tambar 2002 Forvitringsrapport.pdf"]
["Svalin 2014","Vinterforhold",{"$f":"Oljedatabase[[#This Row],[Oljetype]]&\"-\"&Oljedatabase[[#This Row],[SesongNy]]&\"-\"&Oljedatabase[[#This Row],[Vind (m/s)]]&\"-\"&Oljedatabase[[#This Row],[Tidspunkt (timer)]]","v":"Svalin 2014-Vinterforhold-2-72"},{"$f":"Oljedatabase[[#This Row],[Sesong]]","v":"Vinterforhold"},5,2,"72",0.6,6610,"kjemisk dispergerbar",0.08,0.91,0,83,"Ingen eksplosjonsfare",-5.0999999999999996,"Kjemisk dispergerbar","Nei",2.3199999999999998,"2014-11-19T01:00:00",917,"Vest-Agder til Hordaland",22,6624110,-217630,"Svalin 2014 Forvitringsrapport.pdf"]
["Svalin 2014","Sommerforhold",{"$f":"Oljedatabase[[#This Row],[Oljetype]]&\"-\"&Oljedatabase[[#This Row],[SesongNy]]&\"-\"&Oljedatabase[[#This Row],[Vind (m/s)]]&\"-\"&Oljedatabase[[#This Row],[Tidspunkt (timer)]]","v":"Svalin 2014-Sommerforhold-15-96"},{"$f":"Oljedatabase[[#This Row],[Sesong]]","v":"Sommerforhold"},15,15,"96",0.8,36300,"Lav/dårlig kjemisk dispergerbarhet",0.13,0,0.85,129,"Ingen eksplosjonsfare",17.100000000000001,"Kjemisk dispergerbar","Ja",0.05,"2014-11-19T01:00:00",917,"Vest-Agder til Hordaland",22,6624110,-217630,"Svalin 2014 Forvitringsrapport.pdf"]
["Tambar 2002","Sommerforhold",{"$f":"Oljedatabase[[#This Row],[Oljetype]]&\"-\"&Oljedatabase[[#This Row],[SesongNy]]&\"-\"&Oljedatabase[[#This Row],[Vind (m/s)]]&\"-\"&Oljedatabase[[#This Row],[Tidspunkt (timer)]]","v":"Tambar 2002-Sommerforhold-10-1"},{"$f":"Oljedatabase[[#This Row],[Sesong]]","v":"Sommerforhold"},15,10,"1",0.72,650,"Ikke testet",0.24,0.72,0.04,0,"Ikke angitt",13,"Kjemisk dispergerbar","Nei",2.57,"2002-01-11T01:00:00",828,"Vest-Agder til Hordaland",39,6380131,-229598,"Tambar 2002 Forvitringsrapport.pdf"]
["Tambar 2002","Vinterforhold",{"$f":"Oljedatabase[[#This Row],[Oljetype]]&\"-\"&Oljedatabase[[#This Row],[SesongNy]]&\"-\"&Oljedatabase[[#This Row],[Vind (m/s)]]&\"-\"&Oljedatabase[[#This Row],[Tidspunkt (timer)]]","v":"Tambar 2002-Vinterforhold-5-9"},{"$f":"Oljedatabase[[#This Row],[Sesong]]","v":"Vinterforhold"},5,5,"9",0.8,1800,"Ikke testet",0.26,0.72,0.01,0,"Ikke angitt",15,"Redusert kjemisk dispergerbarhet","Nei",3.6,"2002-01-11T01:00:00",828,"Vest-Agder til Hordaland",39,6380131,-229598,"Tambar 2002 Forvitringsrapport.pdf"]
["Tambar 2002","Sommerforhold",{"$f":"Oljedatabase[[#This Row],[Oljetype]]&\"-\"&Oljedatabase[[#This Row],[SesongNy]]&\"-\"&Oljedatabase[[#This Row],[Vind (m/s)]]&\"-\"&Oljedatabase[[#This Row],[Tidspunkt (timer)]]","v":"Tambar 2002-Sommerforhold-15-48"},{"$f":"Oljedatabase[[#This Row],[Sesong]]","v":"Sommerforhold"},15,15,"48",0.8,3900,"Ikke testet",0.33,0,0.67,0,"Ikke angitt",23,"Redusert kjemisk dispergerbarhet","Nei",0,"2002-01-11T01:00:00",828,"Vest-Agder til Hordaland",39,6380131,-229598,"Tambar 2002 Forvitringsrapport.pdf"]
["Tambar 2002","Vinterforhold",{"$f":"Oljedatabase[[#This Row],[Oljetype]]&\"-\"&Oljedatabase[[#This Row],[SesongNy]]&\"-\"&Oljedatabase[[#This Row],[Vind (m/s)]]&\"-\"&Oljedatabase[[#This Row],[Tidspunkt (timer)]]","v":"Tambar 2002-Vinterforhold-2-2"},{"$f":"Oljedatabase[[#This Row],[Sesong]]","v":"Vinterforhold"},5,2,"2",0.23,94,"Ikke testet",0.16,0.84,0,0,"Ikke angitt",7,"Kjemisk dispergerbar","Nei",1.0900000000000001,"2002-01-11T01:00:00",828,"Vest-Agder til Hordaland",39,6380131,-229598,"Tambar 2002 Forvitringsrapport.pdf"]
["Tambar 2002","Vinterforhold",{"$f":"Oljedatabase[[#This Row],[Oljetype]]&\"-\"&Oljedatabase[[#This Row],[SesongNy]]&\"-\"&Oljedatabase[[#This Row],[Vind (m/s)]]&\"-\"&Oljedatabase[[#This Row],[Tidspunkt (timer)]]","v":"Tambar 2002-Vinterforhold-5-120"},{"$f":"Oljedatabase[[#This Row],[Sesong]]","v":"Vinterforhold"},5,5,"120",0.8,5500,"Ikke testet",0.34,0.56000000000000005,0.1,0,"Ikke angitt",21,"Lav/dårlig dispergerbarhet","Nei",2.8,"2002-01-11T01:00:00",828,"Vest-Agder til Hordaland",39,6380131,-229598,"Tambar 2002 Forvitringsrapport.pdf"]
["Svalin 2014","Vinterforhold",{"$f":"Oljedatabase[[#This Row],[Oljetype]]&\"-\"&Oljedatabase[[#This Row],[SesongNy]]&\"-\"&Oljedatabase[[#This Row],[Vind (m/s)]]&\"-\"&Oljedatabase[[#This Row],[Tidspunkt (timer)]]","v":"Svalin 2014-Vinterforhold-5-24"},{"$f":"Oljedatabase[[#This Row],[Sesong]]","v":"Vinterforhold"},5,5,"24",0.67,8630,"Redusert kjemisk dispergerbarhet",7.0000000000000007E-2,0.9,0.02,82,"Ingen eksplosjonsfare",-5.7,"Kjemisk dispergerbar","Nei",2.8,"2014-11-19T01:00:00",917,"Vest-Agder til Hordaland",22,6624110,-217630,"Svalin 2014 Forvitringsrapport.pdf"]
["Svalin 2014","Vinterforhold",{"$f":"Oljedatabase[[#This Row],[Oljetype]]&\"-\"&Oljedatabase[[#This Row],[SesongNy]]&\"-\"&Oljedatabase[[#This Row],[Vind (m/s)]]&\"-\"&Oljedatabase[[#This Row],[Tidspunkt (timer)]]","v":"Svalin 2014-Vinterforhold-15-120"},{"$f":"Oljedatabase[[#This Row],[Sesong]]","v":"Vinterforhold"},5,15,"120",0.75,47700,"Lav/dårlig kjemisk dispergerbarhet",0.11,0,0.87,121,"Ingen eksplosjonsfare",13.2,"Redusert kjemisk dispergerbarhet","Ja",0.03,"2014-11-19T01:00:00",917,"Vest-Agder til Hordaland",22,6624110,-217630,"Svalin 2014 Forvitringsrapport.pdf"]
["Svalin 2014","Sommerforhold",{"$f":"Oljedatabase[[#This Row],[Oljetype]]&\"-\"&Oljedatabase[[#This Row],[SesongNy]]&\"-\"&Oljedatabase[[#This Row],[Vind (m/s)]]&\"-\"&Oljedatabase[[#This Row],[Tidspunkt (timer)]]","v":"Svalin 2014-Sommerforhold-10-1"},{"$f":"Oljedatabase[[#This Row],[Sesong]]","v":"Sommerforhold"},15,10,"1",0.2,518,"kjemisk dispergerbar",0.05,0.92,0.02,74,"Ingen eksplosjonsfare",-10,"Kjemisk dispergerbar","Nei",1.1599999999999999,"2014-11-19T01:00:00",917,"Vest-Agder til Hordaland",22,6624110,-217630,"Svalin 2014 Forvitringsrapport.pdf"]
["Tambar 2002","Sommerforhold",{"$f":"Oljedatabase[[#This Row],[Oljetype]]&\"-\"&Oljedatabase[[#This Row],[SesongNy]]&\"-\"&Oljedatabase[[#This Row],[Vind (m/s)]]&\"-\"&Oljedatabase[[#This Row],[Tidspunkt (timer)]]","v":"Tambar 2002-Sommerforhold-5-48"},{"$f":"Oljedatabase[[#This Row],[Sesong]]","v":"Sommerforhold"},15,5,"48",0.8,2900,"Ikke testet",0.34,0.6,0.05,0,"Ikke angitt",21,"Redusert kjemisk dispergerbarhet","Nei",3,"2002-01-11T01:00:00",828,"Vest-Agder til Hordaland",39,6380131,-229598,"Tambar 2002 Forvitringsrapport.pdf"]
["Tau 1999","Sommerforhold",{"$f":"Oljedatabase[[#This Row],[Oljetype]]&\"-\"&Oljedatabase[[#This Row],[SesongNy]]&\"-\"&Oljedatabase[[#This Row],[Vind (m/s)]]&\"-\"&Oljedatabase[[#This Row],[Tidspunkt (timer)]]","v":"Tau 1999-Sommerforhold-15-2"},{"$f":"Oljedatabase[[#This Row],[Sesong]]","v":"Sommerforhold"},15,15,"2",0.59,1500,"Redusert kjemisk dispergerbarhet",0.12,0.79,0.09,70,"Ingen eksplosjonsfare",26,"Redusert kjemisk dispergerbarhet","Nei",1.92,"1999-01-21T01:00:00",851,"Vest-Agder til Hordaland",34,6658686,-212268,"Tau 1999 Forvitringsrapport.pdf"]
["Tau 1999","Vinterforhold",{"$f":"Oljedatabase[[#This Row],[Oljetype]]&\"-\"&Oljedatabase[[#This Row],[SesongNy]]&\"-\"&Oljedatabase[[#This Row],[Vind (m/s)]]&\"-\"&Oljedatabase[[#This Row],[Tidspunkt (timer)]]","v":"Tau 1999-Vinterforhold-10-72"},{"$f":"Oljedatabase[[#This Row],[Sesong]]","v":"Vinterforhold"},5,10,"72",0.5,13000,"Lav/dårlig kjemisk dispergerbarhet",0.23,0.46,0.3,101,"Ingen eksplosjonsfare",29,"Lav/dårlig dispergerbarhet","Ja",0.92,"1999-01-21T01:00:00",851,"Vest-Agder til Hordaland",34,6658686,-212268,"Tau 1999 Forvitringsrapport.pdf"]
["Tau 1999","Vinterforhold",{"$f":"Oljedatabase[[#This Row],[Oljetype]]&\"-\"&Oljedatabase[[#This Row],[SesongNy]]&\"-\"&Oljedatabase[[#This Row],[Vind (m/s)]]&\"-\"&Oljedatabase[[#This Row],[Tidspunkt (timer)]]","v":"Tau 1999-Vinterforhold-2-9"},{"$f":"Oljedatabase[[#This Row],[Sesong]]","v":"Vinterforhold"},5,2,"9",0.16,3900,"Redusert kjemisk dispergerbarhet",0.11,0.89,0,45,"Eksplosjonsfare ved tanking",23,"Lav/dårlig dispergerbarhet","Nei",1.05,"1999-01-21T01:00:00",851,"Vest-Agder til Hordaland",34,6658686,-212268,"Tau 1999 Forvitringsrapport.pdf"]
["Tordis 1999","Sommerforhold",{"$f":"Oljedatabase[[#This Row],[Oljetype]]&\"-\"&Oljedatabase[[#This Row],[SesongNy]]&\"-\"&Oljedatabase[[#This Row],[Vind (m/s)]]&\"-\"&Oljedatabase[[#This Row],[Tidspunkt (timer)]]","v":"Tordis 1999-Sommerforhold-5-96"},{"$f":"Oljedatabase[[#This Row],[Sesong]]","v":"Sommerforhold"},15,5,"96",0.8,2400,"Redusert kjemisk dispergerbarhet",0.34,0.61,0.05,91,"Ingen eksplosjonsfare",23,"Redusert kjemisk dispergerbarhet","Nei",3.05,"1999-09-29T02:00:00",840,"Sogn og Fjordane til Møre og Romsdal",36,6861686,-187519,"Tordis 1999 Forvitringsrapport.pdf"]
["Tau 1999","Vinterforhold",{"$f":"Oljedatabase[[#This Row],[Oljetype]]&\"-\"&Oljedatabase[[#This Row],[SesongNy]]&\"-\"&Oljedatabase[[#This Row],[Vind (m/s)]]&\"-\"&Oljedatabase[[#This Row],[Tidspunkt (timer)]]","v":"Tau 1999-Vinterforhold-10-9"},{"$f":"Oljedatabase[[#This Row],[Sesong]]","v":"Vinterforhold"},5,10,"9",0.5,6100,"Redusert kjemisk dispergerbarhet",0.18,0.76,0.06,71,"Ingen eksplosjonsfare",26,"Lav/dårlig dispergerbarhet","Nei",1.52,"1999-01-21T01:00:00",851,"Vest-Agder til Hordaland",34,6658686,-212268,"Tau 1999 Forvitringsrapport.pdf"]
["Tau 1999","Sommerforhold",{"$f":"Oljedatabase[[#This Row],[Oljetype]]&\"-\"&Oljedatabase[[#This Row],[SesongNy]]&\"-\"&Oljedatabase[[#This Row],[Vind (m/s)]]&\"-\"&Oljedatabase[[#This Row],[Tidspunkt (timer)]]","v":"Tau 1999-Sommerforhold-10-2"},{"$f":"Oljedatabase[[#This Row],[Sesong]]","v":"Sommerforhold"},15,10,"2",0.5,1200,"Kjemisk dispergerbar",0.1,0.88,0.02,38,"Eksplosjonsfare ved tanking",23,"Redusert kjemisk dispergerbarhet","Nei",1.76,"1999-01-21T01:00:00",851,"Vest-Agder til Hordaland",34,6658686,-212268,"Tau 1999 Forvitringsrapport.pdf"]
["Tordis 1999","Sommerforhold",{"$f":"Oljedatabase[[#This Row],[Oljetype]]&\"-\"&Oljedatabase[[#This Row],[SesongNy]]&\"-\"&Oljedatabase[[#This Row],[Vind (m/s)]]&\"-\"&Oljedatabase[[#This Row],[Tidspunkt (timer)]]","v":"Tordis 1999-Sommerforhold-10-72"},{"$f":"Oljedatabase[[#This Row],[Sesong]]","v":"Sommerforhold"},15,10,"72",0.8,2900,"Redusert kjemisk dispergerbarhet",0.35,0.22,0.43,100,"Ingen eksplosjonsfare",25,"Redusert kjemisk dispergerbarhet","Nei",1.1000000000000001,"1999-09-29T02:00:00",840,"Sogn og Fjordane til Møre og Romsdal",36,6861686,-187519,"Tordis 1999 Forvitringsrapport.pdf"]
["Tordis 1999","Sommerforhold",{"$f":"Oljedatabase[[#This Row],[Oljetype]]&\"-\"&Oljedatabase[[#This Row],[SesongNy]]&\"-\"&Oljedatabase[[#This Row],[Vind (m/s)]]&\"-\"&Oljedatabase[[#This Row],[Tidspunkt (timer)]]","v":"Tordis 1999-Sommerforhold-10-3"},{"$f":"Oljedatabase[[#This Row],[Sesong]]","v":"Sommerforhold"},15,10,"3",0.79,1400,"Kjemisk dispergerbar",0.25,0.69,0.05,68,"Ingen eksplosjonsfare",18,"Kjemisk dispergerbar","Nei",3.28,"1999-09-29T02:00:00",840,"Sogn og Fjordane til Møre og Romsdal",36,6861686,-187519,"Tordis 1999 Forvitringsrapport.pdf"]
["Tau 1999","Vinterforhold",{"$f":"Oljedatabase[[#This Row],[Oljetype]]&\"-\"&Oljedatabase[[#This Row],[SesongNy]]&\"-\"&Oljedatabase[[#This Row],[Vind (m/s)]]&\"-\"&Oljedatabase[[#This Row],[Tidspunkt (timer)]]","v":"Tau 1999-Vinterforhold-2-6"},{"$f":"Oljedatabase[[#This Row],[Sesong]]","v":"Vinterforhold"},5,2,"6",0.11,3600,"Redusert kjemisk dispergerbarhet",0.1,0.9,0,40,"Eksplosjonsfare ved tanking",23,"Lav/dårlig dispergerbarhet","Nei",1.01,"1999-01-21T01:00:00",851,"Vest-Agder til Hordaland",34,6658686,-212268,"Tau 1999 Forvitringsrapport.pdf"]
["Tau 1999","Vinterforhold",{"$f":"Oljedatabase[[#This Row],[Oljetype]]&\"-\"&Oljedatabase[[#This Row],[SesongNy]]&\"-\"&Oljedatabase[[#This Row],[Vind (m/s)]]&\"-\"&Oljedatabase[[#This Row],[Tidspunkt (timer)]]","v":"Tau 1999-Vinterforhold-15-9"},{"$f":"Oljedatabase[[#This Row],[Sesong]]","v":"Vinterforhold"},5,15,"9",0.5,8000,"Redusert kjemisk dispergerbarhet",0.19,0.54,0.26,81,"Ingen eksplosjonsfare",27,"Lav/dårlig dispergerbarhet","Nei",1.08,"1999-01-21T01:00:00",851,"Vest-Agder til Hordaland",34,6658686,-212268,"Tau 1999 Forvitringsrapport.pdf"]
["Tau 1999","Sommerforhold",{"$f":"Oljedatabase[[#This Row],[Oljetype]]&\"-\"&Oljedatabase[[#This Row],[SesongNy]]&\"-\"&Oljedatabase[[#This Row],[Vind (m/s)]]&\"-\"&Oljedatabase[[#This Row],[Tidspunkt (timer)]]","v":"Tau 1999-Sommerforhold-2-6"},{"$f":"Oljedatabase[[#This Row],[Sesong]]","v":"Sommerforhold"},15,2,"6",0.2,2100,"Redusert kjemisk dispergerbarhet",0.12,0.88,0,48,"Eksplosjonsfare ved tanking",24,"Redusert kjemisk dispergerbarhet","Nei",1.1000000000000001,"1999-01-21T01:00:00",851,"Vest-Agder til Hordaland",34,6658686,-212268,"Tau 1999 Forvitringsrapport.pdf"]
["Tordis 1999","Sommerforhold",{"$f":"Oljedatabase[[#This Row],[Oljetype]]&\"-\"&Oljedatabase[[#This Row],[SesongNy]]&\"-\"&Oljedatabase[[#This Row],[Vind (m/s)]]&\"-\"&Oljedatabase[[#This Row],[Tidspunkt (timer)]]","v":"Tordis 1999-Sommerforhold-2-6"},{"$f":"Oljedatabase[[#This Row],[Sesong]]","v":"Sommerforhold"},15,2,"6",0.42,230,"Kjemisk dispergerbar",0.2,0.8,0,55,"Eksplosjonsfare ved tanking",16,"Kjemisk dispergerbar","Nei",1.37,"1999-09-29T02:00:00",840,"Sogn og Fjordane til Møre og Romsdal",36,6861686,-187519,"Tordis 1999 Forvitringsrapport.pdf"]
["Tordis 1999","Sommerforhold",{"$f":"Oljedatabase[[#This Row],[Oljetype]]&\"-\"&Oljedatabase[[#This Row],[SesongNy]]&\"-\"&Oljedatabase[[#This Row],[Vind (m/s)]]&\"-\"&Oljedatabase[[#This Row],[Tidspunkt (timer)]]","v":"Tordis 1999-Sommerforhold-15-72"},{"$f":"Oljedatabase[[#This Row],[Sesong]]","v":"Sommerforhold"},15,15,"72",0.8,2900,"Redusert kjemisk dispergerbarhet",0.33,0,0.67,100,"Ingen eksplosjonsfare",25,"Redusert kjemisk dispergerbarhet","Nei",0,"1999-09-29T02:00:00",840,"Sogn og Fjordane til Møre og Romsdal",36,6861686,-187519,"Tordis 1999 Forvitringsrapport.pdf"]
["Tordis 1999","Sommerforhold",{"$f":"Oljedatabase[[#This Row],[Oljetype]]&\"-\"&Oljedatabase[[#This Row],[SesongNy]]&\"-\"&Oljedatabase[[#This Row],[Vind (m/s)]]&\"-\"&Oljedatabase[[#This Row],[Tidspunkt (timer)]]","v":"Tordis 1999-Sommerforhold-5-24"},{"$f":"Oljedatabase[[#This Row],[Sesong]]","v":"Sommerforhold"},15,5,"24",0.8,1800,"Kjemisk dispergerbar",0.28999999999999998,0.69,0.02,78,"Ingen eksplosjonsfare",20,"Kjemisk dispergerbar","Nei",3.45,"1999-09-29T02:00:00",840,"Sogn og Fjordane til Møre og Romsdal",36,6861686,-187519,"Tordis 1999 Forvitringsrapport.pdf"]
["Tau 1999","Vinterforhold",{"$f":"Oljedatabase[[#This Row],[Oljetype]]&\"-\"&Oljedatabase[[#This Row],[SesongNy]]&\"-\"&Oljedatabase[[#This Row],[Vind (m/s)]]&\"-\"&Oljedatabase[[#This Row],[Tidspunkt (timer)]]","v":"Tau 1999-Vinterforhold-2-2"},{"$f":"Oljedatabase[[#This Row],[Sesong]]","v":"Vinterforhold"},5,2,"2",0.04,2000,"Redusert kjemisk dispergerbarhet",0.03,0.95,0.02,27,"Eksplosjonsfare ved tanking",21,"Lav/dårlig dispergerbarhet","Nei",0.98,"1999-01-21T01:00:00",851,"Vest-Agder til Hordaland",34,6658686,-212268,"Tau 1999 Forvitringsrapport.pdf"]
["Trestakk 2008","Sommerforhold",{"$f":"Oljedatabase[[#This Row],[Oljetype]]&\"-\"&Oljedatabase[[#This Row],[SesongNy]]&\"-\"&Oljedatabase[[#This Row],[Vind (m/s)]]&\"-\"&Oljedatabase[[#This Row],[Tidspunkt (timer)]]","v":"Trestakk 2008-Sommerforhold-2-120"},{"$f":"Oljedatabase[[#This Row],[Sesong]]","v":"Sommerforhold"},15,2,"120",0.8,6200,"Redusert kjemisk dispergerbarhet",0.36,0,0.64,132,"Ingen eksplosjonsfare",-24,"Kjemisk dispergerbar","Nei",0,"2008-05-18T02:00:00",831,"Sør-Trøndelag til Nordland",38,7218177,113649,"Trestakk 2008 Forvitringsrapport.pdf"]
["Tordis 1999","Vinterforhold",{"$f":"Oljedatabase[[#This Row],[Oljetype]]&\"-\"&Oljedatabase[[#This Row],[SesongNy]]&\"-\"&Oljedatabase[[#This Row],[Vind (m/s)]]&\"-\"&Oljedatabase[[#This Row],[Tidspunkt (timer)]]","v":"Tordis 1999-Vinterforhold-10-12"},{"$f":"Oljedatabase[[#This Row],[Sesong]]","v":"Vinterforhold"},5,10,"12",0.8,2600,"Redusert kjemisk dispergerbarhet",0.27,0.6,0.12,74,"Ingen eksplosjonsfare",20,"Redusert kjemisk dispergerbarhet","Nei",3,"1999-09-29T02:00:00",840,"Sogn og Fjordane til Møre og Romsdal",36,6861686,-187519,"Tordis 1999 Forvitringsrapport.pdf"]
["Tordis 1999","Vinterforhold",{"$f":"Oljedatabase[[#This Row],[Oljetype]]&\"-\"&Oljedatabase[[#This Row],[SesongNy]]&\"-\"&Oljedatabase[[#This Row],[Vind (m/s)]]&\"-\"&Oljedatabase[[#This Row],[Tidspunkt (timer)]]","v":"Tordis 1999-Vinterforhold-15-96"},{"$f":"Oljedatabase[[#This Row],[Sesong]]","v":"Vinterforhold"},5,15,"96",0.8,4200,"Redusert kjemisk dispergerbarhet",0.3,0,0.7,94,"Ingen eksplosjonsfare",24,"Lav/dårlig dispergerbarhet","Nei",0,"1999-09-29T02:00:00",840,"Sogn og Fjordane til Møre og Romsdal",36,6861686,-187519,"Tordis 1999 Forvitringsrapport.pdf"]
["Trestakk 2008","Sommerforhold",{"$f":"Oljedatabase[[#This Row],[Oljetype]]&\"-\"&Oljedatabase[[#This Row],[SesongNy]]&\"-\"&Oljedatabase[[#This Row],[Vind (m/s)]]&\"-\"&Oljedatabase[[#This Row],[Tidspunkt (timer)]]","v":"Trestakk 2008-Sommerforhold-5-1"},{"$f":"Oljedatabase[[#This Row],[Sesong]]","v":"Sommerforhold"},15,5,"1",0.18,46,"Kjemisk dispergerbar",0.24,0.55000000000000004,0.21,50,"Eksplosjonsfare ved tanking",-34,"Kjemisk dispergerbar","Nei",0.67069999999999996,"2008-05-18T02:00:00",831,"Sør-Trøndelag til Nordland",38,7218177,113649,"Trestakk 2008 Forvitringsrapport.pdf"]
["Trestakk 2008","Sommerforhold",{"$f":"Oljedatabase[[#This Row],[Oljetype]]&\"-\"&Oljedatabase[[#This Row],[SesongNy]]&\"-\"&Oljedatabase[[#This Row],[Vind (m/s)]]&\"-\"&Oljedatabase[[#This Row],[Tidspunkt (timer)]]","v":"Trestakk 2008-Sommerforhold-2-48"},{"$f":"Oljedatabase[[#This Row],[Sesong]]","v":"Sommerforhold"},15,2,"48",0.69,2400,"Kjemisk dispergerbar",0.36,0,0.64,117,"Ingen eksplosjonsfare",-27,"Kjemisk dispergerbar","Nei",0,"2008-05-18T02:00:00",831,"Sør-Trøndelag til Nordland",38,7218177,113649,"Trestakk 2008 Forvitringsrapport.pdf"]
["Trestakk 2008","Sommerforhold",{"$f":"Oljedatabase[[#This Row],[Oljetype]]&\"-\"&Oljedatabase[[#This Row],[SesongNy]]&\"-\"&Oljedatabase[[#This Row],[Vind (m/s)]]&\"-\"&Oljedatabase[[#This Row],[Tidspunkt (timer)]]","v":"Trestakk 2008-Sommerforhold-2-2"},{"$f":"Oljedatabase[[#This Row],[Sesong]]","v":"Sommerforhold"},15,2,"2",0.13,35,"Kjemisk dispergerbar",0.34,0.28000000000000003,0.38,52,"Eksplosjonsfare ved tanking",-36,"Kjemisk dispergerbar","Nei",0.32,"2008-05-18T02:00:00",831,"Sør-Trøndelag til Nordland",38,7218177,113649,"Trestakk 2008 Forvitringsrapport.pdf"]
["Trestakk 2008","Sommerforhold",{"$f":"Oljedatabase[[#This Row],[Oljetype]]&\"-\"&Oljedatabase[[#This Row],[SesongNy]]&\"-\"&Oljedatabase[[#This Row],[Vind (m/s)]]&\"-\"&Oljedatabase[[#This Row],[Tidspunkt (timer)]]","v":"Trestakk 2008-Sommerforhold-5-72"},{"$f":"Oljedatabase[[#This Row],[Sesong]]","v":"Sommerforhold"},15,5,"72",0.8,6800,"Redusert kjemisk dispergerbarhet",0.31,0,0.69,137,"Ingen eksplosjonsfare",-23,"Kjemisk dispergerbar","Nei",0,"2008-05-18T02:00:00",831,"Sør-Trøndelag til Nordland",38,7218177,113649,"Trestakk 2008 Forvitringsrapport.pdf"]
["Trestakk 2008","Vinterforhold",{"$f":"Oljedatabase[[#This Row],[Oljetype]]&\"-\"&Oljedatabase[[#This Row],[SesongNy]]&\"-\"&Oljedatabase[[#This Row],[Vind (m/s)]]&\"-\"&Oljedatabase[[#This Row],[Tidspunkt (timer)]]","v":"Trestakk 2008-Vinterforhold-2-9"},{"$f":"Oljedatabase[[#This Row],[Sesong]]","v":"Vinterforhold"},5,2,"9",0.3,200,"Kjemisk dispergerbar",0.28000000000000003,0.72,0,77,"Ingen eksplosjonsfare",-30,"Kjemisk dispergerbar","Nei",1.02,"2008-05-18T02:00:00",831,"Sør-Trøndelag til Nordland",38,7218177,113649,"Trestakk 2008 Forvitringsrapport.pdf"]
["Trestakk 2008","Sommerforhold",{"$f":"Oljedatabase[[#This Row],[Oljetype]]&\"-\"&Oljedatabase[[#This Row],[SesongNy]]&\"-\"&Oljedatabase[[#This Row],[Vind (m/s)]]&\"-\"&Oljedatabase[[#This Row],[Tidspunkt (timer)]]","v":"Trestakk 2008-Sommerforhold-10-12"},{"$f":"Oljedatabase[[#This Row],[Sesong]]","v":"Sommerforhold"},15,10,"12",0.8,5100,"Redusert kjemisk dispergerbarhet",0.35,0.01,0.63,127,"Ingen eksplosjonsfare",-24,"Kjemisk dispergerbar","Nei",0.05,"2008-05-18T02:00:00",831,"Sør-Trøndelag til Nordland",38,7218177,113649,"Trestakk 2008 Forvitringsrapport.pdf"]
["Troll 1999","Sommerforhold",{"$f":"Oljedatabase[[#This Row],[Oljetype]]&\"-\"&Oljedatabase[[#This Row],[SesongNy]]&\"-\"&Oljedatabase[[#This Row],[Vind (m/s)]]&\"-\"&Oljedatabase[[#This Row],[Tidspunkt (timer)]]","v":"Troll 1999-Sommerforhold-5-6"},{"$f":"Oljedatabase[[#This Row],[Sesong]]","v":"Sommerforhold"},15,5,"6",0.66,1300,"Kjemisk dispergerbar",0.13,0.87,0.01,76,"Ingen eksplosjonsfare",-11,"Kjemisk dispergerbar","Nei",2.5499999999999998,"1999-10-29T02:00:00",893,"Sogn og Fjordane til Møre og Romsdal",26,6776258,-114434,"Troll 1999 Forvitringsrapport.pdf"]
["Trestakk 2008","Vinterforhold",{"$f":"Oljedatabase[[#This Row],[Oljetype]]&\"-\"&Oljedatabase[[#This Row],[SesongNy]]&\"-\"&Oljedatabase[[#This Row],[Vind (m/s)]]&\"-\"&Oljedatabase[[#This Row],[Tidspunkt (timer)]]","v":"Trestakk 2008-Vinterforhold-15-24"},{"$f":"Oljedatabase[[#This Row],[Sesong]]","v":"Vinterforhold"},5,15,"24",0.8,11000,"Lav/dårlig kjemisk dispergerbarhet",0.34,0,0.66,133,"Ingen eksplosjonsfare",-23,"Kjemisk dispergerbar","Ja",0,"2008-05-18T02:00:00",831,"Sør-Trøndelag til Nordland",38,7218177,113649,"Trestakk 2008 Forvitringsrapport.pdf"]
["Trestakk 2008","Vinterforhold",{"$f":"Oljedatabase[[#This Row],[Oljetype]]&\"-\"&Oljedatabase[[#This Row],[SesongNy]]&\"-\"&Oljedatabase[[#This Row],[Vind (m/s)]]&\"-\"&Oljedatabase[[#This Row],[Tidspunkt (timer)]]","v":"Trestakk 2008-Vinterforhold-10-48"},{"$f":"Oljedatabase[[#This Row],[Sesong]]","v":"Vinterforhold"},5,10,"48",0.8,10000,"Lav/dårlig kjemisk dispergerbarhet",0.38,0.05,0.56999999999999995,135,"Ingen eksplosjonsfare",-23,"Kjemisk dispergerbar","Nei",0.25,"2008-05-18T02:00:00",831,"Sør-Trøndelag til Nordland",38,7218177,113649,"Trestakk 2008 Forvitringsrapport.pdf"]
["Trestakk 2008","Vinterforhold",{"$f":"Oljedatabase[[#This Row],[Oljetype]]&\"-\"&Oljedatabase[[#This Row],[SesongNy]]&\"-\"&Oljedatabase[[#This Row],[Vind (m/s)]]&\"-\"&Oljedatabase[[#This Row],[Tidspunkt (timer)]]","v":"Trestakk 2008-Vinterforhold-10-96"},{"$f":"Oljedatabase[[#This Row],[Sesong]]","v":"Vinterforhold"},5,10,"96",0.8,13000,"Lav/dårlig kjemisk dispergerbarhet",0.39,0,0.61,145,"Ingen eksplosjonsfare",-22,"Kjemisk dispergerbar","Ja",0,"2008-05-18T02:00:00",831,"Sør-Trøndelag til Nordland",38,7218177,113649,"Trestakk 2008 Forvitringsrapport.pdf"]
["Troll 1999","Sommerforhold",{"$f":"Oljedatabase[[#This Row],[Oljetype]]&\"-\"&Oljedatabase[[#This Row],[SesongNy]]&\"-\"&Oljedatabase[[#This Row],[Vind (m/s)]]&\"-\"&Oljedatabase[[#This Row],[Tidspunkt (timer)]]","v":"Troll 1999-Sommerforhold-10-9"},{"$f":"Oljedatabase[[#This Row],[Sesong]]","v":"Sommerforhold"},15,10,"9",0.75,3900,"Redusert kjemisk dispergerbarhet",0.17,0.74,0.09,100,"Ingen eksplosjonsfare",-2,"Kjemisk dispergerbar","Nei",2.96,"1999-10-29T02:00:00",893,"Sogn og Fjordane til Møre og Romsdal",26,6776258,-114434,"Troll 1999 Forvitringsrapport.pdf"]
["Troll 1999","Sommerforhold",{"$f":"Oljedatabase[[#This Row],[Oljetype]]&\"-\"&Oljedatabase[[#This Row],[SesongNy]]&\"-\"&Oljedatabase[[#This Row],[Vind (m/s)]]&\"-\"&Oljedatabase[[#This Row],[Tidspunkt (timer)]]","v":"Troll 1999-Sommerforhold-5-72"},{"$f":"Oljedatabase[[#This Row],[Sesong]]","v":"Sommerforhold"},15,5,"72",0.75,5300,"Redusert kjemisk dispergerbarhet",0.21,0.76,0.03,116,"Ingen eksplosjonsfare",5,"Kjemisk dispergerbar","Nei",3.04,"1999-10-29T02:00:00",893,"Sogn og Fjordane til Møre og Romsdal",26,6776258,-114434,"Troll 1999 Forvitringsrapport.pdf"]
["Troll 1999","Sommerforhold",{"$f":"Oljedatabase[[#This Row],[Oljetype]]&\"-\"&Oljedatabase[[#This Row],[SesongNy]]&\"-\"&Oljedatabase[[#This Row],[Vind (m/s)]]&\"-\"&Oljedatabase[[#This Row],[Tidspunkt (timer)]]","v":"Troll 1999-Sommerforhold-15-96"},{"$f":"Oljedatabase[[#This Row],[Sesong]]","v":"Sommerforhold"},15,15,"96",0.75,11338,"Lav/dårlig kjemisk dispergerbarhet",0.23,0.03,0.74,164,"Ingen eksplosjonsfare",23,"Redusert kjemisk dispergerbarhet","Ja",0.12,"1999-10-29T02:00:00",893,"Sogn og Fjordane til Møre og Romsdal",26,6776258,-114434,"Troll 1999 Forvitringsrapport.pdf"]
["Troll 1999","Vinterforhold",{"$f":"Oljedatabase[[#This Row],[Oljetype]]&\"-\"&Oljedatabase[[#This Row],[SesongNy]]&\"-\"&Oljedatabase[[#This Row],[Vind (m/s)]]&\"-\"&Oljedatabase[[#This Row],[Tidspunkt (timer)]]","v":"Troll 1999-Vinterforhold-2-3"},{"$f":"Oljedatabase[[#This Row],[Sesong]]","v":"Vinterforhold"},5,2,"3",0.17,120,"Kjemisk dispergerbar",7.0000000000000007E-2,0.93,0,50,"Eksplosjonsfare ved tanking",-22,"Kjemisk dispergerbar","Nei",1.1200000000000001,"1999-10-29T02:00:00",893,"Sogn og Fjordane til Møre og Romsdal",26,6776258,-114434,"Troll 1999 Forvitringsrapport.pdf"]
["Troll 1999","Sommerforhold",{"$f":"Oljedatabase[[#This Row],[Oljetype]]&\"-\"&Oljedatabase[[#This Row],[SesongNy]]&\"-\"&Oljedatabase[[#This Row],[Vind (m/s)]]&\"-\"&Oljedatabase[[#This Row],[Tidspunkt (timer)]]","v":"Troll 1999-Sommerforhold-15-72"},{"$f":"Oljedatabase[[#This Row],[Sesong]]","v":"Sommerforhold"},15,15,"72",0.75,11000,"Lav/dårlig kjemisk dispergerbarhet",0.23,0.04,0.74,162,"Ingen eksplosjonsfare",23,"Redusert kjemisk dispergerbarhet","Ja",0.16,"1999-10-29T02:00:00",893,"Sogn og Fjordane til Møre og Romsdal",26,6776258,-114434,"Troll 1999 Forvitringsrapport.pdf"]
["Troll 1999","Sommerforhold",{"$f":"Oljedatabase[[#This Row],[Oljetype]]&\"-\"&Oljedatabase[[#This Row],[SesongNy]]&\"-\"&Oljedatabase[[#This Row],[Vind (m/s)]]&\"-\"&Oljedatabase[[#This Row],[Tidspunkt (timer)]]","v":"Troll 1999-Sommerforhold-15-24"},{"$f":"Oljedatabase[[#This Row],[Sesong]]","v":"Sommerforhold"},15,15,"24",0.75,7300,"Lav/dårlig kjemisk dispergerbarhet",0.21,0.24,0.55000000000000004,135,"Ingen eksplosjonsfare",12,"Kjemisk dispergerbar","Nei",0.96,"1999-10-29T02:00:00",893,"Sogn og Fjordane til Møre og Romsdal",26,6776258,-114434,"Troll 1999 Forvitringsrapport.pdf"]
["Trym 2011","Sommerforhold",{"$f":"Oljedatabase[[#This Row],[Oljetype]]&\"-\"&Oljedatabase[[#This Row],[SesongNy]]&\"-\"&Oljedatabase[[#This Row],[Vind (m/s)]]&\"-\"&Oljedatabase[[#This Row],[Tidspunkt (timer)]]","v":"Trym 2011-Sommerforhold-15-48"},{"$f":"Oljedatabase[[#This Row],[Sesong]]","v":"Sommerforhold"},15,15,"48",0,1490,"Redusert kjemisk dispergerbarhet",0.48,0,0.52,145,"Ingen eksplosjonsfare",35.5,"Lav/dårlig dispergerbarhet","Nei",0,"2011-09-04T02:00:00",798,"Vest-Agder til Hordaland",45,6300691,-163069,"Trym 2011 Forvitringsrapport.pdf"]
["Troll 1999","Vinterforhold",{"$f":"Oljedatabase[[#This Row],[Oljetype]]&\"-\"&Oljedatabase[[#This Row],[SesongNy]]&\"-\"&Oljedatabase[[#This Row],[Vind (m/s)]]&\"-\"&Oljedatabase[[#This Row],[Tidspunkt (timer)]]","v":"Troll 1999-Vinterforhold-15-72"},{"$f":"Oljedatabase[[#This Row],[Sesong]]","v":"Vinterforhold"},5,15,"72",0.73,13000,"Lav/dårlig kjemisk dispergerbarhet",0.2,0.05,0.75,142,"Ingen eksplosjonsfare",15,"Redusert kjemisk dispergerbarhet","Ja",0.18,"1999-10-29T02:00:00",893,"Sogn og Fjordane til Møre og Romsdal",26,6776258,-114434,"Troll 1999 Forvitringsrapport.pdf"]
["Trym 2011","Sommerforhold",{"$f":"Oljedatabase[[#This Row],[Oljetype]]&\"-\"&Oljedatabase[[#This Row],[SesongNy]]&\"-\"&Oljedatabase[[#This Row],[Vind (m/s)]]&\"-\"&Oljedatabase[[#This Row],[Tidspunkt (timer)]]","v":"Trym 2011-Sommerforhold-10-24"},{"$f":"Oljedatabase[[#This Row],[Sesong]]","v":"Sommerforhold"},15,10,"24",0,1060,"Redusert kjemisk dispergerbarhet",0.52,0,0.47,126,"Ingen eksplosjonsfare",33.200000000000003,"Lav/dårlig dispergerbarhet","Nei",0,"2011-09-04T02:00:00",798,"Vest-Agder til Hordaland",45,6300691,-163069,"Trym 2011 Forvitringsrapport.pdf"]
["Trym 2011","Sommerforhold",{"$f":"Oljedatabase[[#This Row],[Oljetype]]&\"-\"&Oljedatabase[[#This Row],[SesongNy]]&\"-\"&Oljedatabase[[#This Row],[Vind (m/s)]]&\"-\"&Oljedatabase[[#This Row],[Tidspunkt (timer)]]","v":"Trym 2011-Sommerforhold-2-24"},{"$f":"Oljedatabase[[#This Row],[Sesong]]","v":"Sommerforhold"},15,2,"24",0,581,"Kjemisk dispergerbar",0.51,0.48,0,95,"Ingen eksplosjonsfare",29.1,"Redusert kjemisk dispergerbarhet","Nei",0.48,"2011-09-04T02:00:00",798,"Vest-Agder til Hordaland",45,6300691,-163069,"Trym 2011 Forvitringsrapport.pdf"]
["Troll 1999","Vinterforhold",{"$f":"Oljedatabase[[#This Row],[Oljetype]]&\"-\"&Oljedatabase[[#This Row],[SesongNy]]&\"-\"&Oljedatabase[[#This Row],[Vind (m/s)]]&\"-\"&Oljedatabase[[#This Row],[Tidspunkt (timer)]]","v":"Troll 1999-Vinterforhold-15-24"},{"$f":"Oljedatabase[[#This Row],[Sesong]]","v":"Vinterforhold"},5,15,"24",0.73,8300,"Lav/dårlig kjemisk dispergerbarhet",0.18,0.27,0.54,118,"Ingen eksplosjonsfare",6,"Kjemisk dispergerbar","Nei",1,"1999-10-29T02:00:00",893,"Sogn og Fjordane til Møre og Romsdal",26,6776258,-114434,"Troll 1999 Forvitringsrapport.pdf"]
["Trym 2011","Sommerforhold",{"$f":"Oljedatabase[[#This Row],[Oljetype]]&\"-\"&Oljedatabase[[#This Row],[SesongNy]]&\"-\"&Oljedatabase[[#This Row],[Vind (m/s)]]&\"-\"&Oljedatabase[[#This Row],[Tidspunkt (timer)]]","v":"Trym 2011-Sommerforhold-15-9"},{"$f":"Oljedatabase[[#This Row],[Sesong]]","v":"Sommerforhold"},15,15,"9",0,879,"Kjemisk dispergerbar",0.48,0,0.52,116,"Ingen eksplosjonsfare",31.9,"Lav/dårlig dispergerbarhet","Nei",0,"2011-09-04T02:00:00",798,"Vest-Agder til Hordaland",45,6300691,-163069,"Trym 2011 Forvitringsrapport.pdf"]
["Trym 2011","Vinterforhold",{"$f":"Oljedatabase[[#This Row],[Oljetype]]&\"-\"&Oljedatabase[[#This Row],[SesongNy]]&\"-\"&Oljedatabase[[#This Row],[Vind (m/s)]]&\"-\"&Oljedatabase[[#This Row],[Tidspunkt (timer)]]","v":"Trym 2011-Vinterforhold-10-24"},{"$f":"Oljedatabase[[#This Row],[Sesong]]","v":"Vinterforhold"},5,10,"24",0,1680,"Redusert kjemisk dispergerbarhet",0.5,0,0.49,112,"Ingen eksplosjonsfare",31.3,"Lav/dårlig dispergerbarhet","Nei",0,"2011-09-04T02:00:00",798,"Vest-Agder til Hordaland",45,6300691,-163069,"Trym 2011 Forvitringsrapport.pdf"]
["Trym 2011","Vinterforhold",{"$f":"Oljedatabase[[#This Row],[Oljetype]]&\"-\"&Oljedatabase[[#This Row],[SesongNy]]&\"-\"&Oljedatabase[[#This Row],[Vind (m/s)]]&\"-\"&Oljedatabase[[#This Row],[Tidspunkt (timer)]]","v":"Trym 2011-Vinterforhold-10-1"},{"$f":"Oljedatabase[[#This Row],[Sesong]]","v":"Vinterforhold"},5,10,"1",0,427,"Redusert kjemisk dispergerbarhet",0.35,0.6,0.03,53,"Eksplosjonsfare ved tanking",23,"Lav/dårlig dispergerbarhet","Nei",0.61,"2011-09-04T02:00:00",798,"Vest-Agder til Hordaland",45,6300691,-163069,"Trym 2011 Forvitringsrapport.pdf"]
["Tyrihans Nord 2004","Sommerforhold",{"$f":"Oljedatabase[[#This Row],[Oljetype]]&\"-\"&Oljedatabase[[#This Row],[SesongNy]]&\"-\"&Oljedatabase[[#This Row],[Vind (m/s)]]&\"-\"&Oljedatabase[[#This Row],[Tidspunkt (timer)]]","v":"Tyrihans Nord 2004-Sommerforhold-15-1"},{"$f":"Oljedatabase[[#This Row],[Sesong]]","v":"Sommerforhold"},15,15,"1",0.53,1900,"Ikke testet",0.12,0.82,0.06,0,"Ikke angitt",22,"Redusert kjemisk dispergerbarhet","Nei",1.74,"2004-05-24T02:00:00",877,"Sør-Trøndelag til Nordland",29,7219604,125328,"Tyrihans Nord 2004 Forvitringsrapport.pdf"]
["Tyrihans Nord 2004","Vinterforhold",{"$f":"Oljedatabase[[#This Row],[Oljetype]]&\"-\"&Oljedatabase[[#This Row],[SesongNy]]&\"-\"&Oljedatabase[[#This Row],[Vind (m/s)]]&\"-\"&Oljedatabase[[#This Row],[Tidspunkt (timer)]]","v":"Tyrihans Nord 2004-Vinterforhold-2-2"},{"$f":"Oljedatabase[[#This Row],[Sesong]]","v":"Vinterforhold"},5,2,"2",0.01,3500,"Ikke testet",0.05,0.95,0,0,"Ikke angitt",18,"Redusert kjemisk dispergerbarhet","Nei",0.95,"2004-05-24T02:00:00",877,"Sør-Trøndelag til Nordland",29,7219604,125328,"Tyrihans Nord 2004 Forvitringsrapport.pdf"]
["Tyrihans Nord 2004","Sommerforhold",{"$f":"Oljedatabase[[#This Row],[Oljetype]]&\"-\"&Oljedatabase[[#This Row],[SesongNy]]&\"-\"&Oljedatabase[[#This Row],[Vind (m/s)]]&\"-\"&Oljedatabase[[#This Row],[Tidspunkt (timer)]]","v":"Tyrihans Nord 2004-Sommerforhold-2-12"},{"$f":"Oljedatabase[[#This Row],[Sesong]]","v":"Sommerforhold"},15,2,"12",0.28999999999999998,1500,"Ikke testet",0.12,0.88,0,0,"Ikke angitt",21,"Redusert kjemisk dispergerbarhet","Nei",1.23,"2004-05-24T02:00:00",877,"Sør-Trøndelag til Nordland",29,7219604,125328,"Tyrihans Nord 2004 Forvitringsrapport.pdf"]
["Tyrihans Nord 2004","Vinterforhold",{"$f":"Oljedatabase[[#This Row],[Oljetype]]&\"-\"&Oljedatabase[[#This Row],[SesongNy]]&\"-\"&Oljedatabase[[#This Row],[Vind (m/s)]]&\"-\"&Oljedatabase[[#This Row],[Tidspunkt (timer)]]","v":"Tyrihans Nord 2004-Vinterforhold-2-96"},{"$f":"Oljedatabase[[#This Row],[Sesong]]","v":"Vinterforhold"},5,2,"96",0.45,13000,"Ikke testet",0.17,0.83,0,0,"Ikke angitt",23,"Lav/dårlig dispergerbarhet","Ja",1.5,"2004-05-24T02:00:00",877,"Sør-Trøndelag til Nordland",29,7219604,125328,"Tyrihans Nord 2004 Forvitringsrapport.pdf"]
["Tyrihans Nord 2004","Vinterforhold",{"$f":"Oljedatabase[[#This Row],[Oljetype]]&\"-\"&Oljedatabase[[#This Row],[SesongNy]]&\"-\"&Oljedatabase[[#This Row],[Vind (m/s)]]&\"-\"&Oljedatabase[[#This Row],[Tidspunkt (timer)]]","v":"Tyrihans Nord 2004-Vinterforhold-15-24"},{"$f":"Oljedatabase[[#This Row],[Sesong]]","v":"Vinterforhold"},5,15,"24",0.74,22000,"Ikke testet",0.19,0.21,0.6,0,"Ikke angitt",25,"Lav/dårlig dispergerbarhet","Ja",0.8,"2004-05-24T02:00:00",877,"Sør-Trøndelag til Nordland",29,7219604,125328,"Tyrihans Nord 2004 Forvitringsrapport.pdf"]
["Tyrihans Nord 2004","Vinterforhold",{"$f":"Oljedatabase[[#This Row],[Oljetype]]&\"-\"&Oljedatabase[[#This Row],[SesongNy]]&\"-\"&Oljedatabase[[#This Row],[Vind (m/s)]]&\"-\"&Oljedatabase[[#This Row],[Tidspunkt (timer)]]","v":"Tyrihans Nord 2004-Vinterforhold-15-48"},{"$f":"Oljedatabase[[#This Row],[Sesong]]","v":"Vinterforhold"},5,15,"48",0.74,27000,"Ikke testet",0.2,0.06,0.74,0,"Ikke angitt",26,"Lav/dårlig dispergerbarhet","Ja",0.23,"2004-05-24T02:00:00",877,"Sør-Trøndelag til Nordland",29,7219604,125328,"Tyrihans Nord 2004 Forvitringsrapport.pdf"]
["Tyrihans Nord 2004","Vinterforhold",{"$f":"Oljedatabase[[#This Row],[Oljetype]]&\"-\"&Oljedatabase[[#This Row],[SesongNy]]&\"-\"&Oljedatabase[[#This Row],[Vind (m/s)]]&\"-\"&Oljedatabase[[#This Row],[Tidspunkt (timer)]]","v":"Tyrihans Nord 2004-Vinterforhold-10-6"},{"$f":"Oljedatabase[[#This Row],[Sesong]]","v":"Vinterforhold"},5,10,"6",0.42,10000,"Ikke testet",0.14000000000000001,0.81,0.05,0,"Ikke angitt",22,"Lav/dårlig dispergerbarhet","Nei",1.39,"2004-05-24T02:00:00",877,"Sør-Trøndelag til Nordland",29,7219604,125328,"Tyrihans Nord 2004 Forvitringsrapport.pdf"]
["Tyrihans Nord 2004","Vinterforhold",{"$f":"Oljedatabase[[#This Row],[Oljetype]]&\"-\"&Oljedatabase[[#This Row],[SesongNy]]&\"-\"&Oljedatabase[[#This Row],[Vind (m/s)]]&\"-\"&Oljedatabase[[#This Row],[Tidspunkt (timer)]]","v":"Tyrihans Nord 2004-Vinterforhold-10-24"},{"$f":"Oljedatabase[[#This Row],[Sesong]]","v":"Vinterforhold"},5,10,"24",0.72,18000,"Ikke testet",0.18,0.64,0.18,0,"Ikke angitt",24,"Lav/dårlig dispergerbarhet","Ja",2.2799999999999998,"2004-05-24T02:00:00",877,"Sør-Trøndelag til Nordland",29,7219604,125328,"Tyrihans Nord 2004 Forvitringsrapport.pdf"]
["Tyrihans Nord 2004","Vinterforhold",{"$f":"Oljedatabase[[#This Row],[Oljetype]]&\"-\"&Oljedatabase[[#This Row],[SesongNy]]&\"-\"&Oljedatabase[[#This Row],[Vind (m/s)]]&\"-\"&Oljedatabase[[#This Row],[Tidspunkt (timer)]]","v":"Tyrihans Nord 2004-Vinterforhold-2-6"},{"$f":"Oljedatabase[[#This Row],[Sesong]]","v":"Vinterforhold"},5,2,"6",0.05,5000,"Ikke testet",0.08,0.92,0,0,"Ikke angitt",20,"Redusert kjemisk dispergerbarhet","Nei",0.96,"2004-05-24T02:00:00",877,"Sør-Trøndelag til Nordland",29,7219604,125328,"Tyrihans Nord 2004 Forvitringsrapport.pdf"]
["Tyrihans Nord 2004","Vinterforhold",{"$f":"Oljedatabase[[#This Row],[Oljetype]]&\"-\"&Oljedatabase[[#This Row],[SesongNy]]&\"-\"&Oljedatabase[[#This Row],[Vind (m/s)]]&\"-\"&Oljedatabase[[#This Row],[Tidspunkt (timer)]]","v":"Tyrihans Nord 2004-Vinterforhold-15-72"},{"$f":"Oljedatabase[[#This Row],[Sesong]]","v":"Vinterforhold"},5,15,"72",0.74,30000,"Ikke testet",0.2,0.02,0.78,0,"Ikke angitt",27,"Lav/dårlig dispergerbarhet","Ja",7.0000000000000007E-2,"2004-05-24T02:00:00",877,"Sør-Trøndelag til Nordland",29,7219604,125328,"Tyrihans Nord 2004 Forvitringsrapport.pdf"]
["Tyrihans Sør 2004","Vinterforhold",{"$f":"Oljedatabase[[#This Row],[Oljetype]]&\"-\"&Oljedatabase[[#This Row],[SesongNy]]&\"-\"&Oljedatabase[[#This Row],[Vind (m/s)]]&\"-\"&Oljedatabase[[#This Row],[Tidspunkt (timer)]]","v":"Tyrihans Sør 2004-Vinterforhold-2-96"},{"$f":"Oljedatabase[[#This Row],[Sesong]]","v":"Vinterforhold"},5,2,"96",0.4,4600,"Ikke testet",0.28000000000000003,0.72,0,0,"Ikke angitt",19,"Redusert kjemisk dispergerbarhet","Nei",1.2,"2004-05-24T02:00:00",848,"Sør-Trøndelag til Nordland",35,7213952,121932,"Tyrihans Sør 2004 Forvitringsrapport.pdf"]
["Tyrihans Sør 2004","Vinterforhold",{"$f":"Oljedatabase[[#This Row],[Oljetype]]&\"-\"&Oljedatabase[[#This Row],[SesongNy]]&\"-\"&Oljedatabase[[#This Row],[Vind (m/s)]]&\"-\"&Oljedatabase[[#This Row],[Tidspunkt (timer)]]","v":"Tyrihans Sør 2004-Vinterforhold-5-3"},{"$f":"Oljedatabase[[#This Row],[Sesong]]","v":"Vinterforhold"},5,5,"3",0.09,480,"Ikke testet",0.15,0.85,0,0,"Ikke angitt",8,"Kjemisk dispergerbar","Nei",0.93,"2004-05-24T02:00:00",848,"Sør-Trøndelag til Nordland",35,7213952,121932,"Tyrihans Sør 2004 Forvitringsrapport.pdf"]
["Tyrihans Sør 2004","Vinterforhold",{"$f":"Oljedatabase[[#This Row],[Oljetype]]&\"-\"&Oljedatabase[[#This Row],[SesongNy]]&\"-\"&Oljedatabase[[#This Row],[Vind (m/s)]]&\"-\"&Oljedatabase[[#This Row],[Tidspunkt (timer)]]","v":"Tyrihans Sør 2004-Vinterforhold-10-24"},{"$f":"Oljedatabase[[#This Row],[Sesong]]","v":"Vinterforhold"},5,10,"24",0.61,7700,"Ikke testet",0.28000000000000003,0.42,0.28999999999999998,0,"Ikke angitt",21,"Lav/dårlig dispergerbarhet","Nei",1.07,"2004-05-24T02:00:00",848,"Sør-Trøndelag til Nordland",35,7213952,121932,"Tyrihans Sør 2004 Forvitringsrapport.pdf"]
["Tyrihans Sør 2004","Vinterforhold",{"$f":"Oljedatabase[[#This Row],[Oljetype]]&\"-\"&Oljedatabase[[#This Row],[SesongNy]]&\"-\"&Oljedatabase[[#This Row],[Vind (m/s)]]&\"-\"&Oljedatabase[[#This Row],[Tidspunkt (timer)]]","v":"Tyrihans Sør 2004-Vinterforhold-5-120"},{"$f":"Oljedatabase[[#This Row],[Sesong]]","v":"Vinterforhold"},5,5,"120",0.61,11000,"Ikke testet",0.31,0.61,0.08,0,"Ikke angitt",23,"Lav/dårlig dispergerbarhet","Ja",1.56,"2004-05-24T02:00:00",848,"Sør-Trøndelag til Nordland",35,7213952,121932,"Tyrihans Sør 2004 Forvitringsrapport.pdf"]
["Ula 1999","Sommerforhold",{"$f":"Oljedatabase[[#This Row],[Oljetype]]&\"-\"&Oljedatabase[[#This Row],[SesongNy]]&\"-\"&Oljedatabase[[#This Row],[Vind (m/s)]]&\"-\"&Oljedatabase[[#This Row],[Tidspunkt (timer)]]","v":"Ula 1999-Sommerforhold-5-96"},{"$f":"Oljedatabase[[#This Row],[Sesong]]","v":"Sommerforhold"},15,5,"96",0.81,8600,"Ikke testet",0.34,0.62,0.03,109,"Ingen eksplosjonsfare",23,"Redusert kjemisk dispergerbarhet","Nei",3.26,"1997-06-30T02:00:00",832,"Vest-Agder til Hordaland",38,6395526,-233745,"Ula 1999 Forvitringsrapport.pdf"]
["Ula 1999","Sommerforhold",{"$f":"Oljedatabase[[#This Row],[Oljetype]]&\"-\"&Oljedatabase[[#This Row],[SesongNy]]&\"-\"&Oljedatabase[[#This Row],[Vind (m/s)]]&\"-\"&Oljedatabase[[#This Row],[Tidspunkt (timer)]]","v":"Ula 1999-Sommerforhold-2-1"},{"$f":"Oljedatabase[[#This Row],[Sesong]]","v":"Sommerforhold"},15,2,"1",0.25,47,"Ikke testet",0.12,0.88,0,29,"Eksplosjonsfare ved tanking",4,"Kjemisk dispergerbar","Nei",1.17,"1997-06-30T02:00:00",832,"Vest-Agder til Hordaland",38,6395526,-233745,"Ula 1999 Forvitringsrapport.pdf"]
["Tyrihans Sør 2004","Vinterforhold",{"$f":"Oljedatabase[[#This Row],[Oljetype]]&\"-\"&Oljedatabase[[#This Row],[SesongNy]]&\"-\"&Oljedatabase[[#This Row],[Vind (m/s)]]&\"-\"&Oljedatabase[[#This Row],[Tidspunkt (timer)]]","v":"Tyrihans Sør 2004-Vinterforhold-15-2"},{"$f":"Oljedatabase[[#This Row],[Sesong]]","v":"Vinterforhold"},5,15,"2",0.3,1700,"Ikke testet",0.21,0.59,0.2,0,"Ikke angitt",14,"Redusert kjemisk dispergerbarhet","Nei",0.84,"2004-05-24T02:00:00",848,"Sør-Trøndelag til Nordland",35,7213952,121932,"Tyrihans Sør 2004 Forvitringsrapport.pdf"]
["Tyrihans Sør 2004","Vinterforhold",{"$f":"Oljedatabase[[#This Row],[Oljetype]]&\"-\"&Oljedatabase[[#This Row],[SesongNy]]&\"-\"&Oljedatabase[[#This Row],[Vind (m/s)]]&\"-\"&Oljedatabase[[#This Row],[Tidspunkt (timer)]]","v":"Tyrihans Sør 2004-Vinterforhold-10-72"},{"$f":"Oljedatabase[[#This Row],[Sesong]]","v":"Vinterforhold"},5,10,"72",0.62,15000,"Ikke testet",0.31,0.2,0.49,0,"Ikke angitt",25,"Lav/dårlig dispergerbarhet","Ja",0.52,"2004-05-24T02:00:00",848,"Sør-Trøndelag til Nordland",35,7213952,121932,"Tyrihans Sør 2004 Forvitringsrapport.pdf"]
["Tyrihans Sør 2004","Vinterforhold",{"$f":"Oljedatabase[[#This Row],[Oljetype]]&\"-\"&Oljedatabase[[#This Row],[SesongNy]]&\"-\"&Oljedatabase[[#This Row],[Vind (m/s)]]&\"-\"&Oljedatabase[[#This Row],[Tidspunkt (timer)]]","v":"Tyrihans Sør 2004-Vinterforhold-5-9"},{"$f":"Oljedatabase[[#This Row],[Sesong]]","v":"Vinterforhold"},5,5,"9",0.21,1400,"Ikke testet",0.21,0.78,0.01,0,"Ikke angitt",14,"Redusert kjemisk dispergerbarhet","Nei",0.98,"2004-05-24T02:00:00",848,"Sør-Trøndelag til Nordland",35,7213952,121932,"Tyrihans Sør 2004 Forvitringsrapport.pdf"]
["Trym 2011","Vinterforhold",{"$f":"Oljedatabase[[#This Row],[Oljetype]]&\"-\"&Oljedatabase[[#This Row],[SesongNy]]&\"-\"&Oljedatabase[[#This Row],[Vind (m/s)]]&\"-\"&Oljedatabase[[#This Row],[Tidspunkt (timer)]]","v":"Trym 2011-Vinterforhold-10-3"},{"$f":"Oljedatabase[[#This Row],[Sesong]]","v":"Vinterforhold"},5,10,"3",0,707,"Redusert kjemisk dispergerbarhet",0.43,0.43,0.13,74,"Ingen eksplosjonsfare",26,"Lav/dårlig dispergerbarhet","Nei",0.44,"2011-09-04T02:00:00",798,"Vest-Agder til Hordaland",45,6300691,-163069,"Trym 2011 Forvitringsrapport.pdf"]
["Vale 2014","Sommerforhold",{"$f":"Oljedatabase[[#This Row],[Oljetype]]&\"-\"&Oljedatabase[[#This Row],[SesongNy]]&\"-\"&Oljedatabase[[#This Row],[Vind (m/s)]]&\"-\"&Oljedatabase[[#This Row],[Tidspunkt (timer)]]","v":"Vale 2014-Sommerforhold-5-12"},{"$f":"Oljedatabase[[#This Row],[Sesong]]","v":"Sommerforhold"},15,5,"12",0.74,1130,"Kjemisk dispergerbar",0.44,0.52,0.03,95,"Ingen eksplosjonsfare",24,"Redusert kjemisk dispergerbarhet","Nei",2.0499999999999998,"2014-02-17T01:00:00",816,"Vestlandet",41,6687116,-211155,"Vale 2014 Forvitringsrapport.pdf"]
["Ula 1999","Sommerforhold",{"$f":"Oljedatabase[[#This Row],[Oljetype]]&\"-\"&Oljedatabase[[#This Row],[SesongNy]]&\"-\"&Oljedatabase[[#This Row],[Vind (m/s)]]&\"-\"&Oljedatabase[[#This Row],[Tidspunkt (timer)]]","v":"Ula 1999-Sommerforhold-5-48"},{"$f":"Oljedatabase[[#This Row],[Sesong]]","v":"Sommerforhold"},15,5,"48",0.81,6800,"Ikke testet",0.32,0.66,0.02,99,"Ingen eksplosjonsfare",21,"Redusert kjemisk dispergerbarhet","Nei",3.47,"1997-06-30T02:00:00",832,"Vest-Agder til Hordaland",38,6395526,-233745,"Ula 1999 Forvitringsrapport.pdf"]
["Tyrihans Sør 2004","Vinterforhold",{"$f":"Oljedatabase[[#This Row],[Oljetype]]&\"-\"&Oljedatabase[[#This Row],[SesongNy]]&\"-\"&Oljedatabase[[#This Row],[Vind (m/s)]]&\"-\"&Oljedatabase[[#This Row],[Tidspunkt (timer)]]","v":"Tyrihans Sør 2004-Vinterforhold-15-6"},{"$f":"Oljedatabase[[#This Row],[Sesong]]","v":"Vinterforhold"},5,15,"6",0.54,4600,"Ikke testet",0.25,0.31,0.44,0,"Ikke angitt",19,"Redusert kjemisk dispergerbarhet","Nei",0.67,"2004-05-24T02:00:00",848,"Sør-Trøndelag til Nordland",35,7213952,121932,"Tyrihans Sør 2004 Forvitringsrapport.pdf"]
["Tyrihans Sør 2004","Vinterforhold",{"$f":"Oljedatabase[[#This Row],[Oljetype]]&\"-\"&Oljedatabase[[#This Row],[SesongNy]]&\"-\"&Oljedatabase[[#This Row],[Vind (m/s)]]&\"-\"&Oljedatabase[[#This Row],[Tidspunkt (timer)]]","v":"Tyrihans Sør 2004-Vinterforhold-10-1"},{"$f":"Oljedatabase[[#This Row],[Sesong]]","v":"Vinterforhold"},5,10,"1",0.1,410,"Ikke testet",0.14000000000000001,0.84,0.02,0,"Ikke angitt",8,"Kjemisk dispergerbar","Nei",0.93,"2004-05-24T02:00:00",848,"Sør-Trøndelag til Nordland",35,7213952,121932,"Tyrihans Sør 2004 Forvitringsrapport.pdf"]
["Ula 1999","Vinterforhold",{"$f":"Oljedatabase[[#This Row],[Oljetype]]&\"-\"&Oljedatabase[[#This Row],[SesongNy]]&\"-\"&Oljedatabase[[#This Row],[Vind (m/s)]]&\"-\"&Oljedatabase[[#This Row],[Tidspunkt (timer)]]","v":"Ula 1999-Vinterforhold-2-3"},{"$f":"Oljedatabase[[#This Row],[Sesong]]","v":"Vinterforhold"},5,2,"3",0.26,270,"Ikke testet",0.15,0.85,0,38,"Eksplosjonsfare ved tanking",6,"Kjemisk dispergerbar","Nei",1.1399999999999999,"1997-06-30T02:00:00",832,"Vest-Agder til Hordaland",38,6395526,-233745,"Ula 1999 Forvitringsrapport.pdf"]
["Ula 1999","Sommerforhold",{"$f":"Oljedatabase[[#This Row],[Oljetype]]&\"-\"&Oljedatabase[[#This Row],[SesongNy]]&\"-\"&Oljedatabase[[#This Row],[Vind (m/s)]]&\"-\"&Oljedatabase[[#This Row],[Tidspunkt (timer)]]","v":"Ula 1999-Sommerforhold-15-24"},{"$f":"Oljedatabase[[#This Row],[Sesong]]","v":"Sommerforhold"},15,15,"24",0.81,10000,"Ikke testet",0.33,0.18,0.48,116,"Ingen eksplosjonsfare",24,"Redusert kjemisk dispergerbarhet","Nei",0.94,"1997-06-30T02:00:00",832,"Vest-Agder til Hordaland",38,6395526,-233745,"Ula 1999 Forvitringsrapport.pdf"]
["Ula 1999","Sommerforhold",{"$f":"Oljedatabase[[#This Row],[Oljetype]]&\"-\"&Oljedatabase[[#This Row],[SesongNy]]&\"-\"&Oljedatabase[[#This Row],[Vind (m/s)]]&\"-\"&Oljedatabase[[#This Row],[Tidspunkt (timer)]]","v":"Ula 1999-Sommerforhold-5-120"},{"$f":"Oljedatabase[[#This Row],[Sesong]]","v":"Sommerforhold"},15,5,"120",0.81,9300,"Ikke testet",0.35,0.61,0.04,112,"Ingen eksplosjonsfare",24,"Redusert kjemisk dispergerbarhet","Nei",3.21,"1997-06-30T02:00:00",832,"Vest-Agder til Hordaland",38,6395526,-233745,"Ula 1999 Forvitringsrapport.pdf"]
["Vale 2014","Sommerforhold",{"$f":"Oljedatabase[[#This Row],[Oljetype]]&\"-\"&Oljedatabase[[#This Row],[SesongNy]]&\"-\"&Oljedatabase[[#This Row],[Vind (m/s)]]&\"-\"&Oljedatabase[[#This Row],[Tidspunkt (timer)]]","v":"Vale 2014-Sommerforhold-15-24"},{"$f":"Oljedatabase[[#This Row],[Sesong]]","v":"Sommerforhold"},15,15,"24",0.75,3200,"Redusert kjemisk dispergerbarhet",0.44,0,0.55000000000000004,130,"Ingen eksplosjonsfare",32.4,"Lav/dårlig dispergerbarhet","Nei",0,"2014-02-17T01:00:00",816,"Vestlandet",41,6687116,-211155,"Vale 2014 Forvitringsrapport.pdf"]
["Ula 1999","Vinterforhold",{"$f":"Oljedatabase[[#This Row],[Oljetype]]&\"-\"&Oljedatabase[[#This Row],[SesongNy]]&\"-\"&Oljedatabase[[#This Row],[Vind (m/s)]]&\"-\"&Oljedatabase[[#This Row],[Tidspunkt (timer)]]","v":"Ula 1999-Vinterforhold-10-48"},{"$f":"Oljedatabase[[#This Row],[Sesong]]","v":"Vinterforhold"},5,10,"48",0.79,18000,"Ikke testet",0.32,0.45,0.23,103,"Ingen eksplosjonsfare",22,"Lav/dårlig dispergerbarhet","Ja",2.14,"1997-06-30T02:00:00",832,"Vest-Agder til Hordaland",38,6395526,-233745,"Ula 1999 Forvitringsrapport.pdf"]
["Vale 2014","Sommerforhold",{"$f":"Oljedatabase[[#This Row],[Oljetype]]&\"-\"&Oljedatabase[[#This Row],[SesongNy]]&\"-\"&Oljedatabase[[#This Row],[Vind (m/s)]]&\"-\"&Oljedatabase[[#This Row],[Tidspunkt (timer)]]","v":"Vale 2014-Sommerforhold-2-48"},{"$f":"Oljedatabase[[#This Row],[Sesong]]","v":"Sommerforhold"},15,2,"48",0.74,1440,"Kjemisk dispergerbar",0.47,0.52,0,103,"Ingen eksplosjonsfare",25.9,"Redusert kjemisk dispergerbarhet","Nei",2.08,"2014-02-17T01:00:00",816,"Vestlandet",41,6687116,-211155,"Vale 2014 Forvitringsrapport.pdf"]
["Vale 2014","Vinterforhold",{"$f":"Oljedatabase[[#This Row],[Oljetype]]&\"-\"&Oljedatabase[[#This Row],[SesongNy]]&\"-\"&Oljedatabase[[#This Row],[Vind (m/s)]]&\"-\"&Oljedatabase[[#This Row],[Tidspunkt (timer)]]","v":"Vale 2014-Vinterforhold-5-72"},{"$f":"Oljedatabase[[#This Row],[Sesong]]","v":"Vinterforhold"},5,5,"72",0.69,4710,"Redusert kjemisk dispergerbarhet",0.48,0.39,0.11,109,"Ingen eksplosjonsfare",27.3,"Lav/dårlig dispergerbarhet","Nei",1.32,"2014-02-17T01:00:00",816,"Vestlandet",41,6687116,-211155,"Vale 2014 Forvitringsrapport.pdf"]
["Vale 2014","Sommerforhold",{"$f":"Oljedatabase[[#This Row],[Oljetype]]&\"-\"&Oljedatabase[[#This Row],[SesongNy]]&\"-\"&Oljedatabase[[#This Row],[Vind (m/s)]]&\"-\"&Oljedatabase[[#This Row],[Tidspunkt (timer)]]","v":"Vale 2014-Sommerforhold-2-96"},{"$f":"Oljedatabase[[#This Row],[Sesong]]","v":"Sommerforhold"},15,2,"96",0.75,1910,"Kjemisk dispergerbar",0.5,0.49,0,113,"Ingen eksplosjonsfare",28.2,"Redusert kjemisk dispergerbarhet","Nei",1.97,"2014-02-17T01:00:00",816,"Vestlandet",41,6687116,-211155,"Vale 2014 Forvitringsrapport.pdf"]
["Vale 2014","Vinterforhold",{"$f":"Oljedatabase[[#This Row],[Oljetype]]&\"-\"&Oljedatabase[[#This Row],[SesongNy]]&\"-\"&Oljedatabase[[#This Row],[Vind (m/s)]]&\"-\"&Oljedatabase[[#This Row],[Tidspunkt (timer)]]","v":"Vale 2014-Vinterforhold-2-9"},{"$f":"Oljedatabase[[#This Row],[Sesong]]","v":"Vinterforhold"},5,2,"9",0.41,1350,"Kjemisk dispergerbar",0.34,0.65,0,64,"Ingen eksplosjonsfare",15.8,"Redusert kjemisk dispergerbarhet","Nei",1.1200000000000001,"2014-02-17T01:00:00",816,"Vestlandet",41,6687116,-211155,"Vale 2014 Forvitringsrapport.pdf"]
["Vale 2014","Vinterforhold",{"$f":"Oljedatabase[[#This Row],[Oljetype]]&\"-\"&Oljedatabase[[#This Row],[SesongNy]]&\"-\"&Oljedatabase[[#This Row],[Vind (m/s)]]&\"-\"&Oljedatabase[[#This Row],[Tidspunkt (timer)]]","v":"Vale 2014-Vinterforhold-5-24"},{"$f":"Oljedatabase[[#This Row],[Sesong]]","v":"Vinterforhold"},5,5,"24",0.65,3060,"Redusert kjemisk dispergerbarhet",0.44,0.51,0.04,94,"Ingen eksplosjonsfare",23.7,"Lav/dårlig dispergerbarhet","Nei",1.47,"2014-02-17T01:00:00",816,"Vestlandet",41,6687116,-211155,"Vale 2014 Forvitringsrapport.pdf"]
["Vale 2014","Sommerforhold",{"$f":"Oljedatabase[[#This Row],[Oljetype]]&\"-\"&Oljedatabase[[#This Row],[SesongNy]]&\"-\"&Oljedatabase[[#This Row],[Vind (m/s)]]&\"-\"&Oljedatabase[[#This Row],[Tidspunkt (timer)]]","v":"Vale 2014-Sommerforhold-15-48"},{"$f":"Oljedatabase[[#This Row],[Sesong]]","v":"Sommerforhold"},15,15,"48",0.75,4520,"Redusert kjemisk dispergerbarhet",0.44,0,0.55000000000000004,142,"Ingen eksplosjonsfare",35.200000000000003,"Lav/dårlig dispergerbarhet","Nei",0,"2014-02-17T01:00:00",816,"Vestlandet",41,6687116,-211155,"Vale 2014 Forvitringsrapport.pdf"]
["Vale 2001","Sommerforhold",{"$f":"Oljedatabase[[#This Row],[Oljetype]]&\"-\"&Oljedatabase[[#This Row],[SesongNy]]&\"-\"&Oljedatabase[[#This Row],[Vind (m/s)]]&\"-\"&Oljedatabase[[#This Row],[Tidspunkt (timer)]]","v":"Vale 2001-Sommerforhold-2-48"},{"$f":"Oljedatabase[[#This Row],[Sesong]]","v":"Sommerforhold"},15,2,"48",0.6,810,"Ikke testet",0.39,0.61,0,0,"Ikke angitt",9,"Kjemisk dispergerbar","Nei",1.52,"2001-10-09T02:00:00",821,"Vestlandet",40,6687116,-211155,"Vale 2001 Forvitringsrapport.pdf"]
["Vale 2001","Vinterforhold",{"$f":"Oljedatabase[[#This Row],[Oljetype]]&\"-\"&Oljedatabase[[#This Row],[SesongNy]]&\"-\"&Oljedatabase[[#This Row],[Vind (m/s)]]&\"-\"&Oljedatabase[[#This Row],[Tidspunkt (timer)]]","v":"Vale 2001-Vinterforhold-2-48"},{"$f":"Oljedatabase[[#This Row],[Sesong]]","v":"Vinterforhold"},5,2,"48",0.66,1500,"Ikke testet",0.36,0.64,0,0,"Ikke angitt",13,"Redusert kjemisk dispergerbarhet","Nei",1.88,"2001-10-09T02:00:00",821,"Vestlandet",40,6687116,-211155,"Vale 2001 Forvitringsrapport.pdf"]
["Vale 2001","Sommerforhold",{"$f":"Oljedatabase[[#This Row],[Oljetype]]&\"-\"&Oljedatabase[[#This Row],[SesongNy]]&\"-\"&Oljedatabase[[#This Row],[Vind (m/s)]]&\"-\"&Oljedatabase[[#This Row],[Tidspunkt (timer)]]","v":"Vale 2001-Sommerforhold-10-9"},{"$f":"Oljedatabase[[#This Row],[Sesong]]","v":"Sommerforhold"},15,10,"9",0.6,1000,"Ikke testet",0.4,0.36,0.24,0,"Ikke angitt",12,"Kjemisk dispergerbar","Nei",0.9,"2001-10-09T02:00:00",821,"Vestlandet",40,6687116,-211155,"Vale 2001 Forvitringsrapport.pdf"]
["Vale 2001","Sommerforhold",{"$f":"Oljedatabase[[#This Row],[Oljetype]]&\"-\"&Oljedatabase[[#This Row],[SesongNy]]&\"-\"&Oljedatabase[[#This Row],[Vind (m/s)]]&\"-\"&Oljedatabase[[#This Row],[Tidspunkt (timer)]]","v":"Vale 2001-Sommerforhold-5-96"},{"$f":"Oljedatabase[[#This Row],[Sesong]]","v":"Sommerforhold"},15,5,"96",0.6,2200,"Ikke testet",0.46,0.43,0.11,0,"Ikke angitt",20,"Kjemisk dispergerbar","Nei",1.07,"2001-10-09T02:00:00",821,"Vestlandet",40,6687116,-211155,"Vale 2001 Forvitringsrapport.pdf"]
["Vale 2001","Sommerforhold",{"$f":"Oljedatabase[[#This Row],[Oljetype]]&\"-\"&Oljedatabase[[#This Row],[SesongNy]]&\"-\"&Oljedatabase[[#This Row],[Vind (m/s)]]&\"-\"&Oljedatabase[[#This Row],[Tidspunkt (timer)]]","v":"Vale 2001-Sommerforhold-15-72"},{"$f":"Oljedatabase[[#This Row],[Sesong]]","v":"Sommerforhold"},15,15,"72",0.6,5300,"Ikke testet",0.39,0,0.61,0,"Ikke angitt",30,"Redusert kjemisk dispergerbarhet","Nei",0,"2001-10-09T02:00:00",821,"Vestlandet",40,6687116,-211155,"Vale 2001 Forvitringsrapport.pdf"]
["Vale 2001","Sommerforhold",{"$f":"Oljedatabase[[#This Row],[Oljetype]]&\"-\"&Oljedatabase[[#This Row],[SesongNy]]&\"-\"&Oljedatabase[[#This Row],[Vind (m/s)]]&\"-\"&Oljedatabase[[#This Row],[Tidspunkt (timer)]]","v":"Vale 2001-Sommerforhold-5-120"},{"$f":"Oljedatabase[[#This Row],[Sesong]]","v":"Sommerforhold"},15,5,"120",0.6,2500,"Ikke testet",0.46,0.41,0.13,0,"Ikke angitt",21,"Redusert kjemisk dispergerbarhet","Nei",1.02,"2001-10-09T02:00:00",821,"Vestlandet",40,6687116,-211155,"Vale 2001 Forvitringsrapport.pdf"]
["Vale 2001","Vinterforhold",{"$f":"Oljedatabase[[#This Row],[Oljetype]]&\"-\"&Oljedatabase[[#This Row],[SesongNy]]&\"-\"&Oljedatabase[[#This Row],[Vind (m/s)]]&\"-\"&Oljedatabase[[#This Row],[Tidspunkt (timer)]]","v":"Vale 2001-Vinterforhold-10-6"},{"$f":"Oljedatabase[[#This Row],[Sesong]]","v":"Vinterforhold"},5,10,"6",0.69,1400,"Ikke testet",0.35,0.52,0.13,0,"Ikke angitt",12,"Redusert kjemisk dispergerbarhet","Nei",1.67,"2001-10-09T02:00:00",821,"Vestlandet",40,6687116,-211155,"Vale 2001 Forvitringsrapport.pdf"]
["Valhall 2002","Sommerforhold",{"$f":"Oljedatabase[[#This Row],[Oljetype]]&\"-\"&Oljedatabase[[#This Row],[SesongNy]]&\"-\"&Oljedatabase[[#This Row],[Vind (m/s)]]&\"-\"&Oljedatabase[[#This Row],[Tidspunkt (timer)]]","v":"Valhall 2002-Sommerforhold-15-72"},{"$f":"Oljedatabase[[#This Row],[Sesong]]","v":"Sommerforhold"},15,15,"72",0.8,4600,"Redusert kjemisk dispergerbarhet",0.3,0,0.7,0,"Ikke angitt",20,"Kjemisk dispergerbar","Nei",0,"2002-02-11T01:00:00",841,"Vest-Agder til Hordaland",36,6297738,-216640,"Valhall 2002 Forvitringsrapport.pdf"]
["Vale 2001","Vinterforhold",{"$f":"Oljedatabase[[#This Row],[Oljetype]]&\"-\"&Oljedatabase[[#This Row],[SesongNy]]&\"-\"&Oljedatabase[[#This Row],[Vind (m/s)]]&\"-\"&Oljedatabase[[#This Row],[Tidspunkt (timer)]]","v":"Vale 2001-Vinterforhold-5-9"},{"$f":"Oljedatabase[[#This Row],[Sesong]]","v":"Vinterforhold"},5,5,"9",0.61,1100,"Ikke testet",0.32,0.67,0.01,0,"Ikke angitt",8,"Kjemisk dispergerbar","Nei",1.71,"2001-10-09T02:00:00",821,"Vestlandet",40,6687116,-211155,"Vale 2001 Forvitringsrapport.pdf"]
["Valhall 2002","Sommerforhold",{"$f":"Oljedatabase[[#This Row],[Oljetype]]&\"-\"&Oljedatabase[[#This Row],[SesongNy]]&\"-\"&Oljedatabase[[#This Row],[Vind (m/s)]]&\"-\"&Oljedatabase[[#This Row],[Tidspunkt (timer)]]","v":"Valhall 2002-Sommerforhold-2-9"},{"$f":"Oljedatabase[[#This Row],[Sesong]]","v":"Sommerforhold"},15,2,"9",0.3,880,"Redusert kjemisk dispergerbarhet",0.23,0.77,0,0,"Ikke angitt",11,"Kjemisk dispergerbar","Nei",1.1000000000000001,"2002-02-11T01:00:00",841,"Vest-Agder til Hordaland",36,6297738,-216640,"Valhall 2002 Forvitringsrapport.pdf"]
["Valhall 2002","Sommerforhold",{"$f":"Oljedatabase[[#This Row],[Oljetype]]&\"-\"&Oljedatabase[[#This Row],[SesongNy]]&\"-\"&Oljedatabase[[#This Row],[Vind (m/s)]]&\"-\"&Oljedatabase[[#This Row],[Tidspunkt (timer)]]","v":"Valhall 2002-Sommerforhold-15-12"},{"$f":"Oljedatabase[[#This Row],[Sesong]]","v":"Sommerforhold"},15,15,"12",0.8,3700,"Redusert kjemisk dispergerbarhet",0.3,0.11,0.59,0,"Ikke angitt",18,"Kjemisk dispergerbar","Nei",0.55000000000000004,"2002-02-11T01:00:00",841,"Vest-Agder til Hordaland",36,6297738,-216640,"Valhall 2002 Forvitringsrapport.pdf"]
["Valhall 2002","Vinterforhold",{"$f":"Oljedatabase[[#This Row],[Oljetype]]&\"-\"&Oljedatabase[[#This Row],[SesongNy]]&\"-\"&Oljedatabase[[#This Row],[Vind (m/s)]]&\"-\"&Oljedatabase[[#This Row],[Tidspunkt (timer)]]","v":"Valhall 2002-Vinterforhold-5-1"},{"$f":"Oljedatabase[[#This Row],[Sesong]]","v":"Vinterforhold"},5,5,"1",0.12,590,"Redusert kjemisk dispergerbarhet",0.15,0.85,0,0,"Ikke angitt",5,"Kjemisk dispergerbar","Nei",0.96,"2002-02-11T01:00:00",841,"Vest-Agder til Hordaland",36,6297738,-216640,"Valhall 2002 Forvitringsrapport.pdf"]
["Valhall 2002","Sommerforhold",{"$f":"Oljedatabase[[#This Row],[Oljetype]]&\"-\"&Oljedatabase[[#This Row],[SesongNy]]&\"-\"&Oljedatabase[[#This Row],[Vind (m/s)]]&\"-\"&Oljedatabase[[#This Row],[Tidspunkt (timer)]]","v":"Valhall 2002-Sommerforhold-10-1"},{"$f":"Oljedatabase[[#This Row],[Sesong]]","v":"Sommerforhold"},15,10,"1",0.36,780,"Redusert kjemisk dispergerbarhet",0.22,0.75,0.03,0,"Ikke angitt",10,"Kjemisk dispergerbar","Nei",1.17,"2002-02-11T01:00:00",841,"Vest-Agder til Hordaland",36,6297738,-216640,"Valhall 2002 Forvitringsrapport.pdf"]
["Valhall 2002","Sommerforhold",{"$f":"Oljedatabase[[#This Row],[Oljetype]]&\"-\"&Oljedatabase[[#This Row],[SesongNy]]&\"-\"&Oljedatabase[[#This Row],[Vind (m/s)]]&\"-\"&Oljedatabase[[#This Row],[Tidspunkt (timer)]]","v":"Valhall 2002-Sommerforhold-5-120"},{"$f":"Oljedatabase[[#This Row],[Sesong]]","v":"Sommerforhold"},15,5,"120",0.8,4300,"Redusert kjemisk dispergerbarhet",0.34,0.56000000000000005,0.1,0,"Ikke angitt",19,"Kjemisk dispergerbar","Nei",2.8,"2002-02-11T01:00:00",841,"Vest-Agder til Hordaland",36,6297738,-216640,"Valhall 2002 Forvitringsrapport.pdf"]
["Valhall 2002","Sommerforhold",{"$f":"Oljedatabase[[#This Row],[Oljetype]]&\"-\"&Oljedatabase[[#This Row],[SesongNy]]&\"-\"&Oljedatabase[[#This Row],[Vind (m/s)]]&\"-\"&Oljedatabase[[#This Row],[Tidspunkt (timer)]]","v":"Valhall 2002-Sommerforhold-10-3"},{"$f":"Oljedatabase[[#This Row],[Sesong]]","v":"Sommerforhold"},15,10,"3",0.61,1500,"Redusert kjemisk dispergerbarhet",0.26,0.67,7.0000000000000007E-2,0,"Ikke angitt",13,"Kjemisk dispergerbar","Nei",1.71,"2002-02-11T01:00:00",841,"Vest-Agder til Hordaland",36,6297738,-216640,"Valhall 2002 Forvitringsrapport.pdf"]
["Valhall 2002","Sommerforhold",{"$f":"Oljedatabase[[#This Row],[Oljetype]]&\"-\"&Oljedatabase[[#This Row],[SesongNy]]&\"-\"&Oljedatabase[[#This Row],[Vind (m/s)]]&\"-\"&Oljedatabase[[#This Row],[Tidspunkt (timer)]]","v":"Valhall 2002-Sommerforhold-15-2"},{"$f":"Oljedatabase[[#This Row],[Sesong]]","v":"Sommerforhold"},15,15,"2",0.68,1700,"Redusert kjemisk dispergerbarhet",0.26,0.51,0.23,0,"Ikke angitt",14,"Kjemisk dispergerbar","Nei",1.59,"2002-02-11T01:00:00",841,"Vest-Agder til Hordaland",36,6297738,-216640,"Valhall 2002 Forvitringsrapport.pdf"]
["Valhall 2002","Vinterforhold",{"$f":"Oljedatabase[[#This Row],[Oljetype]]&\"-\"&Oljedatabase[[#This Row],[SesongNy]]&\"-\"&Oljedatabase[[#This Row],[Vind (m/s)]]&\"-\"&Oljedatabase[[#This Row],[Tidspunkt (timer)]]","v":"Valhall 2002-Vinterforhold-10-120"},{"$f":"Oljedatabase[[#This Row],[Sesong]]","v":"Vinterforhold"},5,10,"120",0.69,10000,"Lav/dårlig kjemisk dispergerbarhet",0.32,7.0000000000000007E-2,0.61,0,"Ikke angitt",20,"Redusert kjemisk dispergerbarhet","Nei",0.22,"2002-02-11T01:00:00",841,"Vest-Agder til Hordaland",36,6297738,-216640,"Valhall 2002 Forvitringsrapport.pdf"]
["Valhall 2002","Vinterforhold",{"$f":"Oljedatabase[[#This Row],[Oljetype]]&\"-\"&Oljedatabase[[#This Row],[SesongNy]]&\"-\"&Oljedatabase[[#This Row],[Vind (m/s)]]&\"-\"&Oljedatabase[[#This Row],[Tidspunkt (timer)]]","v":"Valhall 2002-Vinterforhold-10-12"},{"$f":"Oljedatabase[[#This Row],[Sesong]]","v":"Vinterforhold"},5,10,"12",0.67,4200,"Redusert kjemisk dispergerbarhet",0.28000000000000003,0.54,0.18,0,"Ikke angitt",15,"Redusert kjemisk dispergerbarhet","Nei",1.63,"2002-02-11T01:00:00",841,"Vest-Agder til Hordaland",36,6297738,-216640,"Valhall 2002 Forvitringsrapport.pdf"]
["Varg 2000","Sommerforhold",{"$f":"Oljedatabase[[#This Row],[Oljetype]]&\"-\"&Oljedatabase[[#This Row],[SesongNy]]&\"-\"&Oljedatabase[[#This Row],[Vind (m/s)]]&\"-\"&Oljedatabase[[#This Row],[Tidspunkt (timer)]]","v":"Varg 2000-Sommerforhold-15-96"},{"$f":"Oljedatabase[[#This Row],[Sesong]]","v":"Sommerforhold"},15,15,"96",0.6,7700,"Ikke testet",0.35,0,0.67,155,"Ingen eksplosjonsfare",34,"Lav/dårlig dispergerbarhet","Nei",0,"2000-09-10T02:00:00",853,"Vest-Agder til Hordaland",34,6512684,-270191,"Varg 2000 Forvitringsrapport.pdf"]
["Varg 2000","Vinterforhold",{"$f":"Oljedatabase[[#This Row],[Oljetype]]&\"-\"&Oljedatabase[[#This Row],[SesongNy]]&\"-\"&Oljedatabase[[#This Row],[Vind (m/s)]]&\"-\"&Oljedatabase[[#This Row],[Tidspunkt (timer)]]","v":"Varg 2000-Vinterforhold-15-2"},{"$f":"Oljedatabase[[#This Row],[Sesong]]","v":"Vinterforhold"},5,15,"2",0.48,5900,"Ikke testet",0.22,0.65,0.13,89,"Ingen eksplosjonsfare",27,"Lav/dårlig dispergerbarhet","Nei",1.25,"2000-09-10T02:00:00",853,"Vest-Agder til Hordaland",34,6512684,-270191,"Varg 2000 Forvitringsrapport.pdf"]
["Varg 2000","Vinterforhold",{"$f":"Oljedatabase[[#This Row],[Oljetype]]&\"-\"&Oljedatabase[[#This Row],[SesongNy]]&\"-\"&Oljedatabase[[#This Row],[Vind (m/s)]]&\"-\"&Oljedatabase[[#This Row],[Tidspunkt (timer)]]","v":"Varg 2000-Vinterforhold-10-2"},{"$f":"Oljedatabase[[#This Row],[Sesong]]","v":"Vinterforhold"},5,10,"2",0.4,4000,"Ikke testet",0.17,0.8,0.03,74,"Ingen eksplosjonsfare",25,"Lav/dårlig dispergerbarhet","Nei",1.33,"2000-09-10T02:00:00",853,"Vest-Agder til Hordaland",34,6512684,-270191,"Varg 2000 Forvitringsrapport.pdf"]
["Varg 2000","Vinterforhold",{"$f":"Oljedatabase[[#This Row],[Oljetype]]&\"-\"&Oljedatabase[[#This Row],[SesongNy]]&\"-\"&Oljedatabase[[#This Row],[Vind (m/s)]]&\"-\"&Oljedatabase[[#This Row],[Tidspunkt (timer)]]","v":"Varg 2000-Vinterforhold-10-1"},{"$f":"Oljedatabase[[#This Row],[Sesong]]","v":"Vinterforhold"},5,10,"1",0.28000000000000003,3800,"Ikke testet",0.16,0.83,0.01,56,"Eksplosjonsfare ved tanking",23,"Lav/dårlig dispergerbarhet","Nei",1.1499999999999999,"2000-09-10T02:00:00",853,"Vest-Agder til Hordaland",34,6512684,-270191,"Varg 2000 Forvitringsrapport.pdf"]
["Varg 2000","Vinterforhold",{"$f":"Oljedatabase[[#This Row],[Oljetype]]&\"-\"&Oljedatabase[[#This Row],[SesongNy]]&\"-\"&Oljedatabase[[#This Row],[Vind (m/s)]]&\"-\"&Oljedatabase[[#This Row],[Tidspunkt (timer)]]","v":"Varg 2000-Vinterforhold-10-12"},{"$f":"Oljedatabase[[#This Row],[Sesong]]","v":"Vinterforhold"},5,10,"12",0.5,11000,"Ikke testet",0.28000000000000003,0.6,0.12,112,"Ingen eksplosjonsfare",29,"Lav/dårlig dispergerbarhet","Ja",1.2,"2000-09-10T02:00:00",853,"Vest-Agder til Hordaland",34,6512684,-270191,"Varg 2000 Forvitringsrapport.pdf"]
["Varg 2000","Vinterforhold",{"$f":"Oljedatabase[[#This Row],[Oljetype]]&\"-\"&Oljedatabase[[#This Row],[SesongNy]]&\"-\"&Oljedatabase[[#This Row],[Vind (m/s)]]&\"-\"&Oljedatabase[[#This Row],[Tidspunkt (timer)]]","v":"Varg 2000-Vinterforhold-2-1"},{"$f":"Oljedatabase[[#This Row],[Sesong]]","v":"Vinterforhold"},5,2,"1",0.03,2000,"Ikke testet",0.05,0.95,0,17,"Eksplosjonsfare ved tanking",17,"Redusert kjemisk dispergerbarhet","Nei",0.97,"2000-09-10T02:00:00",853,"Vest-Agder til Hordaland",34,6512684,-270191,"Varg 2000 Forvitringsrapport.pdf"]
["Veslefrikk 2012","Sommerforhold",{"$f":"Oljedatabase[[#This Row],[Oljetype]]&\"-\"&Oljedatabase[[#This Row],[SesongNy]]&\"-\"&Oljedatabase[[#This Row],[Vind (m/s)]]&\"-\"&Oljedatabase[[#This Row],[Tidspunkt (timer)]]","v":"Veslefrikk 2012-Sommerforhold-2-1"},{"$f":"Oljedatabase[[#This Row],[Sesong]]","v":"Sommerforhold"},15,2,"1",0.02,32,"Kjemisk dispergerbar",0.11,0.88,0,18,"Eksplosjonsfare ved tanking",10.8,"Kjemisk dispergerbar","Nei",0.9,"2012-10-23T02:00:00",825,"Sogn og Fjordane til Møre og Romsdal",40,6799425,-156431,"Veslefrikk 2012 Forvitringsrapport.pdf"]
["Veslefrikk 2012","Sommerforhold",{"$f":"Oljedatabase[[#This Row],[Oljetype]]&\"-\"&Oljedatabase[[#This Row],[SesongNy]]&\"-\"&Oljedatabase[[#This Row],[Vind (m/s)]]&\"-\"&Oljedatabase[[#This Row],[Tidspunkt (timer)]]","v":"Veslefrikk 2012-Sommerforhold-10-24"},{"$f":"Oljedatabase[[#This Row],[Sesong]]","v":"Sommerforhold"},15,10,"24",0.8,10400,"Redusert kjemisk dispergerbarhet",0.36,0.37,0.26,111,"Ingen eksplosjonsfare",25.5,"Redusert kjemisk dispergerbarhet","Ja",1.86,"2012-10-23T02:00:00",825,"Sogn og Fjordane til Møre og Romsdal",40,6799425,-156431,"Veslefrikk 2012 Forvitringsrapport.pdf"]
["Varg 2000","Vinterforhold",{"$f":"Oljedatabase[[#This Row],[Oljetype]]&\"-\"&Oljedatabase[[#This Row],[SesongNy]]&\"-\"&Oljedatabase[[#This Row],[Vind (m/s)]]&\"-\"&Oljedatabase[[#This Row],[Tidspunkt (timer)]]","v":"Varg 2000-Vinterforhold-15-96"},{"$f":"Oljedatabase[[#This Row],[Sesong]]","v":"Vinterforhold"},5,15,"96",0.5,22000,"Ikke testet",0.32,0,0.68,147,"Ingen eksplosjonsfare",33,"Lav/dårlig dispergerbarhet","Ja",0,"2000-09-10T02:00:00",853,"Vest-Agder til Hordaland",34,6512684,-270191,"Varg 2000 Forvitringsrapport.pdf"]
["Veslefrikk 2012","Sommerforhold",{"$f":"Oljedatabase[[#This Row],[Oljetype]]&\"-\"&Oljedatabase[[#This Row],[SesongNy]]&\"-\"&Oljedatabase[[#This Row],[Vind (m/s)]]&\"-\"&Oljedatabase[[#This Row],[Tidspunkt (timer)]]","v":"Veslefrikk 2012-Sommerforhold-2-3"},{"$f":"Oljedatabase[[#This Row],[Sesong]]","v":"Sommerforhold"},15,2,"3",0.05,89,"Kjemisk dispergerbar",0.19,0.8,0,42,"Eksplosjonsfare ved tanking",15,"Kjemisk dispergerbar","Nei",0.85,"2012-10-23T02:00:00",825,"Sogn og Fjordane til Møre og Romsdal",40,6799425,-156431,"Veslefrikk 2012 Forvitringsrapport.pdf"]
["Veslefrikk 2012","Sommerforhold",{"$f":"Oljedatabase[[#This Row],[Oljetype]]&\"-\"&Oljedatabase[[#This Row],[SesongNy]]&\"-\"&Oljedatabase[[#This Row],[Vind (m/s)]]&\"-\"&Oljedatabase[[#This Row],[Tidspunkt (timer)]]","v":"Veslefrikk 2012-Sommerforhold-15-12"},{"$f":"Oljedatabase[[#This Row],[Sesong]]","v":"Sommerforhold"},15,15,"12",0.8,10100,"Redusert kjemisk dispergerbarhet",0.34,0.16,0.48,110,"Ingen eksplosjonsfare",25.4,"Redusert kjemisk dispergerbarhet","Ja",0.83,"2012-10-23T02:00:00",825,"Sogn og Fjordane til Møre og Romsdal",40,6799425,-156431,"Veslefrikk 2012 Forvitringsrapport.pdf"]
["Vale 2014","Vinterforhold",{"$f":"Oljedatabase[[#This Row],[Oljetype]]&\"-\"&Oljedatabase[[#This Row],[SesongNy]]&\"-\"&Oljedatabase[[#This Row],[Vind (m/s)]]&\"-\"&Oljedatabase[[#This Row],[Tidspunkt (timer)]]","v":"Vale 2014-Vinterforhold-2-12"},{"$f":"Oljedatabase[[#This Row],[Sesong]]","v":"Vinterforhold"},5,2,"12",0.46,1560,"Kjemisk dispergerbar",0.36,0.63,0,69,"Ingen eksplosjonsfare",17.100000000000001,"Redusert kjemisk dispergerbarhet","Nei",1.19,"2014-02-17T01:00:00",816,"Vestlandet",41,6687116,-211155,"Vale 2014 Forvitringsrapport.pdf"]
["Varg 2000","Vinterforhold",{"$f":"Oljedatabase[[#This Row],[Oljetype]]&\"-\"&Oljedatabase[[#This Row],[SesongNy]]&\"-\"&Oljedatabase[[#This Row],[Vind (m/s)]]&\"-\"&Oljedatabase[[#This Row],[Tidspunkt (timer)]]","v":"Varg 2000-Vinterforhold-15-72"},{"$f":"Oljedatabase[[#This Row],[Sesong]]","v":"Vinterforhold"},5,15,"72",0.5,22000,"Ikke testet",0.32,0,0.68,147,"Ingen eksplosjonsfare",33,"Lav/dårlig dispergerbarhet","Ja",0,"2000-09-10T02:00:00",853,"Vest-Agder til Hordaland",34,6512684,-270191,"Varg 2000 Forvitringsrapport.pdf"]
["Valhall 2002","Sommerforhold",{"$f":"Oljedatabase[[#This Row],[Oljetype]]&\"-\"&Oljedatabase[[#This Row],[SesongNy]]&\"-\"&Oljedatabase[[#This Row],[Vind (m/s)]]&\"-\"&Oljedatabase[[#This Row],[Tidspunkt (timer)]]","v":"Valhall 2002-Sommerforhold-2-120"},{"$f":"Oljedatabase[[#This Row],[Sesong]]","v":"Sommerforhold"},15,2,"120",0.78,3100,"Redusert kjemisk dispergerbarhet",0.31,0.68,0,0,"Ikke angitt",17,"Kjemisk dispergerbar","Nei",3.09,"2002-02-11T01:00:00",841,"Vest-Agder til Hordaland",36,6297738,-216640,"Valhall 2002 Forvitringsrapport.pdf"]
["Varg 2000","Vinterforhold",{"$f":"Oljedatabase[[#This Row],[Oljetype]]&\"-\"&Oljedatabase[[#This Row],[SesongNy]]&\"-\"&Oljedatabase[[#This Row],[Vind (m/s)]]&\"-\"&Oljedatabase[[#This Row],[Tidspunkt (timer)]]","v":"Varg 2000-Vinterforhold-15-3"},{"$f":"Oljedatabase[[#This Row],[Sesong]]","v":"Vinterforhold"},5,15,"3",0.5,8200,"Ikke testet",0.25,0.56999999999999995,0.18,98,"Ingen eksplosjonsfare",28,"Lav/dårlig dispergerbarhet","Nei",1.1399999999999999,"2000-09-10T02:00:00",853,"Vest-Agder til Hordaland",34,6512684,-270191,"Varg 2000 Forvitringsrapport.pdf"]
["Vilje 2009","Vinterforhold",{"$f":"Oljedatabase[[#This Row],[Oljetype]]&\"-\"&Oljedatabase[[#This Row],[SesongNy]]&\"-\"&Oljedatabase[[#This Row],[Vind (m/s)]]&\"-\"&Oljedatabase[[#This Row],[Tidspunkt (timer)]]","v":"Vilje 2009-Vinterforhold-2-9"},{"$f":"Oljedatabase[[#This Row],[Sesong]]","v":"Vinterforhold"},5,2,"9",0.12,570,"Kjemisk dispergerbar",0.17,0.83,0,60,"Eksplosjonsfare ved tanking",17,"Redusert kjemisk dispergerbarhet","Nei",0.94,"2009-05-05T02:00:00",843,"Vest-Agder til Hordaland",36,6683742,-213690,"Vilje 2009 Forvitringsrapport.pdf"]
["Vilje 2009","Sommerforhold",{"$f":"Oljedatabase[[#This Row],[Oljetype]]&\"-\"&Oljedatabase[[#This Row],[SesongNy]]&\"-\"&Oljedatabase[[#This Row],[Vind (m/s)]]&\"-\"&Oljedatabase[[#This Row],[Tidspunkt (timer)]]","v":"Vilje 2009-Sommerforhold-2-6"},{"$f":"Oljedatabase[[#This Row],[Sesong]]","v":"Sommerforhold"},15,2,"6",0.09,310,"Kjemisk dispergerbar",0.18,0.82,0,63,"Ingen eksplosjonsfare",18,"Kjemisk dispergerbar","Nei",0.9,"2009-05-05T02:00:00",843,"Vest-Agder til Hordaland",36,6683742,-213690,"Vilje 2009 Forvitringsrapport.pdf"]
["Vilje 2009","Sommerforhold",{"$f":"Oljedatabase[[#This Row],[Oljetype]]&\"-\"&Oljedatabase[[#This Row],[SesongNy]]&\"-\"&Oljedatabase[[#This Row],[Vind (m/s)]]&\"-\"&Oljedatabase[[#This Row],[Tidspunkt (timer)]]","v":"Vilje 2009-Sommerforhold-2-48"},{"$f":"Oljedatabase[[#This Row],[Sesong]]","v":"Sommerforhold"},15,2,"48",0.45,2400,"Redusert kjemisk dispergerbarhet",0.27,0.73,0,96,"Ingen eksplosjonsfare",23,"Redusert kjemisk dispergerbarhet","Nei",1.32,"2009-05-05T02:00:00",843,"Vest-Agder til Hordaland",36,6683742,-213690,"Vilje 2009 Forvitringsrapport.pdf"]
["Vilje 2009","Sommerforhold",{"$f":"Oljedatabase[[#This Row],[Oljetype]]&\"-\"&Oljedatabase[[#This Row],[SesongNy]]&\"-\"&Oljedatabase[[#This Row],[Vind (m/s)]]&\"-\"&Oljedatabase[[#This Row],[Tidspunkt (timer)]]","v":"Vilje 2009-Sommerforhold-2-120"},{"$f":"Oljedatabase[[#This Row],[Sesong]]","v":"Sommerforhold"},15,2,"120",0.66,10000,"Redusert kjemisk dispergerbarhet",0.3,0.7,0,110,"Ingen eksplosjonsfare",25,"Redusert kjemisk dispergerbarhet","Nei",2.0499999999999998,"2009-05-05T02:00:00",843,"Vest-Agder til Hordaland",36,6683742,-213690,"Vilje 2009 Forvitringsrapport.pdf"]
["Vilje 2009","Sommerforhold",{"$f":"Oljedatabase[[#This Row],[Oljetype]]&\"-\"&Oljedatabase[[#This Row],[SesongNy]]&\"-\"&Oljedatabase[[#This Row],[Vind (m/s)]]&\"-\"&Oljedatabase[[#This Row],[Tidspunkt (timer)]]","v":"Vilje 2009-Sommerforhold-2-9"},{"$f":"Oljedatabase[[#This Row],[Sesong]]","v":"Sommerforhold"},15,2,"9",0.12,410,"Kjemisk dispergerbar",0.2,0.8,0,70,"Ingen eksplosjonsfare",19,"Kjemisk dispergerbar","Nei",0.9,"2009-05-05T02:00:00",843,"Vest-Agder til Hordaland",36,6683742,-213690,"Vilje 2009 Forvitringsrapport.pdf"]
["Vilje 2009","Sommerforhold",{"$f":"Oljedatabase[[#This Row],[Oljetype]]&\"-\"&Oljedatabase[[#This Row],[SesongNy]]&\"-\"&Oljedatabase[[#This Row],[Vind (m/s)]]&\"-\"&Oljedatabase[[#This Row],[Tidspunkt (timer)]]","v":"Vilje 2009-Sommerforhold-15-24"},{"$f":"Oljedatabase[[#This Row],[Sesong]]","v":"Sommerforhold"},15,15,"24",0.77,29000,"Redusert kjemisk dispergerbarhet",0.31,0.09,0.6,127,"Ingen eksplosjonsfare",27,"Redusert kjemisk dispergerbarhet","Ja",0.39,"2009-05-05T02:00:00",843,"Vest-Agder til Hordaland",36,6683742,-213690,"Vilje 2009 Forvitringsrapport.pdf"]
["Vilje 2009","Vinterforhold",{"$f":"Oljedatabase[[#This Row],[Oljetype]]&\"-\"&Oljedatabase[[#This Row],[SesongNy]]&\"-\"&Oljedatabase[[#This Row],[Vind (m/s)]]&\"-\"&Oljedatabase[[#This Row],[Tidspunkt (timer)]]","v":"Vilje 2009-Vinterforhold-15-24"},{"$f":"Oljedatabase[[#This Row],[Sesong]]","v":"Vinterforhold"},5,15,"24",0.72,29000,"Redusert kjemisk dispergerbarhet",0.27,0.13,0.6,113,"Ingen eksplosjonsfare",26,"Lav/dårlig dispergerbarhet","Ja",0.46,"2009-05-05T02:00:00",843,"Vest-Agder til Hordaland",36,6683742,-213690,"Vilje 2009 Forvitringsrapport.pdf"]
["Vilje 2009","Sommerforhold",{"$f":"Oljedatabase[[#This Row],[Oljetype]]&\"-\"&Oljedatabase[[#This Row],[SesongNy]]&\"-\"&Oljedatabase[[#This Row],[Vind (m/s)]]&\"-\"&Oljedatabase[[#This Row],[Tidspunkt (timer)]]","v":"Vilje 2009-Sommerforhold-10-24"},{"$f":"Oljedatabase[[#This Row],[Sesong]]","v":"Sommerforhold"},15,10,"24",0.77,22000,"Redusert kjemisk dispergerbarhet",0.32,0.45,0.23,118,"Ingen eksplosjonsfare",26,"Redusert kjemisk dispergerbarhet","Ja",1.95,"2009-05-05T02:00:00",843,"Vest-Agder til Hordaland",36,6683742,-213690,"Vilje 2009 Forvitringsrapport.pdf"]
["Vilje 2009","Vinterforhold",{"$f":"Oljedatabase[[#This Row],[Oljetype]]&\"-\"&Oljedatabase[[#This Row],[SesongNy]]&\"-\"&Oljedatabase[[#This Row],[Vind (m/s)]]&\"-\"&Oljedatabase[[#This Row],[Tidspunkt (timer)]]","v":"Vilje 2009-Vinterforhold-15-12"},{"$f":"Oljedatabase[[#This Row],[Sesong]]","v":"Vinterforhold"},5,15,"12",0.72,24000,"Redusert kjemisk dispergerbarhet",0.26,0.26,0.49,103,"Ingen eksplosjonsfare",24,"Lav/dårlig dispergerbarhet","Ja",0.92,"2009-05-05T02:00:00",843,"Vest-Agder til Hordaland",36,6683742,-213690,"Vilje 2009 Forvitringsrapport.pdf"]
["Visund 2009","Vinterforhold",{"$f":"Oljedatabase[[#This Row],[Oljetype]]&\"-\"&Oljedatabase[[#This Row],[SesongNy]]&\"-\"&Oljedatabase[[#This Row],[Vind (m/s)]]&\"-\"&Oljedatabase[[#This Row],[Tidspunkt (timer)]]","v":"Visund 2009-Vinterforhold-5-12"},{"$f":"Oljedatabase[[#This Row],[Sesong]]","v":"Vinterforhold"},5,5,"12",0.64,828,"Ikke testet",0.48,0.5,0.03,76,"Ingen eksplosjonsfare",6,"Ikke angitt","Nei",1.38,"2009-03-03T01:00:00",791,"Sogn og Fjordane til Møre og Romsdal",47,6868511,-167465,"Visund 2009 Forvitringsrapport.pdf"]
["Visund 2009","Sommerforhold",{"$f":"Oljedatabase[[#This Row],[Oljetype]]&\"-\"&Oljedatabase[[#This Row],[SesongNy]]&\"-\"&Oljedatabase[[#This Row],[Vind (m/s)]]&\"-\"&Oljedatabase[[#This Row],[Tidspunkt (timer)]]","v":"Visund 2009-Sommerforhold-5-96"},{"$f":"Oljedatabase[[#This Row],[Sesong]]","v":"Sommerforhold"},15,5,"96",0.77,1300,"Ikke testet",0.61,0.25,0.14000000000000001,114,"Ingen eksplosjonsfare",18,"Ikke angitt","Nei",1.08,"2009-03-03T01:00:00",791,"Sogn og Fjordane til Møre og Romsdal",47,6868511,-167465,"Visund 2009 Forvitringsrapport.pdf"]
["Visund 2009","Sommerforhold",{"$f":"Oljedatabase[[#This Row],[Oljetype]]&\"-\"&Oljedatabase[[#This Row],[SesongNy]]&\"-\"&Oljedatabase[[#This Row],[Vind (m/s)]]&\"-\"&Oljedatabase[[#This Row],[Tidspunkt (timer)]]","v":"Visund 2009-Sommerforhold-10-48"},{"$f":"Oljedatabase[[#This Row],[Sesong]]","v":"Sommerforhold"},15,10,"48",0.8,1600,"Ikke testet",0.56000000000000005,0.01,0.43,119,"Ingen eksplosjonsfare",19,"Ikke angitt","Nei",0.05,"2009-03-03T01:00:00",791,"Sogn og Fjordane til Møre og Romsdal",47,6868511,-167465,"Visund 2009 Forvitringsrapport.pdf"]
["Visund 2009","Sommerforhold",{"$f":"Oljedatabase[[#This Row],[Oljetype]]&\"-\"&Oljedatabase[[#This Row],[SesongNy]]&\"-\"&Oljedatabase[[#This Row],[Vind (m/s)]]&\"-\"&Oljedatabase[[#This Row],[Tidspunkt (timer)]]","v":"Visund 2009-Sommerforhold-15-3"},{"$f":"Oljedatabase[[#This Row],[Sesong]]","v":"Sommerforhold"},15,15,"3",0.56000000000000005,460,"Ikke testet",0.48,0.08,0.44,92,"Ingen eksplosjonsfare",11,"Ikke angitt","Nei",0.18,"2009-03-03T01:00:00",791,"Sogn og Fjordane til Møre og Romsdal",47,6868511,-167465,"Visund 2009 Forvitringsrapport.pdf"]
["Visund 2009","Sommerforhold",{"$f":"Oljedatabase[[#This Row],[Oljetype]]&\"-\"&Oljedatabase[[#This Row],[SesongNy]]&\"-\"&Oljedatabase[[#This Row],[Vind (m/s)]]&\"-\"&Oljedatabase[[#This Row],[Tidspunkt (timer)]]","v":"Visund 2009-Sommerforhold-5-48"},{"$f":"Oljedatabase[[#This Row],[Sesong]]","v":"Sommerforhold"},15,5,"48",0.7,880,"Ikke testet",0.59,0.32,0.09,106,"Ingen eksplosjonsfare",15,"Ikke angitt","Nei",1.06,"2009-03-03T01:00:00",791,"Sogn og Fjordane til Møre og Romsdal",47,6868511,-167465,"Visund 2009 Forvitringsrapport.pdf"]
["Visund 2009","Vinterforhold",{"$f":"Oljedatabase[[#This Row],[Oljetype]]&\"-\"&Oljedatabase[[#This Row],[SesongNy]]&\"-\"&Oljedatabase[[#This Row],[Vind (m/s)]]&\"-\"&Oljedatabase[[#This Row],[Tidspunkt (timer)]]","v":"Visund 2009-Vinterforhold-2-3"},{"$f":"Oljedatabase[[#This Row],[Sesong]]","v":"Vinterforhold"},5,2,"3",0.13,61,"Ikke testet",0.32,0.68,0,38,"Eksplosjonsfare ved tanking",-6,"Ikke angitt","Nei",0.78,"2009-03-03T01:00:00",791,"Sogn og Fjordane til Møre og Romsdal",47,6868511,-167465,"Visund 2009 Forvitringsrapport.pdf"]
["Visund 2009","Vinterforhold",{"$f":"Oljedatabase[[#This Row],[Oljetype]]&\"-\"&Oljedatabase[[#This Row],[SesongNy]]&\"-\"&Oljedatabase[[#This Row],[Vind (m/s)]]&\"-\"&Oljedatabase[[#This Row],[Tidspunkt (timer)]]","v":"Visund 2009-Vinterforhold-5-96"},{"$f":"Oljedatabase[[#This Row],[Sesong]]","v":"Vinterforhold"},5,5,"96",0.8,28,"Ikke testet",0.57999999999999996,0.32,0.11,103,"Ingen eksplosjonsfare",14,"Ikke angitt","Ja",1.6,"2009-03-03T01:00:00",791,"Sogn og Fjordane til Møre og Romsdal",47,6868511,-167465,"Visund 2009 Forvitringsrapport.pdf"]
["Visund 2009","Vinterforhold",{"$f":"Oljedatabase[[#This Row],[Oljetype]]&\"-\"&Oljedatabase[[#This Row],[SesongNy]]&\"-\"&Oljedatabase[[#This Row],[Vind (m/s)]]&\"-\"&Oljedatabase[[#This Row],[Tidspunkt (timer)]]","v":"Visund 2009-Vinterforhold-15-9"},{"$f":"Oljedatabase[[#This Row],[Sesong]]","v":"Vinterforhold"},5,15,"9",0.8,2139,"Ikke testet",0.47,0.03,0.51,95,"Ingen eksplosjonsfare",12,"Ikke angitt","Ja",0.15,"2009-03-03T01:00:00",791,"Sogn og Fjordane til Møre og Romsdal",47,6868511,-167465,"Visund 2009 Forvitringsrapport.pdf"]
["Volund 2010","Sommerforhold",{"$f":"Oljedatabase[[#This Row],[Oljetype]]&\"-\"&Oljedatabase[[#This Row],[SesongNy]]&\"-\"&Oljedatabase[[#This Row],[Vind (m/s)]]&\"-\"&Oljedatabase[[#This Row],[Tidspunkt (timer)]]","v":"Volund 2010-Sommerforhold-10-2"},{"$f":"Oljedatabase[[#This Row],[Sesong]]","v":"Sommerforhold"},15,10,"2",0.28999999999999998,130,"Kjemisk dispergerbar",0.17,0.67,0.15,65,"Ingen eksplosjonsfare",-17,"Kjemisk dispergerbar","Nei",0.94,"2010-08-01T02:00:00",860,"Vest-Agder til Hordaland",33,6667796,-234959,"Volund 2010 Forvitringsrapport.pdf"]
["Volund 2010","Sommerforhold",{"$f":"Oljedatabase[[#This Row],[Oljetype]]&\"-\"&Oljedatabase[[#This Row],[SesongNy]]&\"-\"&Oljedatabase[[#This Row],[Vind (m/s)]]&\"-\"&Oljedatabase[[#This Row],[Tidspunkt (timer)]]","v":"Volund 2010-Sommerforhold-2-2"},{"$f":"Oljedatabase[[#This Row],[Sesong]]","v":"Sommerforhold"},15,2,"2",0.11,40,"Kjemisk dispergerbar",0.1,0.89,0,39,"Eksplosjonsfare ved tanking",-26,"Kjemisk dispergerbar","Nei",1,"2010-08-01T02:00:00",860,"Vest-Agder til Hordaland",33,6667796,-234959,"Volund 2010 Forvitringsrapport.pdf"]
["Volund 2010","Sommerforhold",{"$f":"Oljedatabase[[#This Row],[Oljetype]]&\"-\"&Oljedatabase[[#This Row],[SesongNy]]&\"-\"&Oljedatabase[[#This Row],[Vind (m/s)]]&\"-\"&Oljedatabase[[#This Row],[Tidspunkt (timer)]]","v":"Volund 2010-Sommerforhold-15-2"},{"$f":"Oljedatabase[[#This Row],[Sesong]]","v":"Sommerforhold"},15,15,"2",0.38,230,"Kjemisk dispergerbar",0.18,0.21,0.59,77,"Ingen eksplosjonsfare",-13.4,"Kjemisk dispergerbar","Nei",0.35,"2010-08-01T02:00:00",860,"Vest-Agder til Hordaland",33,6667796,-234959,"Volund 2010 Forvitringsrapport.pdf"]
["Visund 2009","Vinterforhold",{"$f":"Oljedatabase[[#This Row],[Oljetype]]&\"-\"&Oljedatabase[[#This Row],[SesongNy]]&\"-\"&Oljedatabase[[#This Row],[Vind (m/s)]]&\"-\"&Oljedatabase[[#This Row],[Tidspunkt (timer)]]","v":"Visund 2009-Vinterforhold-15-24"},{"$f":"Oljedatabase[[#This Row],[Sesong]]","v":"Vinterforhold"},5,15,"24",0.8,3335,"Ikke testet",0.47,0,0.52,107,"Ingen eksplosjonsfare",15,"Ikke angitt","Ja",0,"2009-03-03T01:00:00",791,"Sogn og Fjordane til Møre og Romsdal",47,6868511,-167465,"Visund 2009 Forvitringsrapport.pdf"]
["Volund 2010","Sommerforhold",{"$f":"Oljedatabase[[#This Row],[Oljetype]]&\"-\"&Oljedatabase[[#This Row],[SesongNy]]&\"-\"&Oljedatabase[[#This Row],[Vind (m/s)]]&\"-\"&Oljedatabase[[#This Row],[Tidspunkt (timer)]]","v":"Volund 2010-Sommerforhold-15-120"},{"$f":"Oljedatabase[[#This Row],[Sesong]]","v":"Sommerforhold"},15,15,"120",0.49,2490,"Redusert kjemisk dispergerbarhet",0.2,0,0.79,172,"Ingen eksplosjonsfare",15.5,"Kjemisk dispergerbar","Nei",0,"2010-08-01T02:00:00",860,"Vest-Agder til Hordaland",33,6667796,-234959,"Volund 2010 Forvitringsrapport.pdf"]
["Volund 2010","Vinterforhold",{"$f":"Oljedatabase[[#This Row],[Oljetype]]&\"-\"&Oljedatabase[[#This Row],[SesongNy]]&\"-\"&Oljedatabase[[#This Row],[Vind (m/s)]]&\"-\"&Oljedatabase[[#This Row],[Tidspunkt (timer)]]","v":"Volund 2010-Vinterforhold-5-120"},{"$f":"Oljedatabase[[#This Row],[Sesong]]","v":"Vinterforhold"},5,5,"120",0.75,13500,"Redusert kjemisk dispergerbarhet",0.27,0.56000000000000005,0.16,108,"Ingen eksplosjonsfare",-3.3,"Kjemisk dispergerbar","Ja",2.33,"2010-08-01T02:00:00",860,"Vest-Agder til Hordaland",33,6667796,-234959,"Volund 2010 Forvitringsrapport.pdf"]
["Volve 2006","Sommerforhold",{"$f":"Oljedatabase[[#This Row],[Oljetype]]&\"-\"&Oljedatabase[[#This Row],[SesongNy]]&\"-\"&Oljedatabase[[#This Row],[Vind (m/s)]]&\"-\"&Oljedatabase[[#This Row],[Tidspunkt (timer)]]","v":"Volve 2006-Sommerforhold-2-120"},{"$f":"Oljedatabase[[#This Row],[Sesong]]","v":"Sommerforhold"},15,2,"120",0.52,5810,"Kjemisk dispergerbar",0.19,0.8,0,97,"Ingen eksplosjonsfare",17,"Kjemisk dispergerbar","Nei",1.69,"2006-09-28T02:00:00",889,"Nordsjøen",27,6551615,-260127,"Volve 2006 Forvitringsrapport.pdf"]
["Volund 2010","Sommerforhold",{"$f":"Oljedatabase[[#This Row],[Oljetype]]&\"-\"&Oljedatabase[[#This Row],[SesongNy]]&\"-\"&Oljedatabase[[#This Row],[Vind (m/s)]]&\"-\"&Oljedatabase[[#This Row],[Tidspunkt (timer)]]","v":"Volund 2010-Sommerforhold-15-96"},{"$f":"Oljedatabase[[#This Row],[Sesong]]","v":"Sommerforhold"},15,15,"96",0.49,2320,"Redusert kjemisk dispergerbarhet",0.2,0,0.79,168,"Ingen eksplosjonsfare",14.3,"Kjemisk dispergerbar","Nei",0,"2010-08-01T02:00:00",860,"Vest-Agder til Hordaland",33,6667796,-234959,"Volund 2010 Forvitringsrapport.pdf"]
["Volve 2006","Sommerforhold",{"$f":"Oljedatabase[[#This Row],[Oljetype]]&\"-\"&Oljedatabase[[#This Row],[SesongNy]]&\"-\"&Oljedatabase[[#This Row],[Vind (m/s)]]&\"-\"&Oljedatabase[[#This Row],[Tidspunkt (timer)]]","v":"Volve 2006-Sommerforhold-5-24"},{"$f":"Oljedatabase[[#This Row],[Sesong]]","v":"Sommerforhold"},15,5,"24",0.46,3550,"Kjemisk dispergerbar",0.17,0.8,0.02,86,"Ingen eksplosjonsfare",15.9,"Kjemisk dispergerbar","Nei",1.49,"2006-09-28T02:00:00",889,"Nordsjøen",27,6551615,-260127,"Volve 2006 Forvitringsrapport.pdf"]
["Volund 2010","Vinterforhold",{"$f":"Oljedatabase[[#This Row],[Oljetype]]&\"-\"&Oljedatabase[[#This Row],[SesongNy]]&\"-\"&Oljedatabase[[#This Row],[Vind (m/s)]]&\"-\"&Oljedatabase[[#This Row],[Tidspunkt (timer)]]","v":"Volund 2010-Vinterforhold-15-9"},{"$f":"Oljedatabase[[#This Row],[Sesong]]","v":"Vinterforhold"},5,15,"9",0.66,5300,"Redusert kjemisk dispergerbarhet",0.2,0.05,0.74,93,"Ingen eksplosjonsfare",-8.1,"Kjemisk dispergerbar","Nei",0.15,"2010-08-01T02:00:00",860,"Vest-Agder til Hordaland",33,6667796,-234959,"Volund 2010 Forvitringsrapport.pdf"]
["Volve 2006","Sommerforhold",{"$f":"Oljedatabase[[#This Row],[Oljetype]]&\"-\"&Oljedatabase[[#This Row],[SesongNy]]&\"-\"&Oljedatabase[[#This Row],[Vind (m/s)]]&\"-\"&Oljedatabase[[#This Row],[Tidspunkt (timer)]]","v":"Volve 2006-Sommerforhold-10-12"},{"$f":"Oljedatabase[[#This Row],[Sesong]]","v":"Sommerforhold"},15,10,"12",0.59,7960,"Kjemisk dispergerbar",0.17,0.63,0.19,93,"Ingen eksplosjonsfare",16.7,"Kjemisk dispergerbar","Nei",1.57,"2006-09-28T02:00:00",889,"Nordsjøen",27,6551615,-260127,"Volve 2006 Forvitringsrapport.pdf"]
["Volve 2006","Sommerforhold",{"$f":"Oljedatabase[[#This Row],[Oljetype]]&\"-\"&Oljedatabase[[#This Row],[SesongNy]]&\"-\"&Oljedatabase[[#This Row],[Vind (m/s)]]&\"-\"&Oljedatabase[[#This Row],[Tidspunkt (timer)]]","v":"Volve 2006-Sommerforhold-5-12"},{"$f":"Oljedatabase[[#This Row],[Sesong]]","v":"Sommerforhold"},15,5,"12",0.28000000000000003,1480,"Kjemisk dispergerbar",0.15,0.83,0.01,76,"Ingen eksplosjonsfare",14.8,"Kjemisk dispergerbar","Nei",1.1599999999999999,"2006-09-28T02:00:00",889,"Nordsjøen",27,6551615,-260127,"Volve 2006 Forvitringsrapport.pdf"]
["Volve 2006","Vinterforhold",{"$f":"Oljedatabase[[#This Row],[Oljetype]]&\"-\"&Oljedatabase[[#This Row],[SesongNy]]&\"-\"&Oljedatabase[[#This Row],[Vind (m/s)]]&\"-\"&Oljedatabase[[#This Row],[Tidspunkt (timer)]]","v":"Volve 2006-Vinterforhold-5-24"},{"$f":"Oljedatabase[[#This Row],[Sesong]]","v":"Vinterforhold"},5,5,"24",0.28999999999999998,3380,"Kjemisk dispergerbar",0.14000000000000001,0.82,0.02,74,"Ingen eksplosjonsfare",14.7,"Redusert kjemisk dispergerbarhet","Nei",1.18,"2006-09-28T02:00:00",889,"Nordsjøen",27,6551615,-260127,"Volve 2006 Forvitringsrapport.pdf"]
["Volve 2006","Vinterforhold",{"$f":"Oljedatabase[[#This Row],[Oljetype]]&\"-\"&Oljedatabase[[#This Row],[SesongNy]]&\"-\"&Oljedatabase[[#This Row],[Vind (m/s)]]&\"-\"&Oljedatabase[[#This Row],[Tidspunkt (timer)]]","v":"Volve 2006-Vinterforhold-10-3"},{"$f":"Oljedatabase[[#This Row],[Sesong]]","v":"Vinterforhold"},5,10,"3",0.14000000000000001,1760,"Kjemisk dispergerbar",0.11,0.82,0.05,60,"Ingen eksplosjonsfare",13.2,"Redusert kjemisk dispergerbarhet","Nei",0.96,"2006-09-28T02:00:00",889,"Nordsjøen",27,6551615,-260127,"Volve 2006 Forvitringsrapport.pdf"]
["Volve 2006","Sommerforhold",{"$f":"Oljedatabase[[#This Row],[Oljetype]]&\"-\"&Oljedatabase[[#This Row],[SesongNy]]&\"-\"&Oljedatabase[[#This Row],[Vind (m/s)]]&\"-\"&Oljedatabase[[#This Row],[Tidspunkt (timer)]]","v":"Volve 2006-Sommerforhold-10-3"},{"$f":"Oljedatabase[[#This Row],[Sesong]]","v":"Sommerforhold"},15,10,"3",0.24,1190,"Kjemisk dispergerbar",0.13,0.78,7.0000000000000007E-2,71,"Ingen eksplosjonsfare",14.3,"Kjemisk dispergerbar","Nei",1.04,"2006-09-28T02:00:00",889,"Nordsjøen",27,6551615,-260127,"Volve 2006 Forvitringsrapport.pdf"]
["Wisting 2015","Vinterforhold",{"$f":"Oljedatabase[[#This Row],[Oljetype]]&\"-\"&Oljedatabase[[#This Row],[SesongNy]]&\"-\"&Oljedatabase[[#This Row],[Vind (m/s)]]&\"-\"&Oljedatabase[[#This Row],[Tidspunkt (timer)]]","v":"Wisting 2015-Vinterforhold-5-1"},{"$f":"Oljedatabase[[#This Row],[Sesong]]","v":"Vinterforhold"},1,5,"1",0.15,190,"Ikke kjemisk dispergerbar",0.01,0.96,0.03,28,"Eksplosjonsfare ved tanking",-28,"Kjemisk dispergerbar","Nei",1.1299999999999999,"2015-02-04T01:00:00",845,"Troms og Finnmark",35,8174364,797852,"Wisting 2015 Forvitringsrapport.pdf"]
["Volve 2006","Vinterforhold",{"$f":"Oljedatabase[[#This Row],[Oljetype]]&\"-\"&Oljedatabase[[#This Row],[SesongNy]]&\"-\"&Oljedatabase[[#This Row],[Vind (m/s)]]&\"-\"&Oljedatabase[[#This Row],[Tidspunkt (timer)]]","v":"Volve 2006-Vinterforhold-2-120"},{"$f":"Oljedatabase[[#This Row],[Sesong]]","v":"Vinterforhold"},5,2,"120",0.33,4500,"Kjemisk dispergerbar",0.16,0.83,0,84,"Ingen eksplosjonsfare",15.7,"Redusert kjemisk dispergerbarhet","Nei",1.25,"2006-09-28T02:00:00",889,"Nordsjøen",27,6551615,-260127,"Volve 2006 Forvitringsrapport.pdf"]
["Volve 2006","Vinterforhold",{"$f":"Oljedatabase[[#This Row],[Oljetype]]&\"-\"&Oljedatabase[[#This Row],[SesongNy]]&\"-\"&Oljedatabase[[#This Row],[Vind (m/s)]]&\"-\"&Oljedatabase[[#This Row],[Tidspunkt (timer)]]","v":"Volve 2006-Vinterforhold-10-1"},{"$f":"Oljedatabase[[#This Row],[Sesong]]","v":"Vinterforhold"},5,10,"1",0.05,1080,"Kjemisk dispergerbar",0.08,0.89,0.01,43,"Eksplosjonsfare ved tanking",11.3,"Redusert kjemisk dispergerbarhet","Nei",0.95,"2006-09-28T02:00:00",889,"Nordsjøen",27,6551615,-260127,"Volve 2006 Forvitringsrapport.pdf"]
["Wisting 2015","Vinterforhold",{"$f":"Oljedatabase[[#This Row],[Oljetype]]&\"-\"&Oljedatabase[[#This Row],[SesongNy]]&\"-\"&Oljedatabase[[#This Row],[Vind (m/s)]]&\"-\"&Oljedatabase[[#This Row],[Tidspunkt (timer)]]","v":"Wisting 2015-Vinterforhold-2-48"},{"$f":"Oljedatabase[[#This Row],[Sesong]]","v":"Vinterforhold"},1,2,"48",0.53,3490,"Ikke kjemisk dispergerbar",0.18,0.82,0,81,"Ingen eksplosjonsfare",-6,"Kjemisk dispergerbar","Nei",1.74,"2015-02-04T01:00:00",845,"Troms og Finnmark",35,8174364,797852,"Wisting 2015 Forvitringsrapport.pdf"]
["Volve 2006","Vinterforhold",{"$f":"Oljedatabase[[#This Row],[Oljetype]]&\"-\"&Oljedatabase[[#This Row],[SesongNy]]&\"-\"&Oljedatabase[[#This Row],[Vind (m/s)]]&\"-\"&Oljedatabase[[#This Row],[Tidspunkt (timer)]]","v":"Volve 2006-Vinterforhold-15-12"},{"$f":"Oljedatabase[[#This Row],[Sesong]]","v":"Vinterforhold"},5,15,"12",0.56999999999999995,14600,"Redusert kjemisk dispergerbarhet",0.16,0.28000000000000003,0.55000000000000004,94,"Ingen eksplosjonsfare",16.8,"Redusert kjemisk dispergerbarhet","Ja",0.68,"2006-09-28T02:00:00",889,"Nordsjøen",27,6551615,-260127,"Volve 2006 Forvitringsrapport.pdf"]
["Wisting Central 2017","Sommerforhold",{"$f":"Oljedatabase[[#This Row],[Oljetype]]&\"-\"&Oljedatabase[[#This Row],[SesongNy]]&\"-\"&Oljedatabase[[#This Row],[Vind (m/s)]]&\"-\"&Oljedatabase[[#This Row],[Tidspunkt (timer)]]","v":"Wisting Central 2017-Sommerforhold-2-3"},{"$f":"Oljedatabase[[#This Row],[Sesong]]","v":"Sommerforhold"},5,2,"3",0.02,39,"Kjemisk dispergerbar",0.18,0.81,0,50,"Eksplosjonsfare ved tanking",-36,"Kjemisk dispergerbar","Nei",0.84,"2017-06-01T02:00:00",838,"Barentshavet",37,8174364,797852,"Wisting Central 2017 Forvitringsrapport.pdf"]
["Volve 2006","Vinterforhold",{"$f":"Oljedatabase[[#This Row],[Oljetype]]&\"-\"&Oljedatabase[[#This Row],[SesongNy]]&\"-\"&Oljedatabase[[#This Row],[Vind (m/s)]]&\"-\"&Oljedatabase[[#This Row],[Tidspunkt (timer)]]","v":"Volve 2006-Vinterforhold-15-120"},{"$f":"Oljedatabase[[#This Row],[Sesong]]","v":"Vinterforhold"},5,15,"120",0.62,29700,"Lav/dårlig kjemisk dispergerbarhet",0.17,0,0.82,125,"Ingen eksplosjonsfare",19.7,"Redusert kjemisk dispergerbarhet","Ja",0,"2006-09-28T02:00:00",889,"Nordsjøen",27,6551615,-260127,"Volve 2006 Forvitringsrapport.pdf"]
["Wisting 2015","Vinterforhold",{"$f":"Oljedatabase[[#This Row],[Oljetype]]&\"-\"&Oljedatabase[[#This Row],[SesongNy]]&\"-\"&Oljedatabase[[#This Row],[Vind (m/s)]]&\"-\"&Oljedatabase[[#This Row],[Tidspunkt (timer)]]","v":"Wisting 2015-Vinterforhold-15-6"},{"$f":"Oljedatabase[[#This Row],[Sesong]]","v":"Vinterforhold"},5,15,"6",0.56999999999999995,2730,"Ikke kjemisk dispergerbar",0.13,0.46,0.4,67,"Ingen eksplosjonsfare",-12,"Kjemisk dispergerbar","Nei",1.0900000000000001,"2015-02-04T01:00:00",845,"Troms og Finnmark",35,8174364,797852,"Wisting 2015 Forvitringsrapport.pdf"]
["Wisting 2015","Vinterforhold",{"$f":"Oljedatabase[[#This Row],[Oljetype]]&\"-\"&Oljedatabase[[#This Row],[SesongNy]]&\"-\"&Oljedatabase[[#This Row],[Vind (m/s)]]&\"-\"&Oljedatabase[[#This Row],[Tidspunkt (timer)]]","v":"Wisting 2015-Vinterforhold-10-12"},{"$f":"Oljedatabase[[#This Row],[Sesong]]","v":"Vinterforhold"},5,10,"12",0.56999999999999995,3640,"Ikke kjemisk dispergerbar",0.16,0.54,0.3,75,"Ingen eksplosjonsfare",-9,"Kjemisk dispergerbar","Nei",1.26,"2015-02-04T01:00:00",845,"Troms og Finnmark",35,8174364,797852,"Wisting 2015 Forvitringsrapport.pdf"]
["Wisting 2015","Vinterforhold",{"$f":"Oljedatabase[[#This Row],[Oljetype]]&\"-\"&Oljedatabase[[#This Row],[SesongNy]]&\"-\"&Oljedatabase[[#This Row],[Vind (m/s)]]&\"-\"&Oljedatabase[[#This Row],[Tidspunkt (timer)]]","v":"Wisting 2015-Vinterforhold-2-48"},{"$f":"Oljedatabase[[#This Row],[Sesong]]","v":"Vinterforhold"},5,2,"48",0.53,3240,"Ikke kjemisk dispergerbar",0.19,0.81,0,85,"Ingen eksplosjonsfare",-5,"Kjemisk dispergerbar","Nei",1.72,"2015-02-04T01:00:00",845,"Troms og Finnmark",35,8174364,797852,"Wisting 2015 Forvitringsrapport.pdf"]
["Wisting 2015","Vinterforhold",{"$f":"Oljedatabase[[#This Row],[Oljetype]]&\"-\"&Oljedatabase[[#This Row],[SesongNy]]&\"-\"&Oljedatabase[[#This Row],[Vind (m/s)]]&\"-\"&Oljedatabase[[#This Row],[Tidspunkt (timer)]]","v":"Wisting 2015-Vinterforhold-2-120"},{"$f":"Oljedatabase[[#This Row],[Sesong]]","v":"Vinterforhold"},1,2,"120",0.56999999999999995,6330,"Ikke kjemisk dispergerbar",0.22,0.78,0,95,"Ingen eksplosjonsfare",-1,"Kjemisk dispergerbar","Nei",1.81,"2015-02-04T01:00:00",845,"Troms og Finnmark",35,8174364,797852,"Wisting 2015 Forvitringsrapport.pdf"]
["Wisting 2015","Vinterforhold",{"$f":"Oljedatabase[[#This Row],[Oljetype]]&\"-\"&Oljedatabase[[#This Row],[SesongNy]]&\"-\"&Oljedatabase[[#This Row],[Vind (m/s)]]&\"-\"&Oljedatabase[[#This Row],[Tidspunkt (timer)]]","v":"Wisting 2015-Vinterforhold-15-1"},{"$f":"Oljedatabase[[#This Row],[Sesong]]","v":"Vinterforhold"},1,15,"1",0.55000000000000004,1260,"Ikke kjemisk dispergerbar",0.04,0.72,0.24,37,"Eksplosjonsfare ved tanking",-24,"Kjemisk dispergerbar","Nei",1.6,"2015-02-04T01:00:00",845,"Troms og Finnmark",35,8174364,797852,"Wisting 2015 Forvitringsrapport.pdf"]
["Wisting 2015","Vinterforhold",{"$f":"Oljedatabase[[#This Row],[Oljetype]]&\"-\"&Oljedatabase[[#This Row],[SesongNy]]&\"-\"&Oljedatabase[[#This Row],[Vind (m/s)]]&\"-\"&Oljedatabase[[#This Row],[Tidspunkt (timer)]]","v":"Wisting 2015-Vinterforhold-10-3"},{"$f":"Oljedatabase[[#This Row],[Sesong]]","v":"Vinterforhold"},5,10,"3",0.56999999999999995,1890,"Ikke kjemisk dispergerbar",0.09,0.69,0.22,54,"Eksplosjonsfare ved tanking",-17,"Kjemisk dispergerbar","Nei",1.6,"2015-02-04T01:00:00",845,"Troms og Finnmark",35,8174364,797852,"Wisting 2015 Forvitringsrapport.pdf"]
["Wisting Central 2017","Vinterforhold",{"$f":"Oljedatabase[[#This Row],[Oljetype]]&\"-\"&Oljedatabase[[#This Row],[SesongNy]]&\"-\"&Oljedatabase[[#This Row],[Vind (m/s)]]&\"-\"&Oljedatabase[[#This Row],[Tidspunkt (timer)]]","v":"Wisting Central 2017-Vinterforhold-2-6"},{"$f":"Oljedatabase[[#This Row],[Sesong]]","v":"Vinterforhold"},2,2,"6",0.02,54,"Kjemisk dispergerbar",0.2,0.79,0,58,"Eksplosjonsfare ved tanking",-36,"Kjemisk dispergerbar","Nei",0.82,"2017-06-01T02:00:00",838,"Barentshavet",37,8174364,797852,"Wisting Central 2017 Forvitringsrapport.pdf"]
["Wisting 2015","Vinterforhold",{"$f":"Oljedatabase[[#This Row],[Oljetype]]&\"-\"&Oljedatabase[[#This Row],[SesongNy]]&\"-\"&Oljedatabase[[#This Row],[Vind (m/s)]]&\"-\"&Oljedatabase[[#This Row],[Tidspunkt (timer)]]","v":"Wisting 2015-Vinterforhold-10-9"},{"$f":"Oljedatabase[[#This Row],[Sesong]]","v":"Vinterforhold"},5,10,"9",0.56999999999999995,3080,"Ikke kjemisk dispergerbar",0.14000000000000001,0.59,0.27,70,"Ingen eksplosjonsfare",-11,"Kjemisk dispergerbar","Nei",1.37,"2015-02-04T01:00:00",845,"Troms og Finnmark",35,8174364,797852,"Wisting 2015 Forvitringsrapport.pdf"]
["Wisting Central 2017","Vinterforhold",{"$f":"Oljedatabase[[#This Row],[Oljetype]]&\"-\"&Oljedatabase[[#This Row],[SesongNy]]&\"-\"&Oljedatabase[[#This Row],[Vind (m/s)]]&\"-\"&Oljedatabase[[#This Row],[Tidspunkt (timer)]]","v":"Wisting Central 2017-Vinterforhold-10-24"},{"$f":"Oljedatabase[[#This Row],[Sesong]]","v":"Vinterforhold"},2,10,"24",0.59,1600,"Kjemisk dispergerbar",0.31,0.2,0.48,103,"Ingen eksplosjonsfare",-36,"Kjemisk dispergerbar","Nei",0.5,"2017-06-01T02:00:00",838,"Barentshavet",37,8174364,797852,"Wisting Central 2017 Forvitringsrapport.pdf"]
["Wisting Central 2017","Vinterforhold",{"$f":"Oljedatabase[[#This Row],[Oljetype]]&\"-\"&Oljedatabase[[#This Row],[SesongNy]]&\"-\"&Oljedatabase[[#This Row],[Vind (m/s)]]&\"-\"&Oljedatabase[[#This Row],[Tidspunkt (timer)]]","v":"Wisting Central 2017-Vinterforhold-10-3"},{"$f":"Oljedatabase[[#This Row],[Sesong]]","v":"Vinterforhold"},2,10,"3",0.21,151,"Kjemisk dispergerbar",0.25,0.56999999999999995,0.17,74,"Ingen eksplosjonsfare",-36,"Kjemisk dispergerbar","Nei",0.73,"2017-06-01T02:00:00",838,"Barentshavet",37,8174364,797852,"Wisting Central 2017 Forvitringsrapport.pdf"]
["Wisting Central 2017","Sommerforhold",{"$f":"Oljedatabase[[#This Row],[Oljetype]]&\"-\"&Oljedatabase[[#This Row],[SesongNy]]&\"-\"&Oljedatabase[[#This Row],[Vind (m/s)]]&\"-\"&Oljedatabase[[#This Row],[Tidspunkt (timer)]]","v":"Wisting Central 2017-Sommerforhold-10-24"},{"$f":"Oljedatabase[[#This Row],[Sesong]]","v":"Sommerforhold"},5,10,"24",0.57999999999999996,1430,"Kjemisk dispergerbar",0.31,0.18,0.49,106,"Ingen eksplosjonsfare",-36,"Kjemisk dispergerbar","Nei",0.45,"2017-06-01T02:00:00",838,"Barentshavet",37,8174364,797852,"Wisting Central 2017 Forvitringsrapport.pdf"]
["Yme 1999","Sommerforhold",{"$f":"Oljedatabase[[#This Row],[Oljetype]]&\"-\"&Oljedatabase[[#This Row],[SesongNy]]&\"-\"&Oljedatabase[[#This Row],[Vind (m/s)]]&\"-\"&Oljedatabase[[#This Row],[Tidspunkt (timer)]]","v":"Yme 1999-Sommerforhold-2-120"},{"$f":"Oljedatabase[[#This Row],[Sesong]]","v":"Sommerforhold"},15,2,"120",0.8,6300,"Redusert kjemisk dispergerbarhet",0.35,0.65,0,98,"Ingen eksplosjonsfare",25,"Redusert kjemisk dispergerbarhet","Nei",3.25,"1999-10-29T02:00:00",833,"Vest-Agder til Hordaland",38,6451216,-131875,"Yme 1999 Forvitringsrapport.pdf"]
["Yme 1999","Sommerforhold",{"$f":"Oljedatabase[[#This Row],[Oljetype]]&\"-\"&Oljedatabase[[#This Row],[SesongNy]]&\"-\"&Oljedatabase[[#This Row],[Vind (m/s)]]&\"-\"&Oljedatabase[[#This Row],[Tidspunkt (timer)]]","v":"Yme 1999-Sommerforhold-15-12"},{"$f":"Oljedatabase[[#This Row],[Sesong]]","v":"Sommerforhold"},15,15,"12",0.8,6300,"Redusert kjemisk dispergerbarhet",0.33,0.28999999999999998,0.38,98,"Ingen eksplosjonsfare",25,"Redusert kjemisk dispergerbarhet","Nei",1.45,"1999-10-29T02:00:00",833,"Vest-Agder til Hordaland",38,6451216,-131875,"Yme 1999 Forvitringsrapport.pdf"]
["Yme 1999","Vinterforhold",{"$f":"Oljedatabase[[#This Row],[Oljetype]]&\"-\"&Oljedatabase[[#This Row],[SesongNy]]&\"-\"&Oljedatabase[[#This Row],[Vind (m/s)]]&\"-\"&Oljedatabase[[#This Row],[Tidspunkt (timer)]]","v":"Yme 1999-Vinterforhold-5-72"},{"$f":"Oljedatabase[[#This Row],[Sesong]]","v":"Vinterforhold"},5,5,"72",0.8,9500,"Redusert kjemisk dispergerbarhet",0.33,0.63,0.04,92,"Ingen eksplosjonsfare",24,"Lav/dårlig dispergerbarhet","Nei",3.15,"1999-10-29T02:00:00",833,"Vest-Agder til Hordaland",38,6451216,-131875,"Yme 1999 Forvitringsrapport.pdf"]
["Wisting Central 2017","Vinterforhold",{"$f":"Oljedatabase[[#This Row],[Oljetype]]&\"-\"&Oljedatabase[[#This Row],[SesongNy]]&\"-\"&Oljedatabase[[#This Row],[Vind (m/s)]]&\"-\"&Oljedatabase[[#This Row],[Tidspunkt (timer)]]","v":"Wisting Central 2017-Vinterforhold-5-72"},{"$f":"Oljedatabase[[#This Row],[Sesong]]","v":"Vinterforhold"},2,5,"72",0.57999999999999996,1500,"Kjemisk dispergerbar",0.33,0.54,0.12,103,"Ingen eksplosjonsfare",-36,"Kjemisk dispergerbar","Nei",1.29,"2017-06-01T02:00:00",838,"Barentshavet",37,8174364,797852,"Wisting Central 2017 Forvitringsrapport.pdf"]
["Yme 1999","Vinterforhold",{"$f":"Oljedatabase[[#This Row],[Oljetype]]&\"-\"&Oljedatabase[[#This Row],[SesongNy]]&\"-\"&Oljedatabase[[#This Row],[Vind (m/s)]]&\"-\"&Oljedatabase[[#This Row],[Tidspunkt (timer)]]","v":"Yme 1999-Vinterforhold-2-72"},{"$f":"Oljedatabase[[#This Row],[Sesong]]","v":"Vinterforhold"},5,2,"72",0.8,6900,"Redusert kjemisk dispergerbarhet",0.3,0.7,0,83,"Ingen eksplosjonsfare",23,"Lav/dårlig dispergerbarhet","Nei",3.5,"1999-10-29T02:00:00",833,"Vest-Agder til Hordaland",38,6451216,-131875,"Yme 1999 Forvitringsrapport.pdf"]
["Wisting Central 2017","Vinterforhold",{"$f":"Oljedatabase[[#This Row],[Oljetype]]&\"-\"&Oljedatabase[[#This Row],[SesongNy]]&\"-\"&Oljedatabase[[#This Row],[Vind (m/s)]]&\"-\"&Oljedatabase[[#This Row],[Tidspunkt (timer)]]","v":"Wisting Central 2017-Vinterforhold-15-1"},{"$f":"Oljedatabase[[#This Row],[Sesong]]","v":"Vinterforhold"},2,15,"1",0.15,107,"Kjemisk dispergerbar",0.22,0.48,0.28999999999999998,68,"Ingen eksplosjonsfare",-36,"Kjemisk dispergerbar","Nei",0.56999999999999995,"2017-06-01T02:00:00",838,"Barentshavet",37,8174364,797852,"Wisting Central 2017 Forvitringsrapport.pdf"]
["Åsgard 2003","Sommerforhold",{"$f":"Oljedatabase[[#This Row],[Oljetype]]&\"-\"&Oljedatabase[[#This Row],[SesongNy]]&\"-\"&Oljedatabase[[#This Row],[Vind (m/s)]]&\"-\"&Oljedatabase[[#This Row],[Tidspunkt (timer)]]","v":"Åsgard 2003-Sommerforhold-5-9"},{"$f":"Oljedatabase[[#This Row],[Sesong]]","v":"Sommerforhold"},15,5,"9",0.15,400,"Kjemisk dispergerbar",0.35,0.63,0.02,81,"Ingen eksplosjonsfare",15,"Kjemisk dispergerbar","Nei",0.74,"2003-06-05T02:00:00",814,"Sør-Trøndelag til Nordland",42,7241112,111707,"Åsgard 2003 Forvitringsrapport.pdf"]
["Åsgard 2003","Sommerforhold",{"$f":"Oljedatabase[[#This Row],[Oljetype]]&\"-\"&Oljedatabase[[#This Row],[SesongNy]]&\"-\"&Oljedatabase[[#This Row],[Vind (m/s)]]&\"-\"&Oljedatabase[[#This Row],[Tidspunkt (timer)]]","v":"Åsgard 2003-Sommerforhold-10-12"},{"$f":"Oljedatabase[[#This Row],[Sesong]]","v":"Sommerforhold"},15,10,"12",0.3,670,"Kjemisk dispergerbar",0.41,0.28999999999999998,0.31,107,"Ingen eksplosjonsfare",26,"Redusert kjemisk dispergerbarhet","Nei",0.41,"2003-06-05T02:00:00",814,"Sør-Trøndelag til Nordland",42,7241112,111707,"Åsgard 2003 Forvitringsrapport.pdf"]
["Åsgard 2003","Sommerforhold",{"$f":"Oljedatabase[[#This Row],[Oljetype]]&\"-\"&Oljedatabase[[#This Row],[SesongNy]]&\"-\"&Oljedatabase[[#This Row],[Vind (m/s)]]&\"-\"&Oljedatabase[[#This Row],[Tidspunkt (timer)]]","v":"Åsgard 2003-Sommerforhold-15-6"},{"$f":"Oljedatabase[[#This Row],[Sesong]]","v":"Sommerforhold"},15,15,"6",0.28999999999999998,660,"Kjemisk dispergerbar",0.38,0.06,0.56000000000000005,105,"Ingen eksplosjonsfare",25,"Redusert kjemisk dispergerbarhet","Nei",0.08,"2003-06-05T02:00:00",814,"Sør-Trøndelag til Nordland",42,7241112,111707,"Åsgard 2003 Forvitringsrapport.pdf"]
["Yme 1999","Vinterforhold",{"$f":"Oljedatabase[[#This Row],[Oljetype]]&\"-\"&Oljedatabase[[#This Row],[SesongNy]]&\"-\"&Oljedatabase[[#This Row],[Vind (m/s)]]&\"-\"&Oljedatabase[[#This Row],[Tidspunkt (timer)]]","v":"Yme 1999-Vinterforhold-10-1"},{"$f":"Oljedatabase[[#This Row],[Sesong]]","v":"Vinterforhold"},5,10,"1",0.79,1400,"Kjemisk dispergerbar",0.14000000000000001,0.86,0,34,"Eksplosjonsfare ved tanking",14,"Redusert kjemisk dispergerbarhet","Nei",4.09,"1999-10-29T02:00:00",833,"Vest-Agder til Hordaland",38,6451216,-131875,"Yme 1999 Forvitringsrapport.pdf"]
["Åsgard 2003","Vinterforhold",{"$f":"Oljedatabase[[#This Row],[Oljetype]]&\"-\"&Oljedatabase[[#This Row],[SesongNy]]&\"-\"&Oljedatabase[[#This Row],[Vind (m/s)]]&\"-\"&Oljedatabase[[#This Row],[Tidspunkt (timer)]]","v":"Åsgard 2003-Vinterforhold-2-120"},{"$f":"Oljedatabase[[#This Row],[Sesong]]","v":"Vinterforhold"},5,2,"120",0.23,1100,"Kjemisk dispergerbar",0.4,0.6,0,99,"Ingen eksplosjonsfare",23,"Lav/dårlig dispergerbarhet","Nei",0.77,"2003-06-05T02:00:00",814,"Sør-Trøndelag til Nordland",42,7241112,111707,"Åsgard 2003 Forvitringsrapport.pdf"]
["Åsgard 2003","Sommerforhold",{"$f":"Oljedatabase[[#This Row],[Oljetype]]&\"-\"&Oljedatabase[[#This Row],[SesongNy]]&\"-\"&Oljedatabase[[#This Row],[Vind (m/s)]]&\"-\"&Oljedatabase[[#This Row],[Tidspunkt (timer)]]","v":"Åsgard 2003-Sommerforhold-2-72"},{"$f":"Oljedatabase[[#This Row],[Sesong]]","v":"Sommerforhold"},15,2,"72",0.25,620,"Kjemisk dispergerbar",0.41,0.59,0,103,"Ingen eksplosjonsfare",24,"Redusert kjemisk dispergerbarhet","Nei",0.78,"2003-06-05T02:00:00",814,"Sør-Trøndelag til Nordland",42,7241112,111707,"Åsgard 2003 Forvitringsrapport.pdf"]
["Åsgard 2003","Vinterforhold",{"$f":"Oljedatabase[[#This Row],[Oljetype]]&\"-\"&Oljedatabase[[#This Row],[SesongNy]]&\"-\"&Oljedatabase[[#This Row],[Vind (m/s)]]&\"-\"&Oljedatabase[[#This Row],[Tidspunkt (timer)]]","v":"Åsgard 2003-Vinterforhold-15-9"},{"$f":"Oljedatabase[[#This Row],[Sesong]]","v":"Vinterforhold"},5,15,"9",0.27,1200,"Kjemisk dispergerbar",0.36,0.04,0.6,99,"Ingen eksplosjonsfare",23,"Lav/dårlig dispergerbarhet","Nei",0.05,"2003-06-05T02:00:00",814,"Sør-Trøndelag til Nordland",42,7241112,111707,"Åsgard 2003 Forvitringsrapport.pdf"]
["Åsgard 2003","Vinterforhold",{"$f":"Oljedatabase[[#This Row],[Oljetype]]&\"-\"&Oljedatabase[[#This Row],[SesongNy]]&\"-\"&Oljedatabase[[#This Row],[Vind (m/s)]]&\"-\"&Oljedatabase[[#This Row],[Tidspunkt (timer)]]","v":"Åsgard 2003-Vinterforhold-2-12"},{"$f":"Oljedatabase[[#This Row],[Sesong]]","v":"Vinterforhold"},5,2,"12",0.05,380,"Kjemisk dispergerbar",0.27,0.73,0,52,"Eksplosjonsfare ved tanking",4,"Kjemisk dispergerbar","Nei",0.76,"2003-06-05T02:00:00",814,"Sør-Trøndelag til Nordland",42,7241112,111707,"Åsgard 2003 Forvitringsrapport.pdf"]
["Åsgard 2003","Sommerforhold",{"$f":"Oljedatabase[[#This Row],[Oljetype]]&\"-\"&Oljedatabase[[#This Row],[SesongNy]]&\"-\"&Oljedatabase[[#This Row],[Vind (m/s)]]&\"-\"&Oljedatabase[[#This Row],[Tidspunkt (timer)]]","v":"Åsgard 2003-Sommerforhold-10-1"},{"$f":"Oljedatabase[[#This Row],[Sesong]]","v":"Sommerforhold"},15,10,"1",0.05,200,"Kjemisk dispergerbar",0.27,0.71,0.03,51,"Eksplosjonsfare ved tanking",3,"Kjemisk dispergerbar","Nei",0.74,"2003-06-05T02:00:00",814,"Sør-Trøndelag til Nordland",42,7241112,111707,"Åsgard 2003 Forvitringsrapport.pdf"]
["Åsgard 2003","Vinterforhold",{"$f":"Oljedatabase[[#This Row],[Oljetype]]&\"-\"&Oljedatabase[[#This Row],[SesongNy]]&\"-\"&Oljedatabase[[#This Row],[Vind (m/s)]]&\"-\"&Oljedatabase[[#This Row],[Tidspunkt (timer)]]","v":"Åsgard 2003-Vinterforhold-5-72"},{"$f":"Oljedatabase[[#This Row],[Sesong]]","v":"Vinterforhold"},5,5,"72",0.31,1300,"Kjemisk dispergerbar",0.41,0.5,0.09,105,"Ingen eksplosjonsfare",25,"Lav/dårlig dispergerbarhet","Nei",0.72,"2003-06-05T02:00:00",814,"Sør-Trøndelag til Nordland",42,7241112,111707,"Åsgard 2003 Forvitringsrapport.pdf"]
["Åsgard 2003","Vinterforhold",{"$f":"Oljedatabase[[#This Row],[Oljetype]]&\"-\"&Oljedatabase[[#This Row],[SesongNy]]&\"-\"&Oljedatabase[[#This Row],[Vind (m/s)]]&\"-\"&Oljedatabase[[#This Row],[Tidspunkt (timer)]]","v":"Åsgard 2003-Vinterforhold-5-1"},{"$f":"Oljedatabase[[#This Row],[Sesong]]","v":"Vinterforhold"},5,5,"1",0,140,"Kjemisk dispergerbar",0.15,0.85,0,14,"Eksplosjonsfare ved tanking",-14,"Kjemisk dispergerbar","Nei",0.85,"2003-06-05T02:00:00",814,"Sør-Trøndelag til Nordland",42,7241112,111707,"Åsgard 2003 Forvitringsrapport.pdf"]
["Åsgard 2003","Sommerforhold",{"$f":"Oljedatabase[[#This Row],[Oljetype]]&\"-\"&Oljedatabase[[#This Row],[SesongNy]]&\"-\"&Oljedatabase[[#This Row],[Vind (m/s)]]&\"-\"&Oljedatabase[[#This Row],[Tidspunkt (timer)]]","v":"Åsgard 2003-Sommerforhold-2-96"},{"$f":"Oljedatabase[[#This Row],[Sesong]]","v":"Sommerforhold"},15,2,"96",0.28000000000000003,690,"Kjemisk dispergerbar",0.42,0.57999999999999996,0,108,"Ingen eksplosjonsfare",26,"Redusert kjemisk dispergerbarhet","Nei",0.8,"2003-06-05T02:00:00",814,"Sør-Trøndelag til Nordland",42,7241112,111707,"Åsgard 2003 Forvitringsrapport.pdf"]
["Åsgard 2003","Vinterforhold",{"$f":"Oljedatabase[[#This Row],[Oljetype]]&\"-\"&Oljedatabase[[#This Row],[SesongNy]]&\"-\"&Oljedatabase[[#This Row],[Vind (m/s)]]&\"-\"&Oljedatabase[[#This Row],[Tidspunkt (timer)]]","v":"Åsgard 2003-Vinterforhold-5-48"},{"$f":"Oljedatabase[[#This Row],[Sesong]]","v":"Vinterforhold"},5,5,"48",0.26,1100,"Kjemisk dispergerbar",0.4,0.54,7.0000000000000007E-2,99,"Ingen eksplosjonsfare",22,"Lav/dårlig dispergerbarhet","Nei",0.72,"2003-06-05T02:00:00",814,"Sør-Trøndelag til Nordland",42,7241112,111707,"Åsgard 2003 Forvitringsrapport.pdf"]
["Sigyn 2017","Vinterforhold",{"$f":"Oljedatabase[[#This Row],[Oljetype]]&\"-\"&Oljedatabase[[#This Row],[SesongNy]]&\"-\"&Oljedatabase[[#This Row],[Vind (m/s)]]&\"-\"&Oljedatabase[[#This Row],[Tidspunkt (timer)]]","v":"Sigyn 2017-Vinterforhold-5-48"},{"$f":"Oljedatabase[[#This Row],[Sesong]]","v":"Vinterforhold"},5,5,"48",0.625,241,"Kjemisk dispergerbar",0.753,2E-3,0.245,112,"Ingen eksplosjonsfare",26.1,"Lav/dårlig dispergerbarhet","Nei",0.01,"2017-08-14T02:00:00",739,"Vest-Agder til Hordaland",60,6534043,-257865,"Sigyn 2017 Forvitringsrapport.pdf"]
["Sigyn 2017","Vinterforhold",{"$f":"Oljedatabase[[#This Row],[Oljetype]]&\"-\"&Oljedatabase[[#This Row],[SesongNy]]&\"-\"&Oljedatabase[[#This Row],[Vind (m/s)]]&\"-\"&Oljedatabase[[#This Row],[Tidspunkt (timer)]]","v":"Sigyn 2017-Vinterforhold-5-96"},{"$f":"Oljedatabase[[#This Row],[Sesong]]","v":"Vinterforhold"},5,5,"96",0.71699999999999997,324,"Kjemisk dispergerbar",0.753,0,0.247,129,"Ingen eksplosjonsfare",27.7,"Lav/dårlig dispergerbarhet","Nei",0,"2017-08-14T02:00:00",739,"Vest-Agder til Hordaland",60,6534043,-257865,"Sigyn 2017 Forvitringsrapport.pdf"]
["Sigyn 2017","Sommerforhold",{"$f":"Oljedatabase[[#This Row],[Oljetype]]&\"-\"&Oljedatabase[[#This Row],[SesongNy]]&\"-\"&Oljedatabase[[#This Row],[Vind (m/s)]]&\"-\"&Oljedatabase[[#This Row],[Tidspunkt (timer)]]","v":"Sigyn 2017-Sommerforhold-10-96"},{"$f":"Oljedatabase[[#This Row],[Sesong]]","v":"Sommerforhold"},15,10,"96",0.77,235,"Kjemisk dispergerbar",0.70799999999999996,0,0.29199999999999998,152,"Ingen eksplosjonsfare",29.9,"Redusert kjemisk dispergerbarhet","Nei",0,"2017-08-14T02:00:00",739,"Vest-Agder til Hordaland",60,6534043,-257865,"Sigyn 2017 Forvitringsrapport.pdf"]
["Brasse 2018","Sommerforhold",{"$f":"Oljedatabase[[#This Row],[Oljetype]]&\"-\"&Oljedatabase[[#This Row],[SesongNy]]&\"-\"&Oljedatabase[[#This Row],[Vind (m/s)]]&\"-\"&Oljedatabase[[#This Row],[Tidspunkt (timer)]]","v":"Brasse 2018-Sommerforhold-2-120"},{"$f":"Oljedatabase[[#This Row],[Sesong]]","v":"Sommerforhold"},15,2,"120",0.73,8600,"Redusert kjemisk dispergerbarhet",0.375,0.622,3.0000000000000001E-3,109,"Ingen eksplosjonsfare",23.5,"Redusert kjemisk dispergerbarhet","Nei",2.2999999999999998,"2018-03-18T01:00:00",847,"Vestlandet",36,6758822,-156885,"Brasse 2018 Forvitringsrapport.pdf"]
["Sigyn 2017","Sommerforhold",{"$f":"Oljedatabase[[#This Row],[Oljetype]]&\"-\"&Oljedatabase[[#This Row],[SesongNy]]&\"-\"&Oljedatabase[[#This Row],[Vind (m/s)]]&\"-\"&Oljedatabase[[#This Row],[Tidspunkt (timer)]]","v":"Sigyn 2017-Sommerforhold-5-96"},{"$f":"Oljedatabase[[#This Row],[Sesong]]","v":"Sommerforhold"},15,5,"96",0.77,177,"Kjemisk dispergerbar",0.77500000000000002,0,0.22500000000000001,138,"Ingen eksplosjonsfare",28.6,"Redusert kjemisk dispergerbarhet","Nei",0,"2017-08-14T02:00:00",739,"Vest-Agder til Hordaland",60,6534043,-257865,"Sigyn 2017 Forvitringsrapport.pdf"]
["Brasse 2018","Sommerforhold",{"$f":"Oljedatabase[[#This Row],[Oljetype]]&\"-\"&Oljedatabase[[#This Row],[SesongNy]]&\"-\"&Oljedatabase[[#This Row],[Vind (m/s)]]&\"-\"&Oljedatabase[[#This Row],[Tidspunkt (timer)]]","v":"Brasse 2018-Sommerforhold-2-48"},{"$f":"Oljedatabase[[#This Row],[Sesong]]","v":"Sommerforhold"},15,2,"48",0.52700000000000002,2020,"Kjemisk dispergerbar",0.33900000000000002,0.65900000000000003,2E-3,96,"Ingen eksplosjonsfare",19.899999999999999,"Kjemisk dispergerbar","Nei",1.39,"2018-03-18T01:00:00",847,"Vestlandet",36,6758822,-156885,"Brasse 2018 Forvitringsrapport.pdf"]
["Brasse 2018","Sommerforhold",{"$f":"Oljedatabase[[#This Row],[Oljetype]]&\"-\"&Oljedatabase[[#This Row],[SesongNy]]&\"-\"&Oljedatabase[[#This Row],[Vind (m/s)]]&\"-\"&Oljedatabase[[#This Row],[Tidspunkt (timer)]]","v":"Brasse 2018-Sommerforhold-15-72"},{"$f":"Oljedatabase[[#This Row],[Sesong]]","v":"Sommerforhold"},15,15,"72",0.77800000000000002,28900,"Ikke kjemisk dispergerbar",0.35699999999999998,0,0.64300000000000002,144,"Ingen eksplosjonsfare",32.700000000000003,"Lav/dårlig dispergerbarhet","Ja",0,"2018-03-18T01:00:00",847,"Vestlandet",36,6758822,-156885,"Brasse 2018 Forvitringsrapport.pdf"]
["Sigyn 2017","Vinterforhold",{"$f":"Oljedatabase[[#This Row],[Oljetype]]&\"-\"&Oljedatabase[[#This Row],[SesongNy]]&\"-\"&Oljedatabase[[#This Row],[Vind (m/s)]]&\"-\"&Oljedatabase[[#This Row],[Tidspunkt (timer)]]","v":"Sigyn 2017-Vinterforhold-15-120"},{"$f":"Oljedatabase[[#This Row],[Sesong]]","v":"Vinterforhold"},5,15,"120",0.71799999999999997,513,"Kjemisk dispergerbar",0.63100000000000001,0,0.36899999999999999,150,"Ingen eksplosjonsfare",29.7,"Lav/dårlig dispergerbarhet","Nei",0,"2017-08-14T02:00:00",739,"Vest-Agder til Hordaland",60,6534043,-257865,"Sigyn 2017 Forvitringsrapport.pdf"]
["Sigyn 2017","Vinterforhold",{"$f":"Oljedatabase[[#This Row],[Oljetype]]&\"-\"&Oljedatabase[[#This Row],[SesongNy]]&\"-\"&Oljedatabase[[#This Row],[Vind (m/s)]]&\"-\"&Oljedatabase[[#This Row],[Tidspunkt (timer)]]","v":"Sigyn 2017-Vinterforhold-10-24"},{"$f":"Oljedatabase[[#This Row],[Sesong]]","v":"Vinterforhold"},5,10,"24",0.64300000000000002,253,"Kjemisk dispergerbar",0.68300000000000005,0,0.317,115,"Ingen eksplosjonsfare",26.4,"Lav/dårlig dispergerbarhet","Nei",0,"2017-08-14T02:00:00",739,"Vest-Agder til Hordaland",60,6534043,-257865,"Sigyn 2017 Forvitringsrapport.pdf"]
["Fenja (Pil) 2015","Sommerforhold",{"$f":"Oljedatabase[[#This Row],[Oljetype]]&\"-\"&Oljedatabase[[#This Row],[SesongNy]]&\"-\"&Oljedatabase[[#This Row],[Vind (m/s)]]&\"-\"&Oljedatabase[[#This Row],[Tidspunkt (timer)]]","v":"Fenja (Pil) 2015-Sommerforhold-2-2"},{"$f":"Oljedatabase[[#This Row],[Sesong]]","v":"Sommerforhold"},15,2,"2",1.2999999999999999E-2,8560,"Redusert kjemisk dispergerbarhet",0.13700000000000001,0.86299999999999999,0,45,"Eksplosjonsfare ved tanking",31,"Lav/dårlig dispergerbarhet","Nei",0.87,"2015-01-05T01:00:00",848,"Sør-Trøndelag til Nordland",35,7126556,98023,"Fenja (Pil) 2015 Forvitringsrapport.pdf"]
["Fenja (Pil) 2015","Vinterforhold",{"$f":"Oljedatabase[[#This Row],[Oljetype]]&\"-\"&Oljedatabase[[#This Row],[SesongNy]]&\"-\"&Oljedatabase[[#This Row],[Vind (m/s)]]&\"-\"&Oljedatabase[[#This Row],[Tidspunkt (timer)]]","v":"Fenja (Pil) 2015-Vinterforhold-2-72"},{"$f":"Oljedatabase[[#This Row],[Sesong]]","v":"Vinterforhold"},5,2,"72",7.0000000000000007E-2,37300,"Ikke kjemisk dispergerbar",0.22700000000000001,0.77300000000000002,0,86,"Ingen eksplosjonsfare",33.700000000000003,"Lav/dårlig dispergerbarhet","Ja",0.83,"2015-01-05T01:00:00",848,"Sør-Trøndelag til Nordland",35,7126556,98023,"Fenja (Pil) 2015 Forvitringsrapport.pdf"]
["Fenja (Pil) 2015","Sommerforhold",{"$f":"Oljedatabase[[#This Row],[Oljetype]]&\"-\"&Oljedatabase[[#This Row],[SesongNy]]&\"-\"&Oljedatabase[[#This Row],[Vind (m/s)]]&\"-\"&Oljedatabase[[#This Row],[Tidspunkt (timer)]]","v":"Fenja (Pil) 2015-Sommerforhold-5-9"},{"$f":"Oljedatabase[[#This Row],[Sesong]]","v":"Sommerforhold"},15,5,"9",0.20399999999999999,8450,"Redusert kjemisk dispergerbarhet",0.216,0.77900000000000003,5.0000000000000001E-3,80,"Ingen eksplosjonsfare",33.4,"Lav/dårlig dispergerbarhet","Nei",0.98,"2015-01-05T01:00:00",848,"Sør-Trøndelag til Nordland",35,7126556,98023,"Fenja (Pil) 2015 Forvitringsrapport.pdf"]
["Fenja (Pil) 2015","Sommerforhold",{"$f":"Oljedatabase[[#This Row],[Oljetype]]&\"-\"&Oljedatabase[[#This Row],[SesongNy]]&\"-\"&Oljedatabase[[#This Row],[Vind (m/s)]]&\"-\"&Oljedatabase[[#This Row],[Tidspunkt (timer)]]","v":"Fenja (Pil) 2015-Sommerforhold-2-96"},{"$f":"Oljedatabase[[#This Row],[Sesong]]","v":"Sommerforhold"},15,2,"96",0.42899999999999999,7670,"Redusert kjemisk dispergerbarhet",0.25800000000000001,0.74099999999999999,1E-3,101,"Ingen eksplosjonsfare",34.700000000000003,"Lav/dårlig dispergerbarhet","Nei",1.3,"2015-01-05T01:00:00",848,"Sør-Trøndelag til Nordland",35,7126556,98023,"Fenja (Pil) 2015 Forvitringsrapport.pdf"]
["Brasse 2018","Vinterforhold",{"$f":"Oljedatabase[[#This Row],[Oljetype]]&\"-\"&Oljedatabase[[#This Row],[SesongNy]]&\"-\"&Oljedatabase[[#This Row],[Vind (m/s)]]&\"-\"&Oljedatabase[[#This Row],[Tidspunkt (timer)]]","v":"Brasse 2018-Vinterforhold-5-2"},{"$f":"Oljedatabase[[#This Row],[Sesong]]","v":"Vinterforhold"},5,5,"2",0.13200000000000001,179,"Kjemisk dispergerbar",0.21,0.78500000000000003,5.0000000000000001E-3,52,"Eksplosjonsfare ved tanking",7.2,"Kjemisk dispergerbar","Nei",0.9,"2018-03-18T01:00:00",847,"Vestlandet",36,6758822,-156885,"Brasse 2018 Forvitringsrapport.pdf"]
["Brasse 2018","Vinterforhold",{"$f":"Oljedatabase[[#This Row],[Oljetype]]&\"-\"&Oljedatabase[[#This Row],[SesongNy]]&\"-\"&Oljedatabase[[#This Row],[Vind (m/s)]]&\"-\"&Oljedatabase[[#This Row],[Tidspunkt (timer)]]","v":"Brasse 2018-Vinterforhold-15-6"},{"$f":"Oljedatabase[[#This Row],[Sesong]]","v":"Vinterforhold"},5,15,"6",0.752,11300,"Redusert kjemisk dispergerbarhet",0.30199999999999999,0.28399999999999997,0.41399999999999998,92,"Ingen eksplosjonsfare",18.899999999999999,"Redusert kjemisk dispergerbarhet","Ja",1.1499999999999999,"2018-03-18T01:00:00",847,"Vestlandet",36,6758822,-156885,"Brasse 2018 Forvitringsrapport.pdf"]
["Brasse 2018","Vinterforhold",{"$f":"Oljedatabase[[#This Row],[Oljetype]]&\"-\"&Oljedatabase[[#This Row],[SesongNy]]&\"-\"&Oljedatabase[[#This Row],[Vind (m/s)]]&\"-\"&Oljedatabase[[#This Row],[Tidspunkt (timer)]]","v":"Brasse 2018-Vinterforhold-2-3"},{"$f":"Oljedatabase[[#This Row],[Sesong]]","v":"Vinterforhold"},5,2,"3",5.1999999999999998E-2,108,"Kjemisk dispergerbar",0.189,0.81100000000000005,0,45,"Eksplosjonsfare ved tanking",5.0999999999999996,"Kjemisk dispergerbar","Nei",0.86,"2018-03-18T01:00:00",847,"Vestlandet",36,6758822,-156885,"Brasse 2018 Forvitringsrapport.pdf"]
["Brasse 2018","Vinterforhold",{"$f":"Oljedatabase[[#This Row],[Oljetype]]&\"-\"&Oljedatabase[[#This Row],[SesongNy]]&\"-\"&Oljedatabase[[#This Row],[Vind (m/s)]]&\"-\"&Oljedatabase[[#This Row],[Tidspunkt (timer)]]","v":"Brasse 2018-Vinterforhold-10-1"},{"$f":"Oljedatabase[[#This Row],[Sesong]]","v":"Vinterforhold"},5,10,"1",0.21,277,"Kjemisk dispergerbar",0.224,0.73199999999999998,4.3999999999999997E-2,57,"Eksplosjonsfare ved tanking",8.6,"Kjemisk dispergerbar","Nei",0.93,"2018-03-18T01:00:00",847,"Vestlandet",36,6758822,-156885,"Brasse 2018 Forvitringsrapport.pdf"]
["Fenja (Pil) 2015","Vinterforhold",{"$f":"Oljedatabase[[#This Row],[Oljetype]]&\"-\"&Oljedatabase[[#This Row],[SesongNy]]&\"-\"&Oljedatabase[[#This Row],[Vind (m/s)]]&\"-\"&Oljedatabase[[#This Row],[Tidspunkt (timer)]]","v":"Fenja (Pil) 2015-Vinterforhold-5-9"},{"$f":"Oljedatabase[[#This Row],[Sesong]]","v":"Vinterforhold"},5,5,"9",0.03,37200,"Ikke kjemisk dispergerbar",0.19500000000000001,0.80200000000000005,3.0000000000000001E-3,71,"Ingen eksplosjonsfare",32.799999999999997,"Lav/dårlig dispergerbarhet","Ja",0.83,"2015-01-05T01:00:00",848,"Sør-Trøndelag til Nordland",35,7126556,98023,"Fenja (Pil) 2015 Forvitringsrapport.pdf"]
["Marulk 2014","Sommerforhold",{"$f":"Oljedatabase[[#This Row],[Oljetype]]&\"-\"&Oljedatabase[[#This Row],[SesongNy]]&\"-\"&Oljedatabase[[#This Row],[Vind (m/s)]]&\"-\"&Oljedatabase[[#This Row],[Tidspunkt (timer)]]","v":"Marulk 2014-Sommerforhold-15-3"},{"$f":"Oljedatabase[[#This Row],[Sesong]]","v":"Sommerforhold"},15,15,"3",0.05,8,"Kjemisk dispergerbar",0.58799999999999997,0,0.41199999999999998,98,"Ingen eksplosjonsfare",5.5,"Kjemisk dispergerbar","Nei",0,"2014-10-07T02:00:00",759,"Sør-Trøndelag til Nordland",55,7332658,161276,"Marulk 2014 Forvitringsrapport.pdf"]
["Fenja (Pil) 2015","Vinterforhold",{"$f":"Oljedatabase[[#This Row],[Oljetype]]&\"-\"&Oljedatabase[[#This Row],[SesongNy]]&\"-\"&Oljedatabase[[#This Row],[Vind (m/s)]]&\"-\"&Oljedatabase[[#This Row],[Tidspunkt (timer)]]","v":"Fenja (Pil) 2015-Vinterforhold-15-96"},{"$f":"Oljedatabase[[#This Row],[Sesong]]","v":"Vinterforhold"},5,15,"96",0.47699999999999998,22600,"Ikke kjemisk dispergerbar",0.26700000000000002,0,0.73299999999999998,126,"Ingen eksplosjonsfare",36.200000000000003,"Lav/dårlig dispergerbarhet","Ja",0,"2015-01-05T01:00:00",848,"Sør-Trøndelag til Nordland",35,7126556,98023,"Fenja (Pil) 2015 Forvitringsrapport.pdf"]
["Fenja (Pil) 2015","Sommerforhold",{"$f":"Oljedatabase[[#This Row],[Oljetype]]&\"-\"&Oljedatabase[[#This Row],[SesongNy]]&\"-\"&Oljedatabase[[#This Row],[Vind (m/s)]]&\"-\"&Oljedatabase[[#This Row],[Tidspunkt (timer)]]","v":"Fenja (Pil) 2015-Sommerforhold-15-72"},{"$f":"Oljedatabase[[#This Row],[Sesong]]","v":"Sommerforhold"},15,15,"72",0.75,10500,"Redusert kjemisk dispergerbarhet",0.27800000000000002,0,0.72199999999999998,140,"Ingen eksplosjonsfare",37,"Lav/dårlig dispergerbarhet","Ja",0,"2015-01-05T01:00:00",848,"Sør-Trøndelag til Nordland",35,7126556,98023,"Fenja (Pil) 2015 Forvitringsrapport.pdf"]
["Fenja (Pil) 2015","Sommerforhold",{"$f":"Oljedatabase[[#This Row],[Oljetype]]&\"-\"&Oljedatabase[[#This Row],[SesongNy]]&\"-\"&Oljedatabase[[#This Row],[Vind (m/s)]]&\"-\"&Oljedatabase[[#This Row],[Tidspunkt (timer)]]","v":"Fenja (Pil) 2015-Sommerforhold-10-6"},{"$f":"Oljedatabase[[#This Row],[Sesong]]","v":"Sommerforhold"},15,10,"6",0.38200000000000001,6720,"Redusert kjemisk dispergerbarhet",0.23400000000000001,0.70499999999999996,6.0999999999999999E-2,90,"Ingen eksplosjonsfare",34,"Lav/dårlig dispergerbarhet","Nei",1.1399999999999999,"2015-01-05T01:00:00",848,"Sør-Trøndelag til Nordland",35,7126556,98023,"Fenja (Pil) 2015 Forvitringsrapport.pdf"]
["Brasse 2018","Vinterforhold",{"$f":"Oljedatabase[[#This Row],[Oljetype]]&\"-\"&Oljedatabase[[#This Row],[SesongNy]]&\"-\"&Oljedatabase[[#This Row],[Vind (m/s)]]&\"-\"&Oljedatabase[[#This Row],[Tidspunkt (timer)]]","v":"Brasse 2018-Vinterforhold-15-72"},{"$f":"Oljedatabase[[#This Row],[Sesong]]","v":"Vinterforhold"},5,15,"72",0.75600000000000001,32100,"Ikke kjemisk dispergerbar",0.33,0,0.67,126,"Ingen eksplosjonsfare",28.1,"Lav/dårlig dispergerbarhet","Ja",0,"2018-03-18T01:00:00",847,"Vestlandet",36,6758822,-156885,"Brasse 2018 Forvitringsrapport.pdf"]
["Marulk 2014","Sommerforhold",{"$f":"Oljedatabase[[#This Row],[Oljetype]]&\"-\"&Oljedatabase[[#This Row],[SesongNy]]&\"-\"&Oljedatabase[[#This Row],[Vind (m/s)]]&\"-\"&Oljedatabase[[#This Row],[Tidspunkt (timer)]]","v":"Marulk 2014-Sommerforhold-15-1"},{"$f":"Oljedatabase[[#This Row],[Sesong]]","v":"Sommerforhold"},15,15,"1",0.05,6,"Kjemisk dispergerbar",0.58799999999999997,2E-3,0.41,77,"Ingen eksplosjonsfare",0.9,"Kjemisk dispergerbar","Nei",0,"2014-10-07T02:00:00",759,"Sør-Trøndelag til Nordland",55,7332658,161276,"Marulk 2014 Forvitringsrapport.pdf"]
["Marulk 2014","Sommerforhold",{"$f":"Oljedatabase[[#This Row],[Oljetype]]&\"-\"&Oljedatabase[[#This Row],[SesongNy]]&\"-\"&Oljedatabase[[#This Row],[Vind (m/s)]]&\"-\"&Oljedatabase[[#This Row],[Tidspunkt (timer)]]","v":"Marulk 2014-Sommerforhold-2-6"},{"$f":"Oljedatabase[[#This Row],[Sesong]]","v":"Sommerforhold"},15,2,"6",0.05,6,"Kjemisk dispergerbar",0.66100000000000003,0.33600000000000002,3.0000000000000001E-3,69,"Ingen eksplosjonsfare",-1,"Kjemisk dispergerbar","Nei",0.35,"2014-10-07T02:00:00",759,"Sør-Trøndelag til Nordland",55,7332658,161276,"Marulk 2014 Forvitringsrapport.pdf"]
["Marulk 2014","Sommerforhold",{"$f":"Oljedatabase[[#This Row],[Oljetype]]&\"-\"&Oljedatabase[[#This Row],[SesongNy]]&\"-\"&Oljedatabase[[#This Row],[Vind (m/s)]]&\"-\"&Oljedatabase[[#This Row],[Tidspunkt (timer)]]","v":"Marulk 2014-Sommerforhold-10-24"},{"$f":"Oljedatabase[[#This Row],[Sesong]]","v":"Sommerforhold"},15,10,"24",0.05,11,"Kjemisk dispergerbar",0.65500000000000003,0,0.34499999999999997,130,"Ingen eksplosjonsfare",12.2,"Kjemisk dispergerbar","Nei",0,"2014-10-07T02:00:00",759,"Sør-Trøndelag til Nordland",55,7332658,161276,"Marulk 2014 Forvitringsrapport.pdf"]
["Fenja (Pil) 2015","Vinterforhold",{"$f":"Oljedatabase[[#This Row],[Oljetype]]&\"-\"&Oljedatabase[[#This Row],[SesongNy]]&\"-\"&Oljedatabase[[#This Row],[Vind (m/s)]]&\"-\"&Oljedatabase[[#This Row],[Tidspunkt (timer)]]","v":"Fenja (Pil) 2015-Vinterforhold-15-3"},{"$f":"Oljedatabase[[#This Row],[Sesong]]","v":"Vinterforhold"},5,15,"3",9.9000000000000005E-2,30900,"Ikke kjemisk dispergerbar",0.21,0.7,0.09,79,"Ingen eksplosjonsfare",33.299999999999997,"Lav/dårlig dispergerbarhet","Ja",0.78,"2015-01-05T01:00:00",848,"Sør-Trøndelag til Nordland",35,7126556,98023,"Fenja (Pil) 2015 Forvitringsrapport.pdf"]
["Marulk 2014","Sommerforhold",{"$f":"Oljedatabase[[#This Row],[Oljetype]]&\"-\"&Oljedatabase[[#This Row],[SesongNy]]&\"-\"&Oljedatabase[[#This Row],[Vind (m/s)]]&\"-\"&Oljedatabase[[#This Row],[Tidspunkt (timer)]]","v":"Marulk 2014-Sommerforhold-10-3"},{"$f":"Oljedatabase[[#This Row],[Sesong]]","v":"Sommerforhold"},15,10,"3",0.05,7,"Kjemisk dispergerbar",0.65300000000000002,5.0000000000000001E-3,0.34200000000000003,88,"Ingen eksplosjonsfare",3.3,"Kjemisk dispergerbar","Nei",0.01,"2014-10-07T02:00:00",759,"Sør-Trøndelag til Nordland",55,7332658,161276,"Marulk 2014 Forvitringsrapport.pdf"]
["Marulk 2014","Vinterforhold",{"$f":"Oljedatabase[[#This Row],[Oljetype]]&\"-\"&Oljedatabase[[#This Row],[SesongNy]]&\"-\"&Oljedatabase[[#This Row],[Vind (m/s)]]&\"-\"&Oljedatabase[[#This Row],[Tidspunkt (timer)]]","v":"Marulk 2014-Vinterforhold-15-12"},{"$f":"Oljedatabase[[#This Row],[Sesong]]","v":"Vinterforhold"},5,15,"12",0.05,11,"Kjemisk dispergerbar",0.54400000000000004,0,0.45600000000000002,111,"Ingen eksplosjonsfare",8.3000000000000007,"Kjemisk dispergerbar","Nei",0,"2014-10-07T02:00:00",759,"Sør-Trøndelag til Nordland",55,7332658,161276,"Marulk 2014 Forvitringsrapport.pdf"]
["Marulk 2014","Vinterforhold",{"$f":"Oljedatabase[[#This Row],[Oljetype]]&\"-\"&Oljedatabase[[#This Row],[SesongNy]]&\"-\"&Oljedatabase[[#This Row],[Vind (m/s)]]&\"-\"&Oljedatabase[[#This Row],[Tidspunkt (timer)]]","v":"Marulk 2014-Vinterforhold-5-72"},{"$f":"Oljedatabase[[#This Row],[Sesong]]","v":"Vinterforhold"},5,5,"72",0.05,13,"Kjemisk dispergerbar",0.71399999999999997,0,0.28599999999999998,122,"Ingen eksplosjonsfare",10.6,"Redusert kjemisk dispergerbarhet","Nei",0,"2014-10-07T02:00:00",759,"Sør-Trøndelag til Nordland",55,7332658,161276,"Marulk 2014 Forvitringsrapport.pdf"]
["Marulk 2014","Vinterforhold",{"$f":"Oljedatabase[[#This Row],[Oljetype]]&\"-\"&Oljedatabase[[#This Row],[SesongNy]]&\"-\"&Oljedatabase[[#This Row],[Vind (m/s)]]&\"-\"&Oljedatabase[[#This Row],[Tidspunkt (timer)]]","v":"Marulk 2014-Vinterforhold-5-1"},{"$f":"Oljedatabase[[#This Row],[Sesong]]","v":"Vinterforhold"},5,5,"1",4.8000000000000001E-2,4,"Kjemisk dispergerbar",0.46200000000000002,0.52700000000000002,1.0999999999999999E-2,23,"Eksplosjonsfare ved tanking",-12.1,"Kjemisk dispergerbar","Nei",0.55000000000000004,"2014-10-07T02:00:00",759,"Sør-Trøndelag til Nordland",55,7332658,161276,"Marulk 2014 Forvitringsrapport.pdf"]
["Marulk 2014","Vinterforhold",{"$f":"Oljedatabase[[#This Row],[Oljetype]]&\"-\"&Oljedatabase[[#This Row],[SesongNy]]&\"-\"&Oljedatabase[[#This Row],[Vind (m/s)]]&\"-\"&Oljedatabase[[#This Row],[Tidspunkt (timer)]]","v":"Marulk 2014-Vinterforhold-2-72"},{"$f":"Oljedatabase[[#This Row],[Sesong]]","v":"Vinterforhold"},5,2,"72",0.05,11,"Kjemisk dispergerbar",0.79800000000000004,0.11799999999999999,8.4000000000000005E-2,108,"Ingen eksplosjonsfare",7.5,"Kjemisk dispergerbar","Nei",0.12,"2014-10-07T02:00:00",759,"Sør-Trøndelag til Nordland",55,7332658,161276,"Marulk 2014 Forvitringsrapport.pdf"]
["Vega 2016","Vinterforhold",{"$f":"Oljedatabase[[#This Row],[Oljetype]]&\"-\"&Oljedatabase[[#This Row],[SesongNy]]&\"-\"&Oljedatabase[[#This Row],[Vind (m/s)]]&\"-\"&Oljedatabase[[#This Row],[Tidspunkt (timer)]]","v":"Vega 2016-Vinterforhold-2-1"},{"$f":"Oljedatabase[[#This Row],[Sesong]]","v":"Vinterforhold"},5,2,"1",0.13200000000000001,20,"Kjemisk dispergerbar",0.26,0.74,0,-14,"Eksplosjonsfare ved havoverflaten",-22.5,"Kjemisk dispergerbar","Nei",0.85,"2016-01-07T01:00:00",774,"Vestlandet",51,6837182,-119505,"Vega 2016 Forvitringsrapport.pdf"]
["Vega 2016","Sommerforhold",{"$f":"Oljedatabase[[#This Row],[Oljetype]]&\"-\"&Oljedatabase[[#This Row],[SesongNy]]&\"-\"&Oljedatabase[[#This Row],[Vind (m/s)]]&\"-\"&Oljedatabase[[#This Row],[Tidspunkt (timer)]]","v":"Vega 2016-Sommerforhold-2-6"},{"$f":"Oljedatabase[[#This Row],[Sesong]]","v":"Sommerforhold"},15,2,"6",0.36399999999999999,121,"Kjemisk dispergerbar",0.55300000000000005,0.44600000000000001,1E-3,65,"Ingen eksplosjonsfare",-19.100000000000001,"Kjemisk dispergerbar","Nei",0.7,"2016-01-07T01:00:00",774,"Vestlandet",51,6837182,-119505,"Vega 2016 Forvitringsrapport.pdf"]
["Vega 2016","Sommerforhold",{"$f":"Oljedatabase[[#This Row],[Oljetype]]&\"-\"&Oljedatabase[[#This Row],[SesongNy]]&\"-\"&Oljedatabase[[#This Row],[Vind (m/s)]]&\"-\"&Oljedatabase[[#This Row],[Tidspunkt (timer)]]","v":"Vega 2016-Sommerforhold-2-3"},{"$f":"Oljedatabase[[#This Row],[Sesong]]","v":"Sommerforhold"},15,2,"3",0.29299999999999998,72,"Kjemisk dispergerbar",0.48199999999999998,0.51800000000000002,0,44,"Eksplosjonsfare ved tanking",-19.899999999999999,"Kjemisk dispergerbar","Nei",0.73,"2016-01-07T01:00:00",774,"Vestlandet",51,6837182,-119505,"Vega 2016 Forvitringsrapport.pdf"]
["Vega 2016","Sommerforhold",{"$f":"Oljedatabase[[#This Row],[Oljetype]]&\"-\"&Oljedatabase[[#This Row],[SesongNy]]&\"-\"&Oljedatabase[[#This Row],[Vind (m/s)]]&\"-\"&Oljedatabase[[#This Row],[Tidspunkt (timer)]]","v":"Vega 2016-Sommerforhold-15-72"},{"$f":"Oljedatabase[[#This Row],[Sesong]]","v":"Sommerforhold"},15,15,"72",0.8,622,"Kjemisk dispergerbar",0.57899999999999996,0,0.42099999999999999,144,"Ingen eksplosjonsfare",-16.3,"Kjemisk dispergerbar","Nei",0,"2016-01-07T01:00:00",774,"Vestlandet",51,6837182,-119505,"Vega 2016 Forvitringsrapport.pdf"]
["Vega 2016","Sommerforhold",{"$f":"Oljedatabase[[#This Row],[Oljetype]]&\"-\"&Oljedatabase[[#This Row],[SesongNy]]&\"-\"&Oljedatabase[[#This Row],[Vind (m/s)]]&\"-\"&Oljedatabase[[#This Row],[Tidspunkt (timer)]]","v":"Vega 2016-Sommerforhold-5-24"},{"$f":"Oljedatabase[[#This Row],[Sesong]]","v":"Sommerforhold"},15,5,"24",0.61699999999999999,274,"Kjemisk dispergerbar",0.66700000000000004,0.22700000000000001,0.106,104,"Ingen eksplosjonsfare",-17.600000000000001,"Kjemisk dispergerbar","Nei",0.59,"2016-01-07T01:00:00",774,"Vestlandet",51,6837182,-119505,"Vega 2016 Forvitringsrapport.pdf"]
["Vega 2016","Vinterforhold",{"$f":"Oljedatabase[[#This Row],[Oljetype]]&\"-\"&Oljedatabase[[#This Row],[SesongNy]]&\"-\"&Oljedatabase[[#This Row],[Vind (m/s)]]&\"-\"&Oljedatabase[[#This Row],[Tidspunkt (timer)]]","v":"Vega 2016-Vinterforhold-5-3"},{"$f":"Oljedatabase[[#This Row],[Sesong]]","v":"Vinterforhold"},5,5,"3",0.32200000000000001,151,"Kjemisk dispergerbar",0.50800000000000001,0.47899999999999998,1.2999999999999999E-2,52,"Eksplosjonsfare ved tanking",-19.600000000000001,"Kjemisk dispergerbar","Nei",0.71,"2016-01-07T01:00:00",774,"Vestlandet",51,6837182,-119505,"Vega 2016 Forvitringsrapport.pdf"]
["Vega 2016","Vinterforhold",{"$f":"Oljedatabase[[#This Row],[Oljetype]]&\"-\"&Oljedatabase[[#This Row],[SesongNy]]&\"-\"&Oljedatabase[[#This Row],[Vind (m/s)]]&\"-\"&Oljedatabase[[#This Row],[Tidspunkt (timer)]]","v":"Vega 2016-Vinterforhold-15-2"},{"$f":"Oljedatabase[[#This Row],[Sesong]]","v":"Vinterforhold"},5,15,"2",0.48099999999999998,305,"Kjemisk dispergerbar",0.54,5.3999999999999999E-2,0.40600000000000003,80,"Ingen eksplosjonsfare",-18.5,"Kjemisk dispergerbar","Nei",0.1,"2016-01-07T01:00:00",774,"Vestlandet",51,6837182,-119505,"Vega 2016 Forvitringsrapport.pdf"]
["Vega 2016","Vinterforhold",{"$f":"Oljedatabase[[#This Row],[Oljetype]]&\"-\"&Oljedatabase[[#This Row],[SesongNy]]&\"-\"&Oljedatabase[[#This Row],[Vind (m/s)]]&\"-\"&Oljedatabase[[#This Row],[Tidspunkt (timer)]]","v":"Vega 2016-Vinterforhold-5-48"},{"$f":"Oljedatabase[[#This Row],[Sesong]]","v":"Vinterforhold"},5,5,"48",0.71199999999999997,492,"Kjemisk dispergerbar",0.65600000000000003,0.188,0.156,102,"Ingen eksplosjonsfare",-17.7,"Kjemisk dispergerbar","Nei",0.65,"2016-01-07T01:00:00",774,"Vestlandet",51,6837182,-119505,"Vega 2016 Forvitringsrapport.pdf"]
["Gudrun 2019","Vinterforhold",{"$f":"Oljedatabase[[#This Row],[Oljetype]]&\"-\"&Oljedatabase[[#This Row],[SesongNy]]&\"-\"&Oljedatabase[[#This Row],[Vind (m/s)]]&\"-\"&Oljedatabase[[#This Row],[Tidspunkt (timer)]]","v":"Gudrun 2019-Vinterforhold-2-9"},{"$f":"Oljedatabase[[#This Row],[Sesong]]","v":"Vinterforhold"},5,2,"9",0.28999999999999998,701,"Kjemisk dispergerbar",0.33,0.67,0,51,"Eksplosjonsfare ved tanking",12,"Redusert kjemisk dispergerbarhet","Nei",0.94,"2019-04-04T02:00:00",810,"Vest-Agder til Hordaland",43,6599015,-261236,"Gudrun 2019 Forvitringsrapport.pdf"]
["Gudrun 2019","Vinterforhold",{"$f":"Oljedatabase[[#This Row],[Oljetype]]&\"-\"&Oljedatabase[[#This Row],[SesongNy]]&\"-\"&Oljedatabase[[#This Row],[Vind (m/s)]]&\"-\"&Oljedatabase[[#This Row],[Tidspunkt (timer)]]","v":"Gudrun 2019-Vinterforhold-2-24"},{"$f":"Oljedatabase[[#This Row],[Sesong]]","v":"Vinterforhold"},5,2,"24",0.53,1347,"Kjemisk dispergerbar",0.39,0.61,0,67,"Ingen eksplosjonsfare",16,"Redusert kjemisk dispergerbarhet","Nei",1.29,"2019-04-04T02:00:00",810,"Vest-Agder til Hordaland",43,6599015,-261236,"Gudrun 2019 Forvitringsrapport.pdf"]
["Gudrun 2019","Sommerforhold",{"$f":"Oljedatabase[[#This Row],[Oljetype]]&\"-\"&Oljedatabase[[#This Row],[SesongNy]]&\"-\"&Oljedatabase[[#This Row],[Vind (m/s)]]&\"-\"&Oljedatabase[[#This Row],[Tidspunkt (timer)]]","v":"Gudrun 2019-Sommerforhold-5-1"},{"$f":"Oljedatabase[[#This Row],[Sesong]]","v":"Sommerforhold"},15,5,"1",0.2,189,"Kjemisk dispergerbar",0.27,0.73,0,34,"Eksplosjonsfare ved tanking",8,"Kjemisk dispergerbar","Nei",0.91,"2019-04-04T02:00:00",810,"Vest-Agder til Hordaland",43,6599015,-261236,"Gudrun 2019 Forvitringsrapport.pdf"]
["Gudrun 2019","Sommerforhold",{"$f":"Oljedatabase[[#This Row],[Oljetype]]&\"-\"&Oljedatabase[[#This Row],[SesongNy]]&\"-\"&Oljedatabase[[#This Row],[Vind (m/s)]]&\"-\"&Oljedatabase[[#This Row],[Tidspunkt (timer)]]","v":"Gudrun 2019-Sommerforhold-5-12"},{"$f":"Oljedatabase[[#This Row],[Sesong]]","v":"Sommerforhold"},15,5,"12",0.74,1124,"Kjemisk dispergerbar",0.44,0.54,0.02,82,"Ingen eksplosjonsfare",19,"Kjemisk dispergerbar","Nei",2.0499999999999998,"2019-04-04T02:00:00",810,"Vest-Agder til Hordaland",43,6599015,-261236,"Gudrun 2019 Forvitringsrapport.pdf"]
["Norne Blend, Stær, Svale og Alve 2010","Sommerforhold",{"$f":"Oljedatabase[[#This Row],[Oljetype]]&\"-\"&Oljedatabase[[#This Row],[SesongNy]]&\"-\"&Oljedatabase[[#This Row],[Vind (m/s)]]&\"-\"&Oljedatabase[[#This Row],[Tidspunkt (timer)]]","v":"Norne Blend, Stær, Svale og Alve 2010-Sommerforhold-2-120"},{"$f":"Oljedatabase[[#This Row],[Sesong]]","v":"Sommerforhold"},15,2,"120",0.8,5500,"Redusert kjemisk dispergerbarhet",0.248,0.75,2E-3,132,"Ingen eksplosjonsfare",27.6,"Redusert kjemisk dispergerbarhet","Nei",3.75,"2010-10-11T02:00:00",868,null,31,7369549,-118898,"Norne Blend, Stær, Svale og Alve 2010 Forvitringsrapport.pdf"]
["Gudrun 2019","Sommerforhold",{"$f":"Oljedatabase[[#This Row],[Oljetype]]&\"-\"&Oljedatabase[[#This Row],[SesongNy]]&\"-\"&Oljedatabase[[#This Row],[Vind (m/s)]]&\"-\"&Oljedatabase[[#This Row],[Tidspunkt (timer)]]","v":"Gudrun 2019-Sommerforhold-10-96"},{"$f":"Oljedatabase[[#This Row],[Sesong]]","v":"Sommerforhold"},15,10,"96",0.8,4745,"Redusert kjemisk dispergerbarhet",0.51,0.01,0.48,127,"Ingen eksplosjonsfare",29,"Redusert kjemisk dispergerbarhet","Nei",0.04,"2019-04-04T02:00:00",810,"Vest-Agder til Hordaland",43,6599015,-261236,"Gudrun 2019 Forvitringsrapport.pdf"]
["Gudrun 2019","Vinterforhold",{"$f":"Oljedatabase[[#This Row],[Oljetype]]&\"-\"&Oljedatabase[[#This Row],[SesongNy]]&\"-\"&Oljedatabase[[#This Row],[Vind (m/s)]]&\"-\"&Oljedatabase[[#This Row],[Tidspunkt (timer)]]","v":"Gudrun 2019-Vinterforhold-2-1"},{"$f":"Oljedatabase[[#This Row],[Sesong]]","v":"Vinterforhold"},5,2,"1",0.05,86,"Kjemisk dispergerbar",0.15,0.85,0,5,"Eksplosjonsfare ved tanking",0,"Kjemisk dispergerbar","Nei",0.89,"2019-04-04T02:00:00",810,"Vest-Agder til Hordaland",43,6599015,-261236,"Gudrun 2019 Forvitringsrapport.pdf"]
["Gudrun 2019","Vinterforhold",{"$f":"Oljedatabase[[#This Row],[Oljetype]]&\"-\"&Oljedatabase[[#This Row],[SesongNy]]&\"-\"&Oljedatabase[[#This Row],[Vind (m/s)]]&\"-\"&Oljedatabase[[#This Row],[Tidspunkt (timer)]]","v":"Gudrun 2019-Vinterforhold-10-1"},{"$f":"Oljedatabase[[#This Row],[Sesong]]","v":"Vinterforhold"},5,10,"1",0.37,549,"Kjemisk dispergerbar",0.31,0.66,0.04,45,"Eksplosjonsfare ved tanking",10,"Redusert kjemisk dispergerbarhet","Nei",1.04,"2019-04-04T02:00:00",810,"Vest-Agder til Hordaland",43,6599015,-261236,"Gudrun 2019 Forvitringsrapport.pdf"]
["Gudrun 2019","Vinterforhold",{"$f":"Oljedatabase[[#This Row],[Oljetype]]&\"-\"&Oljedatabase[[#This Row],[SesongNy]]&\"-\"&Oljedatabase[[#This Row],[Vind (m/s)]]&\"-\"&Oljedatabase[[#This Row],[Tidspunkt (timer)]]","v":"Gudrun 2019-Vinterforhold-5-6"},{"$f":"Oljedatabase[[#This Row],[Sesong]]","v":"Vinterforhold"},5,5,"6",0.52,987,"Kjemisk dispergerbar",0.36,0.63,0.01,59,"Eksplosjonsfare ved tanking",14,"Redusert kjemisk dispergerbarhet","Nei",1.31,"2019-04-04T02:00:00",810,"Vest-Agder til Hordaland",43,6599015,-261236,"Gudrun 2019 Forvitringsrapport.pdf"]
["Norne Blend, Stær, Svale og Alve 2010","Vinterforhold",{"$f":"Oljedatabase[[#This Row],[Oljetype]]&\"-\"&Oljedatabase[[#This Row],[SesongNy]]&\"-\"&Oljedatabase[[#This Row],[Vind (m/s)]]&\"-\"&Oljedatabase[[#This Row],[Tidspunkt (timer)]]","v":"Norne Blend, Stær, Svale og Alve 2010-Vinterforhold-2-6"},{"$f":"Oljedatabase[[#This Row],[Sesong]]","v":"Vinterforhold"},5,2,"6",0.128,1770,"Redusert kjemisk dispergerbarhet",0.13100000000000001,0.86899999999999999,0,79,"Ingen eksplosjonsfare",20.100000000000001,"Lav/dårlig dispergerbarhet","Nei",1,"2010-10-11T02:00:00",868,null,31,7369549,-118898,"Norne Blend, Stær, Svale og Alve 2010 Forvitringsrapport.pdf"]
["Gudrun 2019","Vinterforhold",{"$f":"Oljedatabase[[#This Row],[Oljetype]]&\"-\"&Oljedatabase[[#This Row],[SesongNy]]&\"-\"&Oljedatabase[[#This Row],[Vind (m/s)]]&\"-\"&Oljedatabase[[#This Row],[Tidspunkt (timer)]]","v":"Gudrun 2019-Vinterforhold-5-9"},{"$f":"Oljedatabase[[#This Row],[Sesong]]","v":"Vinterforhold"},5,5,"9",0.61,1289,"Kjemisk dispergerbar",0.38,0.6,0.02,66,"Ingen eksplosjonsfare",15,"Redusert kjemisk dispergerbarhet","Nei",1.55,"2019-04-04T02:00:00",810,"Vest-Agder til Hordaland",43,6599015,-261236,"Gudrun 2019 Forvitringsrapport.pdf"]
["Norne Blend, Stær, Svale og Alve 2010","Sommerforhold",{"$f":"Oljedatabase[[#This Row],[Oljetype]]&\"-\"&Oljedatabase[[#This Row],[SesongNy]]&\"-\"&Oljedatabase[[#This Row],[Vind (m/s)]]&\"-\"&Oljedatabase[[#This Row],[Tidspunkt (timer)]]","v":"Norne Blend, Stær, Svale og Alve 2010-Sommerforhold-2-9"},{"$f":"Oljedatabase[[#This Row],[Sesong]]","v":"Sommerforhold"},15,2,"9",0.47199999999999998,1270,"Redusert kjemisk dispergerbarhet",0.16400000000000001,0.83599999999999997,0,93,"Ingen eksplosjonsfare",22.2,"Redusert kjemisk dispergerbarhet","Nei",1.58,"2010-10-11T02:00:00",868,null,31,7369549,-118898,"Norne Blend, Stær, Svale og Alve 2010 Forvitringsrapport.pdf"]
["Norne Blend, Stær, Svale og Alve 2010","Sommerforhold",{"$f":"Oljedatabase[[#This Row],[Oljetype]]&\"-\"&Oljedatabase[[#This Row],[SesongNy]]&\"-\"&Oljedatabase[[#This Row],[Vind (m/s)]]&\"-\"&Oljedatabase[[#This Row],[Tidspunkt (timer)]]","v":"Norne Blend, Stær, Svale og Alve 2010-Sommerforhold-15-2"},{"$f":"Oljedatabase[[#This Row],[Sesong]]","v":"Sommerforhold"},15,15,"2",0.79700000000000004,2640,"Redusert kjemisk dispergerbarhet",0.19400000000000001,0.61099999999999999,0.19500000000000001,109,"Ingen eksplosjonsfare",24.4,"Redusert kjemisk dispergerbarhet","Nei",3.01,"2010-10-11T02:00:00",868,null,31,7369549,-118898,"Norne Blend, Stær, Svale og Alve 2010 Forvitringsrapport.pdf"]
["Norne Blend, Stær, Svale og Alve 2010","Sommerforhold",{"$f":"Oljedatabase[[#This Row],[Oljetype]]&\"-\"&Oljedatabase[[#This Row],[SesongNy]]&\"-\"&Oljedatabase[[#This Row],[Vind (m/s)]]&\"-\"&Oljedatabase[[#This Row],[Tidspunkt (timer)]]","v":"Norne Blend, Stær, Svale og Alve 2010-Sommerforhold-15-3"},{"$f":"Oljedatabase[[#This Row],[Sesong]]","v":"Sommerforhold"},15,15,"3",0.8,3240,"Redusert kjemisk dispergerbarhet",0.20499999999999999,0.53400000000000003,0.26100000000000001,115,"Ingen eksplosjonsfare",25.3,"Redusert kjemisk dispergerbarhet","Nei",2.67,"2010-10-11T02:00:00",868,null,31,7369549,-118898,"Norne Blend, Stær, Svale og Alve 2010 Forvitringsrapport.pdf"]
["Atla kondensat 2013","Sommerforhold",{"$f":"Oljedatabase[[#This Row],[Oljetype]]&\"-\"&Oljedatabase[[#This Row],[SesongNy]]&\"-\"&Oljedatabase[[#This Row],[Vind (m/s)]]&\"-\"&Oljedatabase[[#This Row],[Tidspunkt (timer)]]","v":"Atla kondensat 2013-Sommerforhold-10-12"},{"$f":"Oljedatabase[[#This Row],[Sesong]]","v":"Sommerforhold"},15,10,"12",0,7,"Kjemisk dispergerbar",0.752,0,0.248,142,"Ingen eksplosjonsfare",0.5,"Kjemisk dispergerbar","Nei",0,"2013-03-14T01:00:00",746,null,57,0,0,"Atla kondensat 2013 Forvitringsrapport.pdf"]
["Atla kondensat 2013","Sommerforhold",{"$f":"Oljedatabase[[#This Row],[Oljetype]]&\"-\"&Oljedatabase[[#This Row],[SesongNy]]&\"-\"&Oljedatabase[[#This Row],[Vind (m/s)]]&\"-\"&Oljedatabase[[#This Row],[Tidspunkt (timer)]]","v":"Atla kondensat 2013-Sommerforhold-5-1"},{"$f":"Oljedatabase[[#This Row],[Sesong]]","v":"Sommerforhold"},15,5,"1",0,4,"Kjemisk dispergerbar",0.66400000000000003,0.32200000000000001,1.4E-2,50,"Eksplosjonsfare ved tanking",-12.1,"Kjemisk dispergerbar","Nei",0.32,"2013-03-14T01:00:00",746,null,57,0,0,"Atla kondensat 2013 Forvitringsrapport.pdf"]
["Norne Blend, Stær, Svale og Alve 2010","Vinterforhold",{"$f":"Oljedatabase[[#This Row],[Oljetype]]&\"-\"&Oljedatabase[[#This Row],[SesongNy]]&\"-\"&Oljedatabase[[#This Row],[Vind (m/s)]]&\"-\"&Oljedatabase[[#This Row],[Tidspunkt (timer)]]","v":"Norne Blend, Stær, Svale og Alve 2010-Vinterforhold-5-12"},{"$f":"Oljedatabase[[#This Row],[Sesong]]","v":"Vinterforhold"},5,5,"12",0.57699999999999996,4920,"Redusert kjemisk dispergerbarhet",0.17799999999999999,0.81200000000000006,0.01,99,"Ingen eksplosjonsfare",23.1,"Lav/dårlig dispergerbarhet","Nei",1.92,"2010-10-11T02:00:00",868,null,31,7369549,-118898,"Norne Blend, Stær, Svale og Alve 2010 Forvitringsrapport.pdf"]
["Norne Blend, Stær, Svale og Alve 2010","Vinterforhold",{"$f":"Oljedatabase[[#This Row],[Oljetype]]&\"-\"&Oljedatabase[[#This Row],[SesongNy]]&\"-\"&Oljedatabase[[#This Row],[Vind (m/s)]]&\"-\"&Oljedatabase[[#This Row],[Tidspunkt (timer)]]","v":"Norne Blend, Stær, Svale og Alve 2010-Vinterforhold-15-48"},{"$f":"Oljedatabase[[#This Row],[Sesong]]","v":"Vinterforhold"},5,15,"48",0.73499999999999999,18600,"Ikke kjemisk dispergerbar",0.23499999999999999,2.5999999999999999E-2,0.73899999999999999,146,"Ingen eksplosjonsfare",29.5,"Lav/dårlig dispergerbarhet","Ja",0.1,"2010-10-11T02:00:00",868,null,31,7369549,-118898,"Norne Blend, Stær, Svale og Alve 2010 Forvitringsrapport.pdf"]
["Norne Blend, Stær, Svale og Alve 2010","Vinterforhold",{"$f":"Oljedatabase[[#This Row],[Oljetype]]&\"-\"&Oljedatabase[[#This Row],[SesongNy]]&\"-\"&Oljedatabase[[#This Row],[Vind (m/s)]]&\"-\"&Oljedatabase[[#This Row],[Tidspunkt (timer)]]","v":"Norne Blend, Stær, Svale og Alve 2010-Vinterforhold-10-12"},{"$f":"Oljedatabase[[#This Row],[Sesong]]","v":"Vinterforhold"},5,10,"12",0.73199999999999998,7960,"Redusert kjemisk dispergerbarhet",0.20699999999999999,0.65,0.14299999999999999,114,"Ingen eksplosjonsfare",25.1,"Lav/dårlig dispergerbarhet","Nei",2.4300000000000002,"2010-10-11T02:00:00",868,null,31,7369549,-118898,"Norne Blend, Stær, Svale og Alve 2010 Forvitringsrapport.pdf"]
["Norne Blend, Stær, Svale og Alve 2010","Vinterforhold",{"$f":"Oljedatabase[[#This Row],[Oljetype]]&\"-\"&Oljedatabase[[#This Row],[SesongNy]]&\"-\"&Oljedatabase[[#This Row],[Vind (m/s)]]&\"-\"&Oljedatabase[[#This Row],[Tidspunkt (timer)]]","v":"Norne Blend, Stær, Svale og Alve 2010-Vinterforhold-15-24"},{"$f":"Oljedatabase[[#This Row],[Sesong]]","v":"Vinterforhold"},5,15,"24",0.73499999999999999,13700,"Ikke kjemisk dispergerbar",0.22700000000000001,0.121,0.65200000000000002,134,"Ingen eksplosjonsfare",27.9,"Lav/dårlig dispergerbarhet","Ja",0.46,"2010-10-11T02:00:00",868,null,31,7369549,-118898,"Norne Blend, Stær, Svale og Alve 2010 Forvitringsrapport.pdf"]
["Atla kondensat 2013","Sommerforhold",{"$f":"Oljedatabase[[#This Row],[Oljetype]]&\"-\"&Oljedatabase[[#This Row],[SesongNy]]&\"-\"&Oljedatabase[[#This Row],[Vind (m/s)]]&\"-\"&Oljedatabase[[#This Row],[Tidspunkt (timer)]]","v":"Atla kondensat 2013-Sommerforhold-15-12"},{"$f":"Oljedatabase[[#This Row],[Sesong]]","v":"Sommerforhold"},15,15,"12",0,7,"Kjemisk dispergerbar",0.68500000000000005,0,0.315,149,"Ingen eksplosjonsfare",1.3,"Kjemisk dispergerbar","Nei",0,"2013-03-14T01:00:00",746,null,57,0,0,"Atla kondensat 2013 Forvitringsrapport.pdf"]
["Norne Blend, Stær, Svale og Alve 2010","Vinterforhold",{"$f":"Oljedatabase[[#This Row],[Oljetype]]&\"-\"&Oljedatabase[[#This Row],[SesongNy]]&\"-\"&Oljedatabase[[#This Row],[Vind (m/s)]]&\"-\"&Oljedatabase[[#This Row],[Tidspunkt (timer)]]","v":"Norne Blend, Stær, Svale og Alve 2010-Vinterforhold-5-2"},{"$f":"Oljedatabase[[#This Row],[Sesong]]","v":"Vinterforhold"},5,5,"2",0.16900000000000001,1670,"Redusert kjemisk dispergerbarhet",0.122,0.876,2E-3,75,"Ingen eksplosjonsfare",19.5,"Redusert kjemisk dispergerbarhet","Nei",1.05,"2010-10-11T02:00:00",868,null,31,7369549,-118898,"Norne Blend, Stær, Svale og Alve 2010 Forvitringsrapport.pdf"]
["Atla kondensat 2013","Sommerforhold",{"$f":"Oljedatabase[[#This Row],[Oljetype]]&\"-\"&Oljedatabase[[#This Row],[SesongNy]]&\"-\"&Oljedatabase[[#This Row],[Vind (m/s)]]&\"-\"&Oljedatabase[[#This Row],[Tidspunkt (timer)]]","v":"Atla kondensat 2013-Sommerforhold-15-48"},{"$f":"Oljedatabase[[#This Row],[Sesong]]","v":"Sommerforhold"},15,15,"48",0,7,"Kjemisk dispergerbar",0.68500000000000005,0,0.315,157,"Ingen eksplosjonsfare",2.2999999999999998,"Kjemisk dispergerbar","Nei",0,"2013-03-14T01:00:00",746,null,57,0,0,"Atla kondensat 2013 Forvitringsrapport.pdf"]
["Atla kondensat 2013","Sommerforhold",{"$f":"Oljedatabase[[#This Row],[Oljetype]]&\"-\"&Oljedatabase[[#This Row],[SesongNy]]&\"-\"&Oljedatabase[[#This Row],[Vind (m/s)]]&\"-\"&Oljedatabase[[#This Row],[Tidspunkt (timer)]]","v":"Atla kondensat 2013-Sommerforhold-15-1"},{"$f":"Oljedatabase[[#This Row],[Sesong]]","v":"Sommerforhold"},15,15,"1",0,5,"Kjemisk dispergerbar",0.68500000000000005,0,0.315,99,"Ingen eksplosjonsfare",-5.0999999999999996,"Kjemisk dispergerbar","Nei",0,"2013-03-14T01:00:00",746,null,57,0,0,"Atla kondensat 2013 Forvitringsrapport.pdf"]
["Atla kondensat 2013","Vinterforhold",{"$f":"Oljedatabase[[#This Row],[Oljetype]]&\"-\"&Oljedatabase[[#This Row],[SesongNy]]&\"-\"&Oljedatabase[[#This Row],[Vind (m/s)]]&\"-\"&Oljedatabase[[#This Row],[Tidspunkt (timer)]]","v":"Atla kondensat 2013-Vinterforhold-2-3"},{"$f":"Oljedatabase[[#This Row],[Sesong]]","v":"Vinterforhold"},5,2,"3",0,4,"Kjemisk dispergerbar",0.66100000000000003,0.33800000000000002,1E-3,49,"Eksplosjonsfare ved tanking",-12.3,"Kjemisk dispergerbar","Nei",0.34,"2013-03-14T01:00:00",746,null,57,0,0,"Atla kondensat 2013 Forvitringsrapport.pdf"]
["Oseberg Sør 2001","Sommerforhold",{"$f":"Oljedatabase[[#This Row],[Oljetype]]&\"-\"&Oljedatabase[[#This Row],[SesongNy]]&\"-\"&Oljedatabase[[#This Row],[Vind (m/s)]]&\"-\"&Oljedatabase[[#This Row],[Tidspunkt (timer)]]","v":"Oseberg Sør 2001-Sommerforhold-10-3"},{"$f":"Oljedatabase[[#This Row],[Sesong]]","v":"Sommerforhold"},15,10,"3",0.44500000000000001,1490,"Redusert kjemisk dispergerbarhet",0.27400000000000002,0.64300000000000002,8.3000000000000004E-2,86,"Ingen eksplosjonsfare",22.9,"Redusert kjemisk dispergerbarhet","Nei",1.1599999999999999,"2001-04-04T02:00:00",820,null,40,0,0,"Oseberg Sør 2001 Forvitringsrapport.pdf"]
["Atla kondensat 2013","Vinterforhold",{"$f":"Oljedatabase[[#This Row],[Oljetype]]&\"-\"&Oljedatabase[[#This Row],[SesongNy]]&\"-\"&Oljedatabase[[#This Row],[Vind (m/s)]]&\"-\"&Oljedatabase[[#This Row],[Tidspunkt (timer)]]","v":"Atla kondensat 2013-Vinterforhold-10-48"},{"$f":"Oljedatabase[[#This Row],[Sesong]]","v":"Vinterforhold"},5,10,"48",0,8,"Kjemisk dispergerbar",0.71299999999999997,0,0.28699999999999998,148,"Ingen eksplosjonsfare",1.3,"Kjemisk dispergerbar","Nei",0,"2013-03-14T01:00:00",746,null,57,0,0,"Atla kondensat 2013 Forvitringsrapport.pdf"]
["Oseberg Sør 2001","Sommerforhold",{"$f":"Oljedatabase[[#This Row],[Oljetype]]&\"-\"&Oljedatabase[[#This Row],[SesongNy]]&\"-\"&Oljedatabase[[#This Row],[Vind (m/s)]]&\"-\"&Oljedatabase[[#This Row],[Tidspunkt (timer)]]","v":"Oseberg Sør 2001-Sommerforhold-5-1"},{"$f":"Oljedatabase[[#This Row],[Sesong]]","v":"Sommerforhold"},15,5,"1",7.0000000000000007E-2,182,"Redusert kjemisk dispergerbarhet",0.16400000000000001,0.83399999999999996,2E-3,40,"Eksplosjonsfare ved tanking",16.100000000000001,"Kjemisk dispergerbar","Nei",0.9,"2001-04-04T02:00:00",820,null,40,0,0,"Oseberg Sør 2001 Forvitringsrapport.pdf"]
["Oseberg Sør 2001","Sommerforhold",{"$f":"Oljedatabase[[#This Row],[Oljetype]]&\"-\"&Oljedatabase[[#This Row],[SesongNy]]&\"-\"&Oljedatabase[[#This Row],[Vind (m/s)]]&\"-\"&Oljedatabase[[#This Row],[Tidspunkt (timer)]]","v":"Oseberg Sør 2001-Sommerforhold-10-120"},{"$f":"Oljedatabase[[#This Row],[Sesong]]","v":"Sommerforhold"},15,10,"120",0.65,18400,"Ikke kjemisk dispergerbar",0.371,7.0000000000000007E-2,0.55900000000000005,149,"Ingen eksplosjonsfare",31.2,"Lav/dårlig dispergerbarhet","Ja",0.2,"2001-04-04T02:00:00",820,null,40,0,0,"Oseberg Sør 2001 Forvitringsrapport.pdf"]
["Oseberg Sør 2001","Sommerforhold",{"$f":"Oljedatabase[[#This Row],[Oljetype]]&\"-\"&Oljedatabase[[#This Row],[SesongNy]]&\"-\"&Oljedatabase[[#This Row],[Vind (m/s)]]&\"-\"&Oljedatabase[[#This Row],[Tidspunkt (timer)]]","v":"Oseberg Sør 2001-Sommerforhold-15-2"},{"$f":"Oljedatabase[[#This Row],[Sesong]]","v":"Sommerforhold"},15,15,"2",0.52300000000000002,1850,"Redusert kjemisk dispergerbarhet",0.27600000000000002,0.47699999999999998,0.247,90,"Ingen eksplosjonsfare",23.5,"Redusert kjemisk dispergerbarhet","Nei",1,"2001-04-04T02:00:00",820,null,40,0,0,"Oseberg Sør 2001 Forvitringsrapport.pdf"]
["Oseberg Sør 2001","Vinterforhold",{"$f":"Oljedatabase[[#This Row],[Oljetype]]&\"-\"&Oljedatabase[[#This Row],[SesongNy]]&\"-\"&Oljedatabase[[#This Row],[Vind (m/s)]]&\"-\"&Oljedatabase[[#This Row],[Tidspunkt (timer)]]","v":"Oseberg Sør 2001-Vinterforhold-10-120"},{"$f":"Oljedatabase[[#This Row],[Sesong]]","v":"Vinterforhold"},5,10,"120",0.6,17700,"Ikke kjemisk dispergerbar",0.34599999999999997,0.09,0.56399999999999995,131,"Ingen eksplosjonsfare",29,"Lav/dårlig dispergerbarhet","Ja",0.23,"2001-04-04T02:00:00",820,null,40,0,0,"Oseberg Sør 2001 Forvitringsrapport.pdf"]
["Oseberg Sør 2001","Sommerforhold",{"$f":"Oljedatabase[[#This Row],[Oljetype]]&\"-\"&Oljedatabase[[#This Row],[SesongNy]]&\"-\"&Oljedatabase[[#This Row],[Vind (m/s)]]&\"-\"&Oljedatabase[[#This Row],[Tidspunkt (timer)]]","v":"Oseberg Sør 2001-Sommerforhold-10-48"},{"$f":"Oljedatabase[[#This Row],[Sesong]]","v":"Sommerforhold"},15,10,"48",0.65,10200,"Ikke kjemisk dispergerbar",0.35699999999999998,0.221,0.42199999999999999,132,"Ingen eksplosjonsfare",29.1,"Redusert kjemisk dispergerbarhet","Ja",0.63,"2001-04-04T02:00:00",820,null,40,0,0,"Oseberg Sør 2001 Forvitringsrapport.pdf"]
["Atla kondensat 2013","Vinterforhold",{"$f":"Oljedatabase[[#This Row],[Oljetype]]&\"-\"&Oljedatabase[[#This Row],[SesongNy]]&\"-\"&Oljedatabase[[#This Row],[Vind (m/s)]]&\"-\"&Oljedatabase[[#This Row],[Tidspunkt (timer)]]","v":"Atla kondensat 2013-Vinterforhold-2-1"},{"$f":"Oljedatabase[[#This Row],[Sesong]]","v":"Vinterforhold"},5,2,"1",0,2,"Kjemisk dispergerbar",0.434,0.56599999999999995,0,-8,"Eksplosjonsfare ved tanking",-21.7,"Kjemisk dispergerbar","Nei",0.56999999999999995,"2013-03-14T01:00:00",746,null,57,0,0,"Atla kondensat 2013 Forvitringsrapport.pdf"]
["Oseberg Sør 2001","Vinterforhold",{"$f":"Oljedatabase[[#This Row],[Oljetype]]&\"-\"&Oljedatabase[[#This Row],[SesongNy]]&\"-\"&Oljedatabase[[#This Row],[Vind (m/s)]]&\"-\"&Oljedatabase[[#This Row],[Tidspunkt (timer)]]","v":"Oseberg Sør 2001-Vinterforhold-5-1"},{"$f":"Oljedatabase[[#This Row],[Sesong]]","v":"Vinterforhold"},5,5,"1",6.5000000000000002E-2,542,"Redusert kjemisk dispergerbarhet",0.13300000000000001,0.86599999999999999,1E-3,29,"Eksplosjonsfare ved tanking",14.3,"Redusert kjemisk dispergerbarhet","Nei",0.93,"2001-04-04T02:00:00",820,null,40,0,0,"Oseberg Sør 2001 Forvitringsrapport.pdf"]
["Oseberg Sør 2001","Sommerforhold",{"$f":"Oljedatabase[[#This Row],[Oljetype]]&\"-\"&Oljedatabase[[#This Row],[SesongNy]]&\"-\"&Oljedatabase[[#This Row],[Vind (m/s)]]&\"-\"&Oljedatabase[[#This Row],[Tidspunkt (timer)]]","v":"Oseberg Sør 2001-Sommerforhold-15-120"},{"$f":"Oljedatabase[[#This Row],[Sesong]]","v":"Sommerforhold"},15,15,"120",0.65,28600,"Ikke kjemisk dispergerbar",0.32700000000000001,0,0.67300000000000004,161,"Ingen eksplosjonsfare",32.799999999999997,"Lav/dårlig dispergerbarhet","Ja",0,"2001-04-04T02:00:00",820,null,40,0,0,"Oseberg Sør 2001 Forvitringsrapport.pdf"]
["Oseberg Sør 2001","Vinterforhold",{"$f":"Oljedatabase[[#This Row],[Oljetype]]&\"-\"&Oljedatabase[[#This Row],[SesongNy]]&\"-\"&Oljedatabase[[#This Row],[Vind (m/s)]]&\"-\"&Oljedatabase[[#This Row],[Tidspunkt (timer)]]","v":"Oseberg Sør 2001-Vinterforhold-15-3"},{"$f":"Oljedatabase[[#This Row],[Sesong]]","v":"Vinterforhold"},5,15,"3",0.54800000000000004,3320,"Redusert kjemisk dispergerbarhet",0.26500000000000001,0.47799999999999998,0.25700000000000001,84,"Ingen eksplosjonsfare",22.7,"Lav/dårlig dispergerbarhet","Nei",1.06,"2001-04-04T02:00:00",820,null,40,0,0,"Oseberg Sør 2001 Forvitringsrapport.pdf"]
["Kvitebjørn 2019","Sommerforhold",{"$f":"Oljedatabase[[#This Row],[Oljetype]]&\"-\"&Oljedatabase[[#This Row],[SesongNy]]&\"-\"&Oljedatabase[[#This Row],[Vind (m/s)]]&\"-\"&Oljedatabase[[#This Row],[Tidspunkt (timer)]]","v":"Kvitebjørn 2019-Sommerforhold-5-24"},{"$f":"Oljedatabase[[#This Row],[Sesong]]","v":"Sommerforhold"},15,5,"24",0,9,"Ikke testet",0.84199999999999997,0,0.158,99,"Ingen eksplosjonsfare",-0.2,"Kjemisk dispergerbar","Nei",0,"2019-08-14T02:00:00",752,"Sogn og Fjordane til Møre og Romsdal",56,6836225,-171505,"Kvitebjørn 2019 Forvitringsrapport.pdf"]
["Kvitebjørn 2019","Vinterforhold",{"$f":"Oljedatabase[[#This Row],[Oljetype]]&\"-\"&Oljedatabase[[#This Row],[SesongNy]]&\"-\"&Oljedatabase[[#This Row],[Vind (m/s)]]&\"-\"&Oljedatabase[[#This Row],[Tidspunkt (timer)]]","v":"Kvitebjørn 2019-Vinterforhold-2-1"},{"$f":"Oljedatabase[[#This Row],[Sesong]]","v":"Vinterforhold"},5,2,"1",0,2,"Ikke testet",0.40200000000000002,0.59799999999999998,0,-12,"Eksplosjonsfare ved havoverflaten",-23,"Kjemisk dispergerbar","Nei",0.6,"2019-08-14T02:00:00",752,"Sogn og Fjordane til Møre og Romsdal",56,6836225,-171505,"Kvitebjørn 2019 Forvitringsrapport.pdf"]
["Heidrun Åre 2004","Vinterforhold",{"$f":"Oljedatabase[[#This Row],[Oljetype]]&\"-\"&Oljedatabase[[#This Row],[SesongNy]]&\"-\"&Oljedatabase[[#This Row],[Vind (m/s)]]&\"-\"&Oljedatabase[[#This Row],[Tidspunkt (timer)]]","v":"Heidrun Åre 2004-Vinterforhold-5-12"},{"$f":"Oljedatabase[[#This Row],[Sesong]]","v":"Vinterforhold"},5,5,"12",0.40100000000000002,2550,"Kjemisk dispergerbar",0.06,0.92600000000000005,1.4E-2,99,"Ingen eksplosjonsfare",-33,"Kjemisk dispergerbar","Nei",1.55,"2004-10-13T02:00:00",926,null,21,7266572,142838,"Heidrun Åre 2004 Forvitringsrapport.pdf"]
["Kvitebjørn 2019","Sommerforhold",{"$f":"Oljedatabase[[#This Row],[Oljetype]]&\"-\"&Oljedatabase[[#This Row],[SesongNy]]&\"-\"&Oljedatabase[[#This Row],[Vind (m/s)]]&\"-\"&Oljedatabase[[#This Row],[Tidspunkt (timer)]]","v":"Kvitebjørn 2019-Sommerforhold-2-12"},{"$f":"Oljedatabase[[#This Row],[Sesong]]","v":"Sommerforhold"},15,2,"12",0,8,"Ikke testet",0.85899999999999999,0.13100000000000001,0.01,84,"Ingen eksplosjonsfare",-3,"Kjemisk dispergerbar","Nei",0.13,"2019-08-14T02:00:00",752,"Sogn og Fjordane til Møre og Romsdal",56,6836225,-171505,"Kvitebjørn 2019 Forvitringsrapport.pdf"]
["Oseberg Sør 2001","Vinterforhold",{"$f":"Oljedatabase[[#This Row],[Oljetype]]&\"-\"&Oljedatabase[[#This Row],[SesongNy]]&\"-\"&Oljedatabase[[#This Row],[Vind (m/s)]]&\"-\"&Oljedatabase[[#This Row],[Tidspunkt (timer)]]","v":"Oseberg Sør 2001-Vinterforhold-10-48"},{"$f":"Oljedatabase[[#This Row],[Sesong]]","v":"Vinterforhold"},5,10,"48",0.6,11000,"Ikke kjemisk dispergerbar",0.33100000000000002,0.26400000000000001,0.40500000000000003,118,"Ingen eksplosjonsfare",27.2,"Lav/dårlig dispergerbarhet","Ja",0.66,"2001-04-04T02:00:00",820,null,40,0,0,"Oseberg Sør 2001 Forvitringsrapport.pdf"]
["Heidrun Åre 2004","Sommerforhold",{"$f":"Oljedatabase[[#This Row],[Oljetype]]&\"-\"&Oljedatabase[[#This Row],[SesongNy]]&\"-\"&Oljedatabase[[#This Row],[Vind (m/s)]]&\"-\"&Oljedatabase[[#This Row],[Tidspunkt (timer)]]","v":"Heidrun Åre 2004-Sommerforhold-5-1"},{"$f":"Oljedatabase[[#This Row],[Sesong]]","v":"Sommerforhold"},15,5,"1",4.5999999999999999E-2,250,"Kjemisk dispergerbar",3.1E-2,0.96799999999999997,1E-3,86,"Ingen eksplosjonsfare",-36.4,"Kjemisk dispergerbar","Nei",1.01,"2004-10-13T02:00:00",926,null,21,7266572,142838,"Heidrun Åre 2004 Forvitringsrapport.pdf"]
["Kvitebjørn 2019","Vinterforhold",{"$f":"Oljedatabase[[#This Row],[Oljetype]]&\"-\"&Oljedatabase[[#This Row],[SesongNy]]&\"-\"&Oljedatabase[[#This Row],[Vind (m/s)]]&\"-\"&Oljedatabase[[#This Row],[Tidspunkt (timer)]]","v":"Kvitebjørn 2019-Vinterforhold-10-24"},{"$f":"Oljedatabase[[#This Row],[Sesong]]","v":"Vinterforhold"},5,10,"24",0,12,"Ikke testet",0.71899999999999997,0,0.28100000000000003,100,"Ingen eksplosjonsfare",-0.1,"Kjemisk dispergerbar","Nei",0,"2019-08-14T02:00:00",752,"Sogn og Fjordane til Møre og Romsdal",56,6836225,-171505,"Kvitebjørn 2019 Forvitringsrapport.pdf"]
["Kvitebjørn 2019","Vinterforhold",{"$f":"Oljedatabase[[#This Row],[Oljetype]]&\"-\"&Oljedatabase[[#This Row],[SesongNy]]&\"-\"&Oljedatabase[[#This Row],[Vind (m/s)]]&\"-\"&Oljedatabase[[#This Row],[Tidspunkt (timer)]]","v":"Kvitebjørn 2019-Vinterforhold-15-12"},{"$f":"Oljedatabase[[#This Row],[Sesong]]","v":"Vinterforhold"},5,15,"12",0,11,"Ikke testet",0.64200000000000002,0,0.35799999999999998,99,"Ingen eksplosjonsfare",-0.2,"Kjemisk dispergerbar","Nei",0,"2019-08-14T02:00:00",752,"Sogn og Fjordane til Møre og Romsdal",56,6836225,-171505,"Kvitebjørn 2019 Forvitringsrapport.pdf"]
["Kvitebjørn 2019","Sommerforhold",{"$f":"Oljedatabase[[#This Row],[Oljetype]]&\"-\"&Oljedatabase[[#This Row],[SesongNy]]&\"-\"&Oljedatabase[[#This Row],[Vind (m/s)]]&\"-\"&Oljedatabase[[#This Row],[Tidspunkt (timer)]]","v":"Kvitebjørn 2019-Sommerforhold-15-3"},{"$f":"Oljedatabase[[#This Row],[Sesong]]","v":"Sommerforhold"},15,15,"3",0,8,"Ikke testet",0.69,0,0.31,92,"Ingen eksplosjonsfare",-1.6,"Kjemisk dispergerbar","Nei",0,"2019-08-14T02:00:00",752,"Sogn og Fjordane til Møre og Romsdal",56,6836225,-171505,"Kvitebjørn 2019 Forvitringsrapport.pdf"]
["Heidrun Åre 2004","Sommerforhold",{"$f":"Oljedatabase[[#This Row],[Oljetype]]&\"-\"&Oljedatabase[[#This Row],[SesongNy]]&\"-\"&Oljedatabase[[#This Row],[Vind (m/s)]]&\"-\"&Oljedatabase[[#This Row],[Tidspunkt (timer)]]","v":"Heidrun Åre 2004-Sommerforhold-5-72"},{"$f":"Oljedatabase[[#This Row],[Sesong]]","v":"Sommerforhold"},15,5,"72",0.74199999999999999,15100,"Redusert kjemisk dispergerbarhet",0.126,0.82399999999999995,0.05,130,"Ingen eksplosjonsfare",-25.2,"Kjemisk dispergerbar","Ja",3.19,"2004-10-13T02:00:00",926,null,21,7266572,142838,"Heidrun Åre 2004 Forvitringsrapport.pdf"]
["Heidrun Åre 2004","Vinterforhold",{"$f":"Oljedatabase[[#This Row],[Oljetype]]&\"-\"&Oljedatabase[[#This Row],[SesongNy]]&\"-\"&Oljedatabase[[#This Row],[Vind (m/s)]]&\"-\"&Oljedatabase[[#This Row],[Tidspunkt (timer)]]","v":"Heidrun Åre 2004-Vinterforhold-10-12"},{"$f":"Oljedatabase[[#This Row],[Sesong]]","v":"Vinterforhold"},5,10,"12",0.69199999999999995,13800,"Redusert kjemisk dispergerbarhet",8.2000000000000003E-2,0.76100000000000001,0.157,109,"Ingen eksplosjonsfare",-30.3,"Kjemisk dispergerbar","Ja",2.4700000000000002,"2004-10-13T02:00:00",926,null,21,7266572,142838,"Heidrun Åre 2004 Forvitringsrapport.pdf"]
["Heidrun Åre 2004","Sommerforhold",{"$f":"Oljedatabase[[#This Row],[Oljetype]]&\"-\"&Oljedatabase[[#This Row],[SesongNy]]&\"-\"&Oljedatabase[[#This Row],[Vind (m/s)]]&\"-\"&Oljedatabase[[#This Row],[Tidspunkt (timer)]]","v":"Heidrun Åre 2004-Sommerforhold-15-3"},{"$f":"Oljedatabase[[#This Row],[Sesong]]","v":"Sommerforhold"},15,15,"3",0.55700000000000005,3670,"Kjemisk dispergerbar",8.2000000000000003E-2,0.621,0.29699999999999999,110,"Ingen eksplosjonsfare",-30.1,"Kjemisk dispergerbar","Nei",1.4,"2004-10-13T02:00:00",926,null,21,7266572,142838,"Heidrun Åre 2004 Forvitringsrapport.pdf"]
["Gina Krog 2018","Vinterforhold",{"$f":"Oljedatabase[[#This Row],[Oljetype]]&\"-\"&Oljedatabase[[#This Row],[SesongNy]]&\"-\"&Oljedatabase[[#This Row],[Vind (m/s)]]&\"-\"&Oljedatabase[[#This Row],[Tidspunkt (timer)]]","v":"Gina Krog 2018-Vinterforhold-15-120"},{"$f":"Oljedatabase[[#This Row],[Sesong]]","v":"Vinterforhold"},5,15,"120",0.69599999999999995,35202,"Ikke kjemisk dispergerbar",0.23599999999999999,0,0.76400000000000001,116,"Ingen eksplosjonsfare",23.9,"Lav/dårlig dispergerbarhet","Ja",0,"2019-03-21T01:00:00",869,"Vest",31,6569723,-261342,"Gina Krog 2018 Forvitringsrapport.pdf"]
["Gina Krog 2018","Vinterforhold",{"$f":"Oljedatabase[[#This Row],[Oljetype]]&\"-\"&Oljedatabase[[#This Row],[SesongNy]]&\"-\"&Oljedatabase[[#This Row],[Vind (m/s)]]&\"-\"&Oljedatabase[[#This Row],[Tidspunkt (timer)]]","v":"Gina Krog 2018-Vinterforhold-5-12"},{"$f":"Oljedatabase[[#This Row],[Sesong]]","v":"Vinterforhold"},5,5,"12",7.1999999999999995E-2,794,"Kjemisk dispergerbar",0.20699999999999999,0.77339999999999998,1.9E-2,80,"Ingen eksplosjonsfare",17.2,"Redusert kjemisk dispergerbarhet","Nei",0.83,"2019-03-21T01:00:00",869,"Vest",31,6569723,-261342,"Gina Krog 2018 Forvitringsrapport.pdf"]
["Gina Krog 2018","Vinterforhold",{"$f":"Oljedatabase[[#This Row],[Oljetype]]&\"-\"&Oljedatabase[[#This Row],[SesongNy]]&\"-\"&Oljedatabase[[#This Row],[Vind (m/s)]]&\"-\"&Oljedatabase[[#This Row],[Tidspunkt (timer)]]","v":"Gina Krog 2018-Vinterforhold-10-96"},{"$f":"Oljedatabase[[#This Row],[Sesong]]","v":"Vinterforhold"},5,10,"96",0.67600000000000005,25213,"Ikke kjemisk dispergerbar",0.26400000000000001,0.15709999999999999,0.57899999999999996,107,"Ingen eksplosjonsfare",22.3,"Lav/dårlig dispergerbarhet","Ja",0.48,"2019-03-21T01:00:00",869,"Vest",31,6569723,-261342,"Gina Krog 2018 Forvitringsrapport.pdf"]
["Gina Krog 2018","Vinterforhold",{"$f":"Oljedatabase[[#This Row],[Oljetype]]&\"-\"&Oljedatabase[[#This Row],[SesongNy]]&\"-\"&Oljedatabase[[#This Row],[Vind (m/s)]]&\"-\"&Oljedatabase[[#This Row],[Tidspunkt (timer)]]","v":"Gina Krog 2018-Vinterforhold-2-6"},{"$f":"Oljedatabase[[#This Row],[Sesong]]","v":"Vinterforhold"},5,2,"6",5.0000000000000001E-3,384,"Kjemisk dispergerbar",0.161,0.83919999999999995,0,65,"Ingen eksplosjonsfare",14.4,"Redusert kjemisk dispergerbarhet","Nei",0.84,"2019-03-21T01:00:00",869,"Vest",31,6569723,-261342,"Gina Krog 2018 Forvitringsrapport.pdf"]
["Gina Krog 2018","Vinterforhold",{"$f":"Oljedatabase[[#This Row],[Oljetype]]&\"-\"&Oljedatabase[[#This Row],[SesongNy]]&\"-\"&Oljedatabase[[#This Row],[Vind (m/s)]]&\"-\"&Oljedatabase[[#This Row],[Tidspunkt (timer)]]","v":"Gina Krog 2018-Vinterforhold-2-12"},{"$f":"Oljedatabase[[#This Row],[Sesong]]","v":"Vinterforhold"},5,2,"12",1.2999999999999999E-2,487,"Kjemisk dispergerbar",0.183,0.81689999999999996,0,72,"Ingen eksplosjonsfare",15.7,"Redusert kjemisk dispergerbarhet","Nei",0.83,"2019-03-21T01:00:00",869,"Vest",31,6569723,-261342,"Gina Krog 2018 Forvitringsrapport.pdf"]
["Heidrun Åre 2004","Vinterforhold",{"$f":"Oljedatabase[[#This Row],[Oljetype]]&\"-\"&Oljedatabase[[#This Row],[SesongNy]]&\"-\"&Oljedatabase[[#This Row],[Vind (m/s)]]&\"-\"&Oljedatabase[[#This Row],[Tidspunkt (timer)]]","v":"Heidrun Åre 2004-Vinterforhold-10-2"},{"$f":"Oljedatabase[[#This Row],[Sesong]]","v":"Vinterforhold"},5,10,"2",0.26100000000000001,1220,"Kjemisk dispergerbar",4.7E-2,0.90900000000000003,4.3999999999999997E-2,93,"Ingen eksplosjonsfare",-34.5,"Kjemisk dispergerbar","Nei",1.23,"2004-10-13T02:00:00",926,null,21,7266572,142838,"Heidrun Åre 2004 Forvitringsrapport.pdf"]
["Heidrun Åre 2004","Vinterforhold",{"$f":"Oljedatabase[[#This Row],[Oljetype]]&\"-\"&Oljedatabase[[#This Row],[SesongNy]]&\"-\"&Oljedatabase[[#This Row],[Vind (m/s)]]&\"-\"&Oljedatabase[[#This Row],[Tidspunkt (timer)]]","v":"Heidrun Åre 2004-Vinterforhold-10-96"},{"$f":"Oljedatabase[[#This Row],[Sesong]]","v":"Vinterforhold"},5,10,"96",0.73299999999999998,33400,"Ikke kjemisk dispergerbar",0.128,0.38300000000000001,0.48899999999999999,137,"Ingen eksplosjonsfare",-23.6,"Kjemisk dispergerbar","Ja",1.43,"2004-10-13T02:00:00",926,null,21,7266572,142838,"Heidrun Åre 2004 Forvitringsrapport.pdf"]
["Gina Krog 2018","Sommerforhold",{"$f":"Oljedatabase[[#This Row],[Oljetype]]&\"-\"&Oljedatabase[[#This Row],[SesongNy]]&\"-\"&Oljedatabase[[#This Row],[Vind (m/s)]]&\"-\"&Oljedatabase[[#This Row],[Tidspunkt (timer)]]","v":"Gina Krog 2018-Sommerforhold-2-96"},{"$f":"Oljedatabase[[#This Row],[Sesong]]","v":"Sommerforhold"},15,2,"96",0.14399999999999999,666,"Kjemisk dispergerbar",0.25900000000000001,0.73740000000000006,4.0000000000000001E-3,97,"Ingen eksplosjonsfare",20.399999999999999,"Redusert kjemisk dispergerbarhet","Nei",0.86,"2019-03-21T01:00:00",869,"Vest",31,6569723,-261342,"Gina Krog 2018 Forvitringsrapport.pdf"]
["Oda 2019","Sommerforhold",{"$f":"Oljedatabase[[#This Row],[Oljetype]]&\"-\"&Oljedatabase[[#This Row],[SesongNy]]&\"-\"&Oljedatabase[[#This Row],[Vind (m/s)]]&\"-\"&Oljedatabase[[#This Row],[Tidspunkt (timer)]]","v":"Oda 2019-Sommerforhold-5-12"},{"$f":"Oljedatabase[[#This Row],[Sesong]]","v":"Sommerforhold"},15,5,"12",0.71199999999999997,5710,"Redusert kjemisk dispergerbarhet",0.33200000000000002,0.65200000000000002,1.6E-2,83,"Ingen eksplosjonsfare",19,"Kjemisk dispergerbar","Nei",2.2599999999999998,"2019-10-31T01:00:00",820,null,40,6388494,221974,"Oda 2019 Forvitringsrapport.pdf"]
["Oda 2019","Sommerforhold",{"$f":"Oljedatabase[[#This Row],[Oljetype]]&\"-\"&Oljedatabase[[#This Row],[SesongNy]]&\"-\"&Oljedatabase[[#This Row],[Vind (m/s)]]&\"-\"&Oljedatabase[[#This Row],[Tidspunkt (timer)]]","v":"Oda 2019-Sommerforhold-5-9"},{"$f":"Oljedatabase[[#This Row],[Sesong]]","v":"Sommerforhold"},15,5,"9",0.64700000000000002,3430,"Kjemisk dispergerbar",0.32200000000000001,0.66400000000000003,1.4E-2,79,"Ingen eksplosjonsfare",18.3,"Kjemisk dispergerbar","Nei",1.88,"2019-10-31T01:00:00",820,null,40,6388494,221974,"Oda 2019 Forvitringsrapport.pdf"]
["Oda 2019","Sommerforhold",{"$f":"Oljedatabase[[#This Row],[Oljetype]]&\"-\"&Oljedatabase[[#This Row],[SesongNy]]&\"-\"&Oljedatabase[[#This Row],[Vind (m/s)]]&\"-\"&Oljedatabase[[#This Row],[Tidspunkt (timer)]]","v":"Oda 2019-Sommerforhold-10-1"},{"$f":"Oljedatabase[[#This Row],[Sesong]]","v":"Sommerforhold"},15,10,"1",0.36899999999999999,563,"Kjemisk dispergerbar",0.26900000000000002,0.69399999999999995,3.6999999999999998E-2,60,"Eksplosjonsfare ved tanking",14.8,"Kjemisk dispergerbar","Nei",1.1000000000000001,"2019-10-31T01:00:00",820,null,40,6388494,221974,"Oda 2019 Forvitringsrapport.pdf"]
["Oda 2019","Sommerforhold",{"$f":"Oljedatabase[[#This Row],[Oljetype]]&\"-\"&Oljedatabase[[#This Row],[SesongNy]]&\"-\"&Oljedatabase[[#This Row],[Vind (m/s)]]&\"-\"&Oljedatabase[[#This Row],[Tidspunkt (timer)]]","v":"Oda 2019-Sommerforhold-10-72"},{"$f":"Oljedatabase[[#This Row],[Sesong]]","v":"Sommerforhold"},15,10,"72",0.8,33900,"Ikke kjemisk dispergerbar",0.41199999999999998,0.2,0.38800000000000001,125,"Ingen eksplosjonsfare",26,"Redusert kjemisk dispergerbarhet","Ja",1,"2019-10-31T01:00:00",820,null,40,6388494,221974,"Oda 2019 Forvitringsrapport.pdf"]
["Oda 2019","Vinterforhold",{"$f":"Oljedatabase[[#This Row],[Oljetype]]&\"-\"&Oljedatabase[[#This Row],[SesongNy]]&\"-\"&Oljedatabase[[#This Row],[Vind (m/s)]]&\"-\"&Oljedatabase[[#This Row],[Tidspunkt (timer)]]","v":"Oda 2019-Vinterforhold-2-2"},{"$f":"Oljedatabase[[#This Row],[Sesong]]","v":"Vinterforhold"},5,2,"2",7.0000000000000007E-2,150,"Kjemisk dispergerbar",0.185,0.81499999999999995,0,31,"Eksplosjonsfare ved tanking",9.1999999999999993,"Kjemisk dispergerbar","Nei",0.88,"2019-10-31T01:00:00",820,null,40,6388494,221974,"Oda 2019 Forvitringsrapport.pdf"]
["Oda 2019","Vinterforhold",{"$f":"Oljedatabase[[#This Row],[Oljetype]]&\"-\"&Oljedatabase[[#This Row],[SesongNy]]&\"-\"&Oljedatabase[[#This Row],[Vind (m/s)]]&\"-\"&Oljedatabase[[#This Row],[Tidspunkt (timer)]]","v":"Oda 2019-Vinterforhold-10-1"},{"$f":"Oljedatabase[[#This Row],[Sesong]]","v":"Vinterforhold"},5,10,"1",0.36899999999999999,696,"Kjemisk dispergerbar",0.24,0.72599999999999998,3.4000000000000002E-2,50,"Eksplosjonsfare ved tanking",12.9,"Redusert kjemisk dispergerbarhet","Nei",1.1499999999999999,"2019-10-31T01:00:00",820,null,40,6388494,221974,"Oda 2019 Forvitringsrapport.pdf"]
["Oda 2019","Sommerforhold",{"$f":"Oljedatabase[[#This Row],[Oljetype]]&\"-\"&Oljedatabase[[#This Row],[SesongNy]]&\"-\"&Oljedatabase[[#This Row],[Vind (m/s)]]&\"-\"&Oljedatabase[[#This Row],[Tidspunkt (timer)]]","v":"Oda 2019-Sommerforhold-15-12"},{"$f":"Oljedatabase[[#This Row],[Sesong]]","v":"Sommerforhold"},15,15,"12",0.8,21300,"Ikke kjemisk dispergerbar",0.36199999999999999,0.187,0.45100000000000001,108,"Ingen eksplosjonsfare",23.2,"Redusert kjemisk dispergerbarhet","Ja",0.94,"2019-10-31T01:00:00",820,null,40,6388494,221974,"Oda 2019 Forvitringsrapport.pdf"]
["Oda 2019","Sommerforhold",{"$f":"Oljedatabase[[#This Row],[Oljetype]]&\"-\"&Oljedatabase[[#This Row],[SesongNy]]&\"-\"&Oljedatabase[[#This Row],[Vind (m/s)]]&\"-\"&Oljedatabase[[#This Row],[Tidspunkt (timer)]]","v":"Oda 2019-Sommerforhold-15-120"},{"$f":"Oljedatabase[[#This Row],[Sesong]]","v":"Sommerforhold"},15,15,"120",0.8,60900,"Ikke kjemisk dispergerbar",0.379,0,0.621,148,"Ingen eksplosjonsfare",29.6,"Redusert kjemisk dispergerbarhet","Ja",0,"2019-10-31T01:00:00",820,null,40,6388494,221974,"Oda 2019 Forvitringsrapport.pdf"]
["Iris 2020","Sommerforhold",{"$f":"Oljedatabase[[#This Row],[Oljetype]]&\"-\"&Oljedatabase[[#This Row],[SesongNy]]&\"-\"&Oljedatabase[[#This Row],[Vind (m/s)]]&\"-\"&Oljedatabase[[#This Row],[Tidspunkt (timer)]]","v":"Iris 2020-Sommerforhold-5-2"},{"$f":"Oljedatabase[[#This Row],[Sesong]]","v":"Sommerforhold"},15,5,"2",0.06,109,"Ikke testet",0.35099999999999998,0.64200000000000002,7.0000000000000001E-3,51,"Eksplosjonsfare ved tanking",19.600000000000001,"Kjemisk dispergerbar","Nei",0.68,"2020-03-09T01:00:00",815,"Haltenbanken",44,7258596,97684,"Iris 2020 Forvitringsrapport.pdf"]
["Oda 2019","Sommerforhold",{"$f":"Oljedatabase[[#This Row],[Oljetype]]&\"-\"&Oljedatabase[[#This Row],[SesongNy]]&\"-\"&Oljedatabase[[#This Row],[Vind (m/s)]]&\"-\"&Oljedatabase[[#This Row],[Tidspunkt (timer)]]","v":"Oda 2019-Sommerforhold-2-12"},{"$f":"Oljedatabase[[#This Row],[Sesong]]","v":"Sommerforhold"},15,2,"12",0.34,699,"Kjemisk dispergerbar",0.29899999999999999,0.7,1E-3,70,"Ingen eksplosjonsfare",16.7,"Kjemisk dispergerbar","Nei",1.06,"2019-10-31T01:00:00",820,null,40,6388494,221974,"Oda 2019 Forvitringsrapport.pdf"]
["Iris 2020","Vinterforhold",{"$f":"Oljedatabase[[#This Row],[Oljetype]]&\"-\"&Oljedatabase[[#This Row],[SesongNy]]&\"-\"&Oljedatabase[[#This Row],[Vind (m/s)]]&\"-\"&Oljedatabase[[#This Row],[Tidspunkt (timer)]]","v":"Iris 2020-Vinterforhold-2-48"},{"$f":"Oljedatabase[[#This Row],[Sesong]]","v":"Vinterforhold"},5,2,"48",0.316,345,"Ikke testet",0.47899999999999998,0.51700000000000002,4.0000000000000001E-3,86,"Ingen eksplosjonsfare",25.8,"Lav/dårlig dispergerbarhet","Nei",0.76,"2020-03-09T01:00:00",854,"Haltenbanken",44,7258596,97684,"Iris 2020 Forvitringsrapport.pdf"]
["Gina Krog 2018","Sommerforhold",{"$f":"Oljedatabase[[#This Row],[Oljetype]]&\"-\"&Oljedatabase[[#This Row],[SesongNy]]&\"-\"&Oljedatabase[[#This Row],[Vind (m/s)]]&\"-\"&Oljedatabase[[#This Row],[Tidspunkt (timer)]]","v":"Gina Krog 2018-Sommerforhold-2-72"},{"$f":"Oljedatabase[[#This Row],[Sesong]]","v":"Sommerforhold"},15,2,"72",0.109,539,"Kjemisk dispergerbar",0.251,0.746,3.0000000000000001E-3,94,"Ingen eksplosjonsfare",19.899999999999999,"Kjemisk dispergerbar","Nei",0.84,"2019-03-21T01:00:00",869,"Vest",31,6569723,-261342,"Gina Krog 2018 Forvitringsrapport.pdf"]
["Iris 2020","Sommerforhold",{"$f":"Oljedatabase[[#This Row],[Oljetype]]&\"-\"&Oljedatabase[[#This Row],[SesongNy]]&\"-\"&Oljedatabase[[#This Row],[Vind (m/s)]]&\"-\"&Oljedatabase[[#This Row],[Tidspunkt (timer)]]","v":"Iris 2020-Sommerforhold-10-12"},{"$f":"Oljedatabase[[#This Row],[Sesong]]","v":"Sommerforhold"},15,10,"12",0.47799999999999998,253,"Ikke testet",0.503,5.6000000000000001E-2,0.441,105,"Ingen eksplosjonsfare",29.1,"Redusert kjemisk dispergerbarhet","Nei",0.11,"2020-03-09T01:00:00",830,"Haltenbanken",44,7258596,97684,"Iris 2020 Forvitringsrapport.pdf"]
["Iris 2020","Vinterforhold",{"$f":"Oljedatabase[[#This Row],[Oljetype]]&\"-\"&Oljedatabase[[#This Row],[SesongNy]]&\"-\"&Oljedatabase[[#This Row],[Vind (m/s)]]&\"-\"&Oljedatabase[[#This Row],[Tidspunkt (timer)]]","v":"Iris 2020-Vinterforhold-2-120"},{"$f":"Oljedatabase[[#This Row],[Sesong]]","v":"Vinterforhold"},5,2,"120",0.39800000000000002,464,"Ikke testet",0.52200000000000002,0.47,8.0000000000000002E-3,98,"Ingen eksplosjonsfare",27.9,"Lav/dårlig dispergerbarhet","Nei",0.78,"2020-03-09T01:00:00",857,"Haltenbanken",44,7258596,97684,"Iris 2020 Forvitringsrapport.pdf"]
["Iris 2020","Vinterforhold",{"$f":"Oljedatabase[[#This Row],[Oljetype]]&\"-\"&Oljedatabase[[#This Row],[SesongNy]]&\"-\"&Oljedatabase[[#This Row],[Vind (m/s)]]&\"-\"&Oljedatabase[[#This Row],[Tidspunkt (timer)]]","v":"Iris 2020-Vinterforhold-15-12"},{"$f":"Oljedatabase[[#This Row],[Sesong]]","v":"Vinterforhold"},5,15,"12",0.42099999999999999,513,"Ikke testet",0.42,0,0.57999999999999996,102,"Ingen eksplosjonsfare",28.6,"Lav/dårlig dispergerbarhet","Nei",0,"2020-03-09T01:00:00",885,"Haltenbanken",44,7258596,97684,"Iris 2020 Forvitringsrapport.pdf"]
["Iris 2020","Sommerforhold",{"$f":"Oljedatabase[[#This Row],[Oljetype]]&\"-\"&Oljedatabase[[#This Row],[SesongNy]]&\"-\"&Oljedatabase[[#This Row],[Vind (m/s)]]&\"-\"&Oljedatabase[[#This Row],[Tidspunkt (timer)]]","v":"Iris 2020-Sommerforhold-5-120"},{"$f":"Oljedatabase[[#This Row],[Sesong]]","v":"Sommerforhold"},15,5,"120",0.52900000000000003,414,"Ikke testet",0.58499999999999996,0.113,0.30199999999999999,124,"Ingen eksplosjonsfare",32.1,"Lav/dårlig dispergerbarhet","Nei",0.24,"2020-03-09T01:00:00",824,"Haltenbanken",44,7258596,97684,"Iris 2020 Forvitringsrapport.pdf"]
["Iris 2020","Vinterforhold",{"$f":"Oljedatabase[[#This Row],[Oljetype]]&\"-\"&Oljedatabase[[#This Row],[SesongNy]]&\"-\"&Oljedatabase[[#This Row],[Vind (m/s)]]&\"-\"&Oljedatabase[[#This Row],[Tidspunkt (timer)]]","v":"Iris 2020-Vinterforhold-10-6"},{"$f":"Oljedatabase[[#This Row],[Sesong]]","v":"Vinterforhold"},5,10,"6",0.29599999999999999,325,"Ikke testet",0.44700000000000001,0.26200000000000001,0.29099999999999998,83,"Ingen eksplosjonsfare",25.3,"Lav/dårlig dispergerbarhet","Nei",0.37,"2020-03-09T01:00:00",872,"Haltenbanken",44,7258596,97684,"Iris 2020 Forvitringsrapport.pdf"]
["Iris 2020","Sommerforhold",{"$f":"Oljedatabase[[#This Row],[Oljetype]]&\"-\"&Oljedatabase[[#This Row],[SesongNy]]&\"-\"&Oljedatabase[[#This Row],[Vind (m/s)]]&\"-\"&Oljedatabase[[#This Row],[Tidspunkt (timer)]]","v":"Iris 2020-Sommerforhold-2-6"},{"$f":"Oljedatabase[[#This Row],[Sesong]]","v":"Sommerforhold"},15,2,"6",0.11700000000000001,132,"Ikke testet",0.39400000000000002,0.60499999999999998,1E-3,63,"Ingen eksplosjonsfare",21.7,"Redusert kjemisk dispergerbarhet","Nei",0.69,"2020-03-09T01:00:00",806,"Haltenbanken",44,7258596,97684,"Iris 2020 Forvitringsrapport.pdf"]
["Yme 1999","Vinterforhold",{"$f":"Oljedatabase[[#This Row],[Oljetype]]&\"-\"&Oljedatabase[[#This Row],[SesongNy]]&\"-\"&Oljedatabase[[#This Row],[Vind (m/s)]]&\"-\"&Oljedatabase[[#This Row],[Tidspunkt (timer)]]","v":"Yme 1999-Vinterforhold-15-9"},{"$f":"Oljedatabase[[#This Row],[Sesong]]","v":"Vinterforhold"},5,15,"9",0,6000,"Redusert kjemisk dispergerbarhet",0,0,0,0,"Ingen eksplosjonsfare",0,null,null,0,null,0,null,0,0,0]
["Snorre blend 1999","Sommerforhold",{"$f":"Oljedatabase[[#This Row],[Oljetype]]&\"-\"&Oljedatabase[[#This Row],[SesongNy]]&\"-\"&Oljedatabase[[#This Row],[Vind (m/s)]]&\"-\"&Oljedatabase[[#This Row],[Tidspunkt (timer)]]","v":"Snorre blend 1999-Sommerforhold-15-9"},{"$f":"Oljedatabase[[#This Row],[Sesong]]","v":"Sommerforhold"},15,15,"9",0,7500,"Lav/dårlig kjemisk dispergerbarhet",0,0,0,0,"Ingen eksplosjonsfare",0,null,null,0,null,0,null,0,0,0]
["Smørbukk Sør 2003","Vinterforhold",{"$f":"Oljedatabase[[#This Row],[Oljetype]]&\"-\"&Oljedatabase[[#This Row],[SesongNy]]&\"-\"&Oljedatabase[[#This Row],[Vind (m/s)]]&\"-\"&Oljedatabase[[#This Row],[Tidspunkt (timer)]]","v":"Smørbukk Sør 2003-Vinterforhold-15-9"},{"$f":"Oljedatabase[[#This Row],[Sesong]]","v":"Vinterforhold"},5,15,"9",0,2400,"Kjemisk dispergerbar",0,0,0,0,"Ingen eksplosjonsfare",0,null,null,0,null,0,null,0,0,0]
["Yme 1999","Vinterforhold",{"$f":"Oljedatabase[[#This Row],[Oljetype]]&\"-\"&Oljedatabase[[#This Row],[SesongNy]]&\"-\"&Oljedatabase[[#This Row],[Vind (m/s)]]&\"-\"&Oljedatabase[[#This Row],[Tidspunkt (timer)]]","v":"Yme 1999-Vinterforhold-5-9"},{"$f":"Oljedatabase[[#This Row],[Sesong]]","v":"Vinterforhold"},5,5,"9",0,3800,"Redusert kjemisk dispergerbarhet",0,0,0,0,"Eksplosjonsfare ved tanking",0,null,null,0,null,0,null,0,0,0]
["Snorre blend 1999","Sommerforhold",{"$f":"Oljedatabase[[#This Row],[Oljetype]]&\"-\"&Oljedatabase[[#This Row],[SesongNy]]&\"-\"&Oljedatabase[[#This Row],[Vind (m/s)]]&\"-\"&Oljedatabase[[#This Row],[Tidspunkt (timer)]]","v":"Snorre blend 1999-Sommerforhold-5-9"},{"$f":"Oljedatabase[[#This Row],[Sesong]]","v":"Sommerforhold"},15,5,"9",0,3000,"Redusert kjemisk dispergerbarhet",0,0,0,0,"Ingen eksplosjonsfare",0,null,null,0,null,0,null,0,0,0]
["Iris 2020","Sommerforhold",{"$f":"Oljedatabase[[#This Row],[Oljetype]]&\"-\"&Oljedatabase[[#This Row],[SesongNy]]&\"-\"&Oljedatabase[[#This Row],[Vind (m/s)]]&\"-\"&Oljedatabase[[#This Row],[Tidspunkt (timer)]]","v":"Iris 2020-Sommerforhold-15-48"},{"$f":"Oljedatabase[[#This Row],[Sesong]]","v":"Sommerforhold"},15,15,"48",0.52900000000000003,633,"Ikke testet",0.45400000000000001,0,0.54600000000000004,139,"Ingen eksplosjonsfare",34.5,"Lav/dårlig dispergerbarhet","Nei",0,"2020-03-09T01:00:00",843,"Haltenbanken",44,7258596,97684,"Iris 2020 Forvitringsrapport.pdf"]
["Statfjord 1999","Sommerforhold",{"$f":"Oljedatabase[[#This Row],[Oljetype]]&\"-\"&Oljedatabase[[#This Row],[SesongNy]]&\"-\"&Oljedatabase[[#This Row],[Vind (m/s)]]&\"-\"&Oljedatabase[[#This Row],[Tidspunkt (timer)]]","v":"Statfjord 1999-Sommerforhold-15-96"},{"$f":"Oljedatabase[[#This Row],[Sesong]]","v":"Sommerforhold"},15,15,"96",0,11500,"Lav/dårlig kjemisk dispergerbarhet",0,0,0,0,"Ingen eksplosjonsfare",0,null,null,0,null,0,null,0,0,0]
["Gina Krog 2018","Vinterforhold",{"$f":"Oljedatabase[[#This Row],[Oljetype]]&\"-\"&Oljedatabase[[#This Row],[SesongNy]]&\"-\"&Oljedatabase[[#This Row],[Vind (m/s)]]&\"-\"&Oljedatabase[[#This Row],[Tidspunkt (timer)]]","v":"Gina Krog 2018-Vinterforhold-10-1"},{"$f":"Oljedatabase[[#This Row],[Sesong]]","v":"Vinterforhold"},5,10,"1",1.6E-2,405,"Kjemisk dispergerbar",0.16,0.81179999999999997,2.8000000000000001E-2,65,"Ingen eksplosjonsfare",14.4,"Redusert kjemisk dispergerbarhet","Nei",0.83,"2019-03-21T01:00:00",869,"Vest",31,6569723,-261342,"Gina Krog 2018 Forvitringsrapport.pdf"]
["Aasta Hansteen Blend 2020","Sommerforhold",{"$f":"Oljedatabase[[#This Row],[Oljetype]]&\"-\"&Oljedatabase[[#This Row],[SesongNy]]&\"-\"&Oljedatabase[[#This Row],[Vind (m/s)]]&\"-\"&Oljedatabase[[#This Row],[Tidspunkt (timer)]]","v":"Aasta Hansteen Blend 2020-Sommerforhold-2-96"},{"$f":"Oljedatabase[[#This Row],[Sesong]]","v":"Sommerforhold"},15,2,"96",0,11,"Ikke testet",0.73099999999999998,0.16700000000000001,0.10199999999999999,118,"Ingen eksplosjonsfare",-6.9,"Kjemisk dispergerbar","Nei",0.17,null,0,null,0,0,0]
["Aasta Hansteen Blend 2020","Sommerforhold",{"$f":"Oljedatabase[[#This Row],[Oljetype]]&\"-\"&Oljedatabase[[#This Row],[SesongNy]]&\"-\"&Oljedatabase[[#This Row],[Vind (m/s)]]&\"-\"&Oljedatabase[[#This Row],[Tidspunkt (timer)]]","v":"Aasta Hansteen Blend 2020-Sommerforhold-10-1"},{"$f":"Oljedatabase[[#This Row],[Sesong]]","v":"Sommerforhold"},15,10,"1",0,5,"Ikke testet",0.42,0.40500000000000003,0.17499999999999999,59,"Eksplosjonsfare ved tanking",-20,"Kjemisk dispergerbar","Nei",0.41,null,0,null,0,0,0]
["Aasta Hansteen Blend 2020","Sommerforhold",{"$f":"Oljedatabase[[#This Row],[Oljetype]]&\"-\"&Oljedatabase[[#This Row],[SesongNy]]&\"-\"&Oljedatabase[[#This Row],[Vind (m/s)]]&\"-\"&Oljedatabase[[#This Row],[Tidspunkt (timer)]]","v":"Aasta Hansteen Blend 2020-Sommerforhold-15-2"},{"$f":"Oljedatabase[[#This Row],[Sesong]]","v":"Sommerforhold"},15,15,"2",0,7,"Ikke testet",0.437,0,0.56299999999999994,85,"Ingen eksplosjonsfare",-14,"Kjemisk dispergerbar","Nei",0,null,0,null,0,0,0]
["Aasta Hansteen Blend 2020","Sommerforhold",{"$f":"Oljedatabase[[#This Row],[Oljetype]]&\"-\"&Oljedatabase[[#This Row],[SesongNy]]&\"-\"&Oljedatabase[[#This Row],[Vind (m/s)]]&\"-\"&Oljedatabase[[#This Row],[Tidspunkt (timer)]]","v":"Aasta Hansteen Blend 2020-Sommerforhold-15-24"},{"$f":"Oljedatabase[[#This Row],[Sesong]]","v":"Sommerforhold"},15,15,"24",0,13,"Ikke testet",0.437,0,0.56299999999999994,129,"Ingen eksplosjonsfare",-4.7,"Kjemisk dispergerbar","Nei",0,null,0,null,0,0,0]
["Lillefrigg 1996","Sommerforhold",{"$f":"Oljedatabase[[#This Row],[Oljetype]]&\"-\"&Oljedatabase[[#This Row],[SesongNy]]&\"-\"&Oljedatabase[[#This Row],[Vind (m/s)]]&\"-\"&Oljedatabase[[#This Row],[Tidspunkt (timer)]]","v":"Lillefrigg 1996-Sommerforhold-5-9"},{"$f":"Oljedatabase[[#This Row],[Sesong]]","v":"Sommerforhold"},15,5,"9",0,300,"Ikke testet",0,0,0,0,"Ingen eksplosjonsfare",0,null,null,0,null,0,null,0,0,0]
["Aasta Hansteen Blend 2020","Vinterforhold",{"$f":"Oljedatabase[[#This Row],[Oljetype]]&\"-\"&Oljedatabase[[#This Row],[SesongNy]]&\"-\"&Oljedatabase[[#This Row],[Vind (m/s)]]&\"-\"&Oljedatabase[[#This Row],[Tidspunkt (timer)]]","v":"Aasta Hansteen Blend 2020-Vinterforhold-2-1"},{"$f":"Oljedatabase[[#This Row],[Sesong]]","v":"Vinterforhold"},5,2,"1",0,3,"Ikke testet",0.151,0.84899999999999998,0,13,"Eksplosjonsfare ved tanking",-31.5,"Kjemisk dispergerbar","Nei",0.85,null,0,null,0,0,0]
["Aasta Hansteen Blend 2020","Vinterforhold",{"$f":"Oljedatabase[[#This Row],[Oljetype]]&\"-\"&Oljedatabase[[#This Row],[SesongNy]]&\"-\"&Oljedatabase[[#This Row],[Vind (m/s)]]&\"-\"&Oljedatabase[[#This Row],[Tidspunkt (timer)]]","v":"Aasta Hansteen Blend 2020-Vinterforhold-2-6"},{"$f":"Oljedatabase[[#This Row],[Sesong]]","v":"Vinterforhold"},5,2,"6",0,6,"Ikke testet",0.4,0.59799999999999998,2E-3,53,"Eksplosjonsfare ved tanking",-21.4,"Kjemisk dispergerbar","Nei",0.6,null,0,null,0,0,0]
["Aasta Hansteen Blend 2020","Vinterforhold",{"$f":"Oljedatabase[[#This Row],[Oljetype]]&\"-\"&Oljedatabase[[#This Row],[SesongNy]]&\"-\"&Oljedatabase[[#This Row],[Vind (m/s)]]&\"-\"&Oljedatabase[[#This Row],[Tidspunkt (timer)]]","v":"Aasta Hansteen Blend 2020-Vinterforhold-10-96"},{"$f":"Oljedatabase[[#This Row],[Sesong]]","v":"Vinterforhold"},5,10,"96",0,12,"Ikke testet",0.46400000000000002,0,0.53600000000000003,105,"Ingen eksplosjonsfare",0.8,"Kjemisk dispergerbar","Nei",0,null,0,null,0,0,0]
["Aasta Hansteen Blend 2020","Vinterforhold",{"$f":"Oljedatabase[[#This Row],[Oljetype]]&\"-\"&Oljedatabase[[#This Row],[SesongNy]]&\"-\"&Oljedatabase[[#This Row],[Vind (m/s)]]&\"-\"&Oljedatabase[[#This Row],[Tidspunkt (timer)]]","v":"Aasta Hansteen Blend 2020-Vinterforhold-15-120"},{"$f":"Oljedatabase[[#This Row],[Sesong]]","v":"Vinterforhold"},5,15,"120",0,19,"Ikke testet",0.38900000000000001,0,0.61099999999999999,138,"Ingen eksplosjonsfare",-2.9,"Kjemisk dispergerbar","Nei",0,null,0,null,0,0,0]
["Aasta Hansteen Blend 2020","Vinterforhold",{"$f":"Oljedatabase[[#This Row],[Oljetype]]&\"-\"&Oljedatabase[[#This Row],[SesongNy]]&\"-\"&Oljedatabase[[#This Row],[Vind (m/s)]]&\"-\"&Oljedatabase[[#This Row],[Tidspunkt (timer)]]","v":"Aasta Hansteen Blend 2020-Vinterforhold-10-1"},{"$f":"Oljedatabase[[#This Row],[Sesong]]","v":"Vinterforhold"},5,10,"1",0,7,"Ikke testet",0.36099999999999999,0.46800000000000003,0.17100000000000001,55,"Eksplosjonsfare ved tanking",-8.6,"Kjemisk dispergerbar","Nei",0.47,null,0,null,0,0,0]
["Aasta Hansteen Blend 2020","Vinterforhold",{"$f":"Oljedatabase[[#This Row],[Oljetype]]&\"-\"&Oljedatabase[[#This Row],[SesongNy]]&\"-\"&Oljedatabase[[#This Row],[Vind (m/s)]]&\"-\"&Oljedatabase[[#This Row],[Tidspunkt (timer)]]","v":"Aasta Hansteen Blend 2020-Vinterforhold-15-2"},{"$f":"Oljedatabase[[#This Row],[Sesong]]","v":"Vinterforhold"},5,15,"2",0,8,"Ikke testet",0.38900000000000001,0,0.61099999999999999,75,"Ingen eksplosjonsfare",-16.399999999999999,"Kjemisk dispergerbar","Nei",0,null,0,null,0,0,0]
["Visund Sør Kondensat 2020","Vinterforhold",{"$f":"Oljedatabase[[#This Row],[Oljetype]]&\"-\"&Oljedatabase[[#This Row],[SesongNy]]&\"-\"&Oljedatabase[[#This Row],[Vind (m/s)]]&\"-\"&Oljedatabase[[#This Row],[Tidspunkt (timer)]]","v":"Visund Sør Kondensat 2020-Vinterforhold-2-1"},{"$f":"Oljedatabase[[#This Row],[Sesong]]","v":"Vinterforhold"},5,2,"1",0,2,"Ikke testet",0.42099999999999999,0.57899999999999996,0,-4,"Eksplosjonsfare ved havoverflaten",-31.6,"Kjemisk dispergerbar","Nei",0.57999999999999996,"2020-09-01T02:00:00",742,null,58,6861742,-174063,"Visund Sør kondensat 2020 Forvitringsrapport.pdf"]
["Visund Sør Kondensat 2020","Vinterforhold",{"$f":"Oljedatabase[[#This Row],[Oljetype]]&\"-\"&Oljedatabase[[#This Row],[SesongNy]]&\"-\"&Oljedatabase[[#This Row],[Vind (m/s)]]&\"-\"&Oljedatabase[[#This Row],[Tidspunkt (timer)]]","v":"Visund Sør Kondensat 2020-Vinterforhold-2-12"},{"$f":"Oljedatabase[[#This Row],[Sesong]]","v":"Vinterforhold"},5,2,"12",0.186,10,"Ikke testet",0.95,3.3000000000000002E-2,1.7000000000000001E-2,87,"Ingen eksplosjonsfare",-21.3,"Kjemisk dispergerbar","Nei",0.04,"2020-09-01T02:00:00",742,null,58,6861742,-174063,"Visund Sør kondensat 2020 Forvitringsrapport.pdf"]
["Visund Sør Kondensat 2020","Sommerforhold",{"$f":"Oljedatabase[[#This Row],[Oljetype]]&\"-\"&Oljedatabase[[#This Row],[SesongNy]]&\"-\"&Oljedatabase[[#This Row],[Vind (m/s)]]&\"-\"&Oljedatabase[[#This Row],[Tidspunkt (timer)]]","v":"Visund Sør Kondensat 2020-Sommerforhold-5-120"},{"$f":"Oljedatabase[[#This Row],[Sesong]]","v":"Sommerforhold"},15,5,"120",0.27700000000000002,12,"Ikke testet",0.91700000000000004,0,8.3000000000000004E-2,93,"Ingen eksplosjonsfare",-20.6,"Kjemisk dispergerbar","Nei",0,"2020-09-01T02:00:00",742,null,58,6861742,-174063,"Visund Sør kondensat 2020 Forvitringsrapport.pdf"]
["Visund Sør Kondensat 2020","Sommerforhold",{"$f":"Oljedatabase[[#This Row],[Oljetype]]&\"-\"&Oljedatabase[[#This Row],[SesongNy]]&\"-\"&Oljedatabase[[#This Row],[Vind (m/s)]]&\"-\"&Oljedatabase[[#This Row],[Tidspunkt (timer)]]","v":"Visund Sør Kondensat 2020-Sommerforhold-10-24"},{"$f":"Oljedatabase[[#This Row],[Sesong]]","v":"Sommerforhold"},15,10,"24",0.27600000000000002,12,"Ikke testet",0.82399999999999995,0,0.17599999999999999,93,"Ingen eksplosjonsfare",-20.7,"Kjemisk dispergerbar","Nei",0,"2020-09-01T02:00:00",742,null,58,6861742,-174063,"Visund Sør kondensat 2020 Forvitringsrapport.pdf"]
["Visund Sør Kondensat 2020","Sommerforhold",{"$f":"Oljedatabase[[#This Row],[Oljetype]]&\"-\"&Oljedatabase[[#This Row],[SesongNy]]&\"-\"&Oljedatabase[[#This Row],[Vind (m/s)]]&\"-\"&Oljedatabase[[#This Row],[Tidspunkt (timer)]]","v":"Visund Sør Kondensat 2020-Sommerforhold-5-6"},{"$f":"Oljedatabase[[#This Row],[Sesong]]","v":"Sommerforhold"},15,5,"6",0.23599999999999999,11,"Ikke testet",0.91700000000000004,0,8.3000000000000004E-2,91,"Ingen eksplosjonsfare",-20.8,"Kjemisk dispergerbar","Nei",0,"2020-09-01T02:00:00",742,null,58,6861742,-174063,"Visund Sør kondensat 2020 Forvitringsrapport.pdf"]
["Visund Sør Kondensat 2020","Vinterforhold",{"$f":"Oljedatabase[[#This Row],[Oljetype]]&\"-\"&Oljedatabase[[#This Row],[SesongNy]]&\"-\"&Oljedatabase[[#This Row],[Vind (m/s)]]&\"-\"&Oljedatabase[[#This Row],[Tidspunkt (timer)]]","v":"Visund Sør Kondensat 2020-Vinterforhold-10-2"},{"$f":"Oljedatabase[[#This Row],[Sesong]]","v":"Vinterforhold"},5,10,"2",0.19700000000000001,10,"Ikke testet",0.77700000000000002,0,0.223,82,"Ingen eksplosjonsfare",-21.7,"Kjemisk dispergerbar","Nei",0,"2020-09-01T02:00:00",742,null,58,6861742,-174063,"Visund Sør kondensat 2020 Forvitringsrapport.pdf"]
["Visund Sør Kondensat 2020","Vinterforhold",{"$f":"Oljedatabase[[#This Row],[Oljetype]]&\"-\"&Oljedatabase[[#This Row],[SesongNy]]&\"-\"&Oljedatabase[[#This Row],[Vind (m/s)]]&\"-\"&Oljedatabase[[#This Row],[Tidspunkt (timer)]]","v":"Visund Sør Kondensat 2020-Vinterforhold-10-9"},{"$f":"Oljedatabase[[#This Row],[Sesong]]","v":"Vinterforhold"},5,10,"9",0.27400000000000002,14,"Ikke testet",0.77700000000000002,0,0.223,92,"Ingen eksplosjonsfare",-20.7,"Kjemisk dispergerbar","Nei",0,"2020-09-01T02:00:00",742,null,58,6861742,-174063,"Visund Sør kondensat 2020 Forvitringsrapport.pdf"]
["Visund Sør Kondensat 2020","Vinterforhold",{"$f":"Oljedatabase[[#This Row],[Oljetype]]&\"-\"&Oljedatabase[[#This Row],[SesongNy]]&\"-\"&Oljedatabase[[#This Row],[Vind (m/s)]]&\"-\"&Oljedatabase[[#This Row],[Tidspunkt (timer)]]","v":"Visund Sør Kondensat 2020-Vinterforhold-10-96"},{"$f":"Oljedatabase[[#This Row],[Sesong]]","v":"Vinterforhold"},5,10,"96",0.27600000000000002,14,"Ikke testet",0.77700000000000002,0,0.223,93,"Ingen eksplosjonsfare",-20.7,"Kjemisk dispergerbar","Nei",0,"2020-09-01T02:00:00",742,null,58,6861742,-174063,"Visund Sør kondensat 2020 Forvitringsrapport.pdf"]
["Visund Sør Kondensat 2020","Vinterforhold",{"$f":"Oljedatabase[[#This Row],[Oljetype]]&\"-\"&Oljedatabase[[#This Row],[SesongNy]]&\"-\"&Oljedatabase[[#This Row],[Vind (m/s)]]&\"-\"&Oljedatabase[[#This Row],[Tidspunkt (timer)]]","v":"Visund Sør Kondensat 2020-Vinterforhold-15-6"},{"$f":"Oljedatabase[[#This Row],[Sesong]]","v":"Vinterforhold"},5,15,"6",0.27400000000000002,14,"Ikke testet",0.68100000000000005,0,0.31900000000000001,92,"Ingen eksplosjonsfare",-20.7,"Kjemisk dispergerbar","Nei",0,"2020-09-01T02:00:00",742,null,58,6861742,-174063,"Visund Sør kondensat 2020 Forvitringsrapport.pdf"]
["Visund Crude Oil 2020","Vinterforhold",{"$f":"Oljedatabase[[#This Row],[Oljetype]]&\"-\"&Oljedatabase[[#This Row],[SesongNy]]&\"-\"&Oljedatabase[[#This Row],[Vind (m/s)]]&\"-\"&Oljedatabase[[#This Row],[Tidspunkt (timer)]]","v":"Visund Crude Oil 2020-Vinterforhold-2-6"},{"$f":"Oljedatabase[[#This Row],[Sesong]]","v":"Vinterforhold"},5,2,"6",7.9000000000000001E-2,89,"Kjemisk dispergerbar",0.40799999999999997,0.59099999999999997,1E-3,55,"Eksplosjonsfare ved tanking",5.5,"Kjemisk dispergerbar","Nei",0.64,"2020-09-01T02:00:00",794,null,46,6861742,-174063,"Visund crude oil 2020 Forvitringsrapport.pdf"]
["Visund Crude Oil 2020","Sommerforhold",{"$f":"Oljedatabase[[#This Row],[Oljetype]]&\"-\"&Oljedatabase[[#This Row],[SesongNy]]&\"-\"&Oljedatabase[[#This Row],[Vind (m/s)]]&\"-\"&Oljedatabase[[#This Row],[Tidspunkt (timer)]]","v":"Visund Crude Oil 2020-Sommerforhold-15-6"},{"$f":"Oljedatabase[[#This Row],[Sesong]]","v":"Sommerforhold"},15,15,"6",0.6,2390,"Redusert kjemisk dispergerbarhet",0.51700000000000002,3.3000000000000002E-2,0.45,106,"Ingen eksplosjonsfare",24.5,"Redusert kjemisk dispergerbarhet","Nei",0.08,"2020-09-01T02:00:00",794,null,46,6861742,-174063,"Visund crude oil 2020 Forvitringsrapport.pdf"]
["Visund Crude Oil 2020","Vinterforhold",{"$f":"Oljedatabase[[#This Row],[Oljetype]]&\"-\"&Oljedatabase[[#This Row],[SesongNy]]&\"-\"&Oljedatabase[[#This Row],[Vind (m/s)]]&\"-\"&Oljedatabase[[#This Row],[Tidspunkt (timer)]]","v":"Visund Crude Oil 2020-Vinterforhold-2-96"},{"$f":"Oljedatabase[[#This Row],[Sesong]]","v":"Vinterforhold"},5,2,"96",0.438,1730,"Kjemisk dispergerbar",0.56299999999999994,0.433,4.0000000000000001E-3,97,"Ingen eksplosjonsfare",21.2,"Lav/dårlig dispergerbarhet","Nei",0.77,"2020-09-01T02:00:00",794,null,46,6861742,-174063,"Visund crude oil 2020 Forvitringsrapport.pdf"]
["Visund Crude Oil 2020","Sommerforhold",{"$f":"Oljedatabase[[#This Row],[Oljetype]]&\"-\"&Oljedatabase[[#This Row],[SesongNy]]&\"-\"&Oljedatabase[[#This Row],[Vind (m/s)]]&\"-\"&Oljedatabase[[#This Row],[Tidspunkt (timer)]]","v":"Visund Crude Oil 2020-Sommerforhold-10-72"},{"$f":"Oljedatabase[[#This Row],[Sesong]]","v":"Sommerforhold"},15,10,"72",0.8,8650,"Ikke kjemisk dispergerbar",0.58799999999999997,1.2999999999999999E-2,0.39900000000000002,129,"Ingen eksplosjonsfare",32.4,"Lav/dårlig dispergerbarhet","Nei",7.0000000000000007E-2,"2020-09-01T02:00:00",794,null,46,6861742,-174063,"Visund crude oil 2020 Forvitringsrapport.pdf"]
["Visund Crude Oil 2020","Vinterforhold",{"$f":"Oljedatabase[[#This Row],[Oljetype]]&\"-\"&Oljedatabase[[#This Row],[SesongNy]]&\"-\"&Oljedatabase[[#This Row],[Vind (m/s)]]&\"-\"&Oljedatabase[[#This Row],[Tidspunkt (timer)]]","v":"Visund Crude Oil 2020-Vinterforhold-10-72"},{"$f":"Oljedatabase[[#This Row],[Sesong]]","v":"Vinterforhold"},5,10,"72",0.8,11600,"Ikke kjemisk dispergerbar",0.55500000000000005,2.4E-2,0.42099999999999999,117,"Ingen eksplosjonsfare",28.3,"Lav/dårlig dispergerbarhet","Ja",0.12,"2020-09-01T02:00:00",794,null,46,6861742,-174063,"Visund crude oil 2020 Forvitringsrapport.pdf"]
["Frosk 2020","Sommerforhold",{"$f":"Oljedatabase[[#This Row],[Oljetype]]&\"-\"&Oljedatabase[[#This Row],[SesongNy]]&\"-\"&Oljedatabase[[#This Row],[Vind (m/s)]]&\"-\"&Oljedatabase[[#This Row],[Tidspunkt (timer)]]","v":"Frosk 2020-Sommerforhold-2-24"},{"$f":"Oljedatabase[[#This Row],[Sesong]]","v":"Sommerforhold"},15,2,"24",0.27100000000000002,1530,"Kjemisk dispergerbar",5.1999999999999998E-2,0.94699999999999995,1E-3,100,"Ingen eksplosjonsfare",-30.9,"Kjemisk dispergerbar","Nei",1.3,null,0,null,0,0,0]
["Frosk 2020","Sommerforhold",{"$f":"Oljedatabase[[#This Row],[Oljetype]]&\"-\"&Oljedatabase[[#This Row],[SesongNy]]&\"-\"&Oljedatabase[[#This Row],[Vind (m/s)]]&\"-\"&Oljedatabase[[#This Row],[Tidspunkt (timer)]]","v":"Frosk 2020-Sommerforhold-10-9"},{"$f":"Oljedatabase[[#This Row],[Sesong]]","v":"Sommerforhold"},15,10,"9",0.69299999999999995,12900,"Redusert kjemisk dispergerbarhet",7.4999999999999997E-2,0.80300000000000005,0.122,126,"Ingen eksplosjonsfare",-28.7,"Kjemisk dispergerbar","Ja",2.62,null,0,null,0,0,0]
["Frosk 2020","Sommerforhold",{"$f":"Oljedatabase[[#This Row],[Oljetype]]&\"-\"&Oljedatabase[[#This Row],[SesongNy]]&\"-\"&Oljedatabase[[#This Row],[Vind (m/s)]]&\"-\"&Oljedatabase[[#This Row],[Tidspunkt (timer)]]","v":"Frosk 2020-Sommerforhold-2-6"},{"$f":"Oljedatabase[[#This Row],[Sesong]]","v":"Sommerforhold"},15,2,"6",0.08,564,"Kjemisk dispergerbar",2.9000000000000001E-2,0.97099999999999997,0,76,"Ingen eksplosjonsfare",-33,"Kjemisk dispergerbar","Nei",1.06,null,0,null,0,0,0]
["Visund Crude Oil 2020","Vinterforhold",{"$f":"Oljedatabase[[#This Row],[Oljetype]]&\"-\"&Oljedatabase[[#This Row],[SesongNy]]&\"-\"&Oljedatabase[[#This Row],[Vind (m/s)]]&\"-\"&Oljedatabase[[#This Row],[Tidspunkt (timer)]]","v":"Visund Crude Oil 2020-Vinterforhold-15-48"},{"$f":"Oljedatabase[[#This Row],[Sesong]]","v":"Vinterforhold"},5,15,"48",0.8,12600,"Ikke kjemisk dispergerbar",0.48599999999999999,0,0.51400000000000001,120,"Ingen eksplosjonsfare",29.3,"Lav/dårlig dispergerbarhet","Ja",0,"2020-09-01T02:00:00",794,null,46,6861742,-174063,"Visund crude oil 2020 Forvitringsrapport.pdf"]
["Frosk 2020","Vinterforhold",{"$f":"Oljedatabase[[#This Row],[Oljetype]]&\"-\"&Oljedatabase[[#This Row],[SesongNy]]&\"-\"&Oljedatabase[[#This Row],[Vind (m/s)]]&\"-\"&Oljedatabase[[#This Row],[Tidspunkt (timer)]]","v":"Frosk 2020-Vinterforhold-5-9"},{"$f":"Oljedatabase[[#This Row],[Sesong]]","v":"Vinterforhold"},5,5,"9",0.33,3210,"Kjemisk dispergerbar",3.6999999999999998E-2,0.95399999999999996,8.9999999999999993E-3,84,"Ingen eksplosjonsfare",-32.299999999999997,"Kjemisk dispergerbar","Nei",1.42,null,0,null,0,0,0]
["Frosk 2020","Vinterforhold",{"$f":"Oljedatabase[[#This Row],[Oljetype]]&\"-\"&Oljedatabase[[#This Row],[SesongNy]]&\"-\"&Oljedatabase[[#This Row],[Vind (m/s)]]&\"-\"&Oljedatabase[[#This Row],[Tidspunkt (timer)]]","v":"Frosk 2020-Vinterforhold-5-1"},{"$f":"Oljedatabase[[#This Row],[Sesong]]","v":"Vinterforhold"},5,5,"1",4.8000000000000001E-2,796,"Kjemisk dispergerbar",1.2999999999999999E-2,0.98599999999999999,1E-3,61,"Ingen eksplosjonsfare",-34.5,"Kjemisk dispergerbar","Nei",1.04,null,0,null,0,0,0]
["Frosk 2020","Vinterforhold",{"$f":"Oljedatabase[[#This Row],[Oljetype]]&\"-\"&Oljedatabase[[#This Row],[SesongNy]]&\"-\"&Oljedatabase[[#This Row],[Vind (m/s)]]&\"-\"&Oljedatabase[[#This Row],[Tidspunkt (timer)]]","v":"Frosk 2020-Vinterforhold-10-6"},{"$f":"Oljedatabase[[#This Row],[Sesong]]","v":"Vinterforhold"},5,10,"6",0.53300000000000003,8830,"Redusert kjemisk dispergerbarhet",4.7E-2,0.87,8.3000000000000004E-2,96,"Ingen eksplosjonsfare",-31.3,"Kjemisk dispergerbar","Nei",1.86,null,0,null,0,0,0]
["Oseberg Øst 1998 *(2020)","Sommerforhold",{"$f":"Oljedatabase[[#This Row],[Oljetype]]&\"-\"&Oljedatabase[[#This Row],[SesongNy]]&\"-\"&Oljedatabase[[#This Row],[Vind (m/s)]]&\"-\"&Oljedatabase[[#This Row],[Tidspunkt (timer)]]","v":"Oseberg Øst 1998 *(2020)-Sommerforhold-15-24"},{"$f":"Oljedatabase[[#This Row],[Sesong]]","v":"Sommerforhold"},15,15,"24",0.75,31700,"Ikke kjemisk dispergerbar",0.39100000000000001,0.08,0.52900000000000003,0,"Ikke angitt",25.4,"Redusert kjemisk dispergerbarhet","Ja",0.32,null,0,null,0,0,0]
["Frosk 2020","Vinterforhold",{"$f":"Oljedatabase[[#This Row],[Oljetype]]&\"-\"&Oljedatabase[[#This Row],[SesongNy]]&\"-\"&Oljedatabase[[#This Row],[Vind (m/s)]]&\"-\"&Oljedatabase[[#This Row],[Tidspunkt (timer)]]","v":"Frosk 2020-Vinterforhold-5-24"},{"$f":"Oljedatabase[[#This Row],[Sesong]]","v":"Vinterforhold"},5,5,"24",0.57399999999999995,11500,"Redusert kjemisk dispergerbarhet",5.3999999999999999E-2,0.92900000000000005,1.7000000000000001E-2,102,"Ingen eksplosjonsfare",-30.7,"Kjemisk dispergerbar","Ja",2.1800000000000002,null,0,null,0,0,0]
["Oseberg Øst 1998 *(2020)","Sommerforhold",{"$f":"Oljedatabase[[#This Row],[Oljetype]]&\"-\"&Oljedatabase[[#This Row],[SesongNy]]&\"-\"&Oljedatabase[[#This Row],[Vind (m/s)]]&\"-\"&Oljedatabase[[#This Row],[Tidspunkt (timer)]]","v":"Oseberg Øst 1998 *(2020)-Sommerforhold-2-24"},{"$f":"Oljedatabase[[#This Row],[Sesong]]","v":"Sommerforhold"},15,2,"24",0.38800000000000001,3030,"Redusert kjemisk dispergerbarhet",0.33900000000000002,0.66,1E-3,0,"Ikke angitt",21,"Redusert kjemisk dispergerbarhet","Nei",1.08,null,0,null,0,0,0]
["Frosk 2020","Vinterforhold",{"$f":"Oljedatabase[[#This Row],[Oljetype]]&\"-\"&Oljedatabase[[#This Row],[SesongNy]]&\"-\"&Oljedatabase[[#This Row],[Vind (m/s)]]&\"-\"&Oljedatabase[[#This Row],[Tidspunkt (timer)]]","v":"Frosk 2020-Vinterforhold-15-48"},{"$f":"Oljedatabase[[#This Row],[Sesong]]","v":"Vinterforhold"},5,15,"48",0.70299999999999996,47100,"Ikke kjemisk dispergerbar",9.6000000000000002E-2,0.14299999999999999,0.76100000000000001,178,"Ingen eksplosjonsfare",-24.6,"Kjemisk dispergerbar","Ja",0.48,null,0,null,0,0,0]
["Frosk 2020","Sommerforhold",{"$f":"Oljedatabase[[#This Row],[Oljetype]]&\"-\"&Oljedatabase[[#This Row],[SesongNy]]&\"-\"&Oljedatabase[[#This Row],[Vind (m/s)]]&\"-\"&Oljedatabase[[#This Row],[Tidspunkt (timer)]]","v":"Frosk 2020-Sommerforhold-10-24"},{"$f":"Oljedatabase[[#This Row],[Sesong]]","v":"Sommerforhold"},15,10,"24",0.78800000000000003,28600,"Ikke kjemisk dispergerbar",0.10100000000000001,0.69099999999999995,0.20799999999999999,161,"Ingen eksplosjonsfare",-25.9,"Kjemisk dispergerbar","Ja",3.26,null,0,null,0,0,0]
["Oseberg Øst 1998 *(2020)","Vinterforhold",{"$f":"Oljedatabase[[#This Row],[Oljetype]]&\"-\"&Oljedatabase[[#This Row],[SesongNy]]&\"-\"&Oljedatabase[[#This Row],[Vind (m/s)]]&\"-\"&Oljedatabase[[#This Row],[Tidspunkt (timer)]]","v":"Oseberg Øst 1998 *(2020)-Vinterforhold-15-6"},{"$f":"Oljedatabase[[#This Row],[Sesong]]","v":"Vinterforhold"},5,15,"6",0.7,31300,"Ikke kjemisk dispergerbar",0.34399999999999997,0.41399999999999998,0.24199999999999999,0,"Ikke angitt",21.7,"Lav/dårlig dispergerbarhet","Ja",1.38,null,0,null,0,0,0]
["Oseberg Øst 1998 *(2020)","Sommerforhold",{"$f":"Oljedatabase[[#This Row],[Oljetype]]&\"-\"&Oljedatabase[[#This Row],[SesongNy]]&\"-\"&Oljedatabase[[#This Row],[Vind (m/s)]]&\"-\"&Oljedatabase[[#This Row],[Tidspunkt (timer)]]","v":"Oseberg Øst 1998 *(2020)-Sommerforhold-10-2"},{"$f":"Oljedatabase[[#This Row],[Sesong]]","v":"Sommerforhold"},15,10,"2",0.41799999999999998,2460,"Kjemisk dispergerbar",0.317,0.63900000000000001,4.3999999999999997E-2,0,"Ikke angitt",19.899999999999999,"Kjemisk dispergerbar","Nei",1.1000000000000001,null,0,null,0,0,0]
["Oseberg Øst 1998 *(2020)","Sommerforhold",{"$f":"Oljedatabase[[#This Row],[Oljetype]]&\"-\"&Oljedatabase[[#This Row],[SesongNy]]&\"-\"&Oljedatabase[[#This Row],[Vind (m/s)]]&\"-\"&Oljedatabase[[#This Row],[Tidspunkt (timer)]]","v":"Oseberg Øst 1998 *(2020)-Sommerforhold-10-6"},{"$f":"Oljedatabase[[#This Row],[Sesong]]","v":"Sommerforhold"},15,10,"6",0.68500000000000005,9440,"Redusert kjemisk dispergerbarhet",0.35499999999999998,0.55100000000000005,9.4E-2,0,"Ikke angitt",22,"Redusert kjemisk dispergerbarhet","Nei",1.75,null,0,null,0,0,0]
["Frosk 2020","Vinterforhold",{"$f":"Oljedatabase[[#This Row],[Oljetype]]&\"-\"&Oljedatabase[[#This Row],[SesongNy]]&\"-\"&Oljedatabase[[#This Row],[Vind (m/s)]]&\"-\"&Oljedatabase[[#This Row],[Tidspunkt (timer)]]","v":"Frosk 2020-Vinterforhold-15-2"},{"$f":"Oljedatabase[[#This Row],[Sesong]]","v":"Vinterforhold"},5,15,"2",0.44500000000000001,5400,"Redusert kjemisk dispergerbarhet",3.9E-2,0.80600000000000005,0.155,87,"Ingen eksplosjonsfare",-32,"Kjemisk dispergerbar","Nei",1.45,null,0,null,0,0,0]
["Oseberg Øst 1998 *(2020)","Vinterforhold",{"$f":"Oljedatabase[[#This Row],[Oljetype]]&\"-\"&Oljedatabase[[#This Row],[SesongNy]]&\"-\"&Oljedatabase[[#This Row],[Vind (m/s)]]&\"-\"&Oljedatabase[[#This Row],[Tidspunkt (timer)]]","v":"Oseberg Øst 1998 *(2020)-Vinterforhold-10-6"},{"$f":"Oljedatabase[[#This Row],[Sesong]]","v":"Vinterforhold"},5,10,"6",0.54100000000000004,17400,"Redusert kjemisk dispergerbarhet",0.33,0.60899999999999999,6.0999999999999999E-2,0,"Ikke angitt",20.6,"Lav/dårlig dispergerbarhet","Ja",1.33,null,0,null,0,0,0]
["Dvalin kondensat 2020","Sommerforhold",{"$f":"Oljedatabase[[#This Row],[Oljetype]]&\"-\"&Oljedatabase[[#This Row],[SesongNy]]&\"-\"&Oljedatabase[[#This Row],[Vind (m/s)]]&\"-\"&Oljedatabase[[#This Row],[Tidspunkt (timer)]]","v":"Dvalin kondensat 2020-Sommerforhold-15-96"},{"$f":"Oljedatabase[[#This Row],[Sesong]]","v":"Sommerforhold"},15,15,"96",0.75800000000000001,1640,"Redusert kjemisk dispergerbarhet",0.48299999999999998,0,0.51700000000000002,158,"Ingen eksplosjonsfare",50,"Lav/dårlig dispergerbarhet","Nei",0,null,0,null,0,0,0]
["Dvalin kondensat 2020","Sommerforhold",{"$f":"Oljedatabase[[#This Row],[Oljetype]]&\"-\"&Oljedatabase[[#This Row],[SesongNy]]&\"-\"&Oljedatabase[[#This Row],[Vind (m/s)]]&\"-\"&Oljedatabase[[#This Row],[Tidspunkt (timer)]]","v":"Dvalin kondensat 2020-Sommerforhold-5-9"},{"$f":"Oljedatabase[[#This Row],[Sesong]]","v":"Sommerforhold"},15,5,"9",0.5,439,"Kjemisk dispergerbar",0.48799999999999999,0.48499999999999999,2.7E-2,99,"Ingen eksplosjonsfare",36,"Lav/dårlig dispergerbarhet","Nei",0.97,null,0,null,0,0,0]
["Dvalin kondensat 2020","Sommerforhold",{"$f":"Oljedatabase[[#This Row],[Oljetype]]&\"-\"&Oljedatabase[[#This Row],[SesongNy]]&\"-\"&Oljedatabase[[#This Row],[Vind (m/s)]]&\"-\"&Oljedatabase[[#This Row],[Tidspunkt (timer)]]","v":"Dvalin kondensat 2020-Sommerforhold-5-12"},{"$f":"Oljedatabase[[#This Row],[Sesong]]","v":"Sommerforhold"},15,5,"12",0.54900000000000004,481,"Kjemisk dispergerbar",0.502,0.46300000000000002,3.5000000000000003E-2,103,"Ingen eksplosjonsfare",37.200000000000003,"Lav/dårlig dispergerbarhet","Nei",1.03,null,0,null,0,0,0]
["Dvalin kondensat 2020","Sommerforhold",{"$f":"Oljedatabase[[#This Row],[Oljetype]]&\"-\"&Oljedatabase[[#This Row],[SesongNy]]&\"-\"&Oljedatabase[[#This Row],[Vind (m/s)]]&\"-\"&Oljedatabase[[#This Row],[Tidspunkt (timer)]]","v":"Dvalin kondensat 2020-Sommerforhold-5-1"},{"$f":"Oljedatabase[[#This Row],[Sesong]]","v":"Sommerforhold"},15,5,"1",0,166,"Kjemisk dispergerbar",0.29499999999999998,0.70299999999999996,2E-3,39,"Eksplosjonsfare ved tanking",20.399999999999999,"Redusert kjemisk dispergerbarhet","Nei",0.7,null,0,null,0,0,0]
["Dvalin kondensat 2020","Sommerforhold",{"$f":"Oljedatabase[[#This Row],[Oljetype]]&\"-\"&Oljedatabase[[#This Row],[SesongNy]]&\"-\"&Oljedatabase[[#This Row],[Vind (m/s)]]&\"-\"&Oljedatabase[[#This Row],[Tidspunkt (timer)]]","v":"Dvalin kondensat 2020-Sommerforhold-10-120"},{"$f":"Oljedatabase[[#This Row],[Sesong]]","v":"Sommerforhold"},15,10,"120",0.75800000000000001,1490,"Redusert kjemisk dispergerbarhet",0.53500000000000003,0,0.46500000000000002,154,"Ingen eksplosjonsfare",49.1,"Lav/dårlig dispergerbarhet","Nei",0,null,0,null,0,0,0]
["Oseberg Øst 1998 *(2020)","Vinterforhold",{"$f":"Oljedatabase[[#This Row],[Oljetype]]&\"-\"&Oljedatabase[[#This Row],[SesongNy]]&\"-\"&Oljedatabase[[#This Row],[Vind (m/s)]]&\"-\"&Oljedatabase[[#This Row],[Tidspunkt (timer)]]","v":"Oseberg Øst 1998 *(2020)-Vinterforhold-10-120"},{"$f":"Oljedatabase[[#This Row],[Sesong]]","v":"Vinterforhold"},5,10,"120",0.749,88400,"Ikke kjemisk dispergerbar",0.40799999999999997,0.19400000000000001,0.39800000000000002,0,"Ikke angitt",25.3,"Lav/dårlig dispergerbarhet","Ja",0.77,null,0,null,0,0,0]
["Dvalin kondensat 2020","Vinterforhold",{"$f":"Oljedatabase[[#This Row],[Oljetype]]&\"-\"&Oljedatabase[[#This Row],[SesongNy]]&\"-\"&Oljedatabase[[#This Row],[Vind (m/s)]]&\"-\"&Oljedatabase[[#This Row],[Tidspunkt (timer)]]","v":"Dvalin kondensat 2020-Vinterforhold-15-48"},{"$f":"Oljedatabase[[#This Row],[Sesong]]","v":"Vinterforhold"},5,15,"48",0.66,2270,"Redusert kjemisk dispergerbarhet",0.45400000000000001,0,0.54600000000000004,134,"Ingen eksplosjonsfare",44.5,"Lav/dårlig dispergerbarhet","Nei",0,null,0,null,0,0,0]
["Dvalin kondensat 2020","Sommerforhold",{"$f":"Oljedatabase[[#This Row],[Oljetype]]&\"-\"&Oljedatabase[[#This Row],[SesongNy]]&\"-\"&Oljedatabase[[#This Row],[Vind (m/s)]]&\"-\"&Oljedatabase[[#This Row],[Tidspunkt (timer)]]","v":"Dvalin kondensat 2020-Sommerforhold-15-72"},{"$f":"Oljedatabase[[#This Row],[Sesong]]","v":"Sommerforhold"},15,15,"72",0.75800000000000001,1550,"Redusert kjemisk dispergerbarhet",0.48299999999999998,0,0.51700000000000002,156,"Ingen eksplosjonsfare",49.4,"Lav/dårlig dispergerbarhet","Nei",0,null,0,null,0,0,0]
["Skogul 2020","Vinterforhold",{"$f":"Oljedatabase[[#This Row],[Oljetype]]&\"-\"&Oljedatabase[[#This Row],[SesongNy]]&\"-\"&Oljedatabase[[#This Row],[Vind (m/s)]]&\"-\"&Oljedatabase[[#This Row],[Tidspunkt (timer)]]","v":"Skogul 2020-Vinterforhold-5-12"},{"$f":"Oljedatabase[[#This Row],[Sesong]]","v":"Vinterforhold"},5,5,"12",0.372,1830,"Redusert kjemisk dispergerbarhet",0.22,0.76500000000000001,1.4999999999999999E-2,83,"Ingen eksplosjonsfare",23.9,"Lav/dårlig dispergerbarhet","Nei",1.22,null,0,null,0,0,0]
["Skogul 2020","Sommerforhold",{"$f":"Oljedatabase[[#This Row],[Oljetype]]&\"-\"&Oljedatabase[[#This Row],[SesongNy]]&\"-\"&Oljedatabase[[#This Row],[Vind (m/s)]]&\"-\"&Oljedatabase[[#This Row],[Tidspunkt (timer)]]","v":"Skogul 2020-Sommerforhold-5-72"},{"$f":"Oljedatabase[[#This Row],[Sesong]]","v":"Sommerforhold"},15,5,"72",0.72899999999999998,2890,"Redusert kjemisk dispergerbarhet",0.31,0.61599999999999999,7.3999999999999996E-2,124,"Ingen eksplosjonsfare",31.9,"Lav/dårlig dispergerbarhet","Nei",2.27,null,0,null,0,0,0]
["Skogul 2020","Sommerforhold",{"$f":"Oljedatabase[[#This Row],[Oljetype]]&\"-\"&Oljedatabase[[#This Row],[SesongNy]]&\"-\"&Oljedatabase[[#This Row],[Vind (m/s)]]&\"-\"&Oljedatabase[[#This Row],[Tidspunkt (timer)]]","v":"Skogul 2020-Sommerforhold-5-24"},{"$f":"Oljedatabase[[#This Row],[Sesong]]","v":"Sommerforhold"},15,5,"24",0.61299999999999999,1740,"Redusert kjemisk dispergerbarhet",0.27100000000000002,0.69799999999999995,3.1E-2,106,"Ingen eksplosjonsfare",28.4,"Redusert kjemisk dispergerbarhet","Nei",1.8,null,0,null,0,0,0]
["Skogul 2020","Sommerforhold",{"$f":"Oljedatabase[[#This Row],[Oljetype]]&\"-\"&Oljedatabase[[#This Row],[SesongNy]]&\"-\"&Oljedatabase[[#This Row],[Vind (m/s)]]&\"-\"&Oljedatabase[[#This Row],[Tidspunkt (timer)]]","v":"Skogul 2020-Sommerforhold-15-1"},{"$f":"Oljedatabase[[#This Row],[Sesong]]","v":"Sommerforhold"},15,15,"1",0.35299999999999998,847,"Redusert kjemisk dispergerbarhet",0.21299999999999999,0.64800000000000002,0.13900000000000001,82,"Ingen eksplosjonsfare",23.6,"Redusert kjemisk dispergerbarhet","Nei",1,null,0,null,0,0,0]
["Skogul 2020","Sommerforhold",{"$f":"Oljedatabase[[#This Row],[Oljetype]]&\"-\"&Oljedatabase[[#This Row],[SesongNy]]&\"-\"&Oljedatabase[[#This Row],[Vind (m/s)]]&\"-\"&Oljedatabase[[#This Row],[Tidspunkt (timer)]]","v":"Skogul 2020-Sommerforhold-10-24"},{"$f":"Oljedatabase[[#This Row],[Sesong]]","v":"Sommerforhold"},15,10,"24",0.72899999999999998,2860,"Redusert kjemisk dispergerbarhet",0.29799999999999999,0.34499999999999997,0.35699999999999998,124,"Ingen eksplosjonsfare",31.8,"Lav/dårlig dispergerbarhet","Nei",1.27,null,0,null,0,0,0]
["Dvalin kondensat 2020","Vinterforhold",{"$f":"Oljedatabase[[#This Row],[Oljetype]]&\"-\"&Oljedatabase[[#This Row],[SesongNy]]&\"-\"&Oljedatabase[[#This Row],[Vind (m/s)]]&\"-\"&Oljedatabase[[#This Row],[Tidspunkt (timer)]]","v":"Dvalin kondensat 2020-Vinterforhold-2-72"},{"$f":"Oljedatabase[[#This Row],[Sesong]]","v":"Vinterforhold"},5,2,"72",0.5,1120,"Redusert kjemisk dispergerbarhet",0.50900000000000001,0.48799999999999999,3.0000000000000001E-3,105,"Ingen eksplosjonsfare",37.6,"Lav/dårlig dispergerbarhet","Nei",0.98,null,0,null,0,0,0]
["Skogul 2020","Sommerforhold",{"$f":"Oljedatabase[[#This Row],[Oljetype]]&\"-\"&Oljedatabase[[#This Row],[SesongNy]]&\"-\"&Oljedatabase[[#This Row],[Vind (m/s)]]&\"-\"&Oljedatabase[[#This Row],[Tidspunkt (timer)]]","v":"Skogul 2020-Sommerforhold-15-2"},{"$f":"Oljedatabase[[#This Row],[Sesong]]","v":"Sommerforhold"},15,15,"2",0.48599999999999999,1200,"Redusert kjemisk dispergerbarhet",0.23699999999999999,0.51900000000000002,0.24399999999999999,93,"Ingen eksplosjonsfare",25.9,"Redusert kjemisk dispergerbarhet","Nei",1.01,null,0,null,0,0,0]
["Dvalin kondensat 2020","Vinterforhold",{"$f":"Oljedatabase[[#This Row],[Oljetype]]&\"-\"&Oljedatabase[[#This Row],[SesongNy]]&\"-\"&Oljedatabase[[#This Row],[Vind (m/s)]]&\"-\"&Oljedatabase[[#This Row],[Tidspunkt (timer)]]","v":"Dvalin kondensat 2020-Vinterforhold-10-120"},{"$f":"Oljedatabase[[#This Row],[Sesong]]","v":"Vinterforhold"},5,10,"120",0.66,2540,"Redusert kjemisk dispergerbarhet",0.50800000000000001,0,0.49199999999999999,138,"Ingen eksplosjonsfare",45.5,"Lav/dårlig dispergerbarhet","Nei",0,null,0,null,0,0,0]
["Skogul 2020","Vinterforhold",{"$f":"Oljedatabase[[#This Row],[Oljetype]]&\"-\"&Oljedatabase[[#This Row],[SesongNy]]&\"-\"&Oljedatabase[[#This Row],[Vind (m/s)]]&\"-\"&Oljedatabase[[#This Row],[Tidspunkt (timer)]]","v":"Skogul 2020-Vinterforhold-2-96"},{"$f":"Oljedatabase[[#This Row],[Sesong]]","v":"Vinterforhold"},5,2,"96",0.51400000000000001,3210,"Redusert kjemisk dispergerbarhet",0.25900000000000001,0.73899999999999999,2E-3,100,"Ingen eksplosjonsfare",27.3,"Lav/dårlig dispergerbarhet","Nei",1.52,null,0,null,0,0,0]
["Skogul 2020","Vinterforhold",{"$f":"Oljedatabase[[#This Row],[Oljetype]]&\"-\"&Oljedatabase[[#This Row],[SesongNy]]&\"-\"&Oljedatabase[[#This Row],[Vind (m/s)]]&\"-\"&Oljedatabase[[#This Row],[Tidspunkt (timer)]]","v":"Skogul 2020-Vinterforhold-10-120"},{"$f":"Oljedatabase[[#This Row],[Sesong]]","v":"Vinterforhold"},5,10,"120",0.64500000000000002,9180,"Ikke kjemisk dispergerbar",0.30099999999999999,7.0999999999999994E-2,0.628,135,"Ingen eksplosjonsfare",34,"Lav/dårlig dispergerbarhet","Nei",0.2,null,0,null,0,0,0]
["Fogelberg Kondensat 2021","Sommerforhold",{"$f":"Oljedatabase[[#This Row],[Oljetype]]&\"-\"&Oljedatabase[[#This Row],[SesongNy]]&\"-\"&Oljedatabase[[#This Row],[Vind (m/s)]]&\"-\"&Oljedatabase[[#This Row],[Tidspunkt (timer)]]","v":"Fogelberg Kondensat 2021-Sommerforhold-2-24"},{"$f":"Oljedatabase[[#This Row],[Sesong]]","v":"Sommerforhold"},15,2,"24",0.39200000000000002,75,"Ikke testet",0.51300000000000001,0.48099999999999998,6.0000000000000001E-3,91,"Ingen eksplosjonsfare",25.1,"Redusert kjemisk dispergerbarhet","Nei",0.79,"2021-11-03",799,"Haltenbanken",45,7264175,115801,"Fogelberg kondensat 2021 Forvitringsrapport.pdf"]
["Fogelberg Kondensat 2021","Sommerforhold",{"$f":"Oljedatabase[[#This Row],[Oljetype]]&\"-\"&Oljedatabase[[#This Row],[SesongNy]]&\"-\"&Oljedatabase[[#This Row],[Vind (m/s)]]&\"-\"&Oljedatabase[[#This Row],[Tidspunkt (timer)]]","v":"Fogelberg Kondensat 2021-Sommerforhold-5-2"},{"$f":"Oljedatabase[[#This Row],[Sesong]]","v":"Sommerforhold"},15,5,"2",8.0000000000000002E-3,38,"Ikke testet",0.35499999999999998,0.63400000000000001,1.0999999999999999E-2,52,"Eksplosjonsfare ved tanking",19.3,"Kjemisk dispergerbar","Nei",0.64,"2021-11-03",799,"Haltenbanken",45,7264175,115801,"Fogelberg kondensat 2021 Forvitringsrapport.pdf"]
["Fogelberg Kondensat 2021","Sommerforhold",{"$f":"Oljedatabase[[#This Row],[Oljetype]]&\"-\"&Oljedatabase[[#This Row],[SesongNy]]&\"-\"&Oljedatabase[[#This Row],[Vind (m/s)]]&\"-\"&Oljedatabase[[#This Row],[Tidspunkt (timer)]]","v":"Fogelberg Kondensat 2021-Sommerforhold-10-24"},{"$f":"Oljedatabase[[#This Row],[Sesong]]","v":"Sommerforhold"},15,10,"24",0.66800000000000004,110,"Ikke testet",0.48799999999999999,0,0.51200000000000001,120,"Ingen eksplosjonsfare",29.2,"Redusert kjemisk dispergerbarhet","Nei",0,"2021-11-03",799,"Haltenbanken",45,7264175,115801,"Fogelberg kondensat 2021 Forvitringsrapport.pdf"]
["Fogelberg Kondensat 2021","Sommerforhold",{"$f":"Oljedatabase[[#This Row],[Oljetype]]&\"-\"&Oljedatabase[[#This Row],[SesongNy]]&\"-\"&Oljedatabase[[#This Row],[Vind (m/s)]]&\"-\"&Oljedatabase[[#This Row],[Tidspunkt (timer)]]","v":"Fogelberg Kondensat 2021-Sommerforhold-15-24"},{"$f":"Oljedatabase[[#This Row],[Sesong]]","v":"Sommerforhold"},15,15,"24",0.755,132,"Ikke testet",0.42799999999999999,0,0.57199999999999995,133,"Ingen eksplosjonsfare",30.9,"Lav/dårlig kjemisk dispergerbarhet","Nei",0,"2021-11-03",799,"Haltenbanken",45,7264175,115801,"Fogelberg kondensat 2021 Forvitringsrapport.pdf"]
["Fogelberg Kondensat 2021","Sommerforhold",{"$f":"Oljedatabase[[#This Row],[Oljetype]]&\"-\"&Oljedatabase[[#This Row],[SesongNy]]&\"-\"&Oljedatabase[[#This Row],[Vind (m/s)]]&\"-\"&Oljedatabase[[#This Row],[Tidspunkt (timer)]]","v":"Fogelberg Kondensat 2021-Sommerforhold-15-120"},{"$f":"Oljedatabase[[#This Row],[Sesong]]","v":"Sommerforhold"},15,15,"120",0.755,270,"Ikke testet",0.42799999999999999,0,0.57199999999999995,164,"Ingen eksplosjonsfare",34.799999999999997,"Lav/dårlig kjemisk dispergerbarhet","Nei",0,"2021-11-03",799,"Haltenbanken",45,7264175,115801,"Fogelberg kondensat 2021 Forvitringsrapport.pdf"]
["Fogelberg Kondensat 2021","Vinterforhold",{"$f":"Oljedatabase[[#This Row],[Oljetype]]&\"-\"&Oljedatabase[[#This Row],[SesongNy]]&\"-\"&Oljedatabase[[#This Row],[Vind (m/s)]]&\"-\"&Oljedatabase[[#This Row],[Tidspunkt (timer)]]","v":"Fogelberg Kondensat 2021-Vinterforhold-5-12"},{"$f":"Oljedatabase[[#This Row],[Sesong]]","v":"Vinterforhold"},5,5,"12",0.27200000000000002,102,"Ikke testet",0.46100000000000002,0.44600000000000001,9.2999999999999999E-2,79,"Ingen eksplosjonsfare",23.4,"Lav/dårlig kjemisk dispergerbarhet","Nei",0.61,"2021-11-03",799,"Haltenbanken",45,7264175,115801,"Fogelberg kondensat 2021 Forvitringsrapport.pdf"]
["Fogelberg Kondensat 2021","Vinterforhold",{"$f":"Oljedatabase[[#This Row],[Oljetype]]&\"-\"&Oljedatabase[[#This Row],[SesongNy]]&\"-\"&Oljedatabase[[#This Row],[Vind (m/s)]]&\"-\"&Oljedatabase[[#This Row],[Tidspunkt (timer)]]","v":"Fogelberg Kondensat 2021-Vinterforhold-10-6"},{"$f":"Oljedatabase[[#This Row],[Sesong]]","v":"Vinterforhold"},5,10,"6",0.29299999999999998,108,"Ikke testet",0.439,0.129,0.432,82,"Ingen eksplosjonsfare",23.7,"Lav/dårlig kjemisk dispergerbarhet","Nei",0.18,"2021-11-03",799,"Haltenbanken",45,7264175,115801,"Fogelberg kondensat 2021 Forvitringsrapport.pdf"]
["Fogelberg Kondensat 2021","Vinterforhold",{"$f":"Oljedatabase[[#This Row],[Oljetype]]&\"-\"&Oljedatabase[[#This Row],[SesongNy]]&\"-\"&Oljedatabase[[#This Row],[Vind (m/s)]]&\"-\"&Oljedatabase[[#This Row],[Tidspunkt (timer)]]","v":"Fogelberg Kondensat 2021-Vinterforhold-15-1"},{"$f":"Oljedatabase[[#This Row],[Sesong]]","v":"Vinterforhold"},5,15,"1",6.3E-2,66,"Ikke testet",0.35699999999999998,0.28100000000000003,0.36199999999999999,59,"Eksplosjonsfare ved tanking",20.3,"Lav/dårlig kjemisk dispergerbarhet","Nei",0.3,"2021-11-03",799,"Haltenbanken",45,7264175,115801,"Fogelberg kondensat 2021 Forvitringsrapport.pdf"]
["Fogelberg Kondensat 2021","Vinterforhold",{"$f":"Oljedatabase[[#This Row],[Oljetype]]&\"-\"&Oljedatabase[[#This Row],[SesongNy]]&\"-\"&Oljedatabase[[#This Row],[Vind (m/s)]]&\"-\"&Oljedatabase[[#This Row],[Tidspunkt (timer)]]","v":"Fogelberg Kondensat 2021-Vinterforhold-15-48"},{"$f":"Oljedatabase[[#This Row],[Sesong]]","v":"Vinterforhold"},5,15,"48",0.72499999999999998,259,"Ikke testet",0.39300000000000002,0,0.60699999999999998,133,"Ingen eksplosjonsfare",30.8,"Lav/dårlig kjemisk dispergerbarhet","Nei",0,"2021-11-03",799,"Haltenbanken",45,7264175,115801,"Fogelberg kondensat 2021 Forvitringsrapport.pdf"]
["Utgard kondensat 2021","Sommerforhold",{"$f":"Oljedatabase[[#This Row],[Oljetype]]&\"-\"&Oljedatabase[[#This Row],[SesongNy]]&\"-\"&Oljedatabase[[#This Row],[Vind (m/s)]]&\"-\"&Oljedatabase[[#This Row],[Tidspunkt (timer)]]","v":"Utgard kondensat 2021-Sommerforhold-2-24"},{"$f":"Oljedatabase[[#This Row],[Sesong]]","v":"Sommerforhold"},15,2,"24",0,65,"Ikke testet",0.75600000000000001,0.23499999999999999,8.9999999999999993E-3,105,"Ingen eksplosjonsfare",20.7,"Redusert kjemisk dispergerbarhet","Nei",0.24,"2021-07-07",772,"Vest-Agder til Hordaland",51,6549161,-283959,"Utgard_kondensat_2021_Forvitringsrapport.pdf"]
["Utgard kondensat 2021","Sommerforhold",{"$f":"Oljedatabase[[#This Row],[Oljetype]]&\"-\"&Oljedatabase[[#This Row],[SesongNy]]&\"-\"&Oljedatabase[[#This Row],[Vind (m/s)]]&\"-\"&Oljedatabase[[#This Row],[Tidspunkt (timer)]]","v":"Utgard kondensat 2021-Sommerforhold-5-120"},{"$f":"Oljedatabase[[#This Row],[Sesong]]","v":"Sommerforhold"},15,5,"120",0,130,"Ikke testet",0.76600000000000001,0,0.23400000000000001,142,"Ingen eksplosjonsfare",28.4,"Redusert kjemisk dispergerbarhet","Nei",0,"2021-07-07",772,"Vest-Agder til Hordaland",51,6549161,-283959,"Utgard_kondensat_2021_Forvitringsrapport.pdf"]
["Utgard kondensat 2021","Sommerforhold",{"$f":"Oljedatabase[[#This Row],[Oljetype]]&\"-\"&Oljedatabase[[#This Row],[SesongNy]]&\"-\"&Oljedatabase[[#This Row],[Vind (m/s)]]&\"-\"&Oljedatabase[[#This Row],[Tidspunkt (timer)]]","v":"Utgard kondensat 2021-Sommerforhold-10-12"},{"$f":"Oljedatabase[[#This Row],[Sesong]]","v":"Sommerforhold"},15,10,"12",0,86,"Ikke testet",0.68100000000000005,0,0.31900000000000001,119,"Ingen eksplosjonsfare",23.8,"Redusert kjemisk dispergerbarhet","Nei",0,"2021-07-07",772,"Vest-Agder til Hordaland",51,6549161,-283959,"Utgard_kondensat_2021_Forvitringsrapport.pdf"]
["Utgard kondensat 2021","Sommerforhold",{"$f":"Oljedatabase[[#This Row],[Oljetype]]&\"-\"&Oljedatabase[[#This Row],[SesongNy]]&\"-\"&Oljedatabase[[#This Row],[Vind (m/s)]]&\"-\"&Oljedatabase[[#This Row],[Tidspunkt (timer)]]","v":"Utgard kondensat 2021-Sommerforhold-15-12"},{"$f":"Oljedatabase[[#This Row],[Sesong]]","v":"Sommerforhold"},15,15,"12",0,108,"Ikke testet",0.61699999999999999,0,0.38300000000000001,132,"Ingen eksplosjonsfare",26.3,"Redusert kjemisk dispergerbarhet","Nei",0,"2021-07-07",772,"Vest-Agder til Hordaland",51,6549161,-283959,"Utgard_kondensat_2021_Forvitringsrapport.pdf"]
["Utgard kondensat 2021","Vinterforhold",{"$f":"Oljedatabase[[#This Row],[Oljetype]]&\"-\"&Oljedatabase[[#This Row],[SesongNy]]&\"-\"&Oljedatabase[[#This Row],[Vind (m/s)]]&\"-\"&Oljedatabase[[#This Row],[Tidspunkt (timer)]]","v":"Utgard kondensat 2021-Vinterforhold-2-96"},{"$f":"Oljedatabase[[#This Row],[Sesong]]","v":"Vinterforhold"},5,2,"96",0,137,"Ikke testet",0.79500000000000004,0.155,0.05,118,"Ingen eksplosjonsfare",23.5,"Lav/dårlig kjemisk dispergerbarhet","Nei",0.16,"2021-07-07",772,"Vest-Agder til Hordaland",51,6549161,-283959,"Utgard_kondensat_2021_Forvitringsrapport.pdf"]
["Utgard kondensat 2021","Vinterforhold",{"$f":"Oljedatabase[[#This Row],[Oljetype]]&\"-\"&Oljedatabase[[#This Row],[SesongNy]]&\"-\"&Oljedatabase[[#This Row],[Vind (m/s)]]&\"-\"&Oljedatabase[[#This Row],[Tidspunkt (timer)]]","v":"Utgard kondensat 2021-Vinterforhold-5-120"},{"$f":"Oljedatabase[[#This Row],[Sesong]]","v":"Vinterforhold"},5,5,"120",0,193,"Ikke testet",0.73699999999999999,0,0.26300000000000001,135,"Ingen eksplosjonsfare",27,"Lav/dårlig kjemisk dispergerbarhet","Nei",0,"2021-07-07",772,"Vest-Agder til Hordaland",51,6549161,-283959,"Utgard_kondensat_2021_Forvitringsrapport.pdf"]
["Utgard kondensat 2021","Vinterforhold",{"$f":"Oljedatabase[[#This Row],[Oljetype]]&\"-\"&Oljedatabase[[#This Row],[SesongNy]]&\"-\"&Oljedatabase[[#This Row],[Vind (m/s)]]&\"-\"&Oljedatabase[[#This Row],[Tidspunkt (timer)]]","v":"Utgard kondensat 2021-Vinterforhold-10-96"},{"$f":"Oljedatabase[[#This Row],[Sesong]]","v":"Vinterforhold"},5,10,"96",0,212,"Ikke testet",0.64600000000000002,0,0.35399999999999998,140,"Ingen eksplosjonsfare",28,"Lav/dårlig kjemisk dispergerbarhet","Nei",0,"2021-07-07",772,"Vest-Agder til Hordaland",51,6549161,-283959,"Utgard_kondensat_2021_Forvitringsrapport.pdf"]
["Utgard kondensat 2021","Vinterforhold",{"$f":"Oljedatabase[[#This Row],[Oljetype]]&\"-\"&Oljedatabase[[#This Row],[SesongNy]]&\"-\"&Oljedatabase[[#This Row],[Vind (m/s)]]&\"-\"&Oljedatabase[[#This Row],[Tidspunkt (timer)]]","v":"Utgard kondensat 2021-Vinterforhold-15-12"},{"$f":"Oljedatabase[[#This Row],[Sesong]]","v":"Vinterforhold"},5,15,"12",0,132,"Ikke testet",0.57499999999999996,0,0.42499999999999999,117,"Ingen eksplosjonsfare",23.2,"Lav/dårlig kjemisk dispergerbarhet","Nei",0,"2021-07-07",772,"Vest-Agder til Hordaland",51,6549161,-283959,"Utgard_kondensat_2021_Forvitringsrapport.pdf"]
["Oseberg C 1995 *(2020)","Sommerforhold",{"$f":"Oljedatabase[[#This Row],[Oljetype]]&\"-\"&Oljedatabase[[#This Row],[SesongNy]]&\"-\"&Oljedatabase[[#This Row],[Vind (m/s)]]&\"-\"&Oljedatabase[[#This Row],[Tidspunkt (timer)]]","v":"Oseberg C 1995 *(2020)-Sommerforhold-2-3"},{"$f":"Oljedatabase[[#This Row],[Sesong]]","v":"Sommerforhold"},15,2,"3",0.14399999999999999,105,"Kjemisk dispergerbar",0.191,0.80900000000000005,0,65,"Ingen eksplosjonsfare",8.8000000000000007,"Kjemisk dispergerbar","Nei",0.95,"1995-01-01",857,"Vest-Agder til Hordaland",33,6767340,-165194,"Oseberg C 1995 Forvitringsrapport.pdf"]
["Oseberg C 1995 *(2020)","Sommerforhold",{"$f":"Oljedatabase[[#This Row],[Oljetype]]&\"-\"&Oljedatabase[[#This Row],[SesongNy]]&\"-\"&Oljedatabase[[#This Row],[Vind (m/s)]]&\"-\"&Oljedatabase[[#This Row],[Tidspunkt (timer)]]","v":"Oseberg C 1995 *(2020)-Sommerforhold-5-9"},{"$f":"Oljedatabase[[#This Row],[Sesong]]","v":"Sommerforhold"},15,5,"9",0.72099999999999997,2530,"Redusert kjemisk dispergerbarhet",0.27200000000000002,0.71399999999999997,1.4E-2,95,"Ingen eksplosjonsfare",15.9,"Kjemisk dispergerbar","Nei",2.56,"1995-01-01",857,"Vest-Agder til Hordaland",33,6767340,-165194,"Oseberg C 1995 Forvitringsrapport.pdf"]
["Oseberg C 1995 *(2020)","Sommerforhold",{"$f":"Oljedatabase[[#This Row],[Oljetype]]&\"-\"&Oljedatabase[[#This Row],[SesongNy]]&\"-\"&Oljedatabase[[#This Row],[Vind (m/s)]]&\"-\"&Oljedatabase[[#This Row],[Tidspunkt (timer)]]","v":"Oseberg C 1995 *(2020)-Sommerforhold-10-9"},{"$f":"Oljedatabase[[#This Row],[Sesong]]","v":"Sommerforhold"},15,10,"9",0.78900000000000003,4600,"Redusert kjemisk dispergerbarhet",0.30599999999999999,0.54,0.154,111,"Ingen eksplosjonsfare",19.399999999999999,"Kjemisk dispergerbar","Nei",2.56,"1995-01-01",857,"Vest-Agder til Hordaland",33,6767340,-165194,"Oseberg C 1995 Forvitringsrapport.pdf"]
["Oseberg C 1995 *(2020)","Sommerforhold",{"$f":"Oljedatabase[[#This Row],[Oljetype]]&\"-\"&Oljedatabase[[#This Row],[SesongNy]]&\"-\"&Oljedatabase[[#This Row],[Vind (m/s)]]&\"-\"&Oljedatabase[[#This Row],[Tidspunkt (timer)]]","v":"Oseberg C 1995 *(2020)-Sommerforhold-15-1"},{"$f":"Oljedatabase[[#This Row],[Sesong]]","v":"Sommerforhold"},15,15,"1",0.67500000000000004,1780,"Kjemisk dispergerbar",0.246,0.60299999999999998,0.151,87,"Ingen eksplosjonsfare",14.1,"Kjemisk dispergerbar","Nei",1.86,"1995-01-01",857,"Vest-Agder til Hordaland",33,6767340,-165194,"Oseberg C 1995 Forvitringsrapport.pdf"]
["Oseberg C 1995 *(2020)","Sommerforhold",{"$f":"Oljedatabase[[#This Row],[Oljetype]]&\"-\"&Oljedatabase[[#This Row],[SesongNy]]&\"-\"&Oljedatabase[[#This Row],[Vind (m/s)]]&\"-\"&Oljedatabase[[#This Row],[Tidspunkt (timer)]]","v":"Oseberg C 1995 *(2020)-Sommerforhold-15-120"},{"$f":"Oljedatabase[[#This Row],[Sesong]]","v":"Sommerforhold"},15,15,"120",0.79,12800,"Ikke kjemisk dispergerbar",0.32700000000000001,0,0.67300000000000004,168,"Ingen eksplosjonsfare",31.4,"Lav/dårlig kjemisk dispergerbarhet","Ja",0,"1995-01-01",857,"Vest-Agder til Hordaland",33,6767340,-165194,"Oseberg C 1995 Forvitringsrapport.pdf"]
["Oseberg C 1995 *(2020)","Vinterforhold",{"$f":"Oljedatabase[[#This Row],[Oljetype]]&\"-\"&Oljedatabase[[#This Row],[SesongNy]]&\"-\"&Oljedatabase[[#This Row],[Vind (m/s)]]&\"-\"&Oljedatabase[[#This Row],[Tidspunkt (timer)]]","v":"Oseberg C 1995 *(2020)-Vinterforhold-5-9"},{"$f":"Oljedatabase[[#This Row],[Sesong]]","v":"Vinterforhold"},5,5,"9",0.70699999999999996,3120,"Redusert kjemisk dispergerbarhet",0.245,0.74199999999999999,1.2999999999999999E-2,85,"Ingen eksplosjonsfare",13.5,"Redusert kjemisk dispergerbarhet","Nei",2.5299999999999998,"1995-01-01",857,"Vest-Agder til Hordaland",33,6767340,-165194,"Oseberg C 1995 Forvitringsrapport.pdf"]
["Oseberg C 1995 *(2020)","Vinterforhold",{"$f":"Oljedatabase[[#This Row],[Oljetype]]&\"-\"&Oljedatabase[[#This Row],[SesongNy]]&\"-\"&Oljedatabase[[#This Row],[Vind (m/s)]]&\"-\"&Oljedatabase[[#This Row],[Tidspunkt (timer)]]","v":"Oseberg C 1995 *(2020)-Vinterforhold-5-96"},{"$f":"Oljedatabase[[#This Row],[Sesong]]","v":"Vinterforhold"},5,5,"96",0.76500000000000001,8150,"Ikke kjemisk dispergerbar",0.32600000000000001,0.60799999999999998,6.6000000000000003E-2,117,"Ingen eksplosjonsfare",20.8,"Lav/dårlig kjemisk dispergerbarhet","Nei",2.59,"1995-01-01",857,"Vest-Agder til Hordaland",33,6767340,-165194,"Oseberg C 1995 Forvitringsrapport.pdf"]
["Oseberg C 1995 *(2020)","Vinterforhold",{"$f":"Oljedatabase[[#This Row],[Oljetype]]&\"-\"&Oljedatabase[[#This Row],[SesongNy]]&\"-\"&Oljedatabase[[#This Row],[Vind (m/s)]]&\"-\"&Oljedatabase[[#This Row],[Tidspunkt (timer)]]","v":"Oseberg C 1995 *(2020)-Vinterforhold-10-72"},{"$f":"Oljedatabase[[#This Row],[Sesong]]","v":"Vinterforhold"},5,10,"72",0.76700000000000002,10300,"Ikke kjemisk dispergerbar",0.33100000000000002,0.18099999999999999,0.48799999999999999,128,"Ingen eksplosjonsfare",23.2,"Lav/dårlig kjemisk dispergerbarhet","Ja",0.78,"1995-01-01",857,"Vest-Agder til Hordaland",33,6767340,-165194,"Oseberg C 1995 Forvitringsrapport.pdf"]
["Valhall 2021","Sommerforhold",{"$f":"Oljedatabase[[#This Row],[Oljetype]]&\"-\"&Oljedatabase[[#This Row],[SesongNy]]&\"-\"&Oljedatabase[[#This Row],[Vind (m/s)]]&\"-\"&Oljedatabase[[#This Row],[Tidspunkt (timer)]]","v":"Valhall 2021-Sommerforhold-2-6"},{"$f":"Oljedatabase[[#This Row],[Sesong]]","v":"Sommerforhold"},15,2,"6",0.127,351,"Kjemisk dispergerbar",0.253,0.747,0,68,"Ingen eksplosjonsfare",15.4,"Kjemisk dispergerbar","Nei",0.86,"2021-09-14",842,null,36,6297317,-217098,"Valhall  2021 Forvitringsrapport.pdf"]
["Valhall 2021","Sommerforhold",{"$f":"Oljedatabase[[#This Row],[Oljetype]]&\"-\"&Oljedatabase[[#This Row],[SesongNy]]&\"-\"&Oljedatabase[[#This Row],[Vind (m/s)]]&\"-\"&Oljedatabase[[#This Row],[Tidspunkt (timer)]]","v":"Valhall 2021-Sommerforhold-2-72"},{"$f":"Oljedatabase[[#This Row],[Sesong]]","v":"Sommerforhold"},15,2,"72",0.53,2760,"Redusert kjemisk dispergerbarhet",0.34499999999999997,0.65300000000000002,2E-3,109,"Ingen eksplosjonsfare",23.5,"Redusert kjemisk dispergerbarhet","Nei",1.39,"2021-09-14",842,null,36,6297317,-217098,"Valhall  2021 Forvitringsrapport.pdf"]
["Valhall 2021","Sommerforhold",{"$f":"Oljedatabase[[#This Row],[Oljetype]]&\"-\"&Oljedatabase[[#This Row],[SesongNy]]&\"-\"&Oljedatabase[[#This Row],[Vind (m/s)]]&\"-\"&Oljedatabase[[#This Row],[Tidspunkt (timer)]]","v":"Valhall 2021-Sommerforhold-5-96"},{"$f":"Oljedatabase[[#This Row],[Sesong]]","v":"Sommerforhold"},15,5,"96",0.748,5840,"Redusert kjemisk dispergerbarhet",0.379,0.54100000000000004,0.08,126,"Ingen eksplosjonsfare",26.8,"Redusert kjemisk dispergerbarhet","Nei",2.15,"2021-09-14",842,null,36,6297317,-217098,"Valhall  2021 Forvitringsrapport.pdf"]
["Valhall 2021","Sommerforhold",{"$f":"Oljedatabase[[#This Row],[Oljetype]]&\"-\"&Oljedatabase[[#This Row],[SesongNy]]&\"-\"&Oljedatabase[[#This Row],[Vind (m/s)]]&\"-\"&Oljedatabase[[#This Row],[Tidspunkt (timer)]]","v":"Valhall 2021-Sommerforhold-15-3"},{"$f":"Oljedatabase[[#This Row],[Sesong]]","v":"Sommerforhold"},15,15,"3",0.56000000000000005,2390,"Redusert kjemisk dispergerbarhet",0.312,0.37,0.318,100,"Ingen eksplosjonsfare",21.9,"Redusert kjemisk dispergerbarhet","Nei",0.84,"2021-09-14",842,null,36,6297317,-217098,"Valhall  2021 Forvitringsrapport.pdf"]
["Valhall 2021","Sommerforhold",{"$f":"Oljedatabase[[#This Row],[Oljetype]]&\"-\"&Oljedatabase[[#This Row],[SesongNy]]&\"-\"&Oljedatabase[[#This Row],[Vind (m/s)]]&\"-\"&Oljedatabase[[#This Row],[Tidspunkt (timer)]]","v":"Valhall 2021-Sommerforhold-15-120"},{"$f":"Oljedatabase[[#This Row],[Sesong]]","v":"Sommerforhold"},15,15,"120",0.75,12700,"Ikke kjemisk dispergerbar",0.34399999999999997,0,0.65600000000000003,163,"Ingen eksplosjonsfare",33.299999999999997,"Lav/dårlig kjemisk dispergerbarhet","Ja",0,"2021-09-14",842,null,36,6297317,-217098,"Valhall  2021 Forvitringsrapport.pdf"]
["Valhall 2021","Vinterforhold",{"$f":"Oljedatabase[[#This Row],[Oljetype]]&\"-\"&Oljedatabase[[#This Row],[SesongNy]]&\"-\"&Oljedatabase[[#This Row],[Vind (m/s)]]&\"-\"&Oljedatabase[[#This Row],[Tidspunkt (timer)]]","v":"Valhall 2021-Vinterforhold-2-72"},{"$f":"Oljedatabase[[#This Row],[Sesong]]","v":"Vinterforhold"},5,2,"72",0.47499999999999998,3590,"Redusert kjemisk dispergerbarhet",0.318,0.68,2E-3,96,"Ingen eksplosjonsfare",21.1,"Lav/dårlig kjemisk dispergerbarhet","Nei",1.3,"2021-09-14",842,null,36,6297317,-217098,"Valhall  2021 Forvitringsrapport.pdf"]
["Valhall 2021","Vinterforhold",{"$f":"Oljedatabase[[#This Row],[Oljetype]]&\"-\"&Oljedatabase[[#This Row],[SesongNy]]&\"-\"&Oljedatabase[[#This Row],[Vind (m/s)]]&\"-\"&Oljedatabase[[#This Row],[Tidspunkt (timer)]]","v":"Valhall 2021-Vinterforhold-5-120"},{"$f":"Oljedatabase[[#This Row],[Sesong]]","v":"Vinterforhold"},5,5,"120",0.70199999999999996,8890,"Ikke kjemisk dispergerbar",0.35899999999999999,0.55700000000000005,8.4000000000000005E-2,116,"Ingen eksplosjonsfare",25,"Lav/dårlig kjemisk dispergerbarhet","Nei",1.87,"2021-09-14",842,null,36,6297317,-217098,"Valhall  2021 Forvitringsrapport.pdf"]
["Valhall 2021","Vinterforhold",{"$f":"Oljedatabase[[#This Row],[Oljetype]]&\"-\"&Oljedatabase[[#This Row],[SesongNy]]&\"-\"&Oljedatabase[[#This Row],[Vind (m/s)]]&\"-\"&Oljedatabase[[#This Row],[Tidspunkt (timer)]]","v":"Valhall 2021-Vinterforhold-15-3"},{"$f":"Oljedatabase[[#This Row],[Sesong]]","v":"Vinterforhold"},5,15,"3",0.50800000000000001,3070,"Redusert kjemisk dispergerbarhet",0.28599999999999998,0.41199999999999998,0.30199999999999999,88,"Ingen eksplosjonsfare",19.5,"Redusert kjemisk dispergerbarhet","Nei",0.84,"2021-09-14",842,null,36,6297317,-217098,"Valhall  2021 Forvitringsrapport.pdf"]
["Valhall 2021","Vinterforhold",{"$f":"Oljedatabase[[#This Row],[Oljetype]]&\"-\"&Oljedatabase[[#This Row],[SesongNy]]&\"-\"&Oljedatabase[[#This Row],[Vind (m/s)]]&\"-\"&Oljedatabase[[#This Row],[Tidspunkt (timer)]]","v":"Valhall 2021-Vinterforhold-15-6"},{"$f":"Oljedatabase[[#This Row],[Sesong]]","v":"Vinterforhold"},5,15,"6",0.64200000000000002,5130,"Redusert kjemisk dispergerbarhet",0.30199999999999999,0.27600000000000002,0.42199999999999999,99,"Ingen eksplosjonsfare",21.6,"Lav/dårlig kjemisk dispergerbarhet","Nei",0.77,"2021-09-14",842,null,36,6297317,-217098,"Valhall  2021 Forvitringsrapport.pdf"]
["Alve 2014 *(2017)","Sommerforhold",{"$f":"Oljedatabase[[#This Row],[Oljetype]]&\"-\"&Oljedatabase[[#This Row],[SesongNy]]&\"-\"&Oljedatabase[[#This Row],[Vind (m/s)]]&\"-\"&Oljedatabase[[#This Row],[Tidspunkt (timer)]]","v":"Alve 2014 *(2017)-Sommerforhold-2-72"},{"$f":"Oljedatabase[[#This Row],[Sesong]]","v":"Sommerforhold"},15,2,"72",0.89,1076,"Kjemisk dispergerbar",0.42199999999999999,0.57820000000000005,3.0000000000000001E-3,966,"Ingen eksplosjonsfare",26.3,"Redusert kjemisk dispergerbarhet","Nei",5.26,"2014-03-27",820,null,43,7334943,174413,"Alve 2014 (2017) Forvitringsrapport.pdf"]
["Alve 2014 *(2017)","Sommerforhold",{"$f":"Oljedatabase[[#This Row],[Oljetype]]&\"-\"&Oljedatabase[[#This Row],[SesongNy]]&\"-\"&Oljedatabase[[#This Row],[Vind (m/s)]]&\"-\"&Oljedatabase[[#This Row],[Tidspunkt (timer)]]","v":"Alve 2014 *(2017)-Sommerforhold-5-48"},{"$f":"Oljedatabase[[#This Row],[Sesong]]","v":"Sommerforhold"},15,5,"48",0.89,1428,"Kjemisk dispergerbar",0.441,0.55920000000000003,7.2999999999999995E-2,1028,"Ingen eksplosjonsfare",27.1,"Redusert kjemisk dispergerbarhet","Nei",5.08,"2014-03-27",820,null,43,7334943,174413,"Alve 2014 (2017) Forvitringsrapport.pdf"]
["Alve 2014 *(2017)","Sommerforhold",{"$f":"Oljedatabase[[#This Row],[Oljetype]]&\"-\"&Oljedatabase[[#This Row],[SesongNy]]&\"-\"&Oljedatabase[[#This Row],[Vind (m/s)]]&\"-\"&Oljedatabase[[#This Row],[Tidspunkt (timer)]]","v":"Alve 2014 *(2017)-Sommerforhold-10-48"},{"$f":"Oljedatabase[[#This Row],[Sesong]]","v":"Sommerforhold"},15,10,"48",0.89,2984,"Redusert kjemisk dispergerbarhet",0.49,0.50980000000000003,0.48799999999999999,1194,"Ingen eksplosjonsfare",29,"Redusert kjemisk dispergerbarhet","Nei",4.63,"2014-03-27",820,null,43,7334943,174413,"Alve 2014 (2017) Forvitringsrapport.pdf"]
["Alve 2014 *(2017)","Sommerforhold",{"$f":"Oljedatabase[[#This Row],[Oljetype]]&\"-\"&Oljedatabase[[#This Row],[SesongNy]]&\"-\"&Oljedatabase[[#This Row],[Vind (m/s)]]&\"-\"&Oljedatabase[[#This Row],[Tidspunkt (timer)]]","v":"Alve 2014 *(2017)-Sommerforhold-15-48"},{"$f":"Oljedatabase[[#This Row],[Sesong]]","v":"Sommerforhold"},15,15,"48",0.89,6073,"Ikke kjemisk dispergerbar",0.53800000000000003,0.4622,0.6,1361,"Ingen eksplosjonsfare",31,"Lav/dårlig kjemisk dispergerbarhet","Nei",4.2,"2014-03-27",820,null,43,7334943,174413,"Alve 2014 (2017) Forvitringsrapport.pdf"]
["Alve 2014 *(2017)","Vinterforhold",{"$f":"Oljedatabase[[#This Row],[Oljetype]]&\"-\"&Oljedatabase[[#This Row],[SesongNy]]&\"-\"&Oljedatabase[[#This Row],[Vind (m/s)]]&\"-\"&Oljedatabase[[#This Row],[Tidspunkt (timer)]]","v":"Alve 2014 *(2017)-Vinterforhold-2-12"},{"$f":"Oljedatabase[[#This Row],[Sesong]]","v":"Vinterforhold"},5,2,"12",0.85799999999999998,437,"Kjemisk dispergerbar",0.32,0.68010000000000004,1E-3,652,"Ingen eksplosjonsfare",22.3,"Lav/dårlig kjemisk dispergerbarhet","Nei",4.79,"2014-03-27",820,null,43,7334943,174413,"Alve 2014 (2017) Forvitringsrapport.pdf"]
["Alve 2014 *(2017)","Vinterforhold",{"$f":"Oljedatabase[[#This Row],[Oljetype]]&\"-\"&Oljedatabase[[#This Row],[SesongNy]]&\"-\"&Oljedatabase[[#This Row],[Vind (m/s)]]&\"-\"&Oljedatabase[[#This Row],[Tidspunkt (timer)]]","v":"Alve 2014 *(2017)-Vinterforhold-5-24"},{"$f":"Oljedatabase[[#This Row],[Sesong]]","v":"Vinterforhold"},5,5,"24",0.89,1251,"Kjemisk dispergerbar",0.38400000000000001,0.61609999999999998,4.2000000000000003E-2,846,"Ingen eksplosjonsfare",24.8,"Lav/dårlig kjemisk dispergerbarhet","Nei",5.59,"2014-03-27",820,null,43,7334943,174413,"Alve 2014 (2017) Forvitringsrapport.pdf"]
["Alve 2014 *(2017)","Vinterforhold",{"$f":"Oljedatabase[[#This Row],[Oljetype]]&\"-\"&Oljedatabase[[#This Row],[SesongNy]]&\"-\"&Oljedatabase[[#This Row],[Vind (m/s)]]&\"-\"&Oljedatabase[[#This Row],[Tidspunkt (timer)]]","v":"Alve 2014 *(2017)-Vinterforhold-10-96"},{"$f":"Oljedatabase[[#This Row],[Sesong]]","v":"Vinterforhold"},5,10,"96",0.89,5698,"Redusert kjemisk dispergerbarhet",0.47599999999999998,0.52449999999999997,0.55500000000000005,1144,"Ingen eksplosjonsfare",28.5,"Lav/dårlig kjemisk dispergerbarhet","Nei",4.7699999999999996,"2014-03-27",820,null,43,7334943,174413,"Alve 2014 (2017) Forvitringsrapport.pdf"]
["Alve 2014 *(2017)","Vinterforhold",{"$f":"Oljedatabase[[#This Row],[Oljetype]]&\"-\"&Oljedatabase[[#This Row],[SesongNy]]&\"-\"&Oljedatabase[[#This Row],[Vind (m/s)]]&\"-\"&Oljedatabase[[#This Row],[Tidspunkt (timer)]]","v":"Alve 2014 *(2017)-Vinterforhold-15-2"},{"$f":"Oljedatabase[[#This Row],[Sesong]]","v":"Vinterforhold"},5,15,"2",0.89,768,"Kjemisk dispergerbar",0.35399999999999998,0.64549999999999996,0.33500000000000002,755,"Ingen eksplosjonsfare",23.7,"Lav/dårlig kjemisk dispergerbarhet","Nei",5.87,"2014-03-27",820,null,43,7334943,174413,"Alve 2014 (2017) Forvitringsrapport.pdf"]
["Duva 2021","Sommerforhold",{"$f":"Oljedatabase[[#This Row],[Oljetype]]&\"-\"&Oljedatabase[[#This Row],[SesongNy]]&\"-\"&Oljedatabase[[#This Row],[Vind (m/s)]]&\"-\"&Oljedatabase[[#This Row],[Tidspunkt (timer)]]","v":"Duva 2021-Sommerforhold-2-3"},{"$f":"Oljedatabase[[#This Row],[Sesong]]","v":"Sommerforhold"},15,2,"3",1.2999999999999999E-2,9240,"Redusert kjemisk dispergerbarhet",9.1999999999999998E-2,0.90800000000000003,0,60,"Eksplosjonsfare ved tanking",31.4,"Lav/dårlig kjemisk dispergerbarhet","Nei",0.92,"2021-12-08",868,null,31,6857114,-80848,"Duva 2021 Forvitringsrapport.pdf"]
["Duva 2021","Sommerforhold",{"$f":"Oljedatabase[[#This Row],[Oljetype]]&\"-\"&Oljedatabase[[#This Row],[SesongNy]]&\"-\"&Oljedatabase[[#This Row],[Vind (m/s)]]&\"-\"&Oljedatabase[[#This Row],[Tidspunkt (timer)]]","v":"Duva 2021-Sommerforhold-5-24"},{"$f":"Oljedatabase[[#This Row],[Sesong]]","v":"Sommerforhold"},15,5,"24",0.376,4020,"Redusert kjemisk dispergerbarhet",0.16800000000000001,0.81699999999999995,1.4999999999999999E-2,105,"Ingen eksplosjonsfare",33,"Lav/dårlig kjemisk dispergerbarhet","Nei",1.31,"2021-12-08",868,null,31,6857114,-80848,"Duva 2021 Forvitringsrapport.pdf"]
["Duva 2021","Sommerforhold",{"$f":"Oljedatabase[[#This Row],[Oljetype]]&\"-\"&Oljedatabase[[#This Row],[SesongNy]]&\"-\"&Oljedatabase[[#This Row],[Vind (m/s)]]&\"-\"&Oljedatabase[[#This Row],[Tidspunkt (timer)]]","v":"Duva 2021-Sommerforhold-10-3"},{"$f":"Oljedatabase[[#This Row],[Sesong]]","v":"Sommerforhold"},15,10,"3",0.192,6710,"Redusert kjemisk dispergerbarhet",0.14000000000000001,0.83099999999999996,2.9000000000000001E-2,88,"Ingen eksplosjonsfare",32.4,"Lav/dårlig kjemisk dispergerbarhet","Nei",1.03,"2021-12-08",868,null,31,6857114,-80848,"Duva 2021 Forvitringsrapport.pdf"]
["Duva 2021","Sommerforhold",{"$f":"Oljedatabase[[#This Row],[Oljetype]]&\"-\"&Oljedatabase[[#This Row],[SesongNy]]&\"-\"&Oljedatabase[[#This Row],[Vind (m/s)]]&\"-\"&Oljedatabase[[#This Row],[Tidspunkt (timer)]]","v":"Duva 2021-Sommerforhold-15-2"},{"$f":"Oljedatabase[[#This Row],[Sesong]]","v":"Sommerforhold"},15,15,"2",0.26,5490,"Redusert kjemisk dispergerbarhet",0.14599999999999999,0.75,0.104,92,"Ingen eksplosjonsfare",32.5,"Lav/dårlig kjemisk dispergerbarhet","Nei",1.01,"2021-12-08",868,null,31,6857114,-80848,"Duva 2021 Forvitringsrapport.pdf"]
["Duva 2021","Vinterforhold",{"$f":"Oljedatabase[[#This Row],[Oljetype]]&\"-\"&Oljedatabase[[#This Row],[SesongNy]]&\"-\"&Oljedatabase[[#This Row],[Vind (m/s)]]&\"-\"&Oljedatabase[[#This Row],[Tidspunkt (timer)]]","v":"Duva 2021-Vinterforhold-2-12"},{"$f":"Oljedatabase[[#This Row],[Sesong]]","v":"Vinterforhold"},5,2,"12",2E-3,18200,"Lav/dårlig kjemisk dispergerbarhet",0.111,0.88900000000000001,0,71,"Ingen eksplosjonsfare",31.8,"Lav/dårlig kjemisk dispergerbarhet","Ja",0.89,"2021-12-08",868,null,31,6857114,-80848,"Duva 2021 Forvitringsrapport.pdf"]
["Duva 2021","Vinterforhold",{"$f":"Oljedatabase[[#This Row],[Oljetype]]&\"-\"&Oljedatabase[[#This Row],[SesongNy]]&\"-\"&Oljedatabase[[#This Row],[Vind (m/s)]]&\"-\"&Oljedatabase[[#This Row],[Tidspunkt (timer)]]","v":"Duva 2021-Vinterforhold-5-9"},{"$f":"Oljedatabase[[#This Row],[Sesong]]","v":"Vinterforhold"},5,5,"9",6.0000000000000001E-3,18800,"Lav/dårlig kjemisk dispergerbarhet",0.124,0.873,3.0000000000000001E-3,78,"Ingen eksplosjonsfare",32.1,"Lav/dårlig kjemisk dispergerbarhet","Ja",0.88,"2021-12-08",868,null,31,6857114,-80848,"Duva 2021 Forvitringsrapport.pdf"]
["Duva 2021","Vinterforhold",{"$f":"Oljedatabase[[#This Row],[Oljetype]]&\"-\"&Oljedatabase[[#This Row],[SesongNy]]&\"-\"&Oljedatabase[[#This Row],[Vind (m/s)]]&\"-\"&Oljedatabase[[#This Row],[Tidspunkt (timer)]]","v":"Duva 2021-Vinterforhold-10-1"},{"$f":"Oljedatabase[[#This Row],[Sesong]]","v":"Vinterforhold"},5,10,"1",4.0000000000000001E-3,16900,"Lav/dårlig kjemisk dispergerbarhet",9.5000000000000001E-2,0.89900000000000002,6.0000000000000001E-3,62,"Ingen eksplosjonsfare",31.5,"Lav/dårlig kjemisk dispergerbarhet","Ja",0.9,"2021-12-08",868,null,31,6857114,-80848,"Duva 2021 Forvitringsrapport.pdf"]
["Duva 2021","Vinterforhold",{"$f":"Oljedatabase[[#This Row],[Oljetype]]&\"-\"&Oljedatabase[[#This Row],[SesongNy]]&\"-\"&Oljedatabase[[#This Row],[Vind (m/s)]]&\"-\"&Oljedatabase[[#This Row],[Tidspunkt (timer)]]","v":"Duva 2021-Vinterforhold-15-9"},{"$f":"Oljedatabase[[#This Row],[Sesong]]","v":"Vinterforhold"},5,15,"9",0.11600000000000001,13800,"Lav/dårlig kjemisk dispergerbarhet",0.16200000000000001,0.52700000000000002,0.311,104,"Ingen eksplosjonsfare",32.9,"Lav/dårlig kjemisk dispergerbarhet","Ja",0.6,"2021-12-08",868,null,31,6857114,-80848,"Duva 2021 Forvitringsrapport.pdf"]
["Duva 2021","Vinterforhold",{"$f":"Oljedatabase[[#This Row],[Oljetype]]&\"-\"&Oljedatabase[[#This Row],[SesongNy]]&\"-\"&Oljedatabase[[#This Row],[Vind (m/s)]]&\"-\"&Oljedatabase[[#This Row],[Tidspunkt (timer)]]","v":"Duva 2021-Vinterforhold-15-24"},{"$f":"Oljedatabase[[#This Row],[Sesong]]","v":"Vinterforhold"},5,15,"24",0.247,9530,"Redusert kjemisk dispergerbarhet",0.18099999999999999,0.193,0.626,121,"Ingen eksplosjonsfare",33.5,"Lav/dårlig kjemisk dispergerbarhet","Nei",0.26,"2021-12-08",868,null,31,6857114,-80848,"Duva 2021 Forvitringsrapport.pdf"]
["Sygna Brent 2021","Sommerforhold",{"$f":"Oljedatabase[[#This Row],[Oljetype]]&\"-\"&Oljedatabase[[#This Row],[SesongNy]]&\"-\"&Oljedatabase[[#This Row],[Vind (m/s)]]&\"-\"&Oljedatabase[[#This Row],[Tidspunkt (timer)]]","v":"Sygna Brent 2021-Sommerforhold-2-72"},{"$f":"Oljedatabase[[#This Row],[Sesong]]","v":"Sommerforhold"},15,2,"72",0.50800000000000001,3330,"Redusert kjemisk dispergerbarhet",0.33800000000000002,0.66,2E-3,106,"Ingen eksplosjonsfare",27.3,"Redusert kjemisk dispergerbarhet","Nei",1.34,"2021-10-26",843,null,36,6884886,-188975,"Sygna_Brent_2021_Forvitringsrapport.pdf"]
["Sygna Brent 2021","Sommerforhold",{"$f":"Oljedatabase[[#This Row],[Oljetype]]&\"-\"&Oljedatabase[[#This Row],[SesongNy]]&\"-\"&Oljedatabase[[#This Row],[Vind (m/s)]]&\"-\"&Oljedatabase[[#This Row],[Tidspunkt (timer)]]","v":"Sygna Brent 2021-Sommerforhold-5-12"},{"$f":"Oljedatabase[[#This Row],[Sesong]]","v":"Sommerforhold"},15,5,"12",0.39200000000000002,1780,"Redusert kjemisk dispergerbarhet",0.30499999999999999,0.67700000000000005,1.7999999999999999E-2,93,"Ingen eksplosjonsfare",25.1,"Redusert kjemisk dispergerbarhet","Nei",1.1100000000000001,"2021-10-26",843,null,36,6884886,-188975,"Sygna_Brent_2021_Forvitringsrapport.pdf"]
["Sygna Brent 2021","Sommerforhold",{"$f":"Oljedatabase[[#This Row],[Oljetype]]&\"-\"&Oljedatabase[[#This Row],[SesongNy]]&\"-\"&Oljedatabase[[#This Row],[Vind (m/s)]]&\"-\"&Oljedatabase[[#This Row],[Tidspunkt (timer)]]","v":"Sygna Brent 2021-Sommerforhold-15-2"},{"$f":"Oljedatabase[[#This Row],[Sesong]]","v":"Sommerforhold"},15,15,"2",0.439,1970,"Redusert kjemisk dispergerbarhet",0.29199999999999998,0.46500000000000002,0.24299999999999999,91,"Ingen eksplosjonsfare",24.9,"Redusert kjemisk dispergerbarhet","Nei",0.83,"2021-10-26",843,null,36,6884886,-188975,"Sygna_Brent_2021_Forvitringsrapport.pdf"]
["Sygna Brent 2021","Sommerforhold",{"$f":"Oljedatabase[[#This Row],[Oljetype]]&\"-\"&Oljedatabase[[#This Row],[SesongNy]]&\"-\"&Oljedatabase[[#This Row],[Vind (m/s)]]&\"-\"&Oljedatabase[[#This Row],[Tidspunkt (timer)]]","v":"Sygna Brent 2021-Sommerforhold-15-120"},{"$f":"Oljedatabase[[#This Row],[Sesong]]","v":"Sommerforhold"},15,15,"120",0.78200000000000003,21100,"Ikke kjemisk dispergerbar",0.34399999999999997,0,0.65600000000000003,158,"Ingen eksplosjonsfare",35.4,"Lav/dårlig kjemisk dispergerbarhet","Ja",0,"2021-10-26",843,null,36,6884886,-188975,"Sygna_Brent_2021_Forvitringsrapport.pdf"]
["Sygna Brent 2021","Vinterforhold",{"$f":"Oljedatabase[[#This Row],[Oljetype]]&\"-\"&Oljedatabase[[#This Row],[SesongNy]]&\"-\"&Oljedatabase[[#This Row],[Vind (m/s)]]&\"-\"&Oljedatabase[[#This Row],[Tidspunkt (timer)]]","v":"Sygna Brent 2021-Vinterforhold-2-12"},{"$f":"Oljedatabase[[#This Row],[Sesong]]","v":"Vinterforhold"},5,2,"12",0.124,829,"Kjemisk dispergerbar",0.24299999999999999,0.75700000000000001,0,69,"Ingen eksplosjonsfare",21.1,"Lav/dårlig kjemisk dispergerbarhet","Nei",0.86,"2021-10-26",843,null,36,6884886,-188975,"Sygna_Brent_2021_Forvitringsrapport.pdf"]
["Sygna Brent 2021","Vinterforhold",{"$f":"Oljedatabase[[#This Row],[Oljetype]]&\"-\"&Oljedatabase[[#This Row],[SesongNy]]&\"-\"&Oljedatabase[[#This Row],[Vind (m/s)]]&\"-\"&Oljedatabase[[#This Row],[Tidspunkt (timer)]]","v":"Sygna Brent 2021-Vinterforhold-5-12"},{"$f":"Oljedatabase[[#This Row],[Sesong]]","v":"Vinterforhold"},5,5,"12",0.38700000000000001,2590,"Redusert kjemisk dispergerbarhet",0.27600000000000002,0.70899999999999996,1.4999999999999999E-2,82,"Ingen eksplosjonsfare",23.3,"Lav/dårlig kjemisk dispergerbarhet","Nei",1.1599999999999999,"2021-10-26",843,null,36,6884886,-188975,"Sygna_Brent_2021_Forvitringsrapport.pdf"]
["Sygna Brent 2021","Vinterforhold",{"$f":"Oljedatabase[[#This Row],[Oljetype]]&\"-\"&Oljedatabase[[#This Row],[SesongNy]]&\"-\"&Oljedatabase[[#This Row],[Vind (m/s)]]&\"-\"&Oljedatabase[[#This Row],[Tidspunkt (timer)]]","v":"Sygna Brent 2021-Vinterforhold-10-96"},{"$f":"Oljedatabase[[#This Row],[Sesong]]","v":"Vinterforhold"},5,10,"96",0.72899999999999998,19600,"Ikke kjemisk dispergerbar",0.35599999999999998,0.14399999999999999,0.5,125,"Ingen eksplosjonsfare",30.3,"Lav/dårlig kjemisk dispergerbarhet","Ja",0.53,"2021-10-26",843,null,36,6884886,-188975,"Sygna_Brent_2021_Forvitringsrapport.pdf"]
["Sygna Brent 2021","Vinterforhold",{"$f":"Oljedatabase[[#This Row],[Oljetype]]&\"-\"&Oljedatabase[[#This Row],[SesongNy]]&\"-\"&Oljedatabase[[#This Row],[Vind (m/s)]]&\"-\"&Oljedatabase[[#This Row],[Tidspunkt (timer)]]","v":"Sygna Brent 2021-Vinterforhold-15-6"},{"$f":"Oljedatabase[[#This Row],[Sesong]]","v":"Vinterforhold"},5,15,"6",0.69299999999999995,8680,"Ikke kjemisk dispergerbar",0.29499999999999998,0.31900000000000001,0.38600000000000001,96,"Ingen eksplosjonsfare",25.7,"Lav/dårlig kjemisk dispergerbarhet","Nei",1.04,"2021-10-26",843,null,36,6884886,-188975,"Sygna_Brent_2021_Forvitringsrapport.pdf"]
["SF Nord Brent 2021","Sommerforhold",{"$f":"Oljedatabase[[#This Row],[Oljetype]]&\"-\"&Oljedatabase[[#This Row],[SesongNy]]&\"-\"&Oljedatabase[[#This Row],[Vind (m/s)]]&\"-\"&Oljedatabase[[#This Row],[Tidspunkt (timer)]]","v":"SF Nord Brent 2021-Sommerforhold-2-9"},{"$f":"Oljedatabase[[#This Row],[Sesong]]","v":"Sommerforhold"},15,2,"9",9.7000000000000003E-2,434,"Kjemisk dispergerbar",0.248,0.752,0,74,"Ingen eksplosjonsfare",21.2,"Redusert kjemisk dispergerbarhet","Nei",0.83,"2021-10-26",845,null,35,68811423,-193952,"SF_Nord_Brent_2021_Forvitringsrapport.pdf"]
["SF Nord Brent 2021","Sommerforhold",{"$f":"Oljedatabase[[#This Row],[Oljetype]]&\"-\"&Oljedatabase[[#This Row],[SesongNy]]&\"-\"&Oljedatabase[[#This Row],[Vind (m/s)]]&\"-\"&Oljedatabase[[#This Row],[Tidspunkt (timer)]]","v":"SF Nord Brent 2021-Sommerforhold-5-6"},{"$f":"Oljedatabase[[#This Row],[Sesong]]","v":"Sommerforhold"},15,5,"6",0.23400000000000001,788,"Kjemisk dispergerbar",0.26700000000000002,0.72199999999999998,1.0999999999999999E-2,81,"Ingen eksplosjonsfare",22.4,"Redusert kjemisk dispergerbarhet","Nei",0.94,"2021-10-26",845,null,35,68811423,-193952,"SF_Nord_Brent_2021_Forvitringsrapport.pdf"]
["SF Nord Brent 2021","Sommerforhold",{"$f":"Oljedatabase[[#This Row],[Oljetype]]&\"-\"&Oljedatabase[[#This Row],[SesongNy]]&\"-\"&Oljedatabase[[#This Row],[Vind (m/s)]]&\"-\"&Oljedatabase[[#This Row],[Tidspunkt (timer)]]","v":"SF Nord Brent 2021-Sommerforhold-5-120"},{"$f":"Oljedatabase[[#This Row],[Sesong]]","v":"Sommerforhold"},15,5,"120",0.77200000000000002,11500,"Ikke kjemisk dispergerbar",0.376,0.54400000000000004,0.08,126,"Ingen eksplosjonsfare",30,"Redusert kjemisk dispergerbarhet","Ja",2.39,"2021-10-26",845,null,35,68811423,-193952,"SF_Nord_Brent_2021_Forvitringsrapport.pdf"]
["SF Nord Brent 2021","Sommerforhold",{"$f":"Oljedatabase[[#This Row],[Oljetype]]&\"-\"&Oljedatabase[[#This Row],[SesongNy]]&\"-\"&Oljedatabase[[#This Row],[Vind (m/s)]]&\"-\"&Oljedatabase[[#This Row],[Tidspunkt (timer)]]","v":"SF Nord Brent 2021-Sommerforhold-15-48"},{"$f":"Oljedatabase[[#This Row],[Sesong]]","v":"Sommerforhold"},15,15,"48",0.77800000000000002,15500,"Ikke kjemisk dispergerbar",0.33700000000000002,5.0000000000000001E-3,0.65800000000000003,141,"Ingen eksplosjonsfare",32.200000000000003,"Lav/dårlig kjemisk dispergerbarhet","Ja",0.02,"2021-10-26",845,null,35,68811423,-193952,"SF_Nord_Brent_2021_Forvitringsrapport.pdf"]
["SF Nord Brent 2021","Vinterforhold",{"$f":"Oljedatabase[[#This Row],[Oljetype]]&\"-\"&Oljedatabase[[#This Row],[SesongNy]]&\"-\"&Oljedatabase[[#This Row],[Vind (m/s)]]&\"-\"&Oljedatabase[[#This Row],[Tidspunkt (timer)]]","v":"SF Nord Brent 2021-Vinterforhold-2-9"},{"$f":"Oljedatabase[[#This Row],[Sesong]]","v":"Vinterforhold"},5,2,"9",9.7000000000000003E-2,633,"Kjemisk dispergerbar",0.222,0.77800000000000002,0,64,"Ingen eksplosjonsfare",19.399999999999999,"Redusert kjemisk dispergerbarhet","Nei",0.86,"2021-10-26",845,null,35,68811423,-193952,"SF_Nord_Brent_2021_Forvitringsrapport.pdf"]
["SF Nord Brent 2021","Vinterforhold",{"$f":"Oljedatabase[[#This Row],[Oljetype]]&\"-\"&Oljedatabase[[#This Row],[SesongNy]]&\"-\"&Oljedatabase[[#This Row],[Vind (m/s)]]&\"-\"&Oljedatabase[[#This Row],[Tidspunkt (timer)]]","v":"SF Nord Brent 2021-Vinterforhold-5-1"},{"$f":"Oljedatabase[[#This Row],[Sesong]]","v":"Vinterforhold"},5,5,"1",4.4999999999999998E-2,286,"Kjemisk dispergerbar",0.156,0.84299999999999997,1E-3,41,"Eksplosjonsfare ved tanking",15.1,"Redusert kjemisk dispergerbarhet","Nei",0.88,"2021-10-26",845,null,35,68811423,-193952,"SF_Nord_Brent_2021_Forvitringsrapport.pdf"]
["SF Nord Brent 2021","Vinterforhold",{"$f":"Oljedatabase[[#This Row],[Oljetype]]&\"-\"&Oljedatabase[[#This Row],[SesongNy]]&\"-\"&Oljedatabase[[#This Row],[Vind (m/s)]]&\"-\"&Oljedatabase[[#This Row],[Tidspunkt (timer)]]","v":"SF Nord Brent 2021-Vinterforhold-10-6"},{"$f":"Oljedatabase[[#This Row],[Sesong]]","v":"Vinterforhold"},5,10,"6",0.53700000000000003,4470,"Redusert kjemisk dispergerbarhet",0.27500000000000002,0.60799999999999998,0.11700000000000001,86,"Ingen eksplosjonsfare",23.2,"Lav/dårlig kjemisk dispergerbarhet","Nei",1.31,"2021-10-26",845,null,35,68811423,-193952,"SF_Nord_Brent_2021_Forvitringsrapport.pdf"]
["SF Nord Brent 2021","Vinterforhold",{"$f":"Oljedatabase[[#This Row],[Oljetype]]&\"-\"&Oljedatabase[[#This Row],[SesongNy]]&\"-\"&Oljedatabase[[#This Row],[Vind (m/s)]]&\"-\"&Oljedatabase[[#This Row],[Tidspunkt (timer)]]","v":"SF Nord Brent 2021-Vinterforhold-15-6"},{"$f":"Oljedatabase[[#This Row],[Sesong]]","v":"Vinterforhold"},5,15,"6",0.69899999999999995,9370,"Ikke kjemisk dispergerbar",0.28499999999999998,0.32800000000000001,0.38700000000000001,95,"Ingen eksplosjonsfare",24.8,"Lav/dårlig kjemisk dispergerbarhet","Nei",1.0900000000000001,"2021-10-26",845,null,35,68811423,-193952,"SF_Nord_Brent_2021_Forvitringsrapport.pdf"]
["SF Nord Brent 2021","Vinterforhold",{"$f":"Oljedatabase[[#This Row],[Oljetype]]&\"-\"&Oljedatabase[[#This Row],[SesongNy]]&\"-\"&Oljedatabase[[#This Row],[Vind (m/s)]]&\"-\"&Oljedatabase[[#This Row],[Tidspunkt (timer)]]","v":"SF Nord Brent 2021-Vinterforhold-15-96"},{"$f":"Oljedatabase[[#This Row],[Sesong]]","v":"Vinterforhold"},5,15,"96",0.73399999999999999,26300,"Ikke kjemisk dispergerbar",0.314,0,0.68600000000000005,135,"Ingen eksplosjonsfare",31.4,"Lav/dårlig kjemisk dispergerbarhet","Ja",0,"2021-10-26",845,null,35,68811423,-193952,"SF_Nord_Brent_2021_Forvitringsrapport.pdf"]
["Njord 2003","Sommerforhold",{"$f":"Oljedatabase[[#This Row],[Oljetype]]&\"-\"&Oljedatabase[[#This Row],[SesongNy]]&\"-\"&Oljedatabase[[#This Row],[Vind (m/s)]]&\"-\"&Oljedatabase[[#This Row],[Tidspunkt (timer)]]","v":"Njord 2003-Sommerforhold-2-96"},{"$f":"Oljedatabase[[#This Row],[Sesong]]","v":"Sommerforhold"},15,2,"96",0.64300000000000002,1450,"Kjemisk dispergerbar",0.42399999999999999,0.57199999999999995,4.0000000000000001E-3,104,"Ingen eksplosjonsfare",21,"Redusert kjemisk dispergerbarhet","Nei",1.6,"2003-03-28",807,null,43,7150468,122795,"Njord_2003_Forvitringsrapport.pdf"]
["Njord 2003","Sommerforhold",{"$f":"Oljedatabase[[#This Row],[Oljetype]]&\"-\"&Oljedatabase[[#This Row],[SesongNy]]&\"-\"&Oljedatabase[[#This Row],[Vind (m/s)]]&\"-\"&Oljedatabase[[#This Row],[Tidspunkt (timer)]]","v":"Njord 2003-Sommerforhold-10-3"},{"$f":"Oljedatabase[[#This Row],[Sesong]]","v":"Sommerforhold"},15,10,"3",0.43099999999999999,400,"Kjemisk dispergerbar",0.34300000000000003,0.495,0.16200000000000001,78,"Ingen eksplosjonsfare",13.3,"Kjemisk dispergerbar","Nei",0.87,"2003-03-28",807,null,43,7150468,122795,"Njord_2003_Forvitringsrapport.pdf"]
["Njord 2003","Sommerforhold",{"$f":"Oljedatabase[[#This Row],[Oljetype]]&\"-\"&Oljedatabase[[#This Row],[SesongNy]]&\"-\"&Oljedatabase[[#This Row],[Vind (m/s)]]&\"-\"&Oljedatabase[[#This Row],[Tidspunkt (timer)]]","v":"Njord 2003-Sommerforhold-10-72"},{"$f":"Oljedatabase[[#This Row],[Sesong]]","v":"Sommerforhold"},15,10,"72",0.8,4110,"Kjemisk dispergerbar",0.43099999999999999,3.5999999999999997E-2,0.53300000000000003,132,"Ingen eksplosjonsfare",29,"Redusert kjemisk dispergerbarhet","Nei",0.18,"2003-03-28",807,null,43,7150468,122795,"Njord_2003_Forvitringsrapport.pdf"]
["Njord 2003","Sommerforhold",{"$f":"Oljedatabase[[#This Row],[Oljetype]]&\"-\"&Oljedatabase[[#This Row],[SesongNy]]&\"-\"&Oljedatabase[[#This Row],[Vind (m/s)]]&\"-\"&Oljedatabase[[#This Row],[Tidspunkt (timer)]]","v":"Njord 2003-Sommerforhold-15-24"},{"$f":"Oljedatabase[[#This Row],[Sesong]]","v":"Sommerforhold"},15,15,"24",0.8,3580,"Kjemisk dispergerbar",0.36899999999999999,1E-3,0.63,124,"Ingen eksplosjonsfare",26.8,"Redusert kjemisk dispergerbarhet","Nei",0.01,"2003-03-28",807,null,43,7150468,122795,"Njord_2003_Forvitringsrapport.pdf"]
["Njord 2003","Vinterforhold",{"$f":"Oljedatabase[[#This Row],[Oljetype]]&\"-\"&Oljedatabase[[#This Row],[SesongNy]]&\"-\"&Oljedatabase[[#This Row],[Vind (m/s)]]&\"-\"&Oljedatabase[[#This Row],[Tidspunkt (timer)]]","v":"Njord 2003-Vinterforhold-5-3"},{"$f":"Oljedatabase[[#This Row],[Sesong]]","v":"Vinterforhold"},5,5,"3",0.21099999999999999,120,"Kjemisk dispergerbar",0.25800000000000001,0.72899999999999998,1.2999999999999999E-2,47,"Eksplosjonsfare ved tanking",3.6,"Kjemisk dispergerbar","Nei",0.92,"2003-03-28",807,null,43,7150468,122795,"Njord_2003_Forvitringsrapport.pdf"]
["Njord 2003","Vinterforhold",{"$f":"Oljedatabase[[#This Row],[Oljetype]]&\"-\"&Oljedatabase[[#This Row],[SesongNy]]&\"-\"&Oljedatabase[[#This Row],[Vind (m/s)]]&\"-\"&Oljedatabase[[#This Row],[Tidspunkt (timer)]]","v":"Njord 2003-Vinterforhold-5-24"},{"$f":"Oljedatabase[[#This Row],[Sesong]]","v":"Vinterforhold"},5,5,"24",0.58799999999999997,1240,"Kjemisk dispergerbar",0.36199999999999999,0.58199999999999996,5.6000000000000001E-2,83,"Ingen eksplosjonsfare",14.7,"Redusert kjemisk dispergerbarhet","Nei",1.41,"2003-03-28",807,null,43,7150468,122795,"Njord_2003_Forvitringsrapport.pdf"]
["Njord 2003","Vinterforhold",{"$f":"Oljedatabase[[#This Row],[Oljetype]]&\"-\"&Oljedatabase[[#This Row],[SesongNy]]&\"-\"&Oljedatabase[[#This Row],[Vind (m/s)]]&\"-\"&Oljedatabase[[#This Row],[Tidspunkt (timer)]]","v":"Njord 2003-Vinterforhold-10-72"},{"$f":"Oljedatabase[[#This Row],[Sesong]]","v":"Vinterforhold"},5,10,"72",0.8,5250,"Redusert kjemisk dispergerbarhet",0.39400000000000002,5.1999999999999998E-2,0.55400000000000005,116,"Ingen eksplosjonsfare",24.6,"Lav/dårlig kjemisk dispergerbarhet","Nei",0.26,"2003-03-28",807,null,43,7150468,122795,"Njord_2003_Forvitringsrapport.pdf"]
["Njord 2003","Vinterforhold",{"$f":"Oljedatabase[[#This Row],[Oljetype]]&\"-\"&Oljedatabase[[#This Row],[SesongNy]]&\"-\"&Oljedatabase[[#This Row],[Vind (m/s)]]&\"-\"&Oljedatabase[[#This Row],[Tidspunkt (timer)]]","v":"Njord 2003-Vinterforhold-15-3"},{"$f":"Oljedatabase[[#This Row],[Sesong]]","v":"Vinterforhold"},5,15,"3",0.54700000000000004,935,"Kjemisk dispergerbar",0.312,0.19900000000000001,0.48899999999999999,77,"Ingen eksplosjonsfare",12.9,"Redusert kjemisk dispergerbarhet","Nei",0.44,"2003-03-28",807,null,43,7150468,122795,"Njord_2003_Forvitringsrapport.pdf"]
["Goliat Kobbe 2008 *(2010)","Sommerforhold",{"$f":"Oljedatabase[[#This Row],[Oljetype]]&\"-\"&Oljedatabase[[#This Row],[SesongNy]]&\"-\"&Oljedatabase[[#This Row],[Vind (m/s)]]&\"-\"&Oljedatabase[[#This Row],[Tidspunkt (timer)]]","v":"Goliat Kobbe 2008 *(2010)-Sommerforhold-2-72"},{"$f":"Oljedatabase[[#This Row],[Sesong]]","v":"Sommerforhold"},15,2,"72",0.64700000000000002,2350,"Redusert kjemisk dispergerbarhet",0.47099999999999997,0.52700000000000002,2E-3,107,"Ingen eksplosjonsfare",18.2,"Kjemisk dispergerbar","Nei",1.49,"2010-01-01",796,null,46,7923375,761602,"Goliat Kobbe 2008 (2010) Forvitringsrapport.pdf"]
["Goliat Kobbe 2008 *(2010)","Sommerforhold",{"$f":"Oljedatabase[[#This Row],[Oljetype]]&\"-\"&Oljedatabase[[#This Row],[SesongNy]]&\"-\"&Oljedatabase[[#This Row],[Vind (m/s)]]&\"-\"&Oljedatabase[[#This Row],[Tidspunkt (timer)]]","v":"Goliat Kobbe 2008 *(2010)-Sommerforhold-5-48"},{"$f":"Oljedatabase[[#This Row],[Sesong]]","v":"Sommerforhold"},15,5,"48",0.74299999999999999,3070,"Redusert kjemisk dispergerbarhet",0.48699999999999999,0.46100000000000002,5.1999999999999998E-2,115,"Ingen eksplosjonsfare",20.6,"Redusert kjemisk dispergerbarhet","Nei",1.79,"2010-01-01",796,null,46,7923375,761602,"Goliat Kobbe 2008 (2010) Forvitringsrapport.pdf"]
["Goliat Kobbe 2008 *(2010)","Sommerforhold",{"$f":"Oljedatabase[[#This Row],[Oljetype]]&\"-\"&Oljedatabase[[#This Row],[SesongNy]]&\"-\"&Oljedatabase[[#This Row],[Vind (m/s)]]&\"-\"&Oljedatabase[[#This Row],[Tidspunkt (timer)]]","v":"Goliat Kobbe 2008 *(2010)-Sommerforhold-10-72"},{"$f":"Oljedatabase[[#This Row],[Sesong]]","v":"Sommerforhold"},15,10,"72",0.75,5500,"Redusert kjemisk dispergerbarhet",0.504,3.5000000000000003E-2,0.46100000000000002,138,"Ingen eksplosjonsfare",28.2,"Redusert kjemisk dispergerbarhet","Nei",0.14000000000000001,"2010-01-01",796,null,46,7923375,761602,"Goliat Kobbe 2008 (2010) Forvitringsrapport.pdf"]
["Goliat Kobbe 2008 *(2010)","Sommerforhold",{"$f":"Oljedatabase[[#This Row],[Oljetype]]&\"-\"&Oljedatabase[[#This Row],[SesongNy]]&\"-\"&Oljedatabase[[#This Row],[Vind (m/s)]]&\"-\"&Oljedatabase[[#This Row],[Tidspunkt (timer)]]","v":"Goliat Kobbe 2008 *(2010)-Sommerforhold-15-3"},{"$f":"Oljedatabase[[#This Row],[Sesong]]","v":"Sommerforhold"},15,15,"3",0.67300000000000004,1930,"Kjemisk dispergerbar",0.432,0.26500000000000001,0.30299999999999999,99,"Ingen eksplosjonsfare",15.4,"Kjemisk dispergerbar","Nei",0.81,"2010-01-01",796,null,46,7923375,761602,"Goliat Kobbe 2008 (2010) Forvitringsrapport.pdf"]
["Goliat Kobbe 2008 *(2010)","Vinterforhold",{"$f":"Oljedatabase[[#This Row],[Oljetype]]&\"-\"&Oljedatabase[[#This Row],[SesongNy]]&\"-\"&Oljedatabase[[#This Row],[Vind (m/s)]]&\"-\"&Oljedatabase[[#This Row],[Tidspunkt (timer)]]","v":"Goliat Kobbe 2008 *(2010)-Vinterforhold-2-2"},{"$f":"Oljedatabase[[#This Row],[Sesong]]","v":"Vinterforhold"},5,2,"2",0.105,461,"Kjemisk dispergerbar",0.27600000000000002,0.72399999999999998,0,38,"Eksplosjonsfare ved tanking",-6.6,"Kjemisk dispergerbar","Nei",0.81,"2010-01-01",796,null,46,7923375,761602,"Goliat Kobbe 2008 (2010) Forvitringsrapport.pdf"]
["Goliat Kobbe 2008 *(2010)","Vinterforhold",{"$f":"Oljedatabase[[#This Row],[Oljetype]]&\"-\"&Oljedatabase[[#This Row],[SesongNy]]&\"-\"&Oljedatabase[[#This Row],[Vind (m/s)]]&\"-\"&Oljedatabase[[#This Row],[Tidspunkt (timer)]]","v":"Goliat Kobbe 2008 *(2010)-Vinterforhold-5-48"},{"$f":"Oljedatabase[[#This Row],[Sesong]]","v":"Vinterforhold"},5,5,"48",0.74099999999999999,4970,"Redusert kjemisk dispergerbarhet",0.45600000000000002,0.5,4.3999999999999997E-2,102,"Ingen eksplosjonsfare",16.5,"Redusert kjemisk dispergerbarhet","Nei",1.93,"2010-01-01",796,null,46,7923375,761602,"Goliat Kobbe 2008 (2010) Forvitringsrapport.pdf"]
["Goliat Kobbe 2008 *(2010)","Vinterforhold",{"$f":"Oljedatabase[[#This Row],[Oljetype]]&\"-\"&Oljedatabase[[#This Row],[SesongNy]]&\"-\"&Oljedatabase[[#This Row],[Vind (m/s)]]&\"-\"&Oljedatabase[[#This Row],[Tidspunkt (timer)]]","v":"Goliat Kobbe 2008 *(2010)-Vinterforhold-10-12"},{"$f":"Oljedatabase[[#This Row],[Sesong]]","v":"Vinterforhold"},5,10,"12",0.73299999999999998,4320,"Redusert kjemisk dispergerbarhet",0.437,0.372,0.191,98,"Ingen eksplosjonsfare",14.9,"Redusert kjemisk dispergerbarhet","Nei",1.39,"2010-01-01",796,null,46,7923375,761602,"Goliat Kobbe 2008 (2010) Forvitringsrapport.pdf"]
["Goliat Kobbe 2008 *(2010)","Vinterforhold",{"$f":"Oljedatabase[[#This Row],[Oljetype]]&\"-\"&Oljedatabase[[#This Row],[SesongNy]]&\"-\"&Oljedatabase[[#This Row],[Vind (m/s)]]&\"-\"&Oljedatabase[[#This Row],[Tidspunkt (timer)]]","v":"Goliat Kobbe 2008 *(2010)-Vinterforhold-15-24"},{"$f":"Oljedatabase[[#This Row],[Sesong]]","v":"Vinterforhold"},5,15,"24",0.75,7590,"Redusert kjemisk dispergerbarhet",0.437,0.01,0.55300000000000005,117,"Ingen eksplosjonsfare",21.3,"Lav/dårlig kjemisk dispergerbarhet","Nei",0.04,"2010-01-01",796,null,46,7923375,761602,"Goliat Kobbe 2008 (2010) Forvitringsrapport.pdf"]
["Statfjord C 2001 *(2021)","Sommerforhold",{"$f":"Oljedatabase[[#This Row],[Oljetype]]&\"-\"&Oljedatabase[[#This Row],[SesongNy]]&\"-\"&Oljedatabase[[#This Row],[Vind (m/s)]]&\"-\"&Oljedatabase[[#This Row],[Tidspunkt (timer)]]","v":"Statfjord C 2001 *(2021)-Sommerforhold-2-24"},{"$f":"Oljedatabase[[#This Row],[Sesong]]","v":"Sommerforhold"},15,2,"24",0.24299999999999999,834,"Kjemisk dispergerbar",0.32,0.67900000000000005,1E-3,0,"Ikke angitt",19.399999999999999,"Kjemisk dispergerbar","Nei",0.9,"2001-01-12",834,null,38,6866292,-198445,"Statfjord_C_Blend_2001__(2021)_Forvitringsrapport.pdf"]
["Statfjord C 2001 *(2021)","Sommerforhold",{"$f":"Oljedatabase[[#This Row],[Oljetype]]&\"-\"&Oljedatabase[[#This Row],[SesongNy]]&\"-\"&Oljedatabase[[#This Row],[Vind (m/s)]]&\"-\"&Oljedatabase[[#This Row],[Tidspunkt (timer)]]","v":"Statfjord C 2001 *(2021)-Sommerforhold-5-6"},{"$f":"Oljedatabase[[#This Row],[Sesong]]","v":"Sommerforhold"},15,5,"6",0.24299999999999999,677,"Kjemisk dispergerbar",0.3,0.68700000000000006,1.2999999999999999E-2,0,"Ikke angitt",18,"Kjemisk dispergerbar","Nei",0.91,"2001-01-12",834,null,38,6866292,-198445,"Statfjord_C_Blend_2001__(2021)_Forvitringsrapport.pdf"]
["Statfjord C 2001 *(2021)","Sommerforhold",{"$f":"Oljedatabase[[#This Row],[Oljetype]]&\"-\"&Oljedatabase[[#This Row],[SesongNy]]&\"-\"&Oljedatabase[[#This Row],[Vind (m/s)]]&\"-\"&Oljedatabase[[#This Row],[Tidspunkt (timer)]]","v":"Statfjord C 2001 *(2021)-Sommerforhold-10-12"},{"$f":"Oljedatabase[[#This Row],[Sesong]]","v":"Sommerforhold"},15,10,"12",0.66,5670,"Redusert kjemisk dispergerbarhet",0.35699999999999998,0.43099999999999999,0.21199999999999999,0,"Ikke angitt",23,"Redusert kjemisk dispergerbarhet","Nei",1.27,"2001-01-12",834,null,38,6866292,-198445,"Statfjord_C_Blend_2001__(2021)_Forvitringsrapport.pdf"]
["Statfjord C 2001 *(2021)","Sommerforhold",{"$f":"Oljedatabase[[#This Row],[Oljetype]]&\"-\"&Oljedatabase[[#This Row],[SesongNy]]&\"-\"&Oljedatabase[[#This Row],[Vind (m/s)]]&\"-\"&Oljedatabase[[#This Row],[Tidspunkt (timer)]]","v":"Statfjord C 2001 *(2021)-Sommerforhold-10-48"},{"$f":"Oljedatabase[[#This Row],[Sesong]]","v":"Sommerforhold"},15,10,"48",0.7,10800,"Redusert kjemisk dispergerbarhet",0.39200000000000002,0.2,0.40799999999999997,0,"Ikke angitt",26.7,"Redusert kjemisk dispergerbarhet","Ja",0.67,"2001-01-12",834,null,38,6866292,-198445,"Statfjord_C_Blend_2001__(2021)_Forvitringsrapport.pdf"]
["Statfjord C 2001 *(2021)","Vinterforhold",{"$f":"Oljedatabase[[#This Row],[Oljetype]]&\"-\"&Oljedatabase[[#This Row],[SesongNy]]&\"-\"&Oljedatabase[[#This Row],[Vind (m/s)]]&\"-\"&Oljedatabase[[#This Row],[Tidspunkt (timer)]]","v":"Statfjord C 2001 *(2021)-Vinterforhold-2-1"},{"$f":"Oljedatabase[[#This Row],[Sesong]]","v":"Vinterforhold"},5,2,"1",1.2E-2,77,"Kjemisk dispergerbar",0.13300000000000001,0.86699999999999999,0,0,"Ikke angitt",5.9,"Kjemisk dispergerbar","Nei",0.88,"2001-01-12",834,null,38,6866292,-198445,"Statfjord_C_Blend_2001__(2021)_Forvitringsrapport.pdf"]
["Statfjord C 2001 *(2021)","Vinterforhold",{"$f":"Oljedatabase[[#This Row],[Oljetype]]&\"-\"&Oljedatabase[[#This Row],[SesongNy]]&\"-\"&Oljedatabase[[#This Row],[Vind (m/s)]]&\"-\"&Oljedatabase[[#This Row],[Tidspunkt (timer)]]","v":"Statfjord C 2001 *(2021)-Vinterforhold-5-1"},{"$f":"Oljedatabase[[#This Row],[Sesong]]","v":"Vinterforhold"},5,5,"1",4.8000000000000001E-2,154,"Kjemisk dispergerbar",0.18099999999999999,0.81699999999999995,2E-3,0,"Ikke angitt",9.3000000000000007,"Kjemisk dispergerbar","Nei",0.86,"2001-01-12",834,null,38,6866292,-198445,"Statfjord_C_Blend_2001__(2021)_Forvitringsrapport.pdf"]
["Statfjord C 2001 *(2021)","Vinterforhold",{"$f":"Oljedatabase[[#This Row],[Oljetype]]&\"-\"&Oljedatabase[[#This Row],[SesongNy]]&\"-\"&Oljedatabase[[#This Row],[Vind (m/s)]]&\"-\"&Oljedatabase[[#This Row],[Tidspunkt (timer)]]","v":"Statfjord C 2001 *(2021)-Vinterforhold-5-24"},{"$f":"Oljedatabase[[#This Row],[Sesong]]","v":"Vinterforhold"},5,5,"24",0.57299999999999995,5140,"Redusert kjemisk dispergerbarhet",0.32400000000000001,0.64700000000000002,2.9000000000000001E-2,0,"Ikke angitt",19.8,"Redusert kjemisk dispergerbarhet","Nei",1.52,"2001-01-12",834,null,38,6866292,-198445,"Statfjord_C_Blend_2001__(2021)_Forvitringsrapport.pdf"]
["Statfjord C 2001 *(2021)","Vinterforhold",{"$f":"Oljedatabase[[#This Row],[Oljetype]]&\"-\"&Oljedatabase[[#This Row],[SesongNy]]&\"-\"&Oljedatabase[[#This Row],[Vind (m/s)]]&\"-\"&Oljedatabase[[#This Row],[Tidspunkt (timer)]]","v":"Statfjord C 2001 *(2021)-Vinterforhold-15-1"},{"$f":"Oljedatabase[[#This Row],[Sesong]]","v":"Vinterforhold"},5,15,"1",0.27800000000000002,955,"Kjemisk dispergerbar",0.26100000000000001,0.57299999999999995,0.16600000000000001,0,"Ikke angitt",15.5,"Redusert kjemisk dispergerbarhet","Nei",0.79,"2001-01-12",834,null,38,6866292,-198445,"Statfjord_C_Blend_2001__(2021)_Forvitringsrapport.pdf"]
["Lille Prinsen 2022","Sommerforhold",{"$f":"Oljedatabase[[#This Row],[Oljetype]]&\"-\"&Oljedatabase[[#This Row],[SesongNy]]&\"-\"&Oljedatabase[[#This Row],[Vind (m/s)]]&\"-\"&Oljedatabase[[#This Row],[Tidspunkt (timer)]]","v":"Lille Prinsen 2022-Sommerforhold-2-1"},{"$f":"Oljedatabase[[#This Row],[Sesong]]","v":"Sommerforhold"},15,2,"1",1.0999999999999999E-2,70,"Kjemisk dispergerbar",0.13600000000000001,0.86399999999999999,0,34,"Eksplosjonsfare ved tanking",11,"Kjemisk dispergerbar","Nei",0.87,"2022-05-16",851,null,34,6606635,-227166,"Lille Prinsen 2022 Forvitringsrapport 2022.pdf"]
["Lille Prinsen 2022","Sommerforhold",{"$f":"Oljedatabase[[#This Row],[Oljetype]]&\"-\"&Oljedatabase[[#This Row],[SesongNy]]&\"-\"&Oljedatabase[[#This Row],[Vind (m/s)]]&\"-\"&Oljedatabase[[#This Row],[Tidspunkt (timer)]]","v":"Lille Prinsen 2022-Sommerforhold-2-9"},{"$f":"Oljedatabase[[#This Row],[Sesong]]","v":"Sommerforhold"},15,2,"9",9.2999999999999999E-2,287,"Kjemisk dispergerbar",0.247,0.753,0,73,"Ingen eksplosjonsfare",18.899999999999999,"Kjemisk dispergerbar","Nei",0.83,"2022-05-16",851,null,34,6606635,-227166,"Lille Prinsen 2022 Forvitringsrapport 2022.pdf"]
["Lille Prinsen 2022","Sommerforhold",{"$f":"Oljedatabase[[#This Row],[Oljetype]]&\"-\"&Oljedatabase[[#This Row],[SesongNy]]&\"-\"&Oljedatabase[[#This Row],[Vind (m/s)]]&\"-\"&Oljedatabase[[#This Row],[Tidspunkt (timer)]]","v":"Lille Prinsen 2022-Sommerforhold-5-6"},{"$f":"Oljedatabase[[#This Row],[Sesong]]","v":"Sommerforhold"},15,5,"6",0.224,552,"Kjemisk dispergerbar",0.26400000000000001,0.72299999999999998,1.2999999999999999E-2,80,"Ingen eksplosjonsfare",20.100000000000001,"Redusert kjemisk dispergerbarhet","Nei",0.93,"2022-05-16",851,null,34,6606635,-227166,"Lille Prinsen 2022 Forvitringsrapport 2022.pdf"]
["Lille Prinsen 2022","Sommerforhold",{"$f":"Oljedatabase[[#This Row],[Oljetype]]&\"-\"&Oljedatabase[[#This Row],[SesongNy]]&\"-\"&Oljedatabase[[#This Row],[Vind (m/s)]]&\"-\"&Oljedatabase[[#This Row],[Tidspunkt (timer)]]","v":"Lille Prinsen 2022-Sommerforhold-5-9"},{"$f":"Oljedatabase[[#This Row],[Sesong]]","v":"Sommerforhold"},15,5,"9",0.312,897,"Kjemisk dispergerbar",0.27900000000000003,0.70399999999999996,1.7000000000000001E-2,86,"Ingen eksplosjonsfare",21.2,"Redusert kjemisk dispergerbarhet","Nei",1.02,"2022-05-16",851,null,34,6606635,-227166,"Lille Prinsen 2022 Forvitringsrapport 2022.pdf"]
["Lille Prinsen 2022","Sommerforhold",{"$f":"Oljedatabase[[#This Row],[Oljetype]]&\"-\"&Oljedatabase[[#This Row],[SesongNy]]&\"-\"&Oljedatabase[[#This Row],[Vind (m/s)]]&\"-\"&Oljedatabase[[#This Row],[Tidspunkt (timer)]]","v":"Lille Prinsen 2022-Sommerforhold-5-12"},{"$f":"Oljedatabase[[#This Row],[Sesong]]","v":"Sommerforhold"},15,5,"12",0.38600000000000001,1340,"Kjemisk dispergerbar",0.28899999999999998,0.69,2.1000000000000001E-2,90,"Ingen eksplosjonsfare",22,"Redusert kjemisk dispergerbarhet","Nei",1.1200000000000001,"2022-05-16",851,null,34,6606635,-227166,"Lille Prinsen 2022 Forvitringsrapport 2022.pdf"]
["Lille Prinsen 2022","Sommerforhold",{"$f":"Oljedatabase[[#This Row],[Oljetype]]&\"-\"&Oljedatabase[[#This Row],[SesongNy]]&\"-\"&Oljedatabase[[#This Row],[Vind (m/s)]]&\"-\"&Oljedatabase[[#This Row],[Tidspunkt (timer)]]","v":"Lille Prinsen 2022-Sommerforhold-5-24"},{"$f":"Oljedatabase[[#This Row],[Sesong]]","v":"Sommerforhold"},15,5,"24",0.57799999999999996,3850,"Redusert kjemisk dispergerbarhet",0.314,0.65400000000000003,3.2000000000000001E-2,100,"Ingen eksplosjonsfare",23.9,"Redusert kjemisk dispergerbarhet","Nei",1.55,"2022-05-16",851,null,34,6606635,-227166,"Lille Prinsen 2022 Forvitringsrapport 2022.pdf"]
["Lille Prinsen 2022","Sommerforhold",{"$f":"Oljedatabase[[#This Row],[Oljetype]]&\"-\"&Oljedatabase[[#This Row],[SesongNy]]&\"-\"&Oljedatabase[[#This Row],[Vind (m/s)]]&\"-\"&Oljedatabase[[#This Row],[Tidspunkt (timer)]]","v":"Lille Prinsen 2022-Sommerforhold-5-48"},{"$f":"Oljedatabase[[#This Row],[Sesong]]","v":"Sommerforhold"},15,5,"48",0.71699999999999997,9330,"Redusert kjemisk dispergerbarhet",0.33800000000000002,0.61499999999999999,4.7E-2,111,"Ingen eksplosjonsfare",25.7,"Redusert kjemisk dispergerbarhet","Nei",2.17,"2022-05-16",851,null,34,6606635,-227166,"Lille Prinsen 2022 Forvitringsrapport 2022.pdf"]
["Lille Prinsen 2022","Sommerforhold",{"$f":"Oljedatabase[[#This Row],[Oljetype]]&\"-\"&Oljedatabase[[#This Row],[SesongNy]]&\"-\"&Oljedatabase[[#This Row],[Vind (m/s)]]&\"-\"&Oljedatabase[[#This Row],[Tidspunkt (timer)]]","v":"Lille Prinsen 2022-Sommerforhold-5-72"},{"$f":"Oljedatabase[[#This Row],[Sesong]]","v":"Sommerforhold"},15,5,"72",0.746,12400,"Lav/dårlig kjemisk dispergerbarhet",0.35199999999999998,0.58899999999999997,5.8999999999999997E-2,117,"Ingen eksplosjonsfare",26.8,"Redusert kjemisk dispergerbarhet","Ja",2.3199999999999998,"2022-05-16",851,null,34,6606635,-227166,"Lille Prinsen 2022 Forvitringsrapport 2022.pdf"]
["Lille Prinsen 2022","Sommerforhold",{"$f":"Oljedatabase[[#This Row],[Oljetype]]&\"-\"&Oljedatabase[[#This Row],[SesongNy]]&\"-\"&Oljedatabase[[#This Row],[Vind (m/s)]]&\"-\"&Oljedatabase[[#This Row],[Tidspunkt (timer)]]","v":"Lille Prinsen 2022-Sommerforhold-5-96"},{"$f":"Oljedatabase[[#This Row],[Sesong]]","v":"Sommerforhold"},15,5,"96",0.749,14000,"Lav/dårlig kjemisk dispergerbarhet",0.36199999999999999,0.56899999999999995,6.9000000000000006E-2,122,"Ingen eksplosjonsfare",27.6,"Redusert kjemisk dispergerbarhet","Ja",2.27,"2022-05-16",851,null,34,6606635,-227166,"Lille Prinsen 2022 Forvitringsrapport 2022.pdf"]
["Lille Prinsen 2022","Sommerforhold",{"$f":"Oljedatabase[[#This Row],[Oljetype]]&\"-\"&Oljedatabase[[#This Row],[SesongNy]]&\"-\"&Oljedatabase[[#This Row],[Vind (m/s)]]&\"-\"&Oljedatabase[[#This Row],[Tidspunkt (timer)]]","v":"Lille Prinsen 2022-Sommerforhold-5-120"},{"$f":"Oljedatabase[[#This Row],[Sesong]]","v":"Sommerforhold"},15,5,"120",0.749,15200,"Lav/dårlig kjemisk dispergerbarhet",0.37,0.55100000000000005,7.9000000000000001E-2,125,"Ingen eksplosjonsfare",28.2,"Redusert kjemisk dispergerbarhet","Ja",2.2000000000000002,"2022-05-16",851,null,34,6606635,-227166,"Lille Prinsen 2022 Forvitringsrapport 2022.pdf"]
["Lille Prinsen 2022","Sommerforhold",{"$f":"Oljedatabase[[#This Row],[Oljetype]]&\"-\"&Oljedatabase[[#This Row],[SesongNy]]&\"-\"&Oljedatabase[[#This Row],[Vind (m/s)]]&\"-\"&Oljedatabase[[#This Row],[Tidspunkt (timer)]]","v":"Lille Prinsen 2022-Sommerforhold-10-1"},{"$f":"Oljedatabase[[#This Row],[Sesong]]","v":"Sommerforhold"},15,10,"1",0.13500000000000001,286,"Kjemisk dispergerbar",0.23100000000000001,0.73,3.9E-2,68,"Ingen eksplosjonsfare",17.8,"Kjemisk dispergerbar","Nei",0.84,"2022-05-16",851,null,34,6606635,-227166,"Lille Prinsen 2022 Forvitringsrapport 2022.pdf"]
["Lille Prinsen 2022","Sommerforhold",{"$f":"Oljedatabase[[#This Row],[Oljetype]]&\"-\"&Oljedatabase[[#This Row],[SesongNy]]&\"-\"&Oljedatabase[[#This Row],[Vind (m/s)]]&\"-\"&Oljedatabase[[#This Row],[Tidspunkt (timer)]]","v":"Lille Prinsen 2022-Sommerforhold-10-2"},{"$f":"Oljedatabase[[#This Row],[Sesong]]","v":"Sommerforhold"},15,10,"2",0.247,585,"Kjemisk dispergerbar",0.25900000000000001,0.66800000000000004,7.2999999999999995E-2,79,"Ingen eksplosjonsfare",20,"Kjemisk dispergerbar","Nei",0.89,"2022-05-16",851,null,34,6606635,-227166,"Lille Prinsen 2022 Forvitringsrapport 2022.pdf"]
["Lille Prinsen 2022","Sommerforhold",{"$f":"Oljedatabase[[#This Row],[Oljetype]]&\"-\"&Oljedatabase[[#This Row],[SesongNy]]&\"-\"&Oljedatabase[[#This Row],[Vind (m/s)]]&\"-\"&Oljedatabase[[#This Row],[Tidspunkt (timer)]]","v":"Lille Prinsen 2022-Sommerforhold-10-3"},{"$f":"Oljedatabase[[#This Row],[Sesong]]","v":"Sommerforhold"},15,10,"3",0.34,983,"Kjemisk dispergerbar",0.27400000000000002,0.628,9.8000000000000004E-2,85,"Ingen eksplosjonsfare",21.1,"Redusert kjemisk dispergerbarhet","Nei",0.95,"2022-05-16",851,null,34,6606635,-227166,"Lille Prinsen 2022 Forvitringsrapport 2022.pdf"]
["Lille Prinsen 2022","Sommerforhold",{"$f":"Oljedatabase[[#This Row],[Oljetype]]&\"-\"&Oljedatabase[[#This Row],[SesongNy]]&\"-\"&Oljedatabase[[#This Row],[Vind (m/s)]]&\"-\"&Oljedatabase[[#This Row],[Tidspunkt (timer)]]","v":"Lille Prinsen 2022-Sommerforhold-10-6"},{"$f":"Oljedatabase[[#This Row],[Sesong]]","v":"Sommerforhold"},15,10,"6",0.53300000000000003,2820,"Redusert kjemisk dispergerbarhet",0.29799999999999999,0.55200000000000005,0.15,96,"Ingen eksplosjonsfare",23,"Redusert kjemisk dispergerbarhet","Nei",1.18,"2022-05-16",851,null,34,6606635,-227166,"Lille Prinsen 2022 Forvitringsrapport 2022.pdf"]
["Lille Prinsen 2022","Sommerforhold",{"$f":"Oljedatabase[[#This Row],[Oljetype]]&\"-\"&Oljedatabase[[#This Row],[SesongNy]]&\"-\"&Oljedatabase[[#This Row],[Vind (m/s)]]&\"-\"&Oljedatabase[[#This Row],[Tidspunkt (timer)]]","v":"Lille Prinsen 2022-Sommerforhold-10-9"},{"$f":"Oljedatabase[[#This Row],[Sesong]]","v":"Sommerforhold"},15,10,"9",0.63800000000000001,5200,"Redusert kjemisk dispergerbarhet",0.311,0.504,0.185,102,"Ingen eksplosjonsfare",24.1,"Redusert kjemisk dispergerbarhet","Nei",1.39,"2022-05-16",851,null,34,6606635,-227166,"Lille Prinsen 2022 Forvitringsrapport 2022.pdf"]
["Lille Prinsen 2022","Sommerforhold",{"$f":"Oljedatabase[[#This Row],[Oljetype]]&\"-\"&Oljedatabase[[#This Row],[SesongNy]]&\"-\"&Oljedatabase[[#This Row],[Vind (m/s)]]&\"-\"&Oljedatabase[[#This Row],[Tidspunkt (timer)]]","v":"Lille Prinsen 2022-Sommerforhold-10-12"},{"$f":"Oljedatabase[[#This Row],[Sesong]]","v":"Sommerforhold"},15,10,"12",0.69499999999999995,7520,"Redusert kjemisk dispergerbarhet",0.31900000000000001,0.46899999999999997,0.21199999999999999,106,"Ingen eksplosjonsfare",24.9,"Redusert kjemisk dispergerbarhet","Nei",1.54,"2022-05-16",851,null,34,6606635,-227166,"Lille Prinsen 2022 Forvitringsrapport 2022.pdf"]
["Lille Prinsen 2022","Sommerforhold",{"$f":"Oljedatabase[[#This Row],[Oljetype]]&\"-\"&Oljedatabase[[#This Row],[SesongNy]]&\"-\"&Oljedatabase[[#This Row],[Vind (m/s)]]&\"-\"&Oljedatabase[[#This Row],[Tidspunkt (timer)]]","v":"Lille Prinsen 2022-Sommerforhold-10-24"},{"$f":"Oljedatabase[[#This Row],[Sesong]]","v":"Sommerforhold"},15,10,"24",0.753,12700,"Lav/dårlig kjemisk dispergerbarhet",0.33900000000000002,0.372,0.28899999999999998,117,"Ingen eksplosjonsfare",26.8,"Redusert kjemisk dispergerbarhet","Ja",1.51,"2022-05-16",851,null,34,6606635,-227166,"Lille Prinsen 2022 Forvitringsrapport 2022.pdf"]
["Lille Prinsen 2022","Sommerforhold",{"$f":"Oljedatabase[[#This Row],[Oljetype]]&\"-\"&Oljedatabase[[#This Row],[SesongNy]]&\"-\"&Oljedatabase[[#This Row],[Vind (m/s)]]&\"-\"&Oljedatabase[[#This Row],[Tidspunkt (timer)]]","v":"Lille Prinsen 2022-Sommerforhold-10-48"},{"$f":"Oljedatabase[[#This Row],[Sesong]]","v":"Sommerforhold"},15,10,"48",0.753,16500,"Lav/dårlig kjemisk dispergerbarhet",0.35599999999999998,0.253,0.39100000000000001,128,"Ingen eksplosjonsfare",28.6,"Redusert kjemisk dispergerbarhet","Ja",1.02,"2022-05-16",851,null,34,6606635,-227166,"Lille Prinsen 2022 Forvitringsrapport 2022.pdf"]
["Lille Prinsen 2022","Sommerforhold",{"$f":"Oljedatabase[[#This Row],[Oljetype]]&\"-\"&Oljedatabase[[#This Row],[SesongNy]]&\"-\"&Oljedatabase[[#This Row],[Vind (m/s)]]&\"-\"&Oljedatabase[[#This Row],[Tidspunkt (timer)]]","v":"Lille Prinsen 2022-Sommerforhold-10-72"},{"$f":"Oljedatabase[[#This Row],[Sesong]]","v":"Sommerforhold"},15,10,"72",0.753,19300,"Lav/dårlig kjemisk dispergerbarhet",0.36599999999999999,0.17799999999999999,0.45600000000000002,135,"Ingen eksplosjonsfare",29.8,"Redusert kjemisk dispergerbarhet","Ja",0.72,"2022-05-16",851,null,34,6606635,-227166,"Lille Prinsen 2022 Forvitringsrapport 2022.pdf"]
["Lille Prinsen 2022","Sommerforhold",{"$f":"Oljedatabase[[#This Row],[Oljetype]]&\"-\"&Oljedatabase[[#This Row],[SesongNy]]&\"-\"&Oljedatabase[[#This Row],[Vind (m/s)]]&\"-\"&Oljedatabase[[#This Row],[Tidspunkt (timer)]]","v":"Lille Prinsen 2022-Sommerforhold-10-96"},{"$f":"Oljedatabase[[#This Row],[Sesong]]","v":"Sommerforhold"},15,10,"96",0.753,21900,"Lav/dårlig kjemisk dispergerbarhet",0.371,0.128,0.501,140,"Ingen eksplosjonsfare",30.7,"Lav/dårlig kjemisk dispergerbarhet","Ja",0.52,"2022-05-16",851,null,34,6606635,-227166,"Lille Prinsen 2022 Forvitringsrapport 2022.pdf"]
["Lille Prinsen 2022","Sommerforhold",{"$f":"Oljedatabase[[#This Row],[Oljetype]]&\"-\"&Oljedatabase[[#This Row],[SesongNy]]&\"-\"&Oljedatabase[[#This Row],[Vind (m/s)]]&\"-\"&Oljedatabase[[#This Row],[Tidspunkt (timer)]]","v":"Lille Prinsen 2022-Sommerforhold-10-120"},{"$f":"Oljedatabase[[#This Row],[Sesong]]","v":"Sommerforhold"},15,10,"120",0.753,24200,"Lav/dårlig kjemisk dispergerbarhet",0.374,9.4E-2,0.53200000000000003,145,"Ingen eksplosjonsfare",31.5,"Lav/dårlig kjemisk dispergerbarhet","Ja",0.38,"2022-05-16",851,null,34,6606635,-227166,"Lille Prinsen 2022 Forvitringsrapport 2022.pdf"]
["Lille Prinsen 2022","Sommerforhold",{"$f":"Oljedatabase[[#This Row],[Oljetype]]&\"-\"&Oljedatabase[[#This Row],[SesongNy]]&\"-\"&Oljedatabase[[#This Row],[Vind (m/s)]]&\"-\"&Oljedatabase[[#This Row],[Tidspunkt (timer)]]","v":"Lille Prinsen 2022-Sommerforhold-15-1"},{"$f":"Oljedatabase[[#This Row],[Sesong]]","v":"Sommerforhold"},15,15,"1",0.25800000000000001,598,"Kjemisk dispergerbar",0.253,0.56899999999999995,0.17799999999999999,78,"Ingen eksplosjonsfare",19.8,"Kjemisk dispergerbar","Nei",0.77,"2022-05-16",851,null,34,6606635,-227166,"Lille Prinsen 2022 Forvitringsrapport 2022.pdf"]
["Lille Prinsen 2022","Sommerforhold",{"$f":"Oljedatabase[[#This Row],[Oljetype]]&\"-\"&Oljedatabase[[#This Row],[SesongNy]]&\"-\"&Oljedatabase[[#This Row],[Vind (m/s)]]&\"-\"&Oljedatabase[[#This Row],[Tidspunkt (timer)]]","v":"Lille Prinsen 2022-Sommerforhold-15-2"},{"$f":"Oljedatabase[[#This Row],[Sesong]]","v":"Sommerforhold"},15,15,"2",0.433,1570,"Kjemisk dispergerbar",0.27600000000000002,0.44700000000000001,0.27700000000000002,89,"Ingen eksplosjonsfare",21.8,"Redusert kjemisk dispergerbarhet","Nei",0.79,"2022-05-16",851,null,34,6606635,-227166,"Lille Prinsen 2022 Forvitringsrapport 2022.pdf"]
["Lille Prinsen 2022","Sommerforhold",{"$f":"Oljedatabase[[#This Row],[Oljetype]]&\"-\"&Oljedatabase[[#This Row],[SesongNy]]&\"-\"&Oljedatabase[[#This Row],[Vind (m/s)]]&\"-\"&Oljedatabase[[#This Row],[Tidspunkt (timer)]]","v":"Lille Prinsen 2022-Sommerforhold-15-3"},{"$f":"Oljedatabase[[#This Row],[Sesong]]","v":"Sommerforhold"},15,15,"3",0.55000000000000004,2990,"Redusert kjemisk dispergerbarhet",0.28699999999999998,0.374,0.33900000000000002,95,"Ingen eksplosjonsfare",22.9,"Redusert kjemisk dispergerbarhet","Nei",0.83,"2022-05-16",851,null,34,6606635,-227166,"Lille Prinsen 2022 Forvitringsrapport 2022.pdf"]
["Lille Prinsen 2022","Sommerforhold",{"$f":"Oljedatabase[[#This Row],[Oljetype]]&\"-\"&Oljedatabase[[#This Row],[SesongNy]]&\"-\"&Oljedatabase[[#This Row],[Vind (m/s)]]&\"-\"&Oljedatabase[[#This Row],[Tidspunkt (timer)]]","v":"Lille Prinsen 2022-Sommerforhold-15-6"},{"$f":"Oljedatabase[[#This Row],[Sesong]]","v":"Sommerforhold"},15,15,"6",0.70699999999999996,7820,"Redusert kjemisk dispergerbarhet",0.30399999999999999,0.255,0.441,106,"Ingen eksplosjonsfare",24.8,"Redusert kjemisk dispergerbarhet","Nei",0.87,"2022-05-16",851,null,34,6606635,-227166,"Lille Prinsen 2022 Forvitringsrapport 2022.pdf"]
["Lille Prinsen 2022","Sommerforhold",{"$f":"Oljedatabase[[#This Row],[Oljetype]]&\"-\"&Oljedatabase[[#This Row],[SesongNy]]&\"-\"&Oljedatabase[[#This Row],[Vind (m/s)]]&\"-\"&Oljedatabase[[#This Row],[Tidspunkt (timer)]]","v":"Lille Prinsen 2022-Sommerforhold-15-9"},{"$f":"Oljedatabase[[#This Row],[Sesong]]","v":"Sommerforhold"},15,15,"9",0.749,11100,"Redusert kjemisk dispergerbarhet",0.311,0.191,0.498,112,"Ingen eksplosjonsfare",25.9,"Redusert kjemisk dispergerbarhet","Ja",0.76,"2022-05-16",851,null,34,6606635,-227166,"Lille Prinsen 2022 Forvitringsrapport 2022.pdf"]
["Lille Prinsen 2022","Sommerforhold",{"$f":"Oljedatabase[[#This Row],[Oljetype]]&\"-\"&Oljedatabase[[#This Row],[SesongNy]]&\"-\"&Oljedatabase[[#This Row],[Vind (m/s)]]&\"-\"&Oljedatabase[[#This Row],[Tidspunkt (timer)]]","v":"Lille Prinsen 2022-Sommerforhold-15-12"},{"$f":"Oljedatabase[[#This Row],[Sesong]]","v":"Sommerforhold"},15,15,"12",0.75600000000000001,12700,"Lav/dårlig kjemisk dispergerbarhet",0.316,0.14499999999999999,0.53900000000000003,116,"Ingen eksplosjonsfare",26.7,"Redusert kjemisk dispergerbarhet","Ja",0.59,"2022-05-16",851,null,34,6606635,-227166,"Lille Prinsen 2022 Forvitringsrapport 2022.pdf"]
["Lille Prinsen 2022","Sommerforhold",{"$f":"Oljedatabase[[#This Row],[Oljetype]]&\"-\"&Oljedatabase[[#This Row],[SesongNy]]&\"-\"&Oljedatabase[[#This Row],[Vind (m/s)]]&\"-\"&Oljedatabase[[#This Row],[Tidspunkt (timer)]]","v":"Lille Prinsen 2022-Sommerforhold-15-24"},{"$f":"Oljedatabase[[#This Row],[Sesong]]","v":"Sommerforhold"},15,15,"24",0.75600000000000001,16500,"Lav/dårlig kjemisk dispergerbarhet",0.32500000000000001,5.2999999999999999E-2,0.622,127,"Ingen eksplosjonsfare",28.5,"Redusert kjemisk dispergerbarhet","Ja",0.22,"2022-05-16",851,null,34,6606635,-227166,"Lille Prinsen 2022 Forvitringsrapport 2022.pdf"]
["Lille Prinsen 2022","Sommerforhold",{"$f":"Oljedatabase[[#This Row],[Oljetype]]&\"-\"&Oljedatabase[[#This Row],[SesongNy]]&\"-\"&Oljedatabase[[#This Row],[Vind (m/s)]]&\"-\"&Oljedatabase[[#This Row],[Tidspunkt (timer)]]","v":"Lille Prinsen 2022-Sommerforhold-15-48"},{"$f":"Oljedatabase[[#This Row],[Sesong]]","v":"Sommerforhold"},15,15,"48",0.75600000000000001,21800,"Lav/dårlig kjemisk dispergerbarhet",0.32800000000000001,8.0000000000000002E-3,0.66400000000000003,139,"Ingen eksplosjonsfare",30.6,"Lav/dårlig kjemisk dispergerbarhet","Ja",0.03,"2022-05-16",851,null,34,6606635,-227166,"Lille Prinsen 2022 Forvitringsrapport 2022.pdf"]
["Lille Prinsen 2022","Sommerforhold",{"$f":"Oljedatabase[[#This Row],[Oljetype]]&\"-\"&Oljedatabase[[#This Row],[SesongNy]]&\"-\"&Oljedatabase[[#This Row],[Vind (m/s)]]&\"-\"&Oljedatabase[[#This Row],[Tidspunkt (timer)]]","v":"Lille Prinsen 2022-Sommerforhold-15-72"},{"$f":"Oljedatabase[[#This Row],[Sesong]]","v":"Sommerforhold"},15,15,"72",0.75600000000000001,26400,"Lav/dårlig kjemisk dispergerbarhet",0.32900000000000001,0,0.67100000000000004,148,"Ingen eksplosjonsfare",32,"Lav/dårlig kjemisk dispergerbarhet","Ja",0,"2022-05-16",851,null,34,6606635,-227166,"Lille Prinsen 2022 Forvitringsrapport 2022.pdf"]
["Lille Prinsen 2022","Sommerforhold",{"$f":"Oljedatabase[[#This Row],[Oljetype]]&\"-\"&Oljedatabase[[#This Row],[SesongNy]]&\"-\"&Oljedatabase[[#This Row],[Vind (m/s)]]&\"-\"&Oljedatabase[[#This Row],[Tidspunkt (timer)]]","v":"Lille Prinsen 2022-Sommerforhold-15-96"},{"$f":"Oljedatabase[[#This Row],[Sesong]]","v":"Sommerforhold"},15,15,"96",0.75600000000000001,30300,"Lav/dårlig kjemisk dispergerbarhet",0.32900000000000001,0,0.67100000000000004,154,"Ingen eksplosjonsfare",33,"Lav/dårlig kjemisk dispergerbarhet","Ja",0,"2022-05-16",851,null,34,6606635,-227166,"Lille Prinsen 2022 Forvitringsrapport 2022.pdf"]
["Lille Prinsen 2022","Sommerforhold",{"$f":"Oljedatabase[[#This Row],[Oljetype]]&\"-\"&Oljedatabase[[#This Row],[SesongNy]]&\"-\"&Oljedatabase[[#This Row],[Vind (m/s)]]&\"-\"&Oljedatabase[[#This Row],[Tidspunkt (timer)]]","v":"Lille Prinsen 2022-Sommerforhold-15-120"},{"$f":"Oljedatabase[[#This Row],[Sesong]]","v":"Sommerforhold"},15,15,"120",0.75600000000000001,33300,"Lav/dårlig kjemisk dispergerbarhet",0.32900000000000001,0,0.67100000000000004,158,"Ingen eksplosjonsfare",33.700000000000003,"Lav/dårlig kjemisk dispergerbarhet","Ja",0,"2022-05-16",851,null,34,6606635,-227166,"Lille Prinsen 2022 Forvitringsrapport 2022.pdf"]
["Lille Prinsen 2022","Vinterforhold",{"$f":"Oljedatabase[[#This Row],[Oljetype]]&\"-\"&Oljedatabase[[#This Row],[SesongNy]]&\"-\"&Oljedatabase[[#This Row],[Vind (m/s)]]&\"-\"&Oljedatabase[[#This Row],[Tidspunkt (timer)]]","v":"Lille Prinsen 2022-Vinterforhold-2-1"},{"$f":"Oljedatabase[[#This Row],[Sesong]]","v":"Vinterforhold"},5,2,"1",1.0999999999999999E-2,85,"Kjemisk dispergerbar",0.114,0.88600000000000001,0,26,"Eksplosjonsfare ved tanking",9.4,"Kjemisk dispergerbar","Nei",0.9,"2022-05-16",851,null,34,6606635,-227166,"Lille Prinsen 2022 Forvitringsrapport 2022.pdf"]
["Lille Prinsen 2022","Vinterforhold",{"$f":"Oljedatabase[[#This Row],[Oljetype]]&\"-\"&Oljedatabase[[#This Row],[SesongNy]]&\"-\"&Oljedatabase[[#This Row],[Vind (m/s)]]&\"-\"&Oljedatabase[[#This Row],[Tidspunkt (timer)]]","v":"Lille Prinsen 2022-Vinterforhold-2-2"},{"$f":"Oljedatabase[[#This Row],[Sesong]]","v":"Vinterforhold"},5,2,"2",2.1999999999999999E-2,142,"Kjemisk dispergerbar",0.156,0.84399999999999997,0,40,"Eksplosjonsfare ved tanking",12.3,"Redusert kjemisk dispergerbarhet","Nei",0.86,"2022-05-16",851,null,34,6606635,-227166,"Lille Prinsen 2022 Forvitringsrapport 2022.pdf"]
["Lille Prinsen 2022","Vinterforhold",{"$f":"Oljedatabase[[#This Row],[Oljetype]]&\"-\"&Oljedatabase[[#This Row],[SesongNy]]&\"-\"&Oljedatabase[[#This Row],[Vind (m/s)]]&\"-\"&Oljedatabase[[#This Row],[Tidspunkt (timer)]]","v":"Lille Prinsen 2022-Vinterforhold-2-3"},{"$f":"Oljedatabase[[#This Row],[Sesong]]","v":"Vinterforhold"},5,2,"3",3.2000000000000001E-2,188,"Kjemisk dispergerbar",0.17699999999999999,0.82299999999999995,0,48,"Eksplosjonsfare ved tanking",13.8,"Redusert kjemisk dispergerbarhet","Nei",0.85,"2022-05-16",851,null,34,6606635,-227166,"Lille Prinsen 2022 Forvitringsrapport 2022.pdf"]
["Lille Prinsen 2022","Vinterforhold",{"$f":"Oljedatabase[[#This Row],[Oljetype]]&\"-\"&Oljedatabase[[#This Row],[SesongNy]]&\"-\"&Oljedatabase[[#This Row],[Vind (m/s)]]&\"-\"&Oljedatabase[[#This Row],[Tidspunkt (timer)]]","v":"Lille Prinsen 2022-Vinterforhold-2-6"},{"$f":"Oljedatabase[[#This Row],[Sesong]]","v":"Vinterforhold"},5,2,"6",6.3E-2,293,"Kjemisk dispergerbar",0.20699999999999999,0.79300000000000004,0,58,"Eksplosjonsfare ved tanking",16,"Redusert kjemisk dispergerbarhet","Nei",0.85,"2022-05-16",851,null,34,6606635,-227166,"Lille Prinsen 2022 Forvitringsrapport 2022.pdf"]
["Lille Prinsen 2022","Vinterforhold",{"$f":"Oljedatabase[[#This Row],[Oljetype]]&\"-\"&Oljedatabase[[#This Row],[SesongNy]]&\"-\"&Oljedatabase[[#This Row],[Vind (m/s)]]&\"-\"&Oljedatabase[[#This Row],[Tidspunkt (timer)]]","v":"Lille Prinsen 2022-Vinterforhold-2-9"},{"$f":"Oljedatabase[[#This Row],[Sesong]]","v":"Vinterforhold"},5,2,"9",9.2999999999999999E-2,388,"Kjemisk dispergerbar",0.222,0.77800000000000002,0,64,"Ingen eksplosjonsfare",17.100000000000001,"Redusert kjemisk dispergerbarhet","Nei",0.86,"2022-05-16",851,null,34,6606635,-227166,"Lille Prinsen 2022 Forvitringsrapport 2022.pdf"]
["Lille Prinsen 2022","Vinterforhold",{"$f":"Oljedatabase[[#This Row],[Oljetype]]&\"-\"&Oljedatabase[[#This Row],[SesongNy]]&\"-\"&Oljedatabase[[#This Row],[Vind (m/s)]]&\"-\"&Oljedatabase[[#This Row],[Tidspunkt (timer)]]","v":"Lille Prinsen 2022-Vinterforhold-2-12"},{"$f":"Oljedatabase[[#This Row],[Sesong]]","v":"Vinterforhold"},5,2,"12",0.121,482,"Kjemisk dispergerbar",0.23200000000000001,0.76700000000000002,1E-3,68,"Ingen eksplosjonsfare",17.8,"Redusert kjemisk dispergerbarhet","Nei",0.87,"2022-05-16",851,null,34,6606635,-227166,"Lille Prinsen 2022 Forvitringsrapport 2022.pdf"]
["Lille Prinsen 2022","Vinterforhold",{"$f":"Oljedatabase[[#This Row],[Oljetype]]&\"-\"&Oljedatabase[[#This Row],[SesongNy]]&\"-\"&Oljedatabase[[#This Row],[Vind (m/s)]]&\"-\"&Oljedatabase[[#This Row],[Tidspunkt (timer)]]","v":"Lille Prinsen 2022-Vinterforhold-2-24"},{"$f":"Oljedatabase[[#This Row],[Sesong]]","v":"Vinterforhold"},5,2,"24",0.221,909,"Kjemisk dispergerbar",0.25600000000000001,0.74299999999999999,1E-3,77,"Ingen eksplosjonsfare",19.600000000000001,"Redusert kjemisk dispergerbarhet","Nei",0.95,"2022-05-16",851,null,34,6606635,-227166,"Lille Prinsen 2022 Forvitringsrapport 2022.pdf"]
["Lille Prinsen 2022","Vinterforhold",{"$f":"Oljedatabase[[#This Row],[Oljetype]]&\"-\"&Oljedatabase[[#This Row],[SesongNy]]&\"-\"&Oljedatabase[[#This Row],[Vind (m/s)]]&\"-\"&Oljedatabase[[#This Row],[Tidspunkt (timer)]]","v":"Lille Prinsen 2022-Vinterforhold-2-48"},{"$f":"Oljedatabase[[#This Row],[Sesong]]","v":"Vinterforhold"},5,2,"48",0.36799999999999999,2080,"Kjemisk dispergerbar",0.27900000000000003,0.72,1E-3,86,"Ingen eksplosjonsfare",21.2,"Lav/dårlig kjemisk dispergerbarhet","Nei",1.1399999999999999,"2022-05-16",851,null,34,6606635,-227166,"Lille Prinsen 2022 Forvitringsrapport 2022.pdf"]
["Lille Prinsen 2022","Vinterforhold",{"$f":"Oljedatabase[[#This Row],[Oljetype]]&\"-\"&Oljedatabase[[#This Row],[SesongNy]]&\"-\"&Oljedatabase[[#This Row],[Vind (m/s)]]&\"-\"&Oljedatabase[[#This Row],[Tidspunkt (timer)]]","v":"Lille Prinsen 2022-Vinterforhold-2-72"},{"$f":"Oljedatabase[[#This Row],[Sesong]]","v":"Vinterforhold"},5,2,"72",0.47299999999999998,3710,"Kjemisk dispergerbar",0.29299999999999998,0.70499999999999996,2E-3,91,"Ingen eksplosjonsfare",22.2,"Lav/dårlig kjemisk dispergerbarhet","Nei",1.34,"2022-05-16",851,null,34,6606635,-227166,"Lille Prinsen 2022 Forvitringsrapport 2022.pdf"]
["Lille Prinsen 2022","Vinterforhold",{"$f":"Oljedatabase[[#This Row],[Oljetype]]&\"-\"&Oljedatabase[[#This Row],[SesongNy]]&\"-\"&Oljedatabase[[#This Row],[Vind (m/s)]]&\"-\"&Oljedatabase[[#This Row],[Tidspunkt (timer)]]","v":"Lille Prinsen 2022-Vinterforhold-2-96"},{"$f":"Oljedatabase[[#This Row],[Sesong]]","v":"Vinterforhold"},5,2,"96",0.54700000000000004,5660,"Redusert kjemisk dispergerbarhet",0.30199999999999999,0.69599999999999995,2E-3,95,"Ingen eksplosjonsfare",22.9,"Lav/dårlig kjemisk dispergerbarhet","Nei",1.54,"2022-05-16",851,null,34,6606635,-227166,"Lille Prinsen 2022 Forvitringsrapport 2022.pdf"]
["Lille Prinsen 2022","Vinterforhold",{"$f":"Oljedatabase[[#This Row],[Oljetype]]&\"-\"&Oljedatabase[[#This Row],[SesongNy]]&\"-\"&Oljedatabase[[#This Row],[Vind (m/s)]]&\"-\"&Oljedatabase[[#This Row],[Tidspunkt (timer)]]","v":"Lille Prinsen 2022-Vinterforhold-2-120"},{"$f":"Oljedatabase[[#This Row],[Sesong]]","v":"Vinterforhold"},5,2,"120",0.59899999999999998,7720,"Redusert kjemisk dispergerbarhet",0.31,0.68799999999999994,2E-3,98,"Ingen eksplosjonsfare",23.5,"Lav/dårlig kjemisk dispergerbarhet","Nei",1.72,"2022-05-16",851,null,34,6606635,-227166,"Lille Prinsen 2022 Forvitringsrapport 2022.pdf"]
["Lille Prinsen 2022","Vinterforhold",{"$f":"Oljedatabase[[#This Row],[Oljetype]]&\"-\"&Oljedatabase[[#This Row],[SesongNy]]&\"-\"&Oljedatabase[[#This Row],[Vind (m/s)]]&\"-\"&Oljedatabase[[#This Row],[Tidspunkt (timer)]]","v":"Lille Prinsen 2022-Vinterforhold-5-1"},{"$f":"Oljedatabase[[#This Row],[Sesong]]","v":"Vinterforhold"},5,5,"1",4.2999999999999997E-2,156,"Kjemisk dispergerbar",0.157,0.84099999999999997,2E-3,41,"Eksplosjonsfare ved tanking",12.5,"Redusert kjemisk dispergerbarhet","Nei",0.88,"2022-05-16",851,null,34,6606635,-227166,"Lille Prinsen 2022 Forvitringsrapport 2022.pdf"]
["Lille Prinsen 2022","Vinterforhold",{"$f":"Oljedatabase[[#This Row],[Oljetype]]&\"-\"&Oljedatabase[[#This Row],[SesongNy]]&\"-\"&Oljedatabase[[#This Row],[Vind (m/s)]]&\"-\"&Oljedatabase[[#This Row],[Tidspunkt (timer)]]","v":"Lille Prinsen 2022-Vinterforhold-5-2"},{"$f":"Oljedatabase[[#This Row],[Sesong]]","v":"Vinterforhold"},5,5,"2",8.3000000000000004E-2,275,"Kjemisk dispergerbar",0.19500000000000001,0.80100000000000005,4.0000000000000001E-3,54,"Eksplosjonsfare ved tanking",15.1,"Redusert kjemisk dispergerbarhet","Nei",0.87,"2022-05-16",851,null,34,6606635,-227166,"Lille Prinsen 2022 Forvitringsrapport 2022.pdf"]
["Lille Prinsen 2022","Vinterforhold",{"$f":"Oljedatabase[[#This Row],[Oljetype]]&\"-\"&Oljedatabase[[#This Row],[SesongNy]]&\"-\"&Oljedatabase[[#This Row],[Vind (m/s)]]&\"-\"&Oljedatabase[[#This Row],[Tidspunkt (timer)]]","v":"Lille Prinsen 2022-Vinterforhold-5-3"},{"$f":"Oljedatabase[[#This Row],[Sesong]]","v":"Vinterforhold"},5,5,"3",0.121,385,"Kjemisk dispergerbar",0.21199999999999999,0.78200000000000003,6.0000000000000001E-3,61,"Ingen eksplosjonsfare",16.399999999999999,"Redusert kjemisk dispergerbarhet","Nei",0.89,"2022-05-16",851,null,34,6606635,-227166,"Lille Prinsen 2022 Forvitringsrapport 2022.pdf"]
["Lille Prinsen 2022","Vinterforhold",{"$f":"Oljedatabase[[#This Row],[Oljetype]]&\"-\"&Oljedatabase[[#This Row],[SesongNy]]&\"-\"&Oljedatabase[[#This Row],[Vind (m/s)]]&\"-\"&Oljedatabase[[#This Row],[Tidspunkt (timer)]]","v":"Lille Prinsen 2022-Vinterforhold-5-6"},{"$f":"Oljedatabase[[#This Row],[Sesong]]","v":"Vinterforhold"},5,5,"6",0.224,757,"Kjemisk dispergerbar",0.23899999999999999,0.75,1.0999999999999999E-2,70,"Ingen eksplosjonsfare",18.3,"Redusert kjemisk dispergerbarhet","Nei",0.97,"2022-05-16",851,null,34,6606635,-227166,"Lille Prinsen 2022 Forvitringsrapport 2022.pdf"]
["Lille Prinsen 2022","Vinterforhold",{"$f":"Oljedatabase[[#This Row],[Oljetype]]&\"-\"&Oljedatabase[[#This Row],[SesongNy]]&\"-\"&Oljedatabase[[#This Row],[Vind (m/s)]]&\"-\"&Oljedatabase[[#This Row],[Tidspunkt (timer)]]","v":"Lille Prinsen 2022-Vinterforhold-5-9"},{"$f":"Oljedatabase[[#This Row],[Sesong]]","v":"Vinterforhold"},5,5,"9",0.31,1230,"Kjemisk dispergerbar",0.253,0.73199999999999998,1.4999999999999999E-2,76,"Ingen eksplosjonsfare",19.3,"Redusert kjemisk dispergerbarhet","Nei",1.06,"2022-05-16",851,null,34,6606635,-227166,"Lille Prinsen 2022 Forvitringsrapport 2022.pdf"]
["Lille Prinsen 2022","Vinterforhold",{"$f":"Oljedatabase[[#This Row],[Oljetype]]&\"-\"&Oljedatabase[[#This Row],[SesongNy]]&\"-\"&Oljedatabase[[#This Row],[Vind (m/s)]]&\"-\"&Oljedatabase[[#This Row],[Tidspunkt (timer)]]","v":"Lille Prinsen 2022-Vinterforhold-5-12"},{"$f":"Oljedatabase[[#This Row],[Sesong]]","v":"Vinterforhold"},5,5,"12",0.378,1800,"Kjemisk dispergerbar",0.26200000000000001,0.71899999999999997,1.9E-2,80,"Ingen eksplosjonsfare",20,"Redusert kjemisk dispergerbarhet","Nei",1.1599999999999999,"2022-05-16",851,null,34,6606635,-227166,"Lille Prinsen 2022 Forvitringsrapport 2022.pdf"]
["Lille Prinsen 2022","Vinterforhold",{"$f":"Oljedatabase[[#This Row],[Oljetype]]&\"-\"&Oljedatabase[[#This Row],[SesongNy]]&\"-\"&Oljedatabase[[#This Row],[Vind (m/s)]]&\"-\"&Oljedatabase[[#This Row],[Tidspunkt (timer)]]","v":"Lille Prinsen 2022-Vinterforhold-5-24"},{"$f":"Oljedatabase[[#This Row],[Sesong]]","v":"Vinterforhold"},5,5,"24",0.56000000000000005,4990,"Redusert kjemisk dispergerbarhet",0.28499999999999998,0.68600000000000005,2.9000000000000001E-2,89,"Ingen eksplosjonsfare",21.8,"Lav/dårlig kjemisk dispergerbarhet","Nei",1.56,"2022-05-16",851,null,34,6606635,-227166,"Lille Prinsen 2022 Forvitringsrapport 2022.pdf"]
["Lille Prinsen 2022","Vinterforhold",{"$f":"Oljedatabase[[#This Row],[Oljetype]]&\"-\"&Oljedatabase[[#This Row],[SesongNy]]&\"-\"&Oljedatabase[[#This Row],[Vind (m/s)]]&\"-\"&Oljedatabase[[#This Row],[Tidspunkt (timer)]]","v":"Lille Prinsen 2022-Vinterforhold-5-48"},{"$f":"Oljedatabase[[#This Row],[Sesong]]","v":"Vinterforhold"},5,5,"48",0.69099999999999995,11700,"Redusert kjemisk dispergerbarhet",0.308,0.65,4.2000000000000003E-2,98,"Ingen eksplosjonsfare",23.5,"Lav/dårlig kjemisk dispergerbarhet","Ja",2.1,"2022-05-16",851,null,34,6606635,-227166,"Lille Prinsen 2022 Forvitringsrapport 2022.pdf"]
["Lille Prinsen 2022","Vinterforhold",{"$f":"Oljedatabase[[#This Row],[Oljetype]]&\"-\"&Oljedatabase[[#This Row],[SesongNy]]&\"-\"&Oljedatabase[[#This Row],[Vind (m/s)]]&\"-\"&Oljedatabase[[#This Row],[Tidspunkt (timer)]]","v":"Lille Prinsen 2022-Vinterforhold-5-72"},{"$f":"Oljedatabase[[#This Row],[Sesong]]","v":"Vinterforhold"},5,5,"72",0.71599999999999997,15300,"Lav/dårlig kjemisk dispergerbarhet",0.32200000000000001,0.625,5.2999999999999999E-2,104,"Ingen eksplosjonsfare",24.5,"Lav/dårlig kjemisk dispergerbarhet","Ja",2.2000000000000002,"2022-05-16",851,null,34,6606635,-227166,"Lille Prinsen 2022 Forvitringsrapport 2022.pdf"]
["Lille Prinsen 2022","Vinterforhold",{"$f":"Oljedatabase[[#This Row],[Oljetype]]&\"-\"&Oljedatabase[[#This Row],[SesongNy]]&\"-\"&Oljedatabase[[#This Row],[Vind (m/s)]]&\"-\"&Oljedatabase[[#This Row],[Tidspunkt (timer)]]","v":"Lille Prinsen 2022-Vinterforhold-5-96"},{"$f":"Oljedatabase[[#This Row],[Sesong]]","v":"Vinterforhold"},5,5,"96",0.71699999999999997,17200,"Lav/dårlig kjemisk dispergerbarhet",0.33100000000000002,0.60599999999999998,6.3E-2,108,"Ingen eksplosjonsfare",25.2,"Lav/dårlig kjemisk dispergerbarhet","Ja",2.14,"2022-05-16",851,null,34,6606635,-227166,"Lille Prinsen 2022 Forvitringsrapport 2022.pdf"]
["Lille Prinsen 2022","Vinterforhold",{"$f":"Oljedatabase[[#This Row],[Oljetype]]&\"-\"&Oljedatabase[[#This Row],[SesongNy]]&\"-\"&Oljedatabase[[#This Row],[Vind (m/s)]]&\"-\"&Oljedatabase[[#This Row],[Tidspunkt (timer)]]","v":"Lille Prinsen 2022-Vinterforhold-5-120"},{"$f":"Oljedatabase[[#This Row],[Sesong]]","v":"Vinterforhold"},5,5,"120",0.71699999999999997,18800,"Lav/dårlig kjemisk dispergerbarhet",0.33800000000000002,0.59,7.1999999999999995E-2,111,"Ingen eksplosjonsfare",25.8,"Lav/dårlig kjemisk dispergerbarhet","Ja",2.08,"2022-05-16",851,null,34,6606635,-227166,"Lille Prinsen 2022 Forvitringsrapport 2022.pdf"]
["Lille Prinsen 2022","Vinterforhold",{"$f":"Oljedatabase[[#This Row],[Oljetype]]&\"-\"&Oljedatabase[[#This Row],[SesongNy]]&\"-\"&Oljedatabase[[#This Row],[Vind (m/s)]]&\"-\"&Oljedatabase[[#This Row],[Tidspunkt (timer)]]","v":"Lille Prinsen 2022-Vinterforhold-10-1"},{"$f":"Oljedatabase[[#This Row],[Sesong]]","v":"Vinterforhold"},5,10,"1",0.13500000000000001,381,"Kjemisk dispergerbar",0.20599999999999999,0.75900000000000001,3.5000000000000003E-2,59,"Eksplosjonsfare ved tanking",16,"Redusert kjemisk dispergerbarhet","Nei",0.88,"2022-05-16",851,null,34,6606635,-227166,"Lille Prinsen 2022 Forvitringsrapport 2022.pdf"]
["Lille Prinsen 2022","Vinterforhold",{"$f":"Oljedatabase[[#This Row],[Oljetype]]&\"-\"&Oljedatabase[[#This Row],[SesongNy]]&\"-\"&Oljedatabase[[#This Row],[Vind (m/s)]]&\"-\"&Oljedatabase[[#This Row],[Tidspunkt (timer)]]","v":"Lille Prinsen 2022-Vinterforhold-10-2"},{"$f":"Oljedatabase[[#This Row],[Sesong]]","v":"Vinterforhold"},5,10,"2",0.247,800,"Kjemisk dispergerbar",0.23499999999999999,0.7,6.5000000000000002E-2,69,"Ingen eksplosjonsfare",18.100000000000001,"Redusert kjemisk dispergerbarhet","Nei",0.93,"2022-05-16",851,null,34,6606635,-227166,"Lille Prinsen 2022 Forvitringsrapport 2022.pdf"]
["Lille Prinsen 2022","Vinterforhold",{"$f":"Oljedatabase[[#This Row],[Oljetype]]&\"-\"&Oljedatabase[[#This Row],[SesongNy]]&\"-\"&Oljedatabase[[#This Row],[Vind (m/s)]]&\"-\"&Oljedatabase[[#This Row],[Tidspunkt (timer)]]","v":"Lille Prinsen 2022-Vinterforhold-10-3"},{"$f":"Oljedatabase[[#This Row],[Sesong]]","v":"Vinterforhold"},5,10,"3",0.33900000000000002,1350,"Kjemisk dispergerbar",0.249,0.66300000000000003,8.7999999999999995E-2,75,"Ingen eksplosjonsfare",19.2,"Redusert kjemisk dispergerbarhet","Nei",1,"2022-05-16",851,null,34,6606635,-227166,"Lille Prinsen 2022 Forvitringsrapport 2022.pdf"]
["Lille Prinsen 2022","Vinterforhold",{"$f":"Oljedatabase[[#This Row],[Oljetype]]&\"-\"&Oljedatabase[[#This Row],[SesongNy]]&\"-\"&Oljedatabase[[#This Row],[Vind (m/s)]]&\"-\"&Oljedatabase[[#This Row],[Tidspunkt (timer)]]","v":"Lille Prinsen 2022-Vinterforhold-10-6"},{"$f":"Oljedatabase[[#This Row],[Sesong]]","v":"Vinterforhold"},5,10,"6",0.51900000000000002,3700,"Redusert kjemisk dispergerbarhet",0.27100000000000002,0.59399999999999997,0.13500000000000001,84,"Ingen eksplosjonsfare",21,"Lav/dårlig kjemisk dispergerbarhet","Nei",1.23,"2022-05-16",851,null,34,6606635,-227166,"Lille Prinsen 2022 Forvitringsrapport 2022.pdf"]
["Lille Prinsen 2022","Vinterforhold",{"$f":"Oljedatabase[[#This Row],[Oljetype]]&\"-\"&Oljedatabase[[#This Row],[SesongNy]]&\"-\"&Oljedatabase[[#This Row],[Vind (m/s)]]&\"-\"&Oljedatabase[[#This Row],[Tidspunkt (timer)]]","v":"Lille Prinsen 2022-Vinterforhold-10-9"},{"$f":"Oljedatabase[[#This Row],[Sesong]]","v":"Vinterforhold"},5,10,"9",0.61899999999999999,6680,"Redusert kjemisk dispergerbarhet",0.28299999999999997,0.54900000000000004,0.16800000000000001,90,"Ingen eksplosjonsfare",22,"Lav/dårlig kjemisk dispergerbarhet","Nei",1.44,"2022-05-16",851,null,34,6606635,-227166,"Lille Prinsen 2022 Forvitringsrapport 2022.pdf"]
["Lille Prinsen 2022","Vinterforhold",{"$f":"Oljedatabase[[#This Row],[Oljetype]]&\"-\"&Oljedatabase[[#This Row],[SesongNy]]&\"-\"&Oljedatabase[[#This Row],[Vind (m/s)]]&\"-\"&Oljedatabase[[#This Row],[Tidspunkt (timer)]]","v":"Lille Prinsen 2022-Vinterforhold-10-12"},{"$f":"Oljedatabase[[#This Row],[Sesong]]","v":"Vinterforhold"},5,10,"12",0.67300000000000004,9520,"Redusert kjemisk dispergerbarhet",0.29099999999999998,0.51500000000000001,0.19400000000000001,94,"Ingen eksplosjonsfare",22.7,"Lav/dårlig kjemisk dispergerbarhet","Nei",1.57,"2022-05-16",851,null,34,6606635,-227166,"Lille Prinsen 2022 Forvitringsrapport 2022.pdf"]
["Lille Prinsen 2022","Vinterforhold",{"$f":"Oljedatabase[[#This Row],[Oljetype]]&\"-\"&Oljedatabase[[#This Row],[SesongNy]]&\"-\"&Oljedatabase[[#This Row],[Vind (m/s)]]&\"-\"&Oljedatabase[[#This Row],[Tidspunkt (timer)]]","v":"Lille Prinsen 2022-Vinterforhold-10-24"},{"$f":"Oljedatabase[[#This Row],[Sesong]]","v":"Vinterforhold"},5,10,"24",0.72199999999999998,15700,"Lav/dårlig kjemisk dispergerbarhet",0.31,0.42099999999999999,0.26900000000000002,104,"Ingen eksplosjonsfare",24.5,"Lav/dårlig kjemisk dispergerbarhet","Ja",1.51,"2022-05-16",851,null,34,6606635,-227166,"Lille Prinsen 2022 Forvitringsrapport 2022.pdf"]
["Lille Prinsen 2022","Vinterforhold",{"$f":"Oljedatabase[[#This Row],[Oljetype]]&\"-\"&Oljedatabase[[#This Row],[SesongNy]]&\"-\"&Oljedatabase[[#This Row],[Vind (m/s)]]&\"-\"&Oljedatabase[[#This Row],[Tidspunkt (timer)]]","v":"Lille Prinsen 2022-Vinterforhold-10-48"},{"$f":"Oljedatabase[[#This Row],[Sesong]]","v":"Vinterforhold"},5,10,"48",0.72199999999999998,20500,"Lav/dårlig kjemisk dispergerbarhet",0.32700000000000001,0.30099999999999999,0.372,114,"Ingen eksplosjonsfare",26.2,"Lav/dårlig kjemisk dispergerbarhet","Ja",1.08,"2022-05-16",851,null,34,6606635,-227166,"Lille Prinsen 2022 Forvitringsrapport 2022.pdf"]
["Lille Prinsen 2022","Vinterforhold",{"$f":"Oljedatabase[[#This Row],[Oljetype]]&\"-\"&Oljedatabase[[#This Row],[SesongNy]]&\"-\"&Oljedatabase[[#This Row],[Vind (m/s)]]&\"-\"&Oljedatabase[[#This Row],[Tidspunkt (timer)]]","v":"Lille Prinsen 2022-Vinterforhold-10-72"},{"$f":"Oljedatabase[[#This Row],[Sesong]]","v":"Vinterforhold"},5,10,"72",0.72199999999999998,24000,"Lav/dårlig kjemisk dispergerbarhet",0.33500000000000002,0.223,0.442,120,"Ingen eksplosjonsfare",27.2,"Lav/dårlig kjemisk dispergerbarhet","Ja",0.8,"2022-05-16",851,null,34,6606635,-227166,"Lille Prinsen 2022 Forvitringsrapport 2022.pdf"]
["Lille Prinsen 2022","Vinterforhold",{"$f":"Oljedatabase[[#This Row],[Oljetype]]&\"-\"&Oljedatabase[[#This Row],[SesongNy]]&\"-\"&Oljedatabase[[#This Row],[Vind (m/s)]]&\"-\"&Oljedatabase[[#This Row],[Tidspunkt (timer)]]","v":"Lille Prinsen 2022-Vinterforhold-10-96"},{"$f":"Oljedatabase[[#This Row],[Sesong]]","v":"Vinterforhold"},5,10,"96",0.72199999999999998,26800,"Lav/dårlig kjemisk dispergerbarhet",0.34,0.16800000000000001,0.49199999999999999,124,"Ingen eksplosjonsfare",28,"Lav/dårlig kjemisk dispergerbarhet","Ja",0.6,"2022-05-16",851,null,34,6606635,-227166,"Lille Prinsen 2022 Forvitringsrapport 2022.pdf"]
["Lille Prinsen 2022","Vinterforhold",{"$f":"Oljedatabase[[#This Row],[Oljetype]]&\"-\"&Oljedatabase[[#This Row],[SesongNy]]&\"-\"&Oljedatabase[[#This Row],[Vind (m/s)]]&\"-\"&Oljedatabase[[#This Row],[Tidspunkt (timer)]]","v":"Lille Prinsen 2022-Vinterforhold-10-120"},{"$f":"Oljedatabase[[#This Row],[Sesong]]","v":"Vinterforhold"},5,10,"120",0.72199999999999998,29200,"Lav/dårlig kjemisk dispergerbarhet",0.34399999999999997,0.127,0.52900000000000003,127,"Ingen eksplosjonsfare",28.5,"Lav/dårlig kjemisk dispergerbarhet","Ja",0.46,"2022-05-16",851,null,34,6606635,-227166,"Lille Prinsen 2022 Forvitringsrapport 2022.pdf"]
["Lille Prinsen 2022","Vinterforhold",{"$f":"Oljedatabase[[#This Row],[Oljetype]]&\"-\"&Oljedatabase[[#This Row],[SesongNy]]&\"-\"&Oljedatabase[[#This Row],[Vind (m/s)]]&\"-\"&Oljedatabase[[#This Row],[Tidspunkt (timer)]]","v":"Lille Prinsen 2022-Vinterforhold-15-1"},{"$f":"Oljedatabase[[#This Row],[Sesong]]","v":"Vinterforhold"},5,15,"1",0.25800000000000001,815,"Kjemisk dispergerbar",0.22900000000000001,0.60899999999999999,0.16200000000000001,69,"Ingen eksplosjonsfare",18,"Redusert kjemisk dispergerbarhet","Nei",0.82,"2022-05-16",851,null,34,6606635,-227166,"Lille Prinsen 2022 Forvitringsrapport 2022.pdf"]
["Lille Prinsen 2022","Vinterforhold",{"$f":"Oljedatabase[[#This Row],[Oljetype]]&\"-\"&Oljedatabase[[#This Row],[SesongNy]]&\"-\"&Oljedatabase[[#This Row],[Vind (m/s)]]&\"-\"&Oljedatabase[[#This Row],[Tidspunkt (timer)]]","v":"Lille Prinsen 2022-Vinterforhold-15-2"},{"$f":"Oljedatabase[[#This Row],[Sesong]]","v":"Vinterforhold"},5,15,"2",0.42799999999999999,2120,"Kjemisk dispergerbar",0.251,0.49399999999999999,0.255,78,"Ingen eksplosjonsfare",19.8,"Redusert kjemisk dispergerbarhet","Nei",0.86,"2022-05-16",851,null,34,6606635,-227166,"Lille Prinsen 2022 Forvitringsrapport 2022.pdf"]
["Lille Prinsen 2022","Vinterforhold",{"$f":"Oljedatabase[[#This Row],[Oljetype]]&\"-\"&Oljedatabase[[#This Row],[SesongNy]]&\"-\"&Oljedatabase[[#This Row],[Vind (m/s)]]&\"-\"&Oljedatabase[[#This Row],[Tidspunkt (timer)]]","v":"Lille Prinsen 2022-Vinterforhold-15-3"},{"$f":"Oljedatabase[[#This Row],[Sesong]]","v":"Vinterforhold"},5,15,"3",0.53700000000000003,3930,"Redusert kjemisk dispergerbarhet",0.26200000000000001,0.42499999999999999,0.313,84,"Ingen eksplosjonsfare",20.9,"Lav/dårlig kjemisk dispergerbarhet","Nei",0.92,"2022-05-16",851,null,34,6606635,-227166,"Lille Prinsen 2022 Forvitringsrapport 2022.pdf"]
["Lille Prinsen 2022","Vinterforhold",{"$f":"Oljedatabase[[#This Row],[Oljetype]]&\"-\"&Oljedatabase[[#This Row],[SesongNy]]&\"-\"&Oljedatabase[[#This Row],[Vind (m/s)]]&\"-\"&Oljedatabase[[#This Row],[Tidspunkt (timer)]]","v":"Lille Prinsen 2022-Vinterforhold-15-6"},{"$f":"Oljedatabase[[#This Row],[Sesong]]","v":"Vinterforhold"},5,15,"6",0.68500000000000005,9910,"Redusert kjemisk dispergerbarhet",0.27800000000000002,0.30499999999999999,0.41699999999999998,93,"Ingen eksplosjonsfare",22.6,"Lav/dårlig kjemisk dispergerbarhet","Nei",0.97,"2022-05-16",851,null,34,6606635,-227166,"Lille Prinsen 2022 Forvitringsrapport 2022.pdf"]
["Lille Prinsen 2022","Vinterforhold",{"$f":"Oljedatabase[[#This Row],[Oljetype]]&\"-\"&Oljedatabase[[#This Row],[SesongNy]]&\"-\"&Oljedatabase[[#This Row],[Vind (m/s)]]&\"-\"&Oljedatabase[[#This Row],[Tidspunkt (timer)]]","v":"Lille Prinsen 2022-Vinterforhold-15-9"},{"$f":"Oljedatabase[[#This Row],[Sesong]]","v":"Vinterforhold"},5,15,"9",0.72199999999999998,13700,"Lav/dårlig kjemisk dispergerbarhet",0.28599999999999998,0.23499999999999999,0.47899999999999998,99,"Ingen eksplosjonsfare",23.6,"Lav/dårlig kjemisk dispergerbarhet","Ja",0.85,"2022-05-16",851,null,34,6606635,-227166,"Lille Prinsen 2022 Forvitringsrapport 2022.pdf"]
["Lille Prinsen 2022","Vinterforhold",{"$f":"Oljedatabase[[#This Row],[Oljetype]]&\"-\"&Oljedatabase[[#This Row],[SesongNy]]&\"-\"&Oljedatabase[[#This Row],[Vind (m/s)]]&\"-\"&Oljedatabase[[#This Row],[Tidspunkt (timer)]]","v":"Lille Prinsen 2022-Vinterforhold-15-12"},{"$f":"Oljedatabase[[#This Row],[Sesong]]","v":"Vinterforhold"},5,15,"12",0.72599999999999998,15700,"Lav/dårlig kjemisk dispergerbarhet",0.29099999999999998,0.185,0.52400000000000002,103,"Ingen eksplosjonsfare",24.4,"Lav/dårlig kjemisk dispergerbarhet","Ja",0.68,"2022-05-16",851,null,34,6606635,-227166,"Lille Prinsen 2022 Forvitringsrapport 2022.pdf"]
["Lille Prinsen 2022","Vinterforhold",{"$f":"Oljedatabase[[#This Row],[Oljetype]]&\"-\"&Oljedatabase[[#This Row],[SesongNy]]&\"-\"&Oljedatabase[[#This Row],[Vind (m/s)]]&\"-\"&Oljedatabase[[#This Row],[Tidspunkt (timer)]]","v":"Lille Prinsen 2022-Vinterforhold-15-24"},{"$f":"Oljedatabase[[#This Row],[Sesong]]","v":"Vinterforhold"},5,15,"24",0.72599999999999998,20600,"Lav/dårlig kjemisk dispergerbarhet",0.3,7.8E-2,0.622,113,"Ingen eksplosjonsfare",26.1,"Lav/dårlig kjemisk dispergerbarhet","Ja",0.28000000000000003,"2022-05-16",851,null,34,6606635,-227166,"Lille Prinsen 2022 Forvitringsrapport 2022.pdf"]
["Lille Prinsen 2022","Vinterforhold",{"$f":"Oljedatabase[[#This Row],[Oljetype]]&\"-\"&Oljedatabase[[#This Row],[SesongNy]]&\"-\"&Oljedatabase[[#This Row],[Vind (m/s)]]&\"-\"&Oljedatabase[[#This Row],[Tidspunkt (timer)]]","v":"Lille Prinsen 2022-Vinterforhold-15-48"},{"$f":"Oljedatabase[[#This Row],[Sesong]]","v":"Vinterforhold"},5,15,"48",0.72599999999999998,26900,"Lav/dårlig kjemisk dispergerbarhet",0.30499999999999999,1.4999999999999999E-2,0.68,123,"Ingen eksplosjonsfare",27.9,"Lav/dårlig kjemisk dispergerbarhet","Ja",0.05,"2022-05-16",851,null,34,6606635,-227166,"Lille Prinsen 2022 Forvitringsrapport 2022.pdf"]
["Lille Prinsen 2022","Vinterforhold",{"$f":"Oljedatabase[[#This Row],[Oljetype]]&\"-\"&Oljedatabase[[#This Row],[SesongNy]]&\"-\"&Oljedatabase[[#This Row],[Vind (m/s)]]&\"-\"&Oljedatabase[[#This Row],[Tidspunkt (timer)]]","v":"Lille Prinsen 2022-Vinterforhold-15-72"},{"$f":"Oljedatabase[[#This Row],[Sesong]]","v":"Vinterforhold"},5,15,"72",0.72599999999999998,31500,"Lav/dårlig kjemisk dispergerbarhet",0.30499999999999999,3.0000000000000001E-3,0.69199999999999995,129,"Ingen eksplosjonsfare",28.9,"Lav/dårlig kjemisk dispergerbarhet","Ja",0.01,"2022-05-16",851,null,34,6606635,-227166,"Lille Prinsen 2022 Forvitringsrapport 2022.pdf"]
["Lille Prinsen 2022","Vinterforhold",{"$f":"Oljedatabase[[#This Row],[Oljetype]]&\"-\"&Oljedatabase[[#This Row],[SesongNy]]&\"-\"&Oljedatabase[[#This Row],[Vind (m/s)]]&\"-\"&Oljedatabase[[#This Row],[Tidspunkt (timer)]]","v":"Lille Prinsen 2022-Vinterforhold-15-96"},{"$f":"Oljedatabase[[#This Row],[Sesong]]","v":"Vinterforhold"},5,15,"96",0.72599999999999998,35500,"Lav/dårlig kjemisk dispergerbarhet",0.30499999999999999,0,0.69499999999999995,134,"Ingen eksplosjonsfare",29.7,"Lav/dårlig kjemisk dispergerbarhet","Ja",0,"2022-05-16",851,null,34,6606635,-227166,"Lille Prinsen 2022 Forvitringsrapport 2022.pdf"]
["Lille Prinsen 2022","Vinterforhold",{"$f":"Oljedatabase[[#This Row],[Oljetype]]&\"-\"&Oljedatabase[[#This Row],[SesongNy]]&\"-\"&Oljedatabase[[#This Row],[Vind (m/s)]]&\"-\"&Oljedatabase[[#This Row],[Tidspunkt (timer)]]","v":"Lille Prinsen 2022-Vinterforhold-15-120"},{"$f":"Oljedatabase[[#This Row],[Sesong]]","v":"Vinterforhold"},5,15,"120",0.72599999999999998,39300,"Lav/dårlig kjemisk dispergerbarhet",0.30499999999999999,0,0.69499999999999995,138,"Ingen eksplosjonsfare",30.4,"Lav/dårlig kjemisk dispergerbarhet","Ja",0,"2022-05-16",851,null,34,6606635,-227166,"Lille Prinsen 2022 Forvitringsrapport 2022.pdf"]
["TOR ll 2022","Sommerforhold",{"$f":"Oljedatabase[[#This Row],[Oljetype]]&\"-\"&Oljedatabase[[#This Row],[SesongNy]]&\"-\"&Oljedatabase[[#This Row],[Vind (m/s)]]&\"-\"&Oljedatabase[[#This Row],[Tidspunkt (timer)]]","v":"TOR ll 2022-Sommerforhold-2-1"},{"$f":"Oljedatabase[[#This Row],[Sesong]]","v":"Sommerforhold"},15,2,"1",2.4E-2,102,"Redusert kjemisk dispergerbarhet",0.14399999999999999,0.85599999999999998,0,36,"Eksplosjonsfare ved tanking",14.7,"Kjemisk dispergerbar","Nei",0.88,"2022-05-19",834,null,38,6338578,-214012,"TOR ll 2022 Forvitringsrapport.pdf"]
["TOR ll 2022","Sommerforhold",{"$f":"Oljedatabase[[#This Row],[Oljetype]]&\"-\"&Oljedatabase[[#This Row],[SesongNy]]&\"-\"&Oljedatabase[[#This Row],[Vind (m/s)]]&\"-\"&Oljedatabase[[#This Row],[Tidspunkt (timer)]]","v":"TOR ll 2022-Sommerforhold-2-2"},{"$f":"Oljedatabase[[#This Row],[Sesong]]","v":"Sommerforhold"},15,2,"2",4.7E-2,182,"Redusert kjemisk dispergerbarhet",0.189,0.81100000000000005,0,50,"Eksplosjonsfare ved tanking",17.100000000000001,"Kjemisk dispergerbar","Nei",0.85,"2022-05-19",834,null,38,6338578,-214012,"TOR ll 2022 Forvitringsrapport.pdf"]
["TOR ll 2022","Sommerforhold",{"$f":"Oljedatabase[[#This Row],[Oljetype]]&\"-\"&Oljedatabase[[#This Row],[SesongNy]]&\"-\"&Oljedatabase[[#This Row],[Vind (m/s)]]&\"-\"&Oljedatabase[[#This Row],[Tidspunkt (timer)]]","v":"TOR ll 2022-Sommerforhold-2-3"},{"$f":"Oljedatabase[[#This Row],[Sesong]]","v":"Sommerforhold"},15,2,"3",7.0000000000000007E-2,250,"Redusert kjemisk dispergerbarhet",0.21099999999999999,0.78900000000000003,0,58,"Eksplosjonsfare ved tanking",18.3,"Kjemisk dispergerbar","Nei",0.85,"2022-05-19",834,null,38,6338578,-214012,"TOR ll 2022 Forvitringsrapport.pdf"]
["TOR ll 2022","Sommerforhold",{"$f":"Oljedatabase[[#This Row],[Oljetype]]&\"-\"&Oljedatabase[[#This Row],[SesongNy]]&\"-\"&Oljedatabase[[#This Row],[Vind (m/s)]]&\"-\"&Oljedatabase[[#This Row],[Tidspunkt (timer)]]","v":"TOR ll 2022-Sommerforhold-2-6"},{"$f":"Oljedatabase[[#This Row],[Sesong]]","v":"Sommerforhold"},15,2,"6",0.13300000000000001,426,"Redusert kjemisk dispergerbarhet",0.24399999999999999,0.75600000000000001,0,68,"Ingen eksplosjonsfare",20,"Kjemisk dispergerbar","Nei",0.87,"2022-05-19",834,null,38,6338578,-214012,"TOR ll 2022 Forvitringsrapport.pdf"]
["TOR ll 2022","Sommerforhold",{"$f":"Oljedatabase[[#This Row],[Oljetype]]&\"-\"&Oljedatabase[[#This Row],[SesongNy]]&\"-\"&Oljedatabase[[#This Row],[Vind (m/s)]]&\"-\"&Oljedatabase[[#This Row],[Tidspunkt (timer)]]","v":"TOR ll 2022-Sommerforhold-2-9"},{"$f":"Oljedatabase[[#This Row],[Sesong]]","v":"Sommerforhold"},15,2,"9",0.191,594,"Redusert kjemisk dispergerbarhet",0.26200000000000001,0.73799999999999999,0,75,"Ingen eksplosjonsfare",21,"Redusert kjemisk dispergerbarhet","Nei",0.91,"2022-05-19",834,null,38,6338578,-214012,"TOR ll 2022 Forvitringsrapport.pdf"]
["TOR ll 2022","Sommerforhold",{"$f":"Oljedatabase[[#This Row],[Oljetype]]&\"-\"&Oljedatabase[[#This Row],[SesongNy]]&\"-\"&Oljedatabase[[#This Row],[Vind (m/s)]]&\"-\"&Oljedatabase[[#This Row],[Tidspunkt (timer)]]","v":"TOR ll 2022-Sommerforhold-2-12"},{"$f":"Oljedatabase[[#This Row],[Sesong]]","v":"Sommerforhold"},15,2,"12",0.24399999999999999,761,"Redusert kjemisk dispergerbarhet",0.27400000000000002,0.72599999999999998,0,79,"Ingen eksplosjonsfare",21.6,"Redusert kjemisk dispergerbarhet","Nei",0.96,"2022-05-19",834,null,38,6338578,-214012,"TOR ll 2022 Forvitringsrapport.pdf"]
["TOR ll 2022","Sommerforhold",{"$f":"Oljedatabase[[#This Row],[Oljetype]]&\"-\"&Oljedatabase[[#This Row],[SesongNy]]&\"-\"&Oljedatabase[[#This Row],[Vind (m/s)]]&\"-\"&Oljedatabase[[#This Row],[Tidspunkt (timer)]]","v":"TOR ll 2022-Sommerforhold-2-24"},{"$f":"Oljedatabase[[#This Row],[Sesong]]","v":"Sommerforhold"},15,2,"24",0.41399999999999998,1420,"Redusert kjemisk dispergerbarhet",0.30199999999999999,0.69699999999999995,1E-3,89,"Ingen eksplosjonsfare",23.1,"Redusert kjemisk dispergerbarhet","Nei",1.19,"2022-05-19",834,null,38,6338578,-214012,"TOR ll 2022 Forvitringsrapport.pdf"]
["TOR ll 2022","Sommerforhold",{"$f":"Oljedatabase[[#This Row],[Oljetype]]&\"-\"&Oljedatabase[[#This Row],[SesongNy]]&\"-\"&Oljedatabase[[#This Row],[Vind (m/s)]]&\"-\"&Oljedatabase[[#This Row],[Tidspunkt (timer)]]","v":"TOR ll 2022-Sommerforhold-2-48"},{"$f":"Oljedatabase[[#This Row],[Sesong]]","v":"Sommerforhold"},15,2,"48",0.61299999999999999,2550,"Redusert kjemisk dispergerbarhet",0.32900000000000001,0.67,1E-3,98,"Ingen eksplosjonsfare",24.6,"Redusert kjemisk dispergerbarhet","Nei",1.73,"2022-05-19",834,null,38,6338578,-214012,"TOR ll 2022 Forvitringsrapport.pdf"]
["TOR ll 2022","Sommerforhold",{"$f":"Oljedatabase[[#This Row],[Oljetype]]&\"-\"&Oljedatabase[[#This Row],[SesongNy]]&\"-\"&Oljedatabase[[#This Row],[Vind (m/s)]]&\"-\"&Oljedatabase[[#This Row],[Tidspunkt (timer)]]","v":"TOR ll 2022-Sommerforhold-2-72"},{"$f":"Oljedatabase[[#This Row],[Sesong]]","v":"Sommerforhold"},15,2,"72",0.71,3400,"Redusert kjemisk dispergerbarhet",0.34300000000000003,0.65500000000000003,2E-3,104,"Ingen eksplosjonsfare",25.4,"Redusert kjemisk dispergerbarhet","Nei",2.2599999999999998,"2022-05-19",834,null,38,6338578,-214012,"TOR ll 2022 Forvitringsrapport.pdf"]
["TOR ll 2022","Sommerforhold",{"$f":"Oljedatabase[[#This Row],[Oljetype]]&\"-\"&Oljedatabase[[#This Row],[SesongNy]]&\"-\"&Oljedatabase[[#This Row],[Vind (m/s)]]&\"-\"&Oljedatabase[[#This Row],[Tidspunkt (timer)]]","v":"TOR ll 2022-Sommerforhold-2-96"},{"$f":"Oljedatabase[[#This Row],[Sesong]]","v":"Sommerforhold"},15,2,"96",0.75600000000000001,4040,"Redusert kjemisk dispergerbarhet",0.35399999999999998,0.64400000000000002,2E-3,107,"Ingen eksplosjonsfare",25.9,"Redusert kjemisk dispergerbarhet","Nei",2.64,"2022-05-19",834,null,38,6338578,-214012,"TOR ll 2022 Forvitringsrapport.pdf"]
["TOR ll 2022","Sommerforhold",{"$f":"Oljedatabase[[#This Row],[Oljetype]]&\"-\"&Oljedatabase[[#This Row],[SesongNy]]&\"-\"&Oljedatabase[[#This Row],[Vind (m/s)]]&\"-\"&Oljedatabase[[#This Row],[Tidspunkt (timer)]]","v":"TOR ll 2022-Sommerforhold-2-120"},{"$f":"Oljedatabase[[#This Row],[Sesong]]","v":"Sommerforhold"},15,2,"120",0.77900000000000003,4520,"Redusert kjemisk dispergerbarhet",0.36199999999999999,0.63600000000000001,2E-3,110,"Ingen eksplosjonsfare",26.4,"Redusert kjemisk dispergerbarhet","Nei",2.88,"2022-05-19",834,null,38,6338578,-214012,"TOR ll 2022 Forvitringsrapport.pdf"]
["TOR ll 2022","Sommerforhold",{"$f":"Oljedatabase[[#This Row],[Oljetype]]&\"-\"&Oljedatabase[[#This Row],[SesongNy]]&\"-\"&Oljedatabase[[#This Row],[Vind (m/s)]]&\"-\"&Oljedatabase[[#This Row],[Tidspunkt (timer)]]","v":"TOR ll 2022-Sommerforhold-5-1"},{"$f":"Oljedatabase[[#This Row],[Sesong]]","v":"Sommerforhold"},15,5,"1",9.0999999999999998E-2,209,"Redusert kjemisk dispergerbarhet",0.191,0.80700000000000005,2E-3,51,"Eksplosjonsfare ved tanking",17.2,"Kjemisk dispergerbar","Nei",0.89,"2022-05-19",834,null,38,6338578,-214012,"TOR ll 2022 Forvitringsrapport.pdf"]
["TOR ll 2022","Sommerforhold",{"$f":"Oljedatabase[[#This Row],[Oljetype]]&\"-\"&Oljedatabase[[#This Row],[SesongNy]]&\"-\"&Oljedatabase[[#This Row],[Vind (m/s)]]&\"-\"&Oljedatabase[[#This Row],[Tidspunkt (timer)]]","v":"TOR ll 2022-Sommerforhold-5-2"},{"$f":"Oljedatabase[[#This Row],[Sesong]]","v":"Sommerforhold"},15,5,"2",0.17199999999999999,401,"Redusert kjemisk dispergerbarhet",0.23100000000000001,0.76500000000000001,4.0000000000000001E-3,64,"Ingen eksplosjonsfare",19.3,"Kjemisk dispergerbar","Nei",0.92,"2022-05-19",834,null,38,6338578,-214012,"TOR ll 2022 Forvitringsrapport.pdf"]
["TOR ll 2022","Sommerforhold",{"$f":"Oljedatabase[[#This Row],[Oljetype]]&\"-\"&Oljedatabase[[#This Row],[SesongNy]]&\"-\"&Oljedatabase[[#This Row],[Vind (m/s)]]&\"-\"&Oljedatabase[[#This Row],[Tidspunkt (timer)]]","v":"TOR ll 2022-Sommerforhold-5-3"},{"$f":"Oljedatabase[[#This Row],[Sesong]]","v":"Sommerforhold"},15,5,"3",0.24399999999999999,585,"Redusert kjemisk dispergerbarhet",0.251,0.74299999999999999,6.0000000000000001E-3,71,"Ingen eksplosjonsfare",20.399999999999999,"Redusert kjemisk dispergerbarhet","Nei",0.98,"2022-05-19",834,null,38,6338578,-214012,"TOR ll 2022 Forvitringsrapport.pdf"]
["TOR ll 2022","Sommerforhold",{"$f":"Oljedatabase[[#This Row],[Oljetype]]&\"-\"&Oljedatabase[[#This Row],[SesongNy]]&\"-\"&Oljedatabase[[#This Row],[Vind (m/s)]]&\"-\"&Oljedatabase[[#This Row],[Tidspunkt (timer)]]","v":"TOR ll 2022-Sommerforhold-5-6"},{"$f":"Oljedatabase[[#This Row],[Sesong]]","v":"Sommerforhold"},15,5,"6",0.41399999999999998,1120,"Redusert kjemisk dispergerbarhet",0.28199999999999997,0.70799999999999996,0.01,81,"Ingen eksplosjonsfare",22,"Redusert kjemisk dispergerbarhet","Nei",1.21,"2022-05-19",834,null,38,6338578,-214012,"TOR ll 2022 Forvitringsrapport.pdf"]
["TOR ll 2022","Sommerforhold",{"$f":"Oljedatabase[[#This Row],[Oljetype]]&\"-\"&Oljedatabase[[#This Row],[SesongNy]]&\"-\"&Oljedatabase[[#This Row],[Vind (m/s)]]&\"-\"&Oljedatabase[[#This Row],[Tidspunkt (timer)]]","v":"TOR ll 2022-Sommerforhold-5-9"},{"$f":"Oljedatabase[[#This Row],[Sesong]]","v":"Sommerforhold"},15,5,"9",0.53200000000000003,1620,"Redusert kjemisk dispergerbarhet",0.29799999999999999,0.68799999999999994,1.4E-2,87,"Ingen eksplosjonsfare",22.9,"Redusert kjemisk dispergerbarhet","Nei",1.47,"2022-05-19",834,null,38,6338578,-214012,"TOR ll 2022 Forvitringsrapport.pdf"]
["TOR ll 2022","Sommerforhold",{"$f":"Oljedatabase[[#This Row],[Oljetype]]&\"-\"&Oljedatabase[[#This Row],[SesongNy]]&\"-\"&Oljedatabase[[#This Row],[Vind (m/s)]]&\"-\"&Oljedatabase[[#This Row],[Tidspunkt (timer)]]","v":"TOR ll 2022-Sommerforhold-5-12"},{"$f":"Oljedatabase[[#This Row],[Sesong]]","v":"Sommerforhold"},15,5,"12",0.61299999999999999,2060,"Redusert kjemisk dispergerbarhet",0.309,0.67400000000000004,1.7000000000000001E-2,91,"Ingen eksplosjonsfare",23.6,"Redusert kjemisk dispergerbarhet","Nei",1.74,"2022-05-19",834,null,38,6338578,-214012,"TOR ll 2022 Forvitringsrapport.pdf"]
["TOR ll 2022","Sommerforhold",{"$f":"Oljedatabase[[#This Row],[Oljetype]]&\"-\"&Oljedatabase[[#This Row],[SesongNy]]&\"-\"&Oljedatabase[[#This Row],[Vind (m/s)]]&\"-\"&Oljedatabase[[#This Row],[Tidspunkt (timer)]]","v":"TOR ll 2022-Sommerforhold-5-24"},{"$f":"Oljedatabase[[#This Row],[Sesong]]","v":"Sommerforhold"},15,5,"24",0.75600000000000001,3300,"Redusert kjemisk dispergerbarhet",0.33500000000000002,0.63700000000000001,2.8000000000000001E-2,101,"Ingen eksplosjonsfare",25,"Redusert kjemisk dispergerbarhet","Nei",2.61,"2022-05-19",834,null,38,6338578,-214012,"TOR ll 2022 Forvitringsrapport.pdf"]
["TOR ll 2022","Sommerforhold",{"$f":"Oljedatabase[[#This Row],[Oljetype]]&\"-\"&Oljedatabase[[#This Row],[SesongNy]]&\"-\"&Oljedatabase[[#This Row],[Vind (m/s)]]&\"-\"&Oljedatabase[[#This Row],[Tidspunkt (timer)]]","v":"TOR ll 2022-Sommerforhold-5-48"},{"$f":"Oljedatabase[[#This Row],[Sesong]]","v":"Sommerforhold"},15,5,"48",0.79800000000000004,4600,"Redusert kjemisk dispergerbarhet",0.36,0.59399999999999997,4.5999999999999999E-2,110,"Ingen eksplosjonsfare",26.4,"Redusert kjemisk dispergerbarhet","Nei",2.94,"2022-05-19",834,null,38,6338578,-214012,"TOR ll 2022 Forvitringsrapport.pdf"]
["TOR ll 2022","Sommerforhold",{"$f":"Oljedatabase[[#This Row],[Oljetype]]&\"-\"&Oljedatabase[[#This Row],[SesongNy]]&\"-\"&Oljedatabase[[#This Row],[Vind (m/s)]]&\"-\"&Oljedatabase[[#This Row],[Tidspunkt (timer)]]","v":"TOR ll 2022-Sommerforhold-5-72"},{"$f":"Oljedatabase[[#This Row],[Sesong]]","v":"Sommerforhold"},15,5,"72",0.8,5420,"Redusert kjemisk dispergerbarhet",0.373,0.56499999999999995,6.2E-2,116,"Ingen eksplosjonsfare",27.1,"Redusert kjemisk dispergerbarhet","Nei",2.83,"2022-05-19",834,null,38,6338578,-214012,"TOR ll 2022 Forvitringsrapport.pdf"]
["TOR ll 2022","Sommerforhold",{"$f":"Oljedatabase[[#This Row],[Oljetype]]&\"-\"&Oljedatabase[[#This Row],[SesongNy]]&\"-\"&Oljedatabase[[#This Row],[Vind (m/s)]]&\"-\"&Oljedatabase[[#This Row],[Tidspunkt (timer)]]","v":"TOR ll 2022-Sommerforhold-5-96"},{"$f":"Oljedatabase[[#This Row],[Sesong]]","v":"Sommerforhold"},15,5,"96",0.8,6080,"Redusert kjemisk dispergerbarhet",0.38200000000000001,0.54100000000000004,7.6999999999999999E-2,119,"Ingen eksplosjonsfare",27.7,"Redusert kjemisk dispergerbarhet","Nei",2.71,"2022-05-19",834,null,38,6338578,-214012,"TOR ll 2022 Forvitringsrapport.pdf"]
["TOR ll 2022","Sommerforhold",{"$f":"Oljedatabase[[#This Row],[Oljetype]]&\"-\"&Oljedatabase[[#This Row],[SesongNy]]&\"-\"&Oljedatabase[[#This Row],[Vind (m/s)]]&\"-\"&Oljedatabase[[#This Row],[Tidspunkt (timer)]]","v":"TOR ll 2022-Sommerforhold-5-120"},{"$f":"Oljedatabase[[#This Row],[Sesong]]","v":"Sommerforhold"},15,5,"120",0.8,6650,"Redusert kjemisk dispergerbarhet",0.38900000000000001,0.52,9.0999999999999998E-2,122,"Ingen eksplosjonsfare",28.1,"Redusert kjemisk dispergerbarhet","Nei",2.6,"2022-05-19",834,null,38,6338578,-214012,"TOR ll 2022 Forvitringsrapport.pdf"]
["TOR ll 2022","Sommerforhold",{"$f":"Oljedatabase[[#This Row],[Oljetype]]&\"-\"&Oljedatabase[[#This Row],[SesongNy]]&\"-\"&Oljedatabase[[#This Row],[Vind (m/s)]]&\"-\"&Oljedatabase[[#This Row],[Tidspunkt (timer)]]","v":"TOR ll 2022-Sommerforhold-10-1"},{"$f":"Oljedatabase[[#This Row],[Sesong]]","v":"Sommerforhold"},15,10,"1",0.26800000000000002,576,"Redusert kjemisk dispergerbarhet",0.245,0.72199999999999998,3.3000000000000002E-2,69,"Ingen eksplosjonsfare",20.100000000000001,"Redusert kjemisk dispergerbarhet","Nei",0.99,"2022-05-19",834,null,38,6338578,-214012,"TOR ll 2022 Forvitringsrapport.pdf"]
["TOR ll 2022","Sommerforhold",{"$f":"Oljedatabase[[#This Row],[Oljetype]]&\"-\"&Oljedatabase[[#This Row],[SesongNy]]&\"-\"&Oljedatabase[[#This Row],[Vind (m/s)]]&\"-\"&Oljedatabase[[#This Row],[Tidspunkt (timer)]]","v":"TOR ll 2022-Sommerforhold-10-2"},{"$f":"Oljedatabase[[#This Row],[Sesong]]","v":"Sommerforhold"},15,10,"2",0.44600000000000001,1140,"Redusert kjemisk dispergerbarhet",0.27700000000000002,0.66400000000000003,5.8999999999999997E-2,80,"Ingen eksplosjonsfare",21.9,"Redusert kjemisk dispergerbarhet","Nei",1.2,"2022-05-19",834,null,38,6338578,-214012,"TOR ll 2022 Forvitringsrapport.pdf"]
["TOR ll 2022","Sommerforhold",{"$f":"Oljedatabase[[#This Row],[Oljetype]]&\"-\"&Oljedatabase[[#This Row],[SesongNy]]&\"-\"&Oljedatabase[[#This Row],[Vind (m/s)]]&\"-\"&Oljedatabase[[#This Row],[Tidspunkt (timer)]]","v":"TOR ll 2022-Sommerforhold-10-3"},{"$f":"Oljedatabase[[#This Row],[Sesong]]","v":"Sommerforhold"},15,10,"3",0.56499999999999995,1660,"Redusert kjemisk dispergerbarhet",0.29399999999999998,0.626,0.08,87,"Ingen eksplosjonsfare",22.8,"Redusert kjemisk dispergerbarhet","Nei",1.44,"2022-05-19",834,null,38,6338578,-214012,"TOR ll 2022 Forvitringsrapport.pdf"]
["TOR ll 2022","Sommerforhold",{"$f":"Oljedatabase[[#This Row],[Oljetype]]&\"-\"&Oljedatabase[[#This Row],[SesongNy]]&\"-\"&Oljedatabase[[#This Row],[Vind (m/s)]]&\"-\"&Oljedatabase[[#This Row],[Tidspunkt (timer)]]","v":"TOR ll 2022-Sommerforhold-10-6"},{"$f":"Oljedatabase[[#This Row],[Sesong]]","v":"Sommerforhold"},15,10,"6",0.73099999999999998,2790,"Redusert kjemisk dispergerbarhet",0.31900000000000001,0.55200000000000005,0.129,97,"Ingen eksplosjonsfare",24.3,"Redusert kjemisk dispergerbarhet","Nei",2.0499999999999998,"2022-05-19",834,null,38,6338578,-214012,"TOR ll 2022 Forvitringsrapport.pdf"]
["TOR ll 2022","Sommerforhold",{"$f":"Oljedatabase[[#This Row],[Oljetype]]&\"-\"&Oljedatabase[[#This Row],[SesongNy]]&\"-\"&Oljedatabase[[#This Row],[Vind (m/s)]]&\"-\"&Oljedatabase[[#This Row],[Tidspunkt (timer)]]","v":"TOR ll 2022-Sommerforhold-10-9"},{"$f":"Oljedatabase[[#This Row],[Sesong]]","v":"Sommerforhold"},15,10,"9",0.78,3520,"Redusert kjemisk dispergerbarhet",0.33200000000000002,0.5,0.16800000000000001,102,"Ingen eksplosjonsfare",25.2,"Redusert kjemisk dispergerbarhet","Nei",2.27,"2022-05-19",834,null,38,6338578,-214012,"TOR ll 2022 Forvitringsrapport.pdf"]
["TOR ll 2022","Sommerforhold",{"$f":"Oljedatabase[[#This Row],[Oljetype]]&\"-\"&Oljedatabase[[#This Row],[SesongNy]]&\"-\"&Oljedatabase[[#This Row],[Vind (m/s)]]&\"-\"&Oljedatabase[[#This Row],[Tidspunkt (timer)]]","v":"TOR ll 2022-Sommerforhold-10-12"},{"$f":"Oljedatabase[[#This Row],[Sesong]]","v":"Sommerforhold"},15,10,"12",0.79400000000000004,4040,"Redusert kjemisk dispergerbarhet",0.34100000000000003,0.45700000000000002,0.20200000000000001,106,"Ingen eksplosjonsfare",25.8,"Redusert kjemisk dispergerbarhet","Nei",2.2200000000000002,"2022-05-19",834,null,38,6338578,-214012,"TOR ll 2022 Forvitringsrapport.pdf"]
["TOR ll 2022","Sommerforhold",{"$f":"Oljedatabase[[#This Row],[Oljetype]]&\"-\"&Oljedatabase[[#This Row],[SesongNy]]&\"-\"&Oljedatabase[[#This Row],[Vind (m/s)]]&\"-\"&Oljedatabase[[#This Row],[Tidspunkt (timer)]]","v":"TOR ll 2022-Sommerforhold-10-24"},{"$f":"Oljedatabase[[#This Row],[Sesong]]","v":"Sommerforhold"},15,10,"24",0.8,5380,"Redusert kjemisk dispergerbarhet",0.36,0.33400000000000002,0.30599999999999999,115,"Ingen eksplosjonsfare",27.1,"Redusert kjemisk dispergerbarhet","Nei",1.67,"2022-05-19",834,null,38,6338578,-214012,"TOR ll 2022 Forvitringsrapport.pdf"]
["TOR ll 2022","Sommerforhold",{"$f":"Oljedatabase[[#This Row],[Oljetype]]&\"-\"&Oljedatabase[[#This Row],[SesongNy]]&\"-\"&Oljedatabase[[#This Row],[Vind (m/s)]]&\"-\"&Oljedatabase[[#This Row],[Tidspunkt (timer)]]","v":"TOR ll 2022-Sommerforhold-10-48"},{"$f":"Oljedatabase[[#This Row],[Sesong]]","v":"Sommerforhold"},15,10,"48",0.8,7100,"Redusert kjemisk dispergerbarhet",0.376,0.193,0.43099999999999999,125,"Ingen eksplosjonsfare",28.4,"Redusert kjemisk dispergerbarhet","Nei",0.97,"2022-05-19",834,null,38,6338578,-214012,"TOR ll 2022 Forvitringsrapport.pdf"]
["TOR ll 2022","Sommerforhold",{"$f":"Oljedatabase[[#This Row],[Oljetype]]&\"-\"&Oljedatabase[[#This Row],[SesongNy]]&\"-\"&Oljedatabase[[#This Row],[Vind (m/s)]]&\"-\"&Oljedatabase[[#This Row],[Tidspunkt (timer)]]","v":"TOR ll 2022-Sommerforhold-10-72"},{"$f":"Oljedatabase[[#This Row],[Sesong]]","v":"Sommerforhold"},15,10,"72",0.8,8430,"Redusert kjemisk dispergerbarhet",0.38400000000000001,0.11600000000000001,0.5,131,"Ingen eksplosjonsfare",29.2,"Redusert kjemisk dispergerbarhet","Nei",0.57999999999999996,"2022-05-19",834,null,38,6338578,-214012,"TOR ll 2022 Forvitringsrapport.pdf"]
["TOR ll 2022","Sommerforhold",{"$f":"Oljedatabase[[#This Row],[Oljetype]]&\"-\"&Oljedatabase[[#This Row],[SesongNy]]&\"-\"&Oljedatabase[[#This Row],[Vind (m/s)]]&\"-\"&Oljedatabase[[#This Row],[Tidspunkt (timer)]]","v":"TOR ll 2022-Sommerforhold-10-96"},{"$f":"Oljedatabase[[#This Row],[Sesong]]","v":"Sommerforhold"},15,10,"96",0.8,9650,"Lav/dårlig kjemisk dispergerbarhet",0.38800000000000001,7.1999999999999995E-2,0.54,135,"Ingen eksplosjonsfare",29.9,"Redusert kjemisk dispergerbarhet","Nei",0.36,"2022-05-19",834,null,38,6338578,-214012,"TOR ll 2022 Forvitringsrapport.pdf"]
["TOR ll 2022","Sommerforhold",{"$f":"Oljedatabase[[#This Row],[Oljetype]]&\"-\"&Oljedatabase[[#This Row],[SesongNy]]&\"-\"&Oljedatabase[[#This Row],[Vind (m/s)]]&\"-\"&Oljedatabase[[#This Row],[Tidspunkt (timer)]]","v":"TOR ll 2022-Sommerforhold-10-120"},{"$f":"Oljedatabase[[#This Row],[Sesong]]","v":"Sommerforhold"},15,10,"120",0.8,10800,"Lav/dårlig kjemisk dispergerbarhet",0.38900000000000001,4.7E-2,0.56399999999999995,139,"Ingen eksplosjonsfare",30.4,"Lav/dårlig kjemisk dispergerbarhet","Ja",0.24,"2022-05-19",834,null,38,6338578,-214012,"TOR ll 2022 Forvitringsrapport.pdf"]
["TOR ll 2022","Sommerforhold",{"$f":"Oljedatabase[[#This Row],[Oljetype]]&\"-\"&Oljedatabase[[#This Row],[SesongNy]]&\"-\"&Oljedatabase[[#This Row],[Vind (m/s)]]&\"-\"&Oljedatabase[[#This Row],[Tidspunkt (timer)]]","v":"TOR ll 2022-Sommerforhold-15-1"},{"$f":"Oljedatabase[[#This Row],[Sesong]]","v":"Sommerforhold"},15,15,"1",0.46200000000000002,1140,"Redusert kjemisk dispergerbarhet",0.27100000000000002,0.58099999999999996,0.14799999999999999,80,"Ingen eksplosjonsfare",21.8,"Redusert kjemisk dispergerbarhet","Nei",1.08,"2022-05-19",834,null,38,6338578,-214012,"TOR ll 2022 Forvitringsrapport.pdf"]
["TOR ll 2022","Sommerforhold",{"$f":"Oljedatabase[[#This Row],[Oljetype]]&\"-\"&Oljedatabase[[#This Row],[SesongNy]]&\"-\"&Oljedatabase[[#This Row],[Vind (m/s)]]&\"-\"&Oljedatabase[[#This Row],[Tidspunkt (timer)]]","v":"TOR ll 2022-Sommerforhold-15-2"},{"$f":"Oljedatabase[[#This Row],[Sesong]]","v":"Sommerforhold"},15,15,"2",0.65800000000000003,2090,"Redusert kjemisk dispergerbarhet",0.29699999999999999,0.46800000000000003,0.23499999999999999,90,"Ingen eksplosjonsfare",23.4,"Redusert kjemisk dispergerbarhet","Nei",1.37,"2022-05-19",834,null,38,6338578,-214012,"TOR ll 2022 Forvitringsrapport.pdf"]
["TOR ll 2022","Sommerforhold",{"$f":"Oljedatabase[[#This Row],[Oljetype]]&\"-\"&Oljedatabase[[#This Row],[SesongNy]]&\"-\"&Oljedatabase[[#This Row],[Vind (m/s)]]&\"-\"&Oljedatabase[[#This Row],[Tidspunkt (timer)]]","v":"TOR ll 2022-Sommerforhold-15-3"},{"$f":"Oljedatabase[[#This Row],[Sesong]]","v":"Sommerforhold"},15,15,"3",0.74,2770,"Redusert kjemisk dispergerbarhet",0.309,0.39200000000000002,0.29899999999999999,96,"Ingen eksplosjonsfare",24.3,"Redusert kjemisk dispergerbarhet","Nei",1.51,"2022-05-19",834,null,38,6338578,-214012,"TOR ll 2022 Forvitringsrapport.pdf"]
["TOR ll 2022","Sommerforhold",{"$f":"Oljedatabase[[#This Row],[Oljetype]]&\"-\"&Oljedatabase[[#This Row],[SesongNy]]&\"-\"&Oljedatabase[[#This Row],[Vind (m/s)]]&\"-\"&Oljedatabase[[#This Row],[Tidspunkt (timer)]]","v":"TOR ll 2022-Sommerforhold-15-6"},{"$f":"Oljedatabase[[#This Row],[Sesong]]","v":"Sommerforhold"},15,15,"6",0.79500000000000004,3980,"Redusert kjemisk dispergerbarhet",0.32600000000000001,0.248,0.42599999999999999,106,"Ingen eksplosjonsfare",25.7,"Redusert kjemisk dispergerbarhet","Nei",1.21,"2022-05-19",834,null,38,6338578,-214012,"TOR ll 2022 Forvitringsrapport.pdf"]
["TOR ll 2022","Sommerforhold",{"$f":"Oljedatabase[[#This Row],[Oljetype]]&\"-\"&Oljedatabase[[#This Row],[SesongNy]]&\"-\"&Oljedatabase[[#This Row],[Vind (m/s)]]&\"-\"&Oljedatabase[[#This Row],[Tidspunkt (timer)]]","v":"TOR ll 2022-Sommerforhold-15-9"},{"$f":"Oljedatabase[[#This Row],[Sesong]]","v":"Sommerforhold"},15,15,"9",0.8,4730,"Redusert kjemisk dispergerbarhet",0.33400000000000002,0.16500000000000001,0.501,111,"Ingen eksplosjonsfare",26.5,"Redusert kjemisk dispergerbarhet","Nei",0.83,"2022-05-19",834,null,38,6338578,-214012,"TOR ll 2022 Forvitringsrapport.pdf"]
["TOR ll 2022","Sommerforhold",{"$f":"Oljedatabase[[#This Row],[Oljetype]]&\"-\"&Oljedatabase[[#This Row],[SesongNy]]&\"-\"&Oljedatabase[[#This Row],[Vind (m/s)]]&\"-\"&Oljedatabase[[#This Row],[Tidspunkt (timer)]]","v":"TOR ll 2022-Sommerforhold-15-12"},{"$f":"Oljedatabase[[#This Row],[Sesong]]","v":"Sommerforhold"},15,15,"12",0.8,5300,"Redusert kjemisk dispergerbarhet",0.33800000000000002,0.11,0.55200000000000005,115,"Ingen eksplosjonsfare",27,"Redusert kjemisk dispergerbarhet","Nei",0.55000000000000004,"2022-05-19",834,null,38,6338578,-214012,"TOR ll 2022 Forvitringsrapport.pdf"]
["TOR ll 2022","Sommerforhold",{"$f":"Oljedatabase[[#This Row],[Oljetype]]&\"-\"&Oljedatabase[[#This Row],[SesongNy]]&\"-\"&Oljedatabase[[#This Row],[Vind (m/s)]]&\"-\"&Oljedatabase[[#This Row],[Tidspunkt (timer)]]","v":"TOR ll 2022-Sommerforhold-15-24"},{"$f":"Oljedatabase[[#This Row],[Sesong]]","v":"Sommerforhold"},15,15,"24",0.8,7000,"Redusert kjemisk dispergerbarhet",0.34499999999999997,2.4E-2,0.63100000000000001,124,"Ingen eksplosjonsfare",28.3,"Redusert kjemisk dispergerbarhet","Nei",0.12,"2022-05-19",834,null,38,6338578,-214012,"TOR ll 2022 Forvitringsrapport.pdf"]
["TOR ll 2022","Sommerforhold",{"$f":"Oljedatabase[[#This Row],[Oljetype]]&\"-\"&Oljedatabase[[#This Row],[SesongNy]]&\"-\"&Oljedatabase[[#This Row],[Vind (m/s)]]&\"-\"&Oljedatabase[[#This Row],[Tidspunkt (timer)]]","v":"TOR ll 2022-Sommerforhold-15-48"},{"$f":"Oljedatabase[[#This Row],[Sesong]]","v":"Sommerforhold"},15,15,"48",0.8,9500,"Lav/dårlig kjemisk dispergerbarhet",0.34699999999999998,0,0.65300000000000002,135,"Ingen eksplosjonsfare",29.8,"Redusert kjemisk dispergerbarhet","Nei",0,"2022-05-19",834,null,38,6338578,-214012,"TOR ll 2022 Forvitringsrapport.pdf"]
["TOR ll 2022","Sommerforhold",{"$f":"Oljedatabase[[#This Row],[Oljetype]]&\"-\"&Oljedatabase[[#This Row],[SesongNy]]&\"-\"&Oljedatabase[[#This Row],[Vind (m/s)]]&\"-\"&Oljedatabase[[#This Row],[Tidspunkt (timer)]]","v":"TOR ll 2022-Sommerforhold-15-72"},{"$f":"Oljedatabase[[#This Row],[Sesong]]","v":"Sommerforhold"},15,15,"72",0.8,11700,"Lav/dårlig kjemisk dispergerbarhet",0.34699999999999998,0,0.65300000000000002,142,"Ingen eksplosjonsfare",30.8,"Lav/dårlig kjemisk dispergerbarhet","Ja",0,"2022-05-19",834,null,38,6338578,-214012,"TOR ll 2022 Forvitringsrapport.pdf"]
["TOR ll 2022","Sommerforhold",{"$f":"Oljedatabase[[#This Row],[Oljetype]]&\"-\"&Oljedatabase[[#This Row],[SesongNy]]&\"-\"&Oljedatabase[[#This Row],[Vind (m/s)]]&\"-\"&Oljedatabase[[#This Row],[Tidspunkt (timer)]]","v":"TOR ll 2022-Sommerforhold-15-96"},{"$f":"Oljedatabase[[#This Row],[Sesong]]","v":"Sommerforhold"},15,15,"96",0.8,13600,"Lav/dårlig kjemisk dispergerbarhet",0.34699999999999998,0,0.65300000000000002,147,"Ingen eksplosjonsfare",31.5,"Lav/dårlig kjemisk dispergerbarhet","Ja",0,"2022-05-19",834,null,38,6338578,-214012,"TOR ll 2022 Forvitringsrapport.pdf"]
["TOR ll 2022","Sommerforhold",{"$f":"Oljedatabase[[#This Row],[Oljetype]]&\"-\"&Oljedatabase[[#This Row],[SesongNy]]&\"-\"&Oljedatabase[[#This Row],[Vind (m/s)]]&\"-\"&Oljedatabase[[#This Row],[Tidspunkt (timer)]]","v":"TOR ll 2022-Sommerforhold-15-120"},{"$f":"Oljedatabase[[#This Row],[Sesong]]","v":"Sommerforhold"},15,15,"120",0.8,15100,"Lav/dårlig kjemisk dispergerbarhet",0.34699999999999998,0,0.65300000000000002,151,"Ingen eksplosjonsfare",32,"Lav/dårlig kjemisk dispergerbarhet","Ja",0,"2022-05-19",834,null,38,6338578,-214012,"TOR ll 2022 Forvitringsrapport.pdf"]
["TOR ll 2022","Vinterforhold",{"$f":"Oljedatabase[[#This Row],[Oljetype]]&\"-\"&Oljedatabase[[#This Row],[SesongNy]]&\"-\"&Oljedatabase[[#This Row],[Vind (m/s)]]&\"-\"&Oljedatabase[[#This Row],[Tidspunkt (timer)]]","v":"TOR ll 2022-Vinterforhold-2-1"},{"$f":"Oljedatabase[[#This Row],[Sesong]]","v":"Vinterforhold"},5,2,"1",2.4E-2,123,"Redusert kjemisk dispergerbarhet",0.12,0.88,0,29,"Eksplosjonsfare ved tanking",13.4,"Redusert kjemisk dispergerbarhet","Nei",0.9,"2022-05-19",834,null,38,6338578,-214012,"TOR ll 2022 Forvitringsrapport.pdf"]
["TOR ll 2022","Vinterforhold",{"$f":"Oljedatabase[[#This Row],[Oljetype]]&\"-\"&Oljedatabase[[#This Row],[SesongNy]]&\"-\"&Oljedatabase[[#This Row],[Vind (m/s)]]&\"-\"&Oljedatabase[[#This Row],[Tidspunkt (timer)]]","v":"TOR ll 2022-Vinterforhold-2-2"},{"$f":"Oljedatabase[[#This Row],[Sesong]]","v":"Vinterforhold"},5,2,"2",4.7E-2,229,"Redusert kjemisk dispergerbarhet",0.16300000000000001,0.83699999999999997,0,42,"Eksplosjonsfare ved tanking",15.7,"Redusert kjemisk dispergerbarhet","Nei",0.88,"2022-05-19",834,null,38,6338578,-214012,"TOR ll 2022 Forvitringsrapport.pdf"]
["TOR ll 2022","Vinterforhold",{"$f":"Oljedatabase[[#This Row],[Oljetype]]&\"-\"&Oljedatabase[[#This Row],[SesongNy]]&\"-\"&Oljedatabase[[#This Row],[Vind (m/s)]]&\"-\"&Oljedatabase[[#This Row],[Tidspunkt (timer)]]","v":"TOR ll 2022-Vinterforhold-2-3"},{"$f":"Oljedatabase[[#This Row],[Sesong]]","v":"Vinterforhold"},5,2,"3",6.8000000000000005E-2,318,"Redusert kjemisk dispergerbarhet",0.185,0.81499999999999995,0,49,"Eksplosjonsfare ved tanking",16.899999999999999,"Redusert kjemisk dispergerbarhet","Nei",0.87,"2022-05-19",834,null,38,6338578,-214012,"TOR ll 2022 Forvitringsrapport.pdf"]
["TOR ll 2022","Vinterforhold",{"$f":"Oljedatabase[[#This Row],[Oljetype]]&\"-\"&Oljedatabase[[#This Row],[SesongNy]]&\"-\"&Oljedatabase[[#This Row],[Vind (m/s)]]&\"-\"&Oljedatabase[[#This Row],[Tidspunkt (timer)]]","v":"TOR ll 2022-Vinterforhold-2-6"},{"$f":"Oljedatabase[[#This Row],[Sesong]]","v":"Vinterforhold"},5,2,"6",0.126,551,"Redusert kjemisk dispergerbarhet",0.217,0.78300000000000003,0,59,"Eksplosjonsfare ved tanking",18.600000000000001,"Redusert kjemisk dispergerbarhet","Nei",0.9,"2022-05-19",834,null,38,6338578,-214012,"TOR ll 2022 Forvitringsrapport.pdf"]
["TOR ll 2022","Vinterforhold",{"$f":"Oljedatabase[[#This Row],[Oljetype]]&\"-\"&Oljedatabase[[#This Row],[SesongNy]]&\"-\"&Oljedatabase[[#This Row],[Vind (m/s)]]&\"-\"&Oljedatabase[[#This Row],[Tidspunkt (timer)]]","v":"TOR ll 2022-Vinterforhold-2-9"},{"$f":"Oljedatabase[[#This Row],[Sesong]]","v":"Vinterforhold"},5,2,"9",0.18099999999999999,774,"Redusert kjemisk dispergerbarhet",0.23400000000000001,0.76600000000000001,0,65,"Ingen eksplosjonsfare",19.5,"Redusert kjemisk dispergerbarhet","Nei",0.94,"2022-05-19",834,null,38,6338578,-214012,"TOR ll 2022 Forvitringsrapport.pdf"]
["TOR ll 2022","Vinterforhold",{"$f":"Oljedatabase[[#This Row],[Oljetype]]&\"-\"&Oljedatabase[[#This Row],[SesongNy]]&\"-\"&Oljedatabase[[#This Row],[Vind (m/s)]]&\"-\"&Oljedatabase[[#This Row],[Tidspunkt (timer)]]","v":"TOR ll 2022-Vinterforhold-2-12"},{"$f":"Oljedatabase[[#This Row],[Sesong]]","v":"Vinterforhold"},5,2,"12",0.23100000000000001,998,"Redusert kjemisk dispergerbarhet",0.246,0.754,0,69,"Ingen eksplosjonsfare",20.100000000000001,"Lav/dårlig kjemisk dispergerbarhet","Nei",0.98,"2022-05-19",834,null,38,6338578,-214012,"TOR ll 2022 Forvitringsrapport.pdf"]
["TOR ll 2022","Vinterforhold",{"$f":"Oljedatabase[[#This Row],[Oljetype]]&\"-\"&Oljedatabase[[#This Row],[SesongNy]]&\"-\"&Oljedatabase[[#This Row],[Vind (m/s)]]&\"-\"&Oljedatabase[[#This Row],[Tidspunkt (timer)]]","v":"TOR ll 2022-Vinterforhold-2-24"},{"$f":"Oljedatabase[[#This Row],[Sesong]]","v":"Vinterforhold"},5,2,"24",0.39300000000000002,1890,"Redusert kjemisk dispergerbarhet",0.27300000000000002,0.72599999999999998,1E-3,78,"Ingen eksplosjonsfare",21.6,"Lav/dårlig kjemisk dispergerbarhet","Nei",1.2,"2022-05-19",834,null,38,6338578,-214012,"TOR ll 2022 Forvitringsrapport.pdf"]
["TOR ll 2022","Vinterforhold",{"$f":"Oljedatabase[[#This Row],[Oljetype]]&\"-\"&Oljedatabase[[#This Row],[SesongNy]]&\"-\"&Oljedatabase[[#This Row],[Vind (m/s)]]&\"-\"&Oljedatabase[[#This Row],[Tidspunkt (timer)]]","v":"TOR ll 2022-Vinterforhold-2-48"},{"$f":"Oljedatabase[[#This Row],[Sesong]]","v":"Vinterforhold"},5,2,"48",0.58199999999999996,3470,"Redusert kjemisk dispergerbarhet",0.29899999999999999,0.7,1E-3,87,"Ingen eksplosjonsfare",23,"Lav/dårlig kjemisk dispergerbarhet","Nei",1.67,"2022-05-19",834,null,38,6338578,-214012,"TOR ll 2022 Forvitringsrapport.pdf"]
["TOR ll 2022","Vinterforhold",{"$f":"Oljedatabase[[#This Row],[Oljetype]]&\"-\"&Oljedatabase[[#This Row],[SesongNy]]&\"-\"&Oljedatabase[[#This Row],[Vind (m/s)]]&\"-\"&Oljedatabase[[#This Row],[Tidspunkt (timer)]]","v":"TOR ll 2022-Vinterforhold-2-72"},{"$f":"Oljedatabase[[#This Row],[Sesong]]","v":"Vinterforhold"},5,2,"72",0.67100000000000004,4690,"Redusert kjemisk dispergerbarhet",0.314,0.68500000000000005,1E-3,93,"Ingen eksplosjonsfare",23.8,"Lav/dårlig kjemisk dispergerbarhet","Nei",2.08,"2022-05-19",834,null,38,6338578,-214012,"TOR ll 2022 Forvitringsrapport.pdf"]
["TOR ll 2022","Vinterforhold",{"$f":"Oljedatabase[[#This Row],[Oljetype]]&\"-\"&Oljedatabase[[#This Row],[SesongNy]]&\"-\"&Oljedatabase[[#This Row],[Vind (m/s)]]&\"-\"&Oljedatabase[[#This Row],[Tidspunkt (timer)]]","v":"TOR ll 2022-Vinterforhold-2-96"},{"$f":"Oljedatabase[[#This Row],[Sesong]]","v":"Vinterforhold"},5,2,"96",0.71299999999999997,5610,"Redusert kjemisk dispergerbarhet",0.32400000000000001,0.67400000000000004,2E-3,96,"Ingen eksplosjonsfare",24.3,"Lav/dårlig kjemisk dispergerbarhet","Nei",2.35,"2022-05-19",834,null,38,6338578,-214012,"TOR ll 2022 Forvitringsrapport.pdf"]
["TOR ll 2022","Vinterforhold",{"$f":"Oljedatabase[[#This Row],[Oljetype]]&\"-\"&Oljedatabase[[#This Row],[SesongNy]]&\"-\"&Oljedatabase[[#This Row],[Vind (m/s)]]&\"-\"&Oljedatabase[[#This Row],[Tidspunkt (timer)]]","v":"TOR ll 2022-Vinterforhold-2-120"},{"$f":"Oljedatabase[[#This Row],[Sesong]]","v":"Vinterforhold"},5,2,"120",0.73199999999999998,6330,"Redusert kjemisk dispergerbarhet",0.33200000000000002,0.66600000000000004,2E-3,99,"Ingen eksplosjonsfare",24.7,"Lav/dårlig kjemisk dispergerbarhet","Nei",2.4900000000000002,"2022-05-19",834,null,38,6338578,-214012,"TOR ll 2022 Forvitringsrapport.pdf"]
["TOR ll 2022","Vinterforhold",{"$f":"Oljedatabase[[#This Row],[Oljetype]]&\"-\"&Oljedatabase[[#This Row],[SesongNy]]&\"-\"&Oljedatabase[[#This Row],[Vind (m/s)]]&\"-\"&Oljedatabase[[#This Row],[Tidspunkt (timer)]]","v":"TOR ll 2022-Vinterforhold-5-1"},{"$f":"Oljedatabase[[#This Row],[Sesong]]","v":"Vinterforhold"},5,5,"1",9.0999999999999998E-2,262,"Redusert kjemisk dispergerbarhet",0.16500000000000001,0.83299999999999996,2E-3,43,"Eksplosjonsfare ved tanking",15.8,"Redusert kjemisk dispergerbarhet","Nei",0.92,"2022-05-19",834,null,38,6338578,-214012,"TOR ll 2022 Forvitringsrapport.pdf"]
["TOR ll 2022","Vinterforhold",{"$f":"Oljedatabase[[#This Row],[Oljetype]]&\"-\"&Oljedatabase[[#This Row],[SesongNy]]&\"-\"&Oljedatabase[[#This Row],[Vind (m/s)]]&\"-\"&Oljedatabase[[#This Row],[Tidspunkt (timer)]]","v":"TOR ll 2022-Vinterforhold-5-2"},{"$f":"Oljedatabase[[#This Row],[Sesong]]","v":"Vinterforhold"},5,5,"2",0.16800000000000001,514,"Redusert kjemisk dispergerbarhet",0.20399999999999999,0.79200000000000004,4.0000000000000001E-3,55,"Eksplosjonsfare ved tanking",17.899999999999999,"Redusert kjemisk dispergerbarhet","Nei",0.95,"2022-05-19",834,null,38,6338578,-214012,"TOR ll 2022 Forvitringsrapport.pdf"]
["TOR ll 2022","Vinterforhold",{"$f":"Oljedatabase[[#This Row],[Oljetype]]&\"-\"&Oljedatabase[[#This Row],[SesongNy]]&\"-\"&Oljedatabase[[#This Row],[Vind (m/s)]]&\"-\"&Oljedatabase[[#This Row],[Tidspunkt (timer)]]","v":"TOR ll 2022-Vinterforhold-5-3"},{"$f":"Oljedatabase[[#This Row],[Sesong]]","v":"Vinterforhold"},5,5,"3",0.23599999999999999,759,"Redusert kjemisk dispergerbarhet",0.223,0.77200000000000002,5.0000000000000001E-3,62,"Ingen eksplosjonsfare",18.899999999999999,"Redusert kjemisk dispergerbarhet","Nei",1.01,"2022-05-19",834,null,38,6338578,-214012,"TOR ll 2022 Forvitringsrapport.pdf"]
["TOR ll 2022","Vinterforhold",{"$f":"Oljedatabase[[#This Row],[Oljetype]]&\"-\"&Oljedatabase[[#This Row],[SesongNy]]&\"-\"&Oljedatabase[[#This Row],[Vind (m/s)]]&\"-\"&Oljedatabase[[#This Row],[Tidspunkt (timer)]]","v":"TOR ll 2022-Vinterforhold-5-6"},{"$f":"Oljedatabase[[#This Row],[Sesong]]","v":"Vinterforhold"},5,5,"6",0.39800000000000002,1480,"Redusert kjemisk dispergerbarhet",0.253,0.73799999999999999,8.9999999999999993E-3,72,"Ingen eksplosjonsfare",20.5,"Lav/dårlig kjemisk dispergerbarhet","Nei",1.23,"2022-05-19",834,null,38,6338578,-214012,"TOR ll 2022 Forvitringsrapport.pdf"]
["TOR ll 2022","Vinterforhold",{"$f":"Oljedatabase[[#This Row],[Oljetype]]&\"-\"&Oljedatabase[[#This Row],[SesongNy]]&\"-\"&Oljedatabase[[#This Row],[Vind (m/s)]]&\"-\"&Oljedatabase[[#This Row],[Tidspunkt (timer)]]","v":"TOR ll 2022-Vinterforhold-5-9"},{"$f":"Oljedatabase[[#This Row],[Sesong]]","v":"Vinterforhold"},5,5,"9",0.51,2160,"Redusert kjemisk dispergerbarhet",0.26900000000000002,0.71899999999999997,1.2E-2,77,"Ingen eksplosjonsfare",21.4,"Lav/dårlig kjemisk dispergerbarhet","Nei",1.47,"2022-05-19",834,null,38,6338578,-214012,"TOR ll 2022 Forvitringsrapport.pdf"]
["TOR ll 2022","Vinterforhold",{"$f":"Oljedatabase[[#This Row],[Oljetype]]&\"-\"&Oljedatabase[[#This Row],[SesongNy]]&\"-\"&Oljedatabase[[#This Row],[Vind (m/s)]]&\"-\"&Oljedatabase[[#This Row],[Tidspunkt (timer)]]","v":"TOR ll 2022-Vinterforhold-5-12"},{"$f":"Oljedatabase[[#This Row],[Sesong]]","v":"Vinterforhold"},5,5,"12",0.58699999999999997,2770,"Redusert kjemisk dispergerbarhet",0.28000000000000003,0.70499999999999996,1.4999999999999999E-2,81,"Ingen eksplosjonsfare",22,"Lav/dårlig kjemisk dispergerbarhet","Nei",1.71,"2022-05-19",834,null,38,6338578,-214012,"TOR ll 2022 Forvitringsrapport.pdf"]
["TOR ll 2022","Vinterforhold",{"$f":"Oljedatabase[[#This Row],[Oljetype]]&\"-\"&Oljedatabase[[#This Row],[SesongNy]]&\"-\"&Oljedatabase[[#This Row],[Vind (m/s)]]&\"-\"&Oljedatabase[[#This Row],[Tidspunkt (timer)]]","v":"TOR ll 2022-Vinterforhold-5-24"},{"$f":"Oljedatabase[[#This Row],[Sesong]]","v":"Vinterforhold"},5,5,"24",0.71899999999999997,4530,"Redusert kjemisk dispergerbarhet",0.30599999999999999,0.66900000000000004,2.5000000000000001E-2,90,"Ingen eksplosjonsfare",23.4,"Lav/dårlig kjemisk dispergerbarhet","Nei",2.38,"2022-05-19",834,null,38,6338578,-214012,"TOR ll 2022 Forvitringsrapport.pdf"]
["TOR ll 2022","Vinterforhold",{"$f":"Oljedatabase[[#This Row],[Oljetype]]&\"-\"&Oljedatabase[[#This Row],[SesongNy]]&\"-\"&Oljedatabase[[#This Row],[Vind (m/s)]]&\"-\"&Oljedatabase[[#This Row],[Tidspunkt (timer)]]","v":"TOR ll 2022-Vinterforhold-5-48"},{"$f":"Oljedatabase[[#This Row],[Sesong]]","v":"Vinterforhold"},5,5,"48",0.749,6440,"Redusert kjemisk dispergerbarhet",0.33,0.629,4.1000000000000002E-2,99,"Ingen eksplosjonsfare",24.7,"Lav/dårlig kjemisk dispergerbarhet","Nei",2.5099999999999998,"2022-05-19",834,null,38,6338578,-214012,"TOR ll 2022 Forvitringsrapport.pdf"]
["TOR ll 2022","Vinterforhold",{"$f":"Oljedatabase[[#This Row],[Oljetype]]&\"-\"&Oljedatabase[[#This Row],[SesongNy]]&\"-\"&Oljedatabase[[#This Row],[Vind (m/s)]]&\"-\"&Oljedatabase[[#This Row],[Tidspunkt (timer)]]","v":"TOR ll 2022-Vinterforhold-5-72"},{"$f":"Oljedatabase[[#This Row],[Sesong]]","v":"Vinterforhold"},5,5,"72",0.749,7720,"Redusert kjemisk dispergerbarhet",0.34300000000000003,0.60199999999999998,5.5E-2,104,"Ingen eksplosjonsfare",25.5,"Lav/dårlig kjemisk dispergerbarhet","Nei",2.4,"2022-05-19",834,null,38,6338578,-214012,"TOR ll 2022 Forvitringsrapport.pdf"]
["TOR ll 2022","Vinterforhold",{"$f":"Oljedatabase[[#This Row],[Oljetype]]&\"-\"&Oljedatabase[[#This Row],[SesongNy]]&\"-\"&Oljedatabase[[#This Row],[Vind (m/s)]]&\"-\"&Oljedatabase[[#This Row],[Tidspunkt (timer)]]","v":"TOR ll 2022-Vinterforhold-5-96"},{"$f":"Oljedatabase[[#This Row],[Sesong]]","v":"Vinterforhold"},5,5,"96",0.749,8730,"Redusert kjemisk dispergerbarhet",0.35199999999999998,0.57999999999999996,6.8000000000000005E-2,108,"Ingen eksplosjonsfare",26,"Lav/dårlig kjemisk dispergerbarhet","Nei",2.31,"2022-05-19",834,null,38,6338578,-214012,"TOR ll 2022 Forvitringsrapport.pdf"]
["TOR ll 2022","Vinterforhold",{"$f":"Oljedatabase[[#This Row],[Oljetype]]&\"-\"&Oljedatabase[[#This Row],[SesongNy]]&\"-\"&Oljedatabase[[#This Row],[Vind (m/s)]]&\"-\"&Oljedatabase[[#This Row],[Tidspunkt (timer)]]","v":"TOR ll 2022-Vinterforhold-5-120"},{"$f":"Oljedatabase[[#This Row],[Sesong]]","v":"Vinterforhold"},5,5,"120",0.749,9580,"Lav/dårlig kjemisk dispergerbarhet",0.35899999999999999,0.56100000000000005,0.08,111,"Ingen eksplosjonsfare",26.4,"Lav/dårlig kjemisk dispergerbarhet","Nei",2.2400000000000002,"2022-05-19",834,null,38,6338578,-214012,"TOR ll 2022 Forvitringsrapport.pdf"]
["TOR ll 2022","Vinterforhold",{"$f":"Oljedatabase[[#This Row],[Oljetype]]&\"-\"&Oljedatabase[[#This Row],[SesongNy]]&\"-\"&Oljedatabase[[#This Row],[Vind (m/s)]]&\"-\"&Oljedatabase[[#This Row],[Tidspunkt (timer)]]","v":"TOR ll 2022-Vinterforhold-10-1"},{"$f":"Oljedatabase[[#This Row],[Sesong]]","v":"Vinterforhold"},5,10,"1",0.26100000000000001,744,"Redusert kjemisk dispergerbarhet",0.217,0.753,0.03,60,"Ingen eksplosjonsfare",18.600000000000001,"Redusert kjemisk dispergerbarhet","Nei",1.02,"2022-05-19",834,null,38,6338578,-214012,"TOR ll 2022 Forvitringsrapport.pdf"]
["TOR ll 2022","Vinterforhold",{"$f":"Oljedatabase[[#This Row],[Oljetype]]&\"-\"&Oljedatabase[[#This Row],[SesongNy]]&\"-\"&Oljedatabase[[#This Row],[Vind (m/s)]]&\"-\"&Oljedatabase[[#This Row],[Tidspunkt (timer)]]","v":"TOR ll 2022-Vinterforhold-10-2"},{"$f":"Oljedatabase[[#This Row],[Sesong]]","v":"Vinterforhold"},5,10,"2",0.43099999999999999,1510,"Redusert kjemisk dispergerbarhet",0.249,0.69799999999999995,5.2999999999999999E-2,71,"Ingen eksplosjonsfare",20.399999999999999,"Lav/dårlig kjemisk dispergerbarhet","Nei",1.23,"2022-05-19",834,null,38,6338578,-214012,"TOR ll 2022 Forvitringsrapport.pdf"]
["TOR ll 2022","Vinterforhold",{"$f":"Oljedatabase[[#This Row],[Oljetype]]&\"-\"&Oljedatabase[[#This Row],[SesongNy]]&\"-\"&Oljedatabase[[#This Row],[Vind (m/s)]]&\"-\"&Oljedatabase[[#This Row],[Tidspunkt (timer)]]","v":"TOR ll 2022-Vinterforhold-10-3"},{"$f":"Oljedatabase[[#This Row],[Sesong]]","v":"Vinterforhold"},5,10,"3",0.54300000000000004,2210,"Redusert kjemisk dispergerbarhet",0.26500000000000001,0.66300000000000003,7.1999999999999995E-2,76,"Ingen eksplosjonsfare",21.3,"Lav/dårlig kjemisk dispergerbarhet","Nei",1.45,"2022-05-19",834,null,38,6338578,-214012,"TOR ll 2022 Forvitringsrapport.pdf"]
["TOR ll 2022","Vinterforhold",{"$f":"Oljedatabase[[#This Row],[Oljetype]]&\"-\"&Oljedatabase[[#This Row],[SesongNy]]&\"-\"&Oljedatabase[[#This Row],[Vind (m/s)]]&\"-\"&Oljedatabase[[#This Row],[Tidspunkt (timer)]]","v":"TOR ll 2022-Vinterforhold-10-6"},{"$f":"Oljedatabase[[#This Row],[Sesong]]","v":"Vinterforhold"},5,10,"6",0.69799999999999995,3800,"Redusert kjemisk dispergerbarhet",0.28999999999999998,0.59299999999999997,0.11700000000000001,86,"Ingen eksplosjonsfare",22.7,"Lav/dårlig kjemisk dispergerbarhet","Nei",1.96,"2022-05-19",834,null,38,6338578,-214012,"TOR ll 2022 Forvitringsrapport.pdf"]
["TOR ll 2022","Vinterforhold",{"$f":"Oljedatabase[[#This Row],[Oljetype]]&\"-\"&Oljedatabase[[#This Row],[SesongNy]]&\"-\"&Oljedatabase[[#This Row],[Vind (m/s)]]&\"-\"&Oljedatabase[[#This Row],[Tidspunkt (timer)]]","v":"TOR ll 2022-Vinterforhold-10-9"},{"$f":"Oljedatabase[[#This Row],[Sesong]]","v":"Vinterforhold"},5,10,"9",0.74,4840,"Redusert kjemisk dispergerbarhet",0.30399999999999999,0.54400000000000004,0.152,91,"Ingen eksplosjonsfare",23.6,"Lav/dårlig kjemisk dispergerbarhet","Nei",2.09,"2022-05-19",834,null,38,6338578,-214012,"TOR ll 2022 Forvitringsrapport.pdf"]
["TOR ll 2022","Vinterforhold",{"$f":"Oljedatabase[[#This Row],[Oljetype]]&\"-\"&Oljedatabase[[#This Row],[SesongNy]]&\"-\"&Oljedatabase[[#This Row],[Vind (m/s)]]&\"-\"&Oljedatabase[[#This Row],[Tidspunkt (timer)]]","v":"TOR ll 2022-Vinterforhold-10-12"},{"$f":"Oljedatabase[[#This Row],[Sesong]]","v":"Vinterforhold"},5,10,"12",0.75,5590,"Redusert kjemisk dispergerbarhet",0.313,0.504,0.183,95,"Ingen eksplosjonsfare",24.1,"Lav/dårlig kjemisk dispergerbarhet","Nei",2.02,"2022-05-19",834,null,38,6338578,-214012,"TOR ll 2022 Forvitringsrapport.pdf"]
["TOR ll 2022","Vinterforhold",{"$f":"Oljedatabase[[#This Row],[Oljetype]]&\"-\"&Oljedatabase[[#This Row],[SesongNy]]&\"-\"&Oljedatabase[[#This Row],[Vind (m/s)]]&\"-\"&Oljedatabase[[#This Row],[Tidspunkt (timer)]]","v":"TOR ll 2022-Vinterforhold-10-24"},{"$f":"Oljedatabase[[#This Row],[Sesong]]","v":"Vinterforhold"},5,10,"24",0.751,7660,"Redusert kjemisk dispergerbarhet",0.33200000000000002,0.38700000000000001,0.28100000000000003,104,"Ingen eksplosjonsfare",25.5,"Lav/dårlig kjemisk dispergerbarhet","Nei",1.55,"2022-05-19",834,null,38,6338578,-214012,"TOR ll 2022 Forvitringsrapport.pdf"]
["TOR ll 2022","Vinterforhold",{"$f":"Oljedatabase[[#This Row],[Oljetype]]&\"-\"&Oljedatabase[[#This Row],[SesongNy]]&\"-\"&Oljedatabase[[#This Row],[Vind (m/s)]]&\"-\"&Oljedatabase[[#This Row],[Tidspunkt (timer)]]","v":"TOR ll 2022-Vinterforhold-10-48"},{"$f":"Oljedatabase[[#This Row],[Sesong]]","v":"Vinterforhold"},5,10,"48",0.751,10300,"Lav/dårlig kjemisk dispergerbarhet",0.34699999999999998,0.247,0.40600000000000003,113,"Ingen eksplosjonsfare",26.7,"Lav/dårlig kjemisk dispergerbarhet","Ja",0.99,"2022-05-19",834,null,38,6338578,-214012,"TOR ll 2022 Forvitringsrapport.pdf"]
["TOR ll 2022","Vinterforhold",{"$f":"Oljedatabase[[#This Row],[Oljetype]]&\"-\"&Oljedatabase[[#This Row],[SesongNy]]&\"-\"&Oljedatabase[[#This Row],[Vind (m/s)]]&\"-\"&Oljedatabase[[#This Row],[Tidspunkt (timer)]]","v":"TOR ll 2022-Vinterforhold-10-72"},{"$f":"Oljedatabase[[#This Row],[Sesong]]","v":"Vinterforhold"},5,10,"72",0.751,12100,"Lav/dårlig kjemisk dispergerbarhet",0.35399999999999998,0.16400000000000001,0.48199999999999998,118,"Ingen eksplosjonsfare",27.4,"Lav/dårlig kjemisk dispergerbarhet","Ja",0.66,"2022-05-19",834,null,38,6338578,-214012,"TOR ll 2022 Forvitringsrapport.pdf"]
["TOR ll 2022","Vinterforhold",{"$f":"Oljedatabase[[#This Row],[Oljetype]]&\"-\"&Oljedatabase[[#This Row],[SesongNy]]&\"-\"&Oljedatabase[[#This Row],[Vind (m/s)]]&\"-\"&Oljedatabase[[#This Row],[Tidspunkt (timer)]]","v":"TOR ll 2022-Vinterforhold-10-96"},{"$f":"Oljedatabase[[#This Row],[Sesong]]","v":"Vinterforhold"},5,10,"96",0.751,13700,"Lav/dårlig kjemisk dispergerbarhet",0.35899999999999999,0.111,0.53,121,"Ingen eksplosjonsfare",27.9,"Lav/dårlig kjemisk dispergerbarhet","Ja",0.45,"2022-05-19",834,null,38,6338578,-214012,"TOR ll 2022 Forvitringsrapport.pdf"]
["TOR ll 2022","Vinterforhold",{"$f":"Oljedatabase[[#This Row],[Oljetype]]&\"-\"&Oljedatabase[[#This Row],[SesongNy]]&\"-\"&Oljedatabase[[#This Row],[Vind (m/s)]]&\"-\"&Oljedatabase[[#This Row],[Tidspunkt (timer)]]","v":"TOR ll 2022-Vinterforhold-10-120"},{"$f":"Oljedatabase[[#This Row],[Sesong]]","v":"Vinterforhold"},5,10,"120",0.751,15000,"Lav/dårlig kjemisk dispergerbarhet",0.36199999999999999,7.5999999999999998E-2,0.56200000000000006,124,"Ingen eksplosjonsfare",28.3,"Lav/dårlig kjemisk dispergerbarhet","Ja",0.31,"2022-05-19",834,null,38,6338578,-214012,"TOR ll 2022 Forvitringsrapport.pdf"]
["TOR ll 2022","Vinterforhold",{"$f":"Oljedatabase[[#This Row],[Oljetype]]&\"-\"&Oljedatabase[[#This Row],[SesongNy]]&\"-\"&Oljedatabase[[#This Row],[Vind (m/s)]]&\"-\"&Oljedatabase[[#This Row],[Tidspunkt (timer)]]","v":"TOR ll 2022-Vinterforhold-15-1"},{"$f":"Oljedatabase[[#This Row],[Sesong]]","v":"Vinterforhold"},5,15,"1",0.44800000000000001,1500,"Redusert kjemisk dispergerbarhet",0.24299999999999999,0.622,0.13500000000000001,70,"Ingen eksplosjonsfare",20.2,"Lav/dårlig kjemisk dispergerbarhet","Nei",1.1299999999999999,"2022-05-19",834,null,38,6338578,-214012,"TOR ll 2022 Forvitringsrapport.pdf"]
["TOR ll 2022","Vinterforhold",{"$f":"Oljedatabase[[#This Row],[Oljetype]]&\"-\"&Oljedatabase[[#This Row],[SesongNy]]&\"-\"&Oljedatabase[[#This Row],[Vind (m/s)]]&\"-\"&Oljedatabase[[#This Row],[Tidspunkt (timer)]]","v":"TOR ll 2022-Vinterforhold-15-2"},{"$f":"Oljedatabase[[#This Row],[Sesong]]","v":"Vinterforhold"},5,15,"2",0.63200000000000001,2810,"Redusert kjemisk dispergerbarhet",0.26900000000000002,0.51400000000000001,0.217,80,"Ingen eksplosjonsfare",21.8,"Lav/dårlig kjemisk dispergerbarhet","Nei",1.4,"2022-05-19",834,null,38,6338578,-214012,"TOR ll 2022 Forvitringsrapport.pdf"]
["TOR ll 2022","Vinterforhold",{"$f":"Oljedatabase[[#This Row],[Oljetype]]&\"-\"&Oljedatabase[[#This Row],[SesongNy]]&\"-\"&Oljedatabase[[#This Row],[Vind (m/s)]]&\"-\"&Oljedatabase[[#This Row],[Tidspunkt (timer)]]","v":"TOR ll 2022-Vinterforhold-15-3"},{"$f":"Oljedatabase[[#This Row],[Sesong]]","v":"Vinterforhold"},5,15,"3",0.70699999999999996,3770,"Redusert kjemisk dispergerbarhet",0.28100000000000003,0.442,0.27700000000000002,85,"Ingen eksplosjonsfare",22.7,"Lav/dårlig kjemisk dispergerbarhet","Nei",1.51,"2022-05-19",834,null,38,6338578,-214012,"TOR ll 2022 Forvitringsrapport.pdf"]
["TOR ll 2022","Vinterforhold",{"$f":"Oljedatabase[[#This Row],[Oljetype]]&\"-\"&Oljedatabase[[#This Row],[SesongNy]]&\"-\"&Oljedatabase[[#This Row],[Vind (m/s)]]&\"-\"&Oljedatabase[[#This Row],[Tidspunkt (timer)]]","v":"TOR ll 2022-Vinterforhold-15-6"},{"$f":"Oljedatabase[[#This Row],[Sesong]]","v":"Vinterforhold"},5,15,"6",0.752,5520,"Redusert kjemisk dispergerbarhet",0.29899999999999999,0.30099999999999999,0.4,95,"Ingen eksplosjonsfare",24.1,"Lav/dårlig kjemisk dispergerbarhet","Nei",1.21,"2022-05-19",834,null,38,6338578,-214012,"TOR ll 2022 Forvitringsrapport.pdf"]
["TOR ll 2022","Vinterforhold",{"$f":"Oljedatabase[[#This Row],[Oljetype]]&\"-\"&Oljedatabase[[#This Row],[SesongNy]]&\"-\"&Oljedatabase[[#This Row],[Vind (m/s)]]&\"-\"&Oljedatabase[[#This Row],[Tidspunkt (timer)]]","v":"TOR ll 2022-Vinterforhold-15-9"},{"$f":"Oljedatabase[[#This Row],[Sesong]]","v":"Vinterforhold"},5,15,"9",0.752,6640,"Redusert kjemisk dispergerbarhet",0.308,0.21199999999999999,0.48,100,"Ingen eksplosjonsfare",24.8,"Lav/dårlig kjemisk dispergerbarhet","Nei",0.85,"2022-05-19",834,null,38,6338578,-214012,"TOR ll 2022 Forvitringsrapport.pdf"]
["TOR ll 2022","Vinterforhold",{"$f":"Oljedatabase[[#This Row],[Oljetype]]&\"-\"&Oljedatabase[[#This Row],[SesongNy]]&\"-\"&Oljedatabase[[#This Row],[Vind (m/s)]]&\"-\"&Oljedatabase[[#This Row],[Tidspunkt (timer)]]","v":"TOR ll 2022-Vinterforhold-15-12"},{"$f":"Oljedatabase[[#This Row],[Sesong]]","v":"Vinterforhold"},5,15,"12",0.752,7560,"Redusert kjemisk dispergerbarhet",0.312,0.154,0.53400000000000003,104,"Ingen eksplosjonsfare",25.4,"Lav/dårlig kjemisk dispergerbarhet","Nei",0.62,"2022-05-19",834,null,38,6338578,-214012,"TOR ll 2022 Forvitringsrapport.pdf"]
["TOR ll 2022","Vinterforhold",{"$f":"Oljedatabase[[#This Row],[Oljetype]]&\"-\"&Oljedatabase[[#This Row],[SesongNy]]&\"-\"&Oljedatabase[[#This Row],[Vind (m/s)]]&\"-\"&Oljedatabase[[#This Row],[Tidspunkt (timer)]]","v":"TOR ll 2022-Vinterforhold-15-24"},{"$f":"Oljedatabase[[#This Row],[Sesong]]","v":"Vinterforhold"},5,15,"24",0.752,10100,"Lav/dårlig kjemisk dispergerbarhet",0.32,4.4999999999999998E-2,0.63500000000000001,112,"Ingen eksplosjonsfare",26.6,"Lav/dårlig kjemisk dispergerbarhet","Ja",0.18,"2022-05-19",834,null,38,6338578,-214012,"TOR ll 2022 Forvitringsrapport.pdf"]
["TOR ll 2022","Vinterforhold",{"$f":"Oljedatabase[[#This Row],[Oljetype]]&\"-\"&Oljedatabase[[#This Row],[SesongNy]]&\"-\"&Oljedatabase[[#This Row],[Vind (m/s)]]&\"-\"&Oljedatabase[[#This Row],[Tidspunkt (timer)]]","v":"TOR ll 2022-Vinterforhold-15-48"},{"$f":"Oljedatabase[[#This Row],[Sesong]]","v":"Vinterforhold"},5,15,"48",0.752,13500,"Lav/dårlig kjemisk dispergerbarhet",0.32300000000000001,4.0000000000000001E-3,0.67300000000000004,121,"Ingen eksplosjonsfare",27.9,"Lav/dårlig kjemisk dispergerbarhet","Ja",0.02,"2022-05-19",834,null,38,6338578,-214012,"TOR ll 2022 Forvitringsrapport.pdf"]
["TOR ll 2022","Vinterforhold",{"$f":"Oljedatabase[[#This Row],[Oljetype]]&\"-\"&Oljedatabase[[#This Row],[SesongNy]]&\"-\"&Oljedatabase[[#This Row],[Vind (m/s)]]&\"-\"&Oljedatabase[[#This Row],[Tidspunkt (timer)]]","v":"TOR ll 2022-Vinterforhold-15-72"},{"$f":"Oljedatabase[[#This Row],[Sesong]]","v":"Vinterforhold"},5,15,"72",0.752,16000,"Lav/dårlig kjemisk dispergerbarhet",0.32300000000000001,0,0.67700000000000005,126,"Ingen eksplosjonsfare",28.6,"Lav/dårlig kjemisk dispergerbarhet","Ja",0,"2022-05-19",834,null,38,6338578,-214012,"TOR ll 2022 Forvitringsrapport.pdf"]
["TOR ll 2022","Vinterforhold",{"$f":"Oljedatabase[[#This Row],[Oljetype]]&\"-\"&Oljedatabase[[#This Row],[SesongNy]]&\"-\"&Oljedatabase[[#This Row],[Vind (m/s)]]&\"-\"&Oljedatabase[[#This Row],[Tidspunkt (timer)]]","v":"TOR ll 2022-Vinterforhold-15-96"},{"$f":"Oljedatabase[[#This Row],[Sesong]]","v":"Vinterforhold"},5,15,"96",0.752,18200,"Lav/dårlig kjemisk dispergerbarhet",0.32300000000000001,0,0.67700000000000005,130,"Ingen eksplosjonsfare",29.2,"Lav/dårlig kjemisk dispergerbarhet","Ja",0,"2022-05-19",834,null,38,6338578,-214012,"TOR ll 2022 Forvitringsrapport.pdf"]
["TOR ll 2022","Vinterforhold",{"$f":"Oljedatabase[[#This Row],[Oljetype]]&\"-\"&Oljedatabase[[#This Row],[SesongNy]]&\"-\"&Oljedatabase[[#This Row],[Vind (m/s)]]&\"-\"&Oljedatabase[[#This Row],[Tidspunkt (timer)]]","v":"TOR ll 2022-Vinterforhold-15-120"},{"$f":"Oljedatabase[[#This Row],[Sesong]]","v":"Vinterforhold"},5,15,"120",0.752,20400,"Lav/dårlig kjemisk dispergerbarhet",0.32300000000000001,0,0.67700000000000005,134,"Ingen eksplosjonsfare",29.6,"Lav/dårlig kjemisk dispergerbarhet","Ja",0,"2022-05-19",834,null,38,6338578,-214012,"TOR ll 2022 Forvitringsrapport.pdf"]
["Dugong 2022","Sommerforhold",{"$f":"Oljedatabase[[#This Row],[Oljetype]]&\"-\"&Oljedatabase[[#This Row],[SesongNy]]&\"-\"&Oljedatabase[[#This Row],[Vind (m/s)]]&\"-\"&Oljedatabase[[#This Row],[Tidspunkt (timer)]]","v":"Dugong 2022-Sommerforhold-2-1"},{"$f":"Oljedatabase[[#This Row],[Sesong]]","v":"Sommerforhold"},15,2,"1",2.9000000000000001E-2,55,"Kjemisk dispergerbar",0.15,0.85,0,24,"Eksplosjonsfare ved tanking",13,"Kjemisk dispergerbar","Nei",0.88,"2022-08-23",833,null,38,6894063,-184913,"Dugong 2022 Forvitringsrapport.pdf"]
["Dugong 2022","Sommerforhold",{"$f":"Oljedatabase[[#This Row],[Oljetype]]&\"-\"&Oljedatabase[[#This Row],[SesongNy]]&\"-\"&Oljedatabase[[#This Row],[Vind (m/s)]]&\"-\"&Oljedatabase[[#This Row],[Tidspunkt (timer)]]","v":"Dugong 2022-Sommerforhold-2-2"},{"$f":"Oljedatabase[[#This Row],[Sesong]]","v":"Sommerforhold"},15,2,"2",5.6000000000000001E-2,87,"Kjemisk dispergerbar",0.19600000000000001,0.80400000000000005,0,39,"Eksplosjonsfare ved tanking",15.8,"Kjemisk dispergerbar","Nei",0.85,"2022-08-23",833,null,38,6894063,-184913,"Dugong 2022 Forvitringsrapport.pdf"]
["Dugong 2022","Sommerforhold",{"$f":"Oljedatabase[[#This Row],[Oljetype]]&\"-\"&Oljedatabase[[#This Row],[SesongNy]]&\"-\"&Oljedatabase[[#This Row],[Vind (m/s)]]&\"-\"&Oljedatabase[[#This Row],[Tidspunkt (timer)]]","v":"Dugong 2022-Sommerforhold-2-3"},{"$f":"Oljedatabase[[#This Row],[Sesong]]","v":"Sommerforhold"},15,2,"3",8.3000000000000004E-2,116,"Kjemisk dispergerbar",0.219,0.78100000000000003,0,48,"Eksplosjonsfare ved tanking",17.2,"Kjemisk dispergerbar","Nei",0.85,"2022-08-23",833,null,38,6894063,-184913,"Dugong 2022 Forvitringsrapport.pdf"]
["Dugong 2022","Sommerforhold",{"$f":"Oljedatabase[[#This Row],[Oljetype]]&\"-\"&Oljedatabase[[#This Row],[SesongNy]]&\"-\"&Oljedatabase[[#This Row],[Vind (m/s)]]&\"-\"&Oljedatabase[[#This Row],[Tidspunkt (timer)]]","v":"Dugong 2022-Sommerforhold-2-6"},{"$f":"Oljedatabase[[#This Row],[Sesong]]","v":"Sommerforhold"},15,2,"6",0.157,203,"Kjemisk dispergerbar",0.254,0.746,0,61,"Ingen eksplosjonsfare",19.399999999999999,"Kjemisk dispergerbar","Nei",0.88,"2022-08-23",833,null,38,6894063,-184913,"Dugong 2022 Forvitringsrapport.pdf"]
["Dugong 2022","Sommerforhold",{"$f":"Oljedatabase[[#This Row],[Oljetype]]&\"-\"&Oljedatabase[[#This Row],[SesongNy]]&\"-\"&Oljedatabase[[#This Row],[Vind (m/s)]]&\"-\"&Oljedatabase[[#This Row],[Tidspunkt (timer)]]","v":"Dugong 2022-Sommerforhold-2-9"},{"$f":"Oljedatabase[[#This Row],[Sesong]]","v":"Sommerforhold"},15,2,"9",0.223,306,"Kjemisk dispergerbar",0.27300000000000002,0.72699999999999998,0,68,"Ingen eksplosjonsfare",20.6,"Redusert kjemisk dispergerbarhet","Nei",0.94,"2022-08-23",833,null,38,6894063,-184913,"Dugong 2022 Forvitringsrapport.pdf"]
["Dugong 2022","Sommerforhold",{"$f":"Oljedatabase[[#This Row],[Oljetype]]&\"-\"&Oljedatabase[[#This Row],[SesongNy]]&\"-\"&Oljedatabase[[#This Row],[Vind (m/s)]]&\"-\"&Oljedatabase[[#This Row],[Tidspunkt (timer)]]","v":"Dugong 2022-Sommerforhold-2-12"},{"$f":"Oljedatabase[[#This Row],[Sesong]]","v":"Sommerforhold"},15,2,"12",0.28299999999999997,432,"Kjemisk dispergerbar",0.28699999999999998,0.71199999999999997,1E-3,73,"Ingen eksplosjonsfare",21.4,"Redusert kjemisk dispergerbarhet","Nei",0.99,"2022-08-23",833,null,38,6894063,-184913,"Dugong 2022 Forvitringsrapport.pdf"]
["Dugong 2022","Sommerforhold",{"$f":"Oljedatabase[[#This Row],[Oljetype]]&\"-\"&Oljedatabase[[#This Row],[SesongNy]]&\"-\"&Oljedatabase[[#This Row],[Vind (m/s)]]&\"-\"&Oljedatabase[[#This Row],[Tidspunkt (timer)]]","v":"Dugong 2022-Sommerforhold-2-24"},{"$f":"Oljedatabase[[#This Row],[Sesong]]","v":"Sommerforhold"},15,2,"24",0.46500000000000002,1180,"Kjemisk dispergerbar",0.316,0.68300000000000005,1E-3,85,"Ingen eksplosjonsfare",23.3,"Redusert kjemisk dispergerbarhet","Nei",1.28,"2022-08-23",833,null,38,6894063,-184913,"Dugong 2022 Forvitringsrapport.pdf"]
["Dugong 2022","Sommerforhold",{"$f":"Oljedatabase[[#This Row],[Oljetype]]&\"-\"&Oljedatabase[[#This Row],[SesongNy]]&\"-\"&Oljedatabase[[#This Row],[Vind (m/s)]]&\"-\"&Oljedatabase[[#This Row],[Tidspunkt (timer)]]","v":"Dugong 2022-Sommerforhold-2-48"},{"$f":"Oljedatabase[[#This Row],[Sesong]]","v":"Sommerforhold"},15,2,"48",0.66,3600,"Redusert kjemisk dispergerbarhet",0.34399999999999997,0.65500000000000003,1E-3,96,"Ingen eksplosjonsfare",25,"Redusert kjemisk dispergerbarhet","Nei",1.93,"2022-08-23",833,null,38,6894063,-184913,"Dugong 2022 Forvitringsrapport.pdf"]
["Dugong 2022","Sommerforhold",{"$f":"Oljedatabase[[#This Row],[Oljetype]]&\"-\"&Oljedatabase[[#This Row],[SesongNy]]&\"-\"&Oljedatabase[[#This Row],[Vind (m/s)]]&\"-\"&Oljedatabase[[#This Row],[Tidspunkt (timer)]]","v":"Dugong 2022-Sommerforhold-2-72"},{"$f":"Oljedatabase[[#This Row],[Sesong]]","v":"Sommerforhold"},15,2,"72",0.74099999999999999,6060,"Redusert kjemisk dispergerbarhet",0.36,0.63800000000000001,2E-3,103,"Ingen eksplosjonsfare",26,"Redusert kjemisk dispergerbarhet","Nei",2.46,"2022-08-23",833,null,38,6894063,-184913,"Dugong 2022 Forvitringsrapport.pdf"]
["Dugong 2022","Sommerforhold",{"$f":"Oljedatabase[[#This Row],[Oljetype]]&\"-\"&Oljedatabase[[#This Row],[SesongNy]]&\"-\"&Oljedatabase[[#This Row],[Vind (m/s)]]&\"-\"&Oljedatabase[[#This Row],[Tidspunkt (timer)]]","v":"Dugong 2022-Sommerforhold-2-96"},{"$f":"Oljedatabase[[#This Row],[Sesong]]","v":"Sommerforhold"},15,2,"96",0.77500000000000002,7820,"Redusert kjemisk dispergerbarhet",0.37,0.628,2E-3,108,"Ingen eksplosjonsfare",26.7,"Redusert kjemisk dispergerbarhet","Nei",2.79,"2022-08-23",833,null,38,6894063,-184913,"Dugong 2022 Forvitringsrapport.pdf"]
["Dugong 2022","Sommerforhold",{"$f":"Oljedatabase[[#This Row],[Oljetype]]&\"-\"&Oljedatabase[[#This Row],[SesongNy]]&\"-\"&Oljedatabase[[#This Row],[Vind (m/s)]]&\"-\"&Oljedatabase[[#This Row],[Tidspunkt (timer)]]","v":"Dugong 2022-Sommerforhold-2-120"},{"$f":"Oljedatabase[[#This Row],[Sesong]]","v":"Sommerforhold"},15,2,"120",0.78700000000000003,8840,"Redusert kjemisk dispergerbarhet",0.378,0.62,2E-3,111,"Ingen eksplosjonsfare",27.2,"Redusert kjemisk dispergerbarhet","Nei",2.91,"2022-08-23",833,null,38,6894063,-184913,"Dugong 2022 Forvitringsrapport.pdf"]
["Dugong 2022","Sommerforhold",{"$f":"Oljedatabase[[#This Row],[Oljetype]]&\"-\"&Oljedatabase[[#This Row],[SesongNy]]&\"-\"&Oljedatabase[[#This Row],[Vind (m/s)]]&\"-\"&Oljedatabase[[#This Row],[Tidspunkt (timer)]]","v":"Dugong 2022-Sommerforhold-5-1"},{"$f":"Oljedatabase[[#This Row],[Sesong]]","v":"Sommerforhold"},15,5,"1",0.108,108,"Kjemisk dispergerbar",0.19800000000000001,0.8,2E-3,40,"Eksplosjonsfare ved tanking",15.9,"Kjemisk dispergerbar","Nei",0.9,"2022-08-23",833,null,38,6894063,-184913,"Dugong 2022 Forvitringsrapport.pdf"]
["Dugong 2022","Sommerforhold",{"$f":"Oljedatabase[[#This Row],[Oljetype]]&\"-\"&Oljedatabase[[#This Row],[SesongNy]]&\"-\"&Oljedatabase[[#This Row],[Vind (m/s)]]&\"-\"&Oljedatabase[[#This Row],[Tidspunkt (timer)]]","v":"Dugong 2022-Sommerforhold-5-2"},{"$f":"Oljedatabase[[#This Row],[Sesong]]","v":"Sommerforhold"},15,5,"2",0.20200000000000001,216,"Kjemisk dispergerbar",0.24,0.755,5.0000000000000001E-3,56,"Eksplosjonsfare ved tanking",18.5,"Kjemisk dispergerbar","Nei",0.95,"2022-08-23",833,null,38,6894063,-184913,"Dugong 2022 Forvitringsrapport.pdf"]
["Dugong 2022","Sommerforhold",{"$f":"Oljedatabase[[#This Row],[Oljetype]]&\"-\"&Oljedatabase[[#This Row],[SesongNy]]&\"-\"&Oljedatabase[[#This Row],[Vind (m/s)]]&\"-\"&Oljedatabase[[#This Row],[Tidspunkt (timer)]]","v":"Dugong 2022-Sommerforhold-5-3"},{"$f":"Oljedatabase[[#This Row],[Sesong]]","v":"Sommerforhold"},15,5,"3",0.28299999999999997,354,"Kjemisk dispergerbar",0.26200000000000001,0.73099999999999998,7.0000000000000001E-3,64,"Ingen eksplosjonsfare",19.899999999999999,"Kjemisk dispergerbar","Nei",1.02,"2022-08-23",833,null,38,6894063,-184913,"Dugong 2022 Forvitringsrapport.pdf"]
["Dugong 2022","Sommerforhold",{"$f":"Oljedatabase[[#This Row],[Oljetype]]&\"-\"&Oljedatabase[[#This Row],[SesongNy]]&\"-\"&Oljedatabase[[#This Row],[Vind (m/s)]]&\"-\"&Oljedatabase[[#This Row],[Tidspunkt (timer)]]","v":"Dugong 2022-Sommerforhold-5-6"},{"$f":"Oljedatabase[[#This Row],[Sesong]]","v":"Sommerforhold"},15,5,"6",0.46500000000000002,996,"Kjemisk dispergerbar",0.29399999999999998,0.69399999999999995,1.2E-2,76,"Ingen eksplosjonsfare",21.9,"Redusert kjemisk dispergerbarhet","Nei",1.3,"2022-08-23",833,null,38,6894063,-184913,"Dugong 2022 Forvitringsrapport.pdf"]
["Dugong 2022","Sommerforhold",{"$f":"Oljedatabase[[#This Row],[Oljetype]]&\"-\"&Oljedatabase[[#This Row],[SesongNy]]&\"-\"&Oljedatabase[[#This Row],[Vind (m/s)]]&\"-\"&Oljedatabase[[#This Row],[Tidspunkt (timer)]]","v":"Dugong 2022-Sommerforhold-5-9"},{"$f":"Oljedatabase[[#This Row],[Sesong]]","v":"Sommerforhold"},15,5,"9",0.58399999999999996,1950,"Kjemisk dispergerbar",0.312,0.67200000000000004,1.6E-2,84,"Ingen eksplosjonsfare",23.1,"Redusert kjemisk dispergerbarhet","Nei",1.62,"2022-08-23",833,null,38,6894063,-184913,"Dugong 2022 Forvitringsrapport.pdf"]
["Dugong 2022","Sommerforhold",{"$f":"Oljedatabase[[#This Row],[Oljetype]]&\"-\"&Oljedatabase[[#This Row],[SesongNy]]&\"-\"&Oljedatabase[[#This Row],[Vind (m/s)]]&\"-\"&Oljedatabase[[#This Row],[Tidspunkt (timer)]]","v":"Dugong 2022-Sommerforhold-5-12"},{"$f":"Oljedatabase[[#This Row],[Sesong]]","v":"Sommerforhold"},15,5,"12",0.66,3080,"Redusert kjemisk dispergerbarhet",0.32400000000000001,0.65700000000000003,1.9E-2,89,"Ingen eksplosjonsfare",23.8,"Redusert kjemisk dispergerbarhet","Nei",1.93,"2022-08-23",833,null,38,6894063,-184913,"Dugong 2022 Forvitringsrapport.pdf"]
["Dugong 2022","Sommerforhold",{"$f":"Oljedatabase[[#This Row],[Oljetype]]&\"-\"&Oljedatabase[[#This Row],[SesongNy]]&\"-\"&Oljedatabase[[#This Row],[Vind (m/s)]]&\"-\"&Oljedatabase[[#This Row],[Tidspunkt (timer)]]","v":"Dugong 2022-Sommerforhold-5-24"},{"$f":"Oljedatabase[[#This Row],[Sesong]]","v":"Sommerforhold"},15,5,"24",0.77500000000000002,6780,"Redusert kjemisk dispergerbarhet",0.35099999999999998,0.622,2.7E-2,100,"Ingen eksplosjonsfare",25.6,"Redusert kjemisk dispergerbarhet","Nei",2.76,"2022-08-23",833,null,38,6894063,-184913,"Dugong 2022 Forvitringsrapport.pdf"]
["Dugong 2022","Sommerforhold",{"$f":"Oljedatabase[[#This Row],[Oljetype]]&\"-\"&Oljedatabase[[#This Row],[SesongNy]]&\"-\"&Oljedatabase[[#This Row],[Vind (m/s)]]&\"-\"&Oljedatabase[[#This Row],[Tidspunkt (timer)]]","v":"Dugong 2022-Sommerforhold-5-48"},{"$f":"Oljedatabase[[#This Row],[Sesong]]","v":"Sommerforhold"},15,5,"48",0.79800000000000004,9310,"Redusert kjemisk dispergerbarhet",0.376,0.58299999999999996,4.1000000000000002E-2,111,"Ingen eksplosjonsfare",27.2,"Redusert kjemisk dispergerbarhet","Nei",2.89,"2022-08-23",833,null,38,6894063,-184913,"Dugong 2022 Forvitringsrapport.pdf"]
["Dugong 2022","Sommerforhold",{"$f":"Oljedatabase[[#This Row],[Oljetype]]&\"-\"&Oljedatabase[[#This Row],[SesongNy]]&\"-\"&Oljedatabase[[#This Row],[Vind (m/s)]]&\"-\"&Oljedatabase[[#This Row],[Tidspunkt (timer)]]","v":"Dugong 2022-Sommerforhold-5-72"},{"$f":"Oljedatabase[[#This Row],[Sesong]]","v":"Sommerforhold"},15,5,"72",0.79800000000000004,10400,"Redusert kjemisk dispergerbarhet",0.39,0.55600000000000005,5.3999999999999999E-2,117,"Ingen eksplosjonsfare",28.1,"Redusert kjemisk dispergerbarhet","Ja",2.75,"2022-08-23",833,null,38,6894063,-184913,"Dugong 2022 Forvitringsrapport.pdf"]
["Dugong 2022","Sommerforhold",{"$f":"Oljedatabase[[#This Row],[Oljetype]]&\"-\"&Oljedatabase[[#This Row],[SesongNy]]&\"-\"&Oljedatabase[[#This Row],[Vind (m/s)]]&\"-\"&Oljedatabase[[#This Row],[Tidspunkt (timer)]]","v":"Dugong 2022-Sommerforhold-5-96"},{"$f":"Oljedatabase[[#This Row],[Sesong]]","v":"Sommerforhold"},15,5,"96",0.79800000000000004,11300,"Redusert kjemisk dispergerbarhet",0.39900000000000002,0.53600000000000003,6.5000000000000002E-2,122,"Ingen eksplosjonsfare",28.8,"Redusert kjemisk dispergerbarhet","Ja",2.65,"2022-08-23",833,null,38,6894063,-184913,"Dugong 2022 Forvitringsrapport.pdf"]
["Dugong 2022","Sommerforhold",{"$f":"Oljedatabase[[#This Row],[Oljetype]]&\"-\"&Oljedatabase[[#This Row],[SesongNy]]&\"-\"&Oljedatabase[[#This Row],[Vind (m/s)]]&\"-\"&Oljedatabase[[#This Row],[Tidspunkt (timer)]]","v":"Dugong 2022-Sommerforhold-5-120"},{"$f":"Oljedatabase[[#This Row],[Sesong]]","v":"Sommerforhold"},15,5,"120",0.79800000000000004,12000,"Redusert kjemisk dispergerbarhet",0.40600000000000003,0.51800000000000002,7.5999999999999998E-2,125,"Ingen eksplosjonsfare",29.3,"Redusert kjemisk dispergerbarhet","Ja",2.56,"2022-08-23",833,null,38,6894063,-184913,"Dugong 2022 Forvitringsrapport.pdf"]
["Dugong 2022","Sommerforhold",{"$f":"Oljedatabase[[#This Row],[Oljetype]]&\"-\"&Oljedatabase[[#This Row],[SesongNy]]&\"-\"&Oljedatabase[[#This Row],[Vind (m/s)]]&\"-\"&Oljedatabase[[#This Row],[Tidspunkt (timer)]]","v":"Dugong 2022-Sommerforhold-10-1"},{"$f":"Oljedatabase[[#This Row],[Sesong]]","v":"Sommerforhold"},15,10,"1",0.309,377,"Kjemisk dispergerbar",0.255,0.70399999999999996,4.1000000000000002E-2,62,"Ingen eksplosjonsfare",19.5,"Kjemisk dispergerbar","Nei",1.02,"2022-08-23",833,null,38,6894063,-184913,"Dugong 2022 Forvitringsrapport.pdf"]
["Dugong 2022","Sommerforhold",{"$f":"Oljedatabase[[#This Row],[Oljetype]]&\"-\"&Oljedatabase[[#This Row],[SesongNy]]&\"-\"&Oljedatabase[[#This Row],[Vind (m/s)]]&\"-\"&Oljedatabase[[#This Row],[Tidspunkt (timer)]]","v":"Dugong 2022-Sommerforhold-10-2"},{"$f":"Oljedatabase[[#This Row],[Sesong]]","v":"Sommerforhold"},15,10,"2",0.499,1130,"Kjemisk dispergerbar",0.28899999999999998,0.64100000000000001,7.0000000000000007E-2,75,"Ingen eksplosjonsfare",21.8,"Redusert kjemisk dispergerbarhet","Nei",1.28,"2022-08-23",833,null,38,6894063,-184913,"Dugong 2022 Forvitringsrapport.pdf"]
["Dugong 2022","Sommerforhold",{"$f":"Oljedatabase[[#This Row],[Oljetype]]&\"-\"&Oljedatabase[[#This Row],[SesongNy]]&\"-\"&Oljedatabase[[#This Row],[Vind (m/s)]]&\"-\"&Oljedatabase[[#This Row],[Tidspunkt (timer)]]","v":"Dugong 2022-Sommerforhold-10-3"},{"$f":"Oljedatabase[[#This Row],[Sesong]]","v":"Sommerforhold"},15,10,"3",0.61499999999999999,2230,"Kjemisk dispergerbar",0.307,0.60399999999999998,8.8999999999999996E-2,83,"Ingen eksplosjonsfare",22.9,"Redusert kjemisk dispergerbarhet","Nei",1.57,"2022-08-23",833,null,38,6894063,-184913,"Dugong 2022 Forvitringsrapport.pdf"]
["Dugong 2022","Sommerforhold",{"$f":"Oljedatabase[[#This Row],[Oljetype]]&\"-\"&Oljedatabase[[#This Row],[SesongNy]]&\"-\"&Oljedatabase[[#This Row],[Vind (m/s)]]&\"-\"&Oljedatabase[[#This Row],[Tidspunkt (timer)]]","v":"Dugong 2022-Sommerforhold-10-6"},{"$f":"Oljedatabase[[#This Row],[Sesong]]","v":"Sommerforhold"},15,10,"6",0.75700000000000001,5590,"Redusert kjemisk dispergerbarhet",0.33300000000000002,0.53800000000000003,0.129,95,"Ingen eksplosjonsfare",24.8,"Redusert kjemisk dispergerbarhet","Nei",2.21,"2022-08-23",833,null,38,6894063,-184913,"Dugong 2022 Forvitringsrapport.pdf"]
["Dugong 2022","Sommerforhold",{"$f":"Oljedatabase[[#This Row],[Oljetype]]&\"-\"&Oljedatabase[[#This Row],[SesongNy]]&\"-\"&Oljedatabase[[#This Row],[Vind (m/s)]]&\"-\"&Oljedatabase[[#This Row],[Tidspunkt (timer)]]","v":"Dugong 2022-Sommerforhold-10-9"},{"$f":"Oljedatabase[[#This Row],[Sesong]]","v":"Sommerforhold"},15,10,"9",0.79,7500,"Redusert kjemisk dispergerbarhet",0.34699999999999998,0.495,0.158,101,"Ingen eksplosjonsfare",25.8,"Redusert kjemisk dispergerbarhet","Nei",2.36,"2022-08-23",833,null,38,6894063,-184913,"Dugong 2022 Forvitringsrapport.pdf"]
["Dugong 2022","Sommerforhold",{"$f":"Oljedatabase[[#This Row],[Oljetype]]&\"-\"&Oljedatabase[[#This Row],[SesongNy]]&\"-\"&Oljedatabase[[#This Row],[Vind (m/s)]]&\"-\"&Oljedatabase[[#This Row],[Tidspunkt (timer)]]","v":"Dugong 2022-Sommerforhold-10-12"},{"$f":"Oljedatabase[[#This Row],[Sesong]]","v":"Sommerforhold"},15,10,"12",0.79800000000000004,8510,"Redusert kjemisk dispergerbarhet",0.35599999999999998,0.46,0.184,106,"Ingen eksplosjonsfare",26.5,"Redusert kjemisk dispergerbarhet","Nei",2.2799999999999998,"2022-08-23",833,null,38,6894063,-184913,"Dugong 2022 Forvitringsrapport.pdf"]
["Dugong 2022","Sommerforhold",{"$f":"Oljedatabase[[#This Row],[Oljetype]]&\"-\"&Oljedatabase[[#This Row],[SesongNy]]&\"-\"&Oljedatabase[[#This Row],[Vind (m/s)]]&\"-\"&Oljedatabase[[#This Row],[Tidspunkt (timer)]]","v":"Dugong 2022-Sommerforhold-10-24"},{"$f":"Oljedatabase[[#This Row],[Sesong]]","v":"Sommerforhold"},15,10,"24",0.79900000000000004,10400,"Redusert kjemisk dispergerbarhet",0.375,0.35699999999999998,0.26800000000000002,117,"Ingen eksplosjonsfare",28.1,"Redusert kjemisk dispergerbarhet","Ja",1.78,"2022-08-23",833,null,38,6894063,-184913,"Dugong 2022 Forvitringsrapport.pdf"]
["Dugong 2022","Sommerforhold",{"$f":"Oljedatabase[[#This Row],[Oljetype]]&\"-\"&Oljedatabase[[#This Row],[SesongNy]]&\"-\"&Oljedatabase[[#This Row],[Vind (m/s)]]&\"-\"&Oljedatabase[[#This Row],[Tidspunkt (timer)]]","v":"Dugong 2022-Sommerforhold-10-48"},{"$f":"Oljedatabase[[#This Row],[Sesong]]","v":"Sommerforhold"},15,10,"48",0.79900000000000004,12700,"Redusert kjemisk dispergerbarhet",0.39200000000000002,0.22700000000000001,0.38100000000000001,128,"Ingen eksplosjonsfare",29.6,"Redusert kjemisk dispergerbarhet","Ja",1.1299999999999999,"2022-08-23",833,null,38,6894063,-184913,"Dugong 2022 Forvitringsrapport.pdf"]
["Dugong 2022","Sommerforhold",{"$f":"Oljedatabase[[#This Row],[Oljetype]]&\"-\"&Oljedatabase[[#This Row],[SesongNy]]&\"-\"&Oljedatabase[[#This Row],[Vind (m/s)]]&\"-\"&Oljedatabase[[#This Row],[Tidspunkt (timer)]]","v":"Dugong 2022-Sommerforhold-10-72"},{"$f":"Oljedatabase[[#This Row],[Sesong]]","v":"Sommerforhold"},15,10,"72",0.79900000000000004,14300,"Redusert kjemisk dispergerbarhet",0.40100000000000002,0.14799999999999999,0.45100000000000001,134,"Ingen eksplosjonsfare",30.6,"Lav/dårlig kjemisk dispergerbarhet","Ja",0.74,"2022-08-23",833,null,38,6894063,-184913,"Dugong 2022 Forvitringsrapport.pdf"]
["Dugong 2022","Sommerforhold",{"$f":"Oljedatabase[[#This Row],[Oljetype]]&\"-\"&Oljedatabase[[#This Row],[SesongNy]]&\"-\"&Oljedatabase[[#This Row],[Vind (m/s)]]&\"-\"&Oljedatabase[[#This Row],[Tidspunkt (timer)]]","v":"Dugong 2022-Sommerforhold-10-96"},{"$f":"Oljedatabase[[#This Row],[Sesong]]","v":"Sommerforhold"},15,10,"96",0.79900000000000004,15600,"Redusert kjemisk dispergerbarhet",0.40600000000000003,9.9000000000000005E-2,0.495,140,"Ingen eksplosjonsfare",31.3,"Lav/dårlig kjemisk dispergerbarhet","Ja",0.49,"2022-08-23",833,null,38,6894063,-184913,"Dugong 2022 Forvitringsrapport.pdf"]
["Dugong 2022","Sommerforhold",{"$f":"Oljedatabase[[#This Row],[Oljetype]]&\"-\"&Oljedatabase[[#This Row],[SesongNy]]&\"-\"&Oljedatabase[[#This Row],[Vind (m/s)]]&\"-\"&Oljedatabase[[#This Row],[Tidspunkt (timer)]]","v":"Dugong 2022-Sommerforhold-10-120"},{"$f":"Oljedatabase[[#This Row],[Sesong]]","v":"Sommerforhold"},15,10,"120",0.79900000000000004,16900,"Redusert kjemisk dispergerbarhet",0.40799999999999997,6.7000000000000004E-2,0.52500000000000002,144,"Ingen eksplosjonsfare",32,"Lav/dårlig kjemisk dispergerbarhet","Ja",0.33,"2022-08-23",833,null,38,6894063,-184913,"Dugong 2022 Forvitringsrapport.pdf"]
["Dugong 2022","Sommerforhold",{"$f":"Oljedatabase[[#This Row],[Oljetype]]&\"-\"&Oljedatabase[[#This Row],[SesongNy]]&\"-\"&Oljedatabase[[#This Row],[Vind (m/s)]]&\"-\"&Oljedatabase[[#This Row],[Tidspunkt (timer)]]","v":"Dugong 2022-Sommerforhold-15-1"},{"$f":"Oljedatabase[[#This Row],[Sesong]]","v":"Sommerforhold"},15,15,"1",0.51500000000000001,1190,"Kjemisk dispergerbar",0.28199999999999997,0.54800000000000004,0.17,74,"Ingen eksplosjonsfare",21.6,"Redusert kjemisk dispergerbarhet","Nei",1.1299999999999999,"2022-08-23",833,null,38,6894063,-184913,"Dugong 2022 Forvitringsrapport.pdf"]
["Dugong 2022","Sommerforhold",{"$f":"Oljedatabase[[#This Row],[Oljetype]]&\"-\"&Oljedatabase[[#This Row],[SesongNy]]&\"-\"&Oljedatabase[[#This Row],[Vind (m/s)]]&\"-\"&Oljedatabase[[#This Row],[Tidspunkt (timer)]]","v":"Dugong 2022-Sommerforhold-15-2"},{"$f":"Oljedatabase[[#This Row],[Sesong]]","v":"Sommerforhold"},15,15,"2",0.69899999999999995,3610,"Redusert kjemisk dispergerbarhet",0.308,0.44600000000000001,0.246,87,"Ingen eksplosjonsfare",23.6,"Redusert kjemisk dispergerbarhet","Nei",1.48,"2022-08-23",833,null,38,6894063,-184913,"Dugong 2022 Forvitringsrapport.pdf"]
["Dugong 2022","Sommerforhold",{"$f":"Oljedatabase[[#This Row],[Oljetype]]&\"-\"&Oljedatabase[[#This Row],[SesongNy]]&\"-\"&Oljedatabase[[#This Row],[Vind (m/s)]]&\"-\"&Oljedatabase[[#This Row],[Tidspunkt (timer)]]","v":"Dugong 2022-Sommerforhold-15-3"},{"$f":"Oljedatabase[[#This Row],[Sesong]]","v":"Sommerforhold"},15,15,"3",0.76400000000000001,5710,"Redusert kjemisk dispergerbarhet",0.32100000000000001,0.38400000000000001,0.29499999999999998,94,"Ingen eksplosjonsfare",24.7,"Redusert kjemisk dispergerbarhet","Nei",1.63,"2022-08-23",833,null,38,6894063,-184913,"Dugong 2022 Forvitringsrapport.pdf"]
["Dugong 2022","Sommerforhold",{"$f":"Oljedatabase[[#This Row],[Oljetype]]&\"-\"&Oljedatabase[[#This Row],[SesongNy]]&\"-\"&Oljedatabase[[#This Row],[Vind (m/s)]]&\"-\"&Oljedatabase[[#This Row],[Tidspunkt (timer)]]","v":"Dugong 2022-Sommerforhold-15-6"},{"$f":"Oljedatabase[[#This Row],[Sesong]]","v":"Sommerforhold"},15,15,"6",0.79800000000000004,8450,"Redusert kjemisk dispergerbarhet",0.33800000000000002,0.26800000000000002,0.39400000000000002,105,"Ingen eksplosjonsfare",26.4,"Redusert kjemisk dispergerbarhet","Nei",1.33,"2022-08-23",833,null,38,6894063,-184913,"Dugong 2022 Forvitringsrapport.pdf"]
["Dugong 2022","Sommerforhold",{"$f":"Oljedatabase[[#This Row],[Oljetype]]&\"-\"&Oljedatabase[[#This Row],[SesongNy]]&\"-\"&Oljedatabase[[#This Row],[Vind (m/s)]]&\"-\"&Oljedatabase[[#This Row],[Tidspunkt (timer)]]","v":"Dugong 2022-Sommerforhold-15-9"},{"$f":"Oljedatabase[[#This Row],[Sesong]]","v":"Sommerforhold"},15,15,"9",0.79900000000000004,9550,"Redusert kjemisk dispergerbarhet",0.34599999999999997,0.19500000000000001,0.45900000000000002,112,"Ingen eksplosjonsfare",27.4,"Redusert kjemisk dispergerbarhet","Nei",0.97,"2022-08-23",833,null,38,6894063,-184913,"Dugong 2022 Forvitringsrapport.pdf"]
["Dugong 2022","Sommerforhold",{"$f":"Oljedatabase[[#This Row],[Oljetype]]&\"-\"&Oljedatabase[[#This Row],[SesongNy]]&\"-\"&Oljedatabase[[#This Row],[Vind (m/s)]]&\"-\"&Oljedatabase[[#This Row],[Tidspunkt (timer)]]","v":"Dugong 2022-Sommerforhold-15-12"},{"$f":"Oljedatabase[[#This Row],[Sesong]]","v":"Sommerforhold"},15,15,"12",0.79900000000000004,10400,"Redusert kjemisk dispergerbarhet",0.35099999999999998,0.14199999999999999,0.50700000000000001,116,"Ingen eksplosjonsfare",28,"Redusert kjemisk dispergerbarhet","Ja",0.71,"2022-08-23",833,null,38,6894063,-184913,"Dugong 2022 Forvitringsrapport.pdf"]
["Dugong 2022","Sommerforhold",{"$f":"Oljedatabase[[#This Row],[Oljetype]]&\"-\"&Oljedatabase[[#This Row],[SesongNy]]&\"-\"&Oljedatabase[[#This Row],[Vind (m/s)]]&\"-\"&Oljedatabase[[#This Row],[Tidspunkt (timer)]]","v":"Dugong 2022-Sommerforhold-15-24"},{"$f":"Oljedatabase[[#This Row],[Sesong]]","v":"Sommerforhold"},15,15,"24",0.79900000000000004,12600,"Redusert kjemisk dispergerbarhet",0.36,4.2999999999999997E-2,0.59699999999999998,127,"Ingen eksplosjonsfare",29.6,"Redusert kjemisk dispergerbarhet","Ja",0.21,"2022-08-23",833,null,38,6894063,-184913,"Dugong 2022 Forvitringsrapport.pdf"]
["Dugong 2022","Sommerforhold",{"$f":"Oljedatabase[[#This Row],[Oljetype]]&\"-\"&Oljedatabase[[#This Row],[SesongNy]]&\"-\"&Oljedatabase[[#This Row],[Vind (m/s)]]&\"-\"&Oljedatabase[[#This Row],[Tidspunkt (timer)]]","v":"Dugong 2022-Sommerforhold-15-48"},{"$f":"Oljedatabase[[#This Row],[Sesong]]","v":"Sommerforhold"},15,15,"48",0.79900000000000004,15500,"Redusert kjemisk dispergerbarhet",0.36299999999999999,4.0000000000000001E-3,0.63300000000000001,139,"Ingen eksplosjonsfare",31.3,"Lav/dårlig kjemisk dispergerbarhet","Ja",0.02,"2022-08-23",833,null,38,6894063,-184913,"Dugong 2022 Forvitringsrapport.pdf"]
["Dugong 2022","Sommerforhold",{"$f":"Oljedatabase[[#This Row],[Oljetype]]&\"-\"&Oljedatabase[[#This Row],[SesongNy]]&\"-\"&Oljedatabase[[#This Row],[Vind (m/s)]]&\"-\"&Oljedatabase[[#This Row],[Tidspunkt (timer)]]","v":"Dugong 2022-Sommerforhold-15-72"},{"$f":"Oljedatabase[[#This Row],[Sesong]]","v":"Sommerforhold"},15,15,"72",0.79900000000000004,17900,"Redusert kjemisk dispergerbarhet",0.36299999999999999,0,0.63700000000000001,148,"Ingen eksplosjonsfare",32.4,"Lav/dårlig kjemisk dispergerbarhet","Ja",0,"2022-08-23",833,null,38,6894063,-184913,"Dugong 2022 Forvitringsrapport.pdf"]
["Dugong 2022","Sommerforhold",{"$f":"Oljedatabase[[#This Row],[Oljetype]]&\"-\"&Oljedatabase[[#This Row],[SesongNy]]&\"-\"&Oljedatabase[[#This Row],[Vind (m/s)]]&\"-\"&Oljedatabase[[#This Row],[Tidspunkt (timer)]]","v":"Dugong 2022-Sommerforhold-15-96"},{"$f":"Oljedatabase[[#This Row],[Sesong]]","v":"Sommerforhold"},15,15,"96",0.79900000000000004,19700,"Lav/dårlig kjemisk dispergerbarhet",0.36299999999999999,0,0.63700000000000001,153,"Ingen eksplosjonsfare",33.200000000000003,"Lav/dårlig kjemisk dispergerbarhet","Ja",0,"2022-08-23",833,null,38,6894063,-184913,"Dugong 2022 Forvitringsrapport.pdf"]
["Dugong 2022","Sommerforhold",{"$f":"Oljedatabase[[#This Row],[Oljetype]]&\"-\"&Oljedatabase[[#This Row],[SesongNy]]&\"-\"&Oljedatabase[[#This Row],[Vind (m/s)]]&\"-\"&Oljedatabase[[#This Row],[Tidspunkt (timer)]]","v":"Dugong 2022-Sommerforhold-15-120"},{"$f":"Oljedatabase[[#This Row],[Sesong]]","v":"Sommerforhold"},15,15,"120",0.79900000000000004,21200,"Lav/dårlig kjemisk dispergerbarhet",0.36299999999999999,0,0.63700000000000001,158,"Ingen eksplosjonsfare",33.799999999999997,"Lav/dårlig kjemisk dispergerbarhet","Ja",0,"2022-08-23",833,null,38,6894063,-184913,"Dugong 2022 Forvitringsrapport.pdf"]
["Dugong 2022","Vinterforhold",{"$f":"Oljedatabase[[#This Row],[Oljetype]]&\"-\"&Oljedatabase[[#This Row],[SesongNy]]&\"-\"&Oljedatabase[[#This Row],[Vind (m/s)]]&\"-\"&Oljedatabase[[#This Row],[Tidspunkt (timer)]]","v":"Dugong 2022-Vinterforhold-2-1"},{"$f":"Oljedatabase[[#This Row],[Sesong]]","v":"Vinterforhold"},5,2,"1",2.9000000000000001E-2,67,"Kjemisk dispergerbar",0.126,0.874,0,16,"Eksplosjonsfare ved tanking",11.5,"Redusert kjemisk dispergerbarhet","Nei",0.9,"2022-08-23",833,null,38,6894063,-184913,"Dugong 2022 Forvitringsrapport.pdf"]
["Dugong 2022","Vinterforhold",{"$f":"Oljedatabase[[#This Row],[Oljetype]]&\"-\"&Oljedatabase[[#This Row],[SesongNy]]&\"-\"&Oljedatabase[[#This Row],[Vind (m/s)]]&\"-\"&Oljedatabase[[#This Row],[Tidspunkt (timer)]]","v":"Dugong 2022-Vinterforhold-2-2"},{"$f":"Oljedatabase[[#This Row],[Sesong]]","v":"Vinterforhold"},5,2,"2",5.6000000000000001E-2,110,"Kjemisk dispergerbar",0.16900000000000001,0.83099999999999996,0,30,"Eksplosjonsfare ved tanking",14.2,"Redusert kjemisk dispergerbarhet","Nei",0.88,"2022-08-23",833,null,38,6894063,-184913,"Dugong 2022 Forvitringsrapport.pdf"]
["Dugong 2022","Vinterforhold",{"$f":"Oljedatabase[[#This Row],[Oljetype]]&\"-\"&Oljedatabase[[#This Row],[SesongNy]]&\"-\"&Oljedatabase[[#This Row],[Vind (m/s)]]&\"-\"&Oljedatabase[[#This Row],[Tidspunkt (timer)]]","v":"Dugong 2022-Vinterforhold-2-3"},{"$f":"Oljedatabase[[#This Row],[Sesong]]","v":"Vinterforhold"},5,2,"3",8.3000000000000004E-2,147,"Kjemisk dispergerbar",0.191,0.80900000000000005,0,38,"Eksplosjonsfare ved tanking",15.5,"Redusert kjemisk dispergerbarhet","Nei",0.88,"2022-08-23",833,null,38,6894063,-184913,"Dugong 2022 Forvitringsrapport.pdf"]
["Dugong 2022","Vinterforhold",{"$f":"Oljedatabase[[#This Row],[Oljetype]]&\"-\"&Oljedatabase[[#This Row],[SesongNy]]&\"-\"&Oljedatabase[[#This Row],[Vind (m/s)]]&\"-\"&Oljedatabase[[#This Row],[Tidspunkt (timer)]]","v":"Dugong 2022-Vinterforhold-2-6"},{"$f":"Oljedatabase[[#This Row],[Sesong]]","v":"Vinterforhold"},5,2,"6",0.157,262,"Kjemisk dispergerbar",0.22500000000000001,0.77500000000000002,0,50,"Eksplosjonsfare ved tanking",17.600000000000001,"Redusert kjemisk dispergerbarhet","Nei",0.92,"2022-08-23",833,null,38,6894063,-184913,"Dugong 2022 Forvitringsrapport.pdf"]
["Dugong 2022","Vinterforhold",{"$f":"Oljedatabase[[#This Row],[Oljetype]]&\"-\"&Oljedatabase[[#This Row],[SesongNy]]&\"-\"&Oljedatabase[[#This Row],[Vind (m/s)]]&\"-\"&Oljedatabase[[#This Row],[Tidspunkt (timer)]]","v":"Dugong 2022-Vinterforhold-2-9"},{"$f":"Oljedatabase[[#This Row],[Sesong]]","v":"Vinterforhold"},5,2,"9",0.223,399,"Kjemisk dispergerbar",0.24299999999999999,0.75700000000000001,0,57,"Eksplosjonsfare ved tanking",18.7,"Redusert kjemisk dispergerbarhet","Nei",0.97,"2022-08-23",833,null,38,6894063,-184913,"Dugong 2022 Forvitringsrapport.pdf"]
["Dugong 2022","Vinterforhold",{"$f":"Oljedatabase[[#This Row],[Oljetype]]&\"-\"&Oljedatabase[[#This Row],[SesongNy]]&\"-\"&Oljedatabase[[#This Row],[Vind (m/s)]]&\"-\"&Oljedatabase[[#This Row],[Tidspunkt (timer)]]","v":"Dugong 2022-Vinterforhold-2-12"},{"$f":"Oljedatabase[[#This Row],[Sesong]]","v":"Vinterforhold"},5,2,"12",0.28299999999999997,566,"Kjemisk dispergerbar",0.25600000000000001,0.74299999999999999,1E-3,61,"Ingen eksplosjonsfare",19.5,"Redusert kjemisk dispergerbarhet","Nei",1.04,"2022-08-23",833,null,38,6894063,-184913,"Dugong 2022 Forvitringsrapport.pdf"]
["Dugong 2022","Vinterforhold",{"$f":"Oljedatabase[[#This Row],[Oljetype]]&\"-\"&Oljedatabase[[#This Row],[SesongNy]]&\"-\"&Oljedatabase[[#This Row],[Vind (m/s)]]&\"-\"&Oljedatabase[[#This Row],[Tidspunkt (timer)]]","v":"Dugong 2022-Vinterforhold-2-24"},{"$f":"Oljedatabase[[#This Row],[Sesong]]","v":"Vinterforhold"},5,2,"24",0.46500000000000002,1590,"Kjemisk dispergerbar",0.28499999999999998,0.71399999999999997,1E-3,73,"Ingen eksplosjonsfare",21.3,"Lav/dårlig kjemisk dispergerbarhet","Nei",1.33,"2022-08-23",833,null,38,6894063,-184913,"Dugong 2022 Forvitringsrapport.pdf"]
["Dugong 2022","Vinterforhold",{"$f":"Oljedatabase[[#This Row],[Oljetype]]&\"-\"&Oljedatabase[[#This Row],[SesongNy]]&\"-\"&Oljedatabase[[#This Row],[Vind (m/s)]]&\"-\"&Oljedatabase[[#This Row],[Tidspunkt (timer)]]","v":"Dugong 2022-Vinterforhold-2-48"},{"$f":"Oljedatabase[[#This Row],[Sesong]]","v":"Vinterforhold"},5,2,"48",0.66,4950,"Redusert kjemisk dispergerbarhet",0.313,0.68600000000000005,1E-3,84,"Ingen eksplosjonsfare",23.1,"Lav/dårlig kjemisk dispergerbarhet","Nei",2.02,"2022-08-23",833,null,38,6894063,-184913,"Dugong 2022 Forvitringsrapport.pdf"]
["Dugong 2022","Vinterforhold",{"$f":"Oljedatabase[[#This Row],[Oljetype]]&\"-\"&Oljedatabase[[#This Row],[SesongNy]]&\"-\"&Oljedatabase[[#This Row],[Vind (m/s)]]&\"-\"&Oljedatabase[[#This Row],[Tidspunkt (timer)]]","v":"Dugong 2022-Vinterforhold-2-72"},{"$f":"Oljedatabase[[#This Row],[Sesong]]","v":"Vinterforhold"},5,2,"72",0.73299999999999998,8080,"Redusert kjemisk dispergerbarhet",0.32900000000000001,0.66900000000000004,2E-3,90,"Ingen eksplosjonsfare",24.1,"Lav/dårlig kjemisk dispergerbarhet","Nei",2.5099999999999998,"2022-08-23",833,null,38,6894063,-184913,"Dugong 2022 Forvitringsrapport.pdf"]
["Dugong 2022","Vinterforhold",{"$f":"Oljedatabase[[#This Row],[Oljetype]]&\"-\"&Oljedatabase[[#This Row],[SesongNy]]&\"-\"&Oljedatabase[[#This Row],[Vind (m/s)]]&\"-\"&Oljedatabase[[#This Row],[Tidspunkt (timer)]]","v":"Dugong 2022-Vinterforhold-2-96"},{"$f":"Oljedatabase[[#This Row],[Sesong]]","v":"Vinterforhold"},5,2,"96",0.75800000000000001,10100,"Redusert kjemisk dispergerbarhet",0.33900000000000002,0.65900000000000003,2E-3,94,"Ingen eksplosjonsfare",24.7,"Lav/dårlig kjemisk dispergerbarhet","Ja",2.72,"2022-08-23",833,null,38,6894063,-184913,"Dugong 2022 Forvitringsrapport.pdf"]
["Dugong 2022","Vinterforhold",{"$f":"Oljedatabase[[#This Row],[Oljetype]]&\"-\"&Oljedatabase[[#This Row],[SesongNy]]&\"-\"&Oljedatabase[[#This Row],[Vind (m/s)]]&\"-\"&Oljedatabase[[#This Row],[Tidspunkt (timer)]]","v":"Dugong 2022-Vinterforhold-2-120"},{"$f":"Oljedatabase[[#This Row],[Sesong]]","v":"Vinterforhold"},5,2,"120",0.76500000000000001,11200,"Redusert kjemisk dispergerbarhet",0.34699999999999998,0.65100000000000002,2E-3,98,"Ingen eksplosjonsfare",25.3,"Lav/dårlig kjemisk dispergerbarhet","Ja",2.77,"2022-08-23",833,null,38,6894063,-184913,"Dugong 2022 Forvitringsrapport.pdf"]
["Dugong 2022","Vinterforhold",{"$f":"Oljedatabase[[#This Row],[Oljetype]]&\"-\"&Oljedatabase[[#This Row],[SesongNy]]&\"-\"&Oljedatabase[[#This Row],[Vind (m/s)]]&\"-\"&Oljedatabase[[#This Row],[Tidspunkt (timer)]]","v":"Dugong 2022-Vinterforhold-5-1"},{"$f":"Oljedatabase[[#This Row],[Sesong]]","v":"Vinterforhold"},5,5,"1",0.108,136,"Kjemisk dispergerbar",0.17100000000000001,0.82699999999999996,2E-3,31,"Eksplosjonsfare ved tanking",14.3,"Redusert kjemisk dispergerbarhet","Nei",0.93,"2022-08-23",833,null,38,6894063,-184913,"Dugong 2022 Forvitringsrapport.pdf"]
["Dugong 2022","Vinterforhold",{"$f":"Oljedatabase[[#This Row],[Oljetype]]&\"-\"&Oljedatabase[[#This Row],[SesongNy]]&\"-\"&Oljedatabase[[#This Row],[Vind (m/s)]]&\"-\"&Oljedatabase[[#This Row],[Tidspunkt (timer)]]","v":"Dugong 2022-Vinterforhold-5-2"},{"$f":"Oljedatabase[[#This Row],[Sesong]]","v":"Vinterforhold"},5,5,"2",0.20200000000000001,277,"Kjemisk dispergerbar",0.21099999999999999,0.78400000000000003,5.0000000000000001E-3,45,"Eksplosjonsfare ved tanking",16.7,"Redusert kjemisk dispergerbarhet","Nei",0.98,"2022-08-23",833,null,38,6894063,-184913,"Dugong 2022 Forvitringsrapport.pdf"]
["Dugong 2022","Vinterforhold",{"$f":"Oljedatabase[[#This Row],[Oljetype]]&\"-\"&Oljedatabase[[#This Row],[SesongNy]]&\"-\"&Oljedatabase[[#This Row],[Vind (m/s)]]&\"-\"&Oljedatabase[[#This Row],[Tidspunkt (timer)]]","v":"Dugong 2022-Vinterforhold-5-3"},{"$f":"Oljedatabase[[#This Row],[Sesong]]","v":"Vinterforhold"},5,5,"3",0.28299999999999997,458,"Kjemisk dispergerbar",0.23200000000000001,0.76100000000000001,7.0000000000000001E-3,52,"Eksplosjonsfare ved tanking",18,"Redusert kjemisk dispergerbarhet","Nei",1.06,"2022-08-23",833,null,38,6894063,-184913,"Dugong 2022 Forvitringsrapport.pdf"]
["Dugong 2022","Vinterforhold",{"$f":"Oljedatabase[[#This Row],[Oljetype]]&\"-\"&Oljedatabase[[#This Row],[SesongNy]]&\"-\"&Oljedatabase[[#This Row],[Vind (m/s)]]&\"-\"&Oljedatabase[[#This Row],[Tidspunkt (timer)]]","v":"Dugong 2022-Vinterforhold-5-6"},{"$f":"Oljedatabase[[#This Row],[Sesong]]","v":"Vinterforhold"},5,5,"6",0.46500000000000002,1310,"Kjemisk dispergerbar",0.26400000000000001,0.72499999999999998,1.0999999999999999E-2,64,"Ingen eksplosjonsfare",20,"Redusert kjemisk dispergerbarhet","Nei",1.36,"2022-08-23",833,null,38,6894063,-184913,"Dugong 2022 Forvitringsrapport.pdf"]
["Dugong 2022","Vinterforhold",{"$f":"Oljedatabase[[#This Row],[Oljetype]]&\"-\"&Oljedatabase[[#This Row],[SesongNy]]&\"-\"&Oljedatabase[[#This Row],[Vind (m/s)]]&\"-\"&Oljedatabase[[#This Row],[Tidspunkt (timer)]]","v":"Dugong 2022-Vinterforhold-5-9"},{"$f":"Oljedatabase[[#This Row],[Sesong]]","v":"Vinterforhold"},5,5,"9",0.58399999999999996,2610,"Kjemisk dispergerbar",0.28100000000000003,0.70499999999999996,1.4E-2,71,"Ingen eksplosjonsfare",21.1,"Lav/dårlig kjemisk dispergerbarhet","Nei",1.69,"2022-08-23",833,null,38,6894063,-184913,"Dugong 2022 Forvitringsrapport.pdf"]
["Dugong 2022","Vinterforhold",{"$f":"Oljedatabase[[#This Row],[Oljetype]]&\"-\"&Oljedatabase[[#This Row],[SesongNy]]&\"-\"&Oljedatabase[[#This Row],[Vind (m/s)]]&\"-\"&Oljedatabase[[#This Row],[Tidspunkt (timer)]]","v":"Dugong 2022-Vinterforhold-5-12"},{"$f":"Oljedatabase[[#This Row],[Sesong]]","v":"Vinterforhold"},5,5,"12",0.66,4160,"Redusert kjemisk dispergerbarhet",0.29299999999999998,0.69,1.7000000000000001E-2,76,"Ingen eksplosjonsfare",21.8,"Lav/dårlig kjemisk dispergerbarhet","Nei",2.0299999999999998,"2022-08-23",833,null,38,6894063,-184913,"Dugong 2022 Forvitringsrapport.pdf"]
["Dugong 2022","Vinterforhold",{"$f":"Oljedatabase[[#This Row],[Oljetype]]&\"-\"&Oljedatabase[[#This Row],[SesongNy]]&\"-\"&Oljedatabase[[#This Row],[Vind (m/s)]]&\"-\"&Oljedatabase[[#This Row],[Tidspunkt (timer)]]","v":"Dugong 2022-Vinterforhold-5-24"},{"$f":"Oljedatabase[[#This Row],[Sesong]]","v":"Vinterforhold"},5,5,"24",0.77100000000000002,9180,"Redusert kjemisk dispergerbarhet",0.32,0.65500000000000003,2.5000000000000001E-2,87,"Ingen eksplosjonsfare",23.6,"Lav/dårlig kjemisk dispergerbarhet","Nei",2.86,"2022-08-23",833,null,38,6894063,-184913,"Dugong 2022 Forvitringsrapport.pdf"]
["Dugong 2022","Vinterforhold",{"$f":"Oljedatabase[[#This Row],[Oljetype]]&\"-\"&Oljedatabase[[#This Row],[SesongNy]]&\"-\"&Oljedatabase[[#This Row],[Vind (m/s)]]&\"-\"&Oljedatabase[[#This Row],[Tidspunkt (timer)]]","v":"Dugong 2022-Vinterforhold-5-48"},{"$f":"Oljedatabase[[#This Row],[Sesong]]","v":"Vinterforhold"},5,5,"48",0.78,12100,"Redusert kjemisk dispergerbarhet",0.34499999999999997,0.61799999999999999,3.6999999999999998E-2,98,"Ingen eksplosjonsfare",25.2,"Lav/dårlig kjemisk dispergerbarhet","Ja",2.81,"2022-08-23",833,null,38,6894063,-184913,"Dugong 2022 Forvitringsrapport.pdf"]
["Dugong 2022","Vinterforhold",{"$f":"Oljedatabase[[#This Row],[Oljetype]]&\"-\"&Oljedatabase[[#This Row],[SesongNy]]&\"-\"&Oljedatabase[[#This Row],[Vind (m/s)]]&\"-\"&Oljedatabase[[#This Row],[Tidspunkt (timer)]]","v":"Dugong 2022-Vinterforhold-5-72"},{"$f":"Oljedatabase[[#This Row],[Sesong]]","v":"Vinterforhold"},5,5,"72",0.78,13800,"Redusert kjemisk dispergerbarhet",0.35899999999999999,0.59299999999999997,4.8000000000000001E-2,104,"Ingen eksplosjonsfare",26.2,"Lav/dårlig kjemisk dispergerbarhet","Ja",2.7,"2022-08-23",833,null,38,6894063,-184913,"Dugong 2022 Forvitringsrapport.pdf"]
["Dugong 2022","Vinterforhold",{"$f":"Oljedatabase[[#This Row],[Oljetype]]&\"-\"&Oljedatabase[[#This Row],[SesongNy]]&\"-\"&Oljedatabase[[#This Row],[Vind (m/s)]]&\"-\"&Oljedatabase[[#This Row],[Tidspunkt (timer)]]","v":"Dugong 2022-Vinterforhold-5-96"},{"$f":"Oljedatabase[[#This Row],[Sesong]]","v":"Vinterforhold"},5,5,"96",0.78,15000,"Redusert kjemisk dispergerbarhet",0.36899999999999999,0.57199999999999995,5.8999999999999997E-2,108,"Ingen eksplosjonsfare",26.8,"Lav/dårlig kjemisk dispergerbarhet","Ja",2.6,"2022-08-23",833,null,38,6894063,-184913,"Dugong 2022 Forvitringsrapport.pdf"]
["Dugong 2022","Vinterforhold",{"$f":"Oljedatabase[[#This Row],[Oljetype]]&\"-\"&Oljedatabase[[#This Row],[SesongNy]]&\"-\"&Oljedatabase[[#This Row],[Vind (m/s)]]&\"-\"&Oljedatabase[[#This Row],[Tidspunkt (timer)]]","v":"Dugong 2022-Vinterforhold-5-120"},{"$f":"Oljedatabase[[#This Row],[Sesong]]","v":"Vinterforhold"},5,5,"120",0.78,16000,"Redusert kjemisk dispergerbarhet",0.376,0.55500000000000005,6.9000000000000006E-2,111,"Ingen eksplosjonsfare",27.3,"Lav/dårlig kjemisk dispergerbarhet","Ja",2.52,"2022-08-23",833,null,38,6894063,-184913,"Dugong 2022 Forvitringsrapport.pdf"]
["Dugong 2022","Vinterforhold",{"$f":"Oljedatabase[[#This Row],[Oljetype]]&\"-\"&Oljedatabase[[#This Row],[SesongNy]]&\"-\"&Oljedatabase[[#This Row],[Vind (m/s)]]&\"-\"&Oljedatabase[[#This Row],[Tidspunkt (timer)]]","v":"Dugong 2022-Vinterforhold-10-1"},{"$f":"Oljedatabase[[#This Row],[Sesong]]","v":"Vinterforhold"},5,10,"1",0.309,485,"Kjemisk dispergerbar",0.22500000000000001,0.73799999999999999,3.6999999999999998E-2,50,"Eksplosjonsfare ved tanking",17.7,"Redusert kjemisk dispergerbarhet","Nei",1.07,"2022-08-23",833,null,38,6894063,-184913,"Dugong 2022 Forvitringsrapport.pdf"]
["Dugong 2022","Vinterforhold",{"$f":"Oljedatabase[[#This Row],[Oljetype]]&\"-\"&Oljedatabase[[#This Row],[SesongNy]]&\"-\"&Oljedatabase[[#This Row],[Vind (m/s)]]&\"-\"&Oljedatabase[[#This Row],[Tidspunkt (timer)]]","v":"Dugong 2022-Vinterforhold-10-2"},{"$f":"Oljedatabase[[#This Row],[Sesong]]","v":"Vinterforhold"},5,10,"2",0.499,1480,"Kjemisk dispergerbar",0.25900000000000001,0.67800000000000005,6.3E-2,63,"Ingen eksplosjonsfare",19.8,"Redusert kjemisk dispergerbarhet","Nei",1.35,"2022-08-23",833,null,38,6894063,-184913,"Dugong 2022 Forvitringsrapport.pdf"]
["Dugong 2022","Vinterforhold",{"$f":"Oljedatabase[[#This Row],[Oljetype]]&\"-\"&Oljedatabase[[#This Row],[SesongNy]]&\"-\"&Oljedatabase[[#This Row],[Vind (m/s)]]&\"-\"&Oljedatabase[[#This Row],[Tidspunkt (timer)]]","v":"Dugong 2022-Vinterforhold-10-3"},{"$f":"Oljedatabase[[#This Row],[Sesong]]","v":"Vinterforhold"},5,10,"3",0.61499999999999999,2970,"Redusert kjemisk dispergerbarhet",0.27600000000000002,0.64300000000000002,8.1000000000000003E-2,70,"Ingen eksplosjonsfare",21,"Lav/dårlig kjemisk dispergerbarhet","Nei",1.67,"2022-08-23",833,null,38,6894063,-184913,"Dugong 2022 Forvitringsrapport.pdf"]
["Dugong 2022","Vinterforhold",{"$f":"Oljedatabase[[#This Row],[Oljetype]]&\"-\"&Oljedatabase[[#This Row],[SesongNy]]&\"-\"&Oljedatabase[[#This Row],[Vind (m/s)]]&\"-\"&Oljedatabase[[#This Row],[Tidspunkt (timer)]]","v":"Dugong 2022-Vinterforhold-10-6"},{"$f":"Oljedatabase[[#This Row],[Sesong]]","v":"Vinterforhold"},5,10,"6",0.75700000000000001,7660,"Redusert kjemisk dispergerbarhet",0.30299999999999999,0.57999999999999996,0.11700000000000001,82,"Ingen eksplosjonsfare",22.8,"Lav/dårlig kjemisk dispergerbarhet","Nei",2.39,"2022-08-23",833,null,38,6894063,-184913,"Dugong 2022 Forvitringsrapport.pdf"]
["Dugong 2022","Vinterforhold",{"$f":"Oljedatabase[[#This Row],[Oljetype]]&\"-\"&Oljedatabase[[#This Row],[SesongNy]]&\"-\"&Oljedatabase[[#This Row],[Vind (m/s)]]&\"-\"&Oljedatabase[[#This Row],[Tidspunkt (timer)]]","v":"Dugong 2022-Vinterforhold-10-9"},{"$f":"Oljedatabase[[#This Row],[Sesong]]","v":"Vinterforhold"},5,10,"9",0.78300000000000003,10100,"Redusert kjemisk dispergerbarhet",0.317,0.53900000000000003,0.14399999999999999,88,"Ingen eksplosjonsfare",23.8,"Lav/dårlig kjemisk dispergerbarhet","Ja",2.48,"2022-08-23",833,null,38,6894063,-184913,"Dugong 2022 Forvitringsrapport.pdf"]
["Dugong 2022","Vinterforhold",{"$f":"Oljedatabase[[#This Row],[Oljetype]]&\"-\"&Oljedatabase[[#This Row],[SesongNy]]&\"-\"&Oljedatabase[[#This Row],[Vind (m/s)]]&\"-\"&Oljedatabase[[#This Row],[Tidspunkt (timer)]]","v":"Dugong 2022-Vinterforhold-10-12"},{"$f":"Oljedatabase[[#This Row],[Sesong]]","v":"Vinterforhold"},5,10,"12",0.78400000000000003,11200,"Redusert kjemisk dispergerbarhet",0.32600000000000001,0.50600000000000001,0.16800000000000001,93,"Ingen eksplosjonsfare",24.5,"Lav/dårlig kjemisk dispergerbarhet","Ja",2.34,"2022-08-23",833,null,38,6894063,-184913,"Dugong 2022 Forvitringsrapport.pdf"]
["Dugong 2022","Vinterforhold",{"$f":"Oljedatabase[[#This Row],[Oljetype]]&\"-\"&Oljedatabase[[#This Row],[SesongNy]]&\"-\"&Oljedatabase[[#This Row],[Vind (m/s)]]&\"-\"&Oljedatabase[[#This Row],[Tidspunkt (timer)]]","v":"Dugong 2022-Vinterforhold-10-24"},{"$f":"Oljedatabase[[#This Row],[Sesong]]","v":"Vinterforhold"},5,10,"24",0.78400000000000003,14000,"Redusert kjemisk dispergerbarhet",0.34699999999999998,0.40500000000000003,0.248,104,"Ingen eksplosjonsfare",26.1,"Lav/dårlig kjemisk dispergerbarhet","Ja",1.88,"2022-08-23",833,null,38,6894063,-184913,"Dugong 2022 Forvitringsrapport.pdf"]
["Dugong 2022","Vinterforhold",{"$f":"Oljedatabase[[#This Row],[Oljetype]]&\"-\"&Oljedatabase[[#This Row],[SesongNy]]&\"-\"&Oljedatabase[[#This Row],[Vind (m/s)]]&\"-\"&Oljedatabase[[#This Row],[Tidspunkt (timer)]]","v":"Dugong 2022-Vinterforhold-10-48"},{"$f":"Oljedatabase[[#This Row],[Sesong]]","v":"Vinterforhold"},5,10,"48",0.78400000000000003,17200,"Redusert kjemisk dispergerbarhet",0.36299999999999999,0.27700000000000002,0.36,114,"Ingen eksplosjonsfare",27.6,"Lav/dårlig kjemisk dispergerbarhet","Ja",1.28,"2022-08-23",833,null,38,6894063,-184913,"Dugong 2022 Forvitringsrapport.pdf"]
["Dugong 2022","Vinterforhold",{"$f":"Oljedatabase[[#This Row],[Oljetype]]&\"-\"&Oljedatabase[[#This Row],[SesongNy]]&\"-\"&Oljedatabase[[#This Row],[Vind (m/s)]]&\"-\"&Oljedatabase[[#This Row],[Tidspunkt (timer)]]","v":"Dugong 2022-Vinterforhold-10-72"},{"$f":"Oljedatabase[[#This Row],[Sesong]]","v":"Vinterforhold"},5,10,"72",0.78400000000000003,19400,"Lav/dårlig kjemisk dispergerbarhet",0.371,0.19500000000000001,0.434,120,"Ingen eksplosjonsfare",28.5,"Lav/dårlig kjemisk dispergerbarhet","Ja",0.9,"2022-08-23",833,null,38,6894063,-184913,"Dugong 2022 Forvitringsrapport.pdf"]
["Dugong 2022","Vinterforhold",{"$f":"Oljedatabase[[#This Row],[Oljetype]]&\"-\"&Oljedatabase[[#This Row],[SesongNy]]&\"-\"&Oljedatabase[[#This Row],[Vind (m/s)]]&\"-\"&Oljedatabase[[#This Row],[Tidspunkt (timer)]]","v":"Dugong 2022-Vinterforhold-10-96"},{"$f":"Oljedatabase[[#This Row],[Sesong]]","v":"Vinterforhold"},5,10,"96",0.78400000000000003,21100,"Lav/dårlig kjemisk dispergerbarhet",0.376,0.13800000000000001,0.48599999999999999,124,"Ingen eksplosjonsfare",29.1,"Lav/dårlig kjemisk dispergerbarhet","Ja",0.64,"2022-08-23",833,null,38,6894063,-184913,"Dugong 2022 Forvitringsrapport.pdf"]
["Dugong 2022","Vinterforhold",{"$f":"Oljedatabase[[#This Row],[Oljetype]]&\"-\"&Oljedatabase[[#This Row],[SesongNy]]&\"-\"&Oljedatabase[[#This Row],[Vind (m/s)]]&\"-\"&Oljedatabase[[#This Row],[Tidspunkt (timer)]]","v":"Dugong 2022-Vinterforhold-10-120"},{"$f":"Oljedatabase[[#This Row],[Sesong]]","v":"Vinterforhold"},5,10,"120",0.78400000000000003,22400,"Lav/dårlig kjemisk dispergerbarhet",0.38,9.9000000000000005E-2,0.52100000000000002,127,"Ingen eksplosjonsfare",29.5,"Lav/dårlig kjemisk dispergerbarhet","Ja",0.46,"2022-08-23",833,null,38,6894063,-184913,"Dugong 2022 Forvitringsrapport.pdf"]
["Dugong 2022","Vinterforhold",{"$f":"Oljedatabase[[#This Row],[Oljetype]]&\"-\"&Oljedatabase[[#This Row],[SesongNy]]&\"-\"&Oljedatabase[[#This Row],[Vind (m/s)]]&\"-\"&Oljedatabase[[#This Row],[Tidspunkt (timer)]]","v":"Dugong 2022-Vinterforhold-15-1"},{"$f":"Oljedatabase[[#This Row],[Sesong]]","v":"Vinterforhold"},5,15,"1",0.32300000000000001,493,"Kjemisk dispergerbar",0.252,0.59199999999999997,0.156,49,"Eksplosjonsfare ved tanking",17.399999999999999,"Redusert kjemisk dispergerbarhet","Nei",0.87,"2022-08-23",833,null,38,6894063,-184913,"Dugong 2022 Forvitringsrapport.pdf"]
["Dugong 2022","Vinterforhold",{"$f":"Oljedatabase[[#This Row],[Oljetype]]&\"-\"&Oljedatabase[[#This Row],[SesongNy]]&\"-\"&Oljedatabase[[#This Row],[Vind (m/s)]]&\"-\"&Oljedatabase[[#This Row],[Tidspunkt (timer)]]","v":"Dugong 2022-Vinterforhold-15-2"},{"$f":"Oljedatabase[[#This Row],[Sesong]]","v":"Vinterforhold"},5,15,"2",0.51500000000000001,1560,"Redusert kjemisk dispergerbarhet",0.27900000000000003,0.49299999999999999,0.22800000000000001,62,"Ingen eksplosjonsfare",19.600000000000001,"Redusert kjemisk dispergerbarhet","Nei",1.02,"2022-08-23",833,null,38,6894063,-184913,"Dugong 2022 Forvitringsrapport.pdf"]
["Dugong 2022","Vinterforhold",{"$f":"Oljedatabase[[#This Row],[Oljetype]]&\"-\"&Oljedatabase[[#This Row],[SesongNy]]&\"-\"&Oljedatabase[[#This Row],[Vind (m/s)]]&\"-\"&Oljedatabase[[#This Row],[Tidspunkt (timer)]]","v":"Dugong 2022-Vinterforhold-15-3"},{"$f":"Oljedatabase[[#This Row],[Sesong]]","v":"Vinterforhold"},5,15,"3",0.69899999999999995,4860,"Redusert kjemisk dispergerbarhet",0.29199999999999998,0.434,0.27400000000000002,75,"Ingen eksplosjonsfare",21.6,"Lav/dårlig kjemisk dispergerbarhet","Nei",1.44,"2022-08-23",833,null,38,6894063,-184913,"Dugong 2022 Forvitringsrapport.pdf"]
["Dugong 2022","Vinterforhold",{"$f":"Oljedatabase[[#This Row],[Oljetype]]&\"-\"&Oljedatabase[[#This Row],[SesongNy]]&\"-\"&Oljedatabase[[#This Row],[Vind (m/s)]]&\"-\"&Oljedatabase[[#This Row],[Tidspunkt (timer)]]","v":"Dugong 2022-Vinterforhold-15-6"},{"$f":"Oljedatabase[[#This Row],[Sesong]]","v":"Vinterforhold"},5,15,"6",0.76400000000000001,7800,"Redusert kjemisk dispergerbarhet",0.311,0.31900000000000001,0.37,81,"Ingen eksplosjonsfare",22.7,"Lav/dårlig kjemisk dispergerbarhet","Nei",1.35,"2022-08-23",833,null,38,6894063,-184913,"Dugong 2022 Forvitringsrapport.pdf"]
["Dugong 2022","Vinterforhold",{"$f":"Oljedatabase[[#This Row],[Oljetype]]&\"-\"&Oljedatabase[[#This Row],[SesongNy]]&\"-\"&Oljedatabase[[#This Row],[Vind (m/s)]]&\"-\"&Oljedatabase[[#This Row],[Tidspunkt (timer)]]","v":"Dugong 2022-Vinterforhold-15-9"},{"$f":"Oljedatabase[[#This Row],[Sesong]]","v":"Vinterforhold"},5,15,"9",0.78700000000000003,11200,"Redusert kjemisk dispergerbarhet",0.32,0.24099999999999999,0.439,92,"Ingen eksplosjonsfare",24.4,"Lav/dårlig kjemisk dispergerbarhet","Ja",1.1299999999999999,"2022-08-23",833,null,38,6894063,-184913,"Dugong 2022 Forvitringsrapport.pdf"]
["Dugong 2022","Vinterforhold",{"$f":"Oljedatabase[[#This Row],[Oljetype]]&\"-\"&Oljedatabase[[#This Row],[SesongNy]]&\"-\"&Oljedatabase[[#This Row],[Vind (m/s)]]&\"-\"&Oljedatabase[[#This Row],[Tidspunkt (timer)]]","v":"Dugong 2022-Vinterforhold-15-12"},{"$f":"Oljedatabase[[#This Row],[Sesong]]","v":"Vinterforhold"},5,15,"12",0.78700000000000003,12800,"Redusert kjemisk dispergerbarhet",0.32500000000000001,0.185,0.49,99,"Ingen eksplosjonsfare",25.4,"Lav/dårlig kjemisk dispergerbarhet","Ja",0.87,"2022-08-23",833,null,38,6894063,-184913,"Dugong 2022 Forvitringsrapport.pdf"]
["Dugong 2022","Vinterforhold",{"$f":"Oljedatabase[[#This Row],[Oljetype]]&\"-\"&Oljedatabase[[#This Row],[SesongNy]]&\"-\"&Oljedatabase[[#This Row],[Vind (m/s)]]&\"-\"&Oljedatabase[[#This Row],[Tidspunkt (timer)]]","v":"Dugong 2022-Vinterforhold-15-24"},{"$f":"Oljedatabase[[#This Row],[Sesong]]","v":"Vinterforhold"},5,15,"24",0.78700000000000003,14000,"Redusert kjemisk dispergerbarhet",0.33400000000000002,6.8000000000000005E-2,0.59799999999999998,103,"Ingen eksplosjonsfare",26,"Lav/dårlig kjemisk dispergerbarhet","Ja",0.32,"2022-08-23",833,null,38,6894063,-184913,"Dugong 2022 Forvitringsrapport.pdf"]
["Dugong 2022","Vinterforhold",{"$f":"Oljedatabase[[#This Row],[Oljetype]]&\"-\"&Oljedatabase[[#This Row],[SesongNy]]&\"-\"&Oljedatabase[[#This Row],[Vind (m/s)]]&\"-\"&Oljedatabase[[#This Row],[Tidspunkt (timer)]]","v":"Dugong 2022-Vinterforhold-15-48"},{"$f":"Oljedatabase[[#This Row],[Sesong]]","v":"Vinterforhold"},5,15,"48",0.78700000000000003,17300,"Redusert kjemisk dispergerbarhet",0.33800000000000002,0.01,0.65200000000000002,113,"Ingen eksplosjonsfare",27.6,"Lav/dårlig kjemisk dispergerbarhet","Ja",0.05,"2022-08-23",833,null,38,6894063,-184913,"Dugong 2022 Forvitringsrapport.pdf"]
["Dugong 2022","Vinterforhold",{"$f":"Oljedatabase[[#This Row],[Oljetype]]&\"-\"&Oljedatabase[[#This Row],[SesongNy]]&\"-\"&Oljedatabase[[#This Row],[Vind (m/s)]]&\"-\"&Oljedatabase[[#This Row],[Tidspunkt (timer)]]","v":"Dugong 2022-Vinterforhold-15-72"},{"$f":"Oljedatabase[[#This Row],[Sesong]]","v":"Vinterforhold"},5,15,"72",0.78700000000000003,21100,"Lav/dårlig kjemisk dispergerbarhet",0.33900000000000002,0,0.66100000000000003,123,"Ingen eksplosjonsfare",29,"Lav/dårlig kjemisk dispergerbarhet","Ja",0,"2022-08-23",833,null,38,6894063,-184913,"Dugong 2022 Forvitringsrapport.pdf"]
["Dugong 2022","Vinterforhold",{"$f":"Oljedatabase[[#This Row],[Oljetype]]&\"-\"&Oljedatabase[[#This Row],[SesongNy]]&\"-\"&Oljedatabase[[#This Row],[Vind (m/s)]]&\"-\"&Oljedatabase[[#This Row],[Tidspunkt (timer)]]","v":"Dugong 2022-Vinterforhold-15-96"},{"$f":"Oljedatabase[[#This Row],[Sesong]]","v":"Vinterforhold"},5,15,"96",0.78700000000000003,23700,"Lav/dårlig kjemisk dispergerbarhet",0.33900000000000002,0,0.66100000000000003,129,"Ingen eksplosjonsfare",29.9,"Lav/dårlig kjemisk dispergerbarhet","Ja",0,"2022-08-23",833,null,38,6894063,-184913,"Dugong 2022 Forvitringsrapport.pdf"]
["Dugong 2022","Vinterforhold",{"$f":"Oljedatabase[[#This Row],[Oljetype]]&\"-\"&Oljedatabase[[#This Row],[SesongNy]]&\"-\"&Oljedatabase[[#This Row],[Vind (m/s)]]&\"-\"&Oljedatabase[[#This Row],[Tidspunkt (timer)]]","v":"Dugong 2022-Vinterforhold-15-120"},{"$f":"Oljedatabase[[#This Row],[Sesong]]","v":"Vinterforhold"},5,15,"120",0.78700000000000003,26000,"Lav/dårlig kjemisk dispergerbarhet",0.33900000000000002,0,0.66100000000000003,134,"Ingen eksplosjonsfare",30.5,"Lav/dårlig kjemisk dispergerbarhet","Ja",0,"2022-08-23",833,null,38,6894063,-184913,"Dugong 2022 Forvitringsrapport.pdf"]

{"sheet":"SensEPalett","index":25,"n_rows":47,"n_cols":12,"rows_kept":47,"cut":false,"hidden":true,"merged":[]}
[null,null,null,null,null,null,null,"ArcView 3.2!!",null,null,null,"Ny HSV..."]
["Fargeserie","Bruk","Legend","R","G","B",null,"Hue","Saturation","Value"]
["Landareal",null,"0-100 m",184,219,175,null,76,51,219]
["Landareal",null,"10-250 m",197,218,191,null,75,31,218]
["Landareal",null,"250-500 m",217,223,212,null,65,12,223]
["Landareal",null,"500-700 m",241,234,217,null,30,25,242]
["Landareal",null,"750-1000 m",226,214,196,null,25,33,227]
["Landareal",null,"1000-1500 m",208,198,177,null,28,37,209]
["Landareal",null,"1500-2000 m",203,183,166,null,19,46,204]
["Landareal",null,"2000-2500 m",190,165,150,null,16,53,191]
["Landareal",null,"2500-3000 m",180,151,137,null,13,60,181]
["Landareal",null,"3000-3500 m",155,116,105,null,9,82,156]
["Landareal",null,"3500-4000 m",139,96,85,null,8,98,140]
["Landareal",null,"4000-4500 m",124,76,64,null,8,122,125]
["Landareal",null,"4500-5500 m",214,214,214,null,0,0,215]
["Landareal",null,"5500-6500 m",227,227,227,null,0,0,228]
["Landareal",null,">6500 m",239,239,239,null,0,0,240]
[]
["havdyp",null,"<6000 m",104,167,201,null,142,123,201]
["havdyp",null,"4000-6000 m",114,175,205,null,22,113,205]
["havdyp",null,"2000-4000 m",125,186,211,null,140,104,211]
["havdyp",null,"1000-2000 m",137,194,219,null,141,95,219]
["havdyp",null,"600-1000 m",149,203,225,null,140,86,225]
["havdyp",null,"200-600 m",160,212,232,null,139,79,232]
["havdyp",null,"0-200 m",168,219,237,null,139,74,237]
[]
["Lys blå",null,null,202,233,247,null,141,46,247]
[]
["Blå serie",null,"SenseBlå1",220,242,243,null,129,24,243]
["Blå serie",null,"SenseBlå2",169,199,206,null,136,45,206]
["Blå serie",null,"SenseBlå3",141,208,230,null,138,99,230]
["Blå serie",null,"SenseBlå4",84,185,218,null,138,157,218]
["Blå serie",null,"SenseBlå5",47,166,197,null,136,194,197]
["Blå serie",null,"SenseBlå6",11,149,186,null,137,240,186]
["Blå serie",null,"SenseBlå7",0,128,162,null,136,255,162]
["Blå serie",null,"SenseBlå8",0,87,128,null,141,255,128]
["Blå serie",null,"SenseBlå9",0,62,108,null,146,255,108]
[]
["Gul serie",null,"SenseGul1",242,233,221,null,24,22,242]
["Gul serie",null,"SenseGul2",204,195,171,null,31,41,204]
["Gul serie",null,"SenseGul3",226,208,146,null,33,90,226]
["Gul serie",null,"SenseGul4",211,184,91,null,33,145,211]
["Gul serie",null,"SenseGul5",189,154,55,null,31,181,189]
["Gul serie",null,"SenseGul6",177,137,20,null,31,227,177]
["Gul serie",null,"SenseGul7",149,115,17,null,31,226,149]
["Gul serie",null,"SenseGul8",126,95,6,null,31,243,126]
["Gul serie",null,"SenseGul9",91,67,0,null,31,255,91]

{"sheet":"FARGER","index":26,"n_rows":47,"n_cols":12,"rows_kept":47,"cut":false,"hidden":true,"merged":[]}
[null,null,null,null,null,null,null,"ArcView 3.2!!",null,null,null,"Ny HSV..."]
["Fargeserie","Bruk","Legend","R","G","B",null,"Hue","Saturation","Value"]
["Landareal",null,"0-100 m",184,219,175,null,76,51,219]
["Landareal",null,"10-250 m",197,218,191,null,75,31,218]
["Landareal",null,"250-500 m",217,223,212,null,65,12,223]
["Landareal",null,"500-700 m",241,234,217,null,30,25,242]
["Landareal",null,"750-1000 m",226,214,196,null,25,33,227]
["Landareal",null,"1000-1500 m",208,198,177,null,28,37,209]
["Landareal",null,"1500-2000 m",203,183,166,null,19,46,204]
["Landareal",null,"2000-2500 m",190,165,150,null,16,53,191]
["Landareal",null,"2500-3000 m",180,151,137,null,13,60,181]
["Landareal",null,"3000-3500 m",155,116,105,null,9,82,156]
["Landareal",null,"3500-4000 m",139,96,85,null,8,98,140]
["Landareal",null,"4000-4500 m",124,76,64,null,8,122,125]
["Landareal",null,"4500-5500 m",214,214,214,null,0,0,215]
["Landareal",null,"5500-6500 m",227,227,227,null,0,0,228]
["Landareal",null,">6500 m",239,239,239,null,0,0,240]
[]
["havdyp",null,"<6000 m",104,167,201,null,142,123,201]
["havdyp",null,"4000-6000 m",114,175,205,null,22,113,205]
["havdyp",null,"2000-4000 m",125,186,211,null,140,104,211]
["havdyp",null,"1000-2000 m",137,194,219,null,141,95,219]
["havdyp",null,"600-1000 m",149,203,225,null,140,86,225]
["havdyp",null,"200-600 m",160,212,232,null,139,79,232]
["havdyp",null,"0-200 m",168,219,237,null,139,74,237]
[]
["Lys blå",null,null,202,233,247,null,141,46,247]
[]
["Blå serie",null,"SenseBlå1",220,242,243,null,129,24,243]
["Blå serie",null,"SenseBlå2",169,199,206,null,136,45,206]
["Blå serie",null,"SenseBlå3",141,208,230,null,138,99,230]
["Blå serie",null,"SenseBlå4",84,185,218,null,138,157,218]
["Blå serie",null,"SenseBlå5",47,166,197,null,136,194,197]
["Blå serie",null,"SenseBlå6",11,149,186,null,137,240,186]
["Blå serie",null,"SenseBlå7",0,128,162,null,136,255,162]
["Blå serie",null,"SenseBlå8",0,87,128,null,141,255,128]
["Blå serie",null,"SenseBlå9",0,62,108,null,146,255,108]
[]
["Gul serie",null,"SenseGul1",242,233,221,null,24,22,242]
["Gul serie",null,"SenseGul2",204,195,171,null,31,41,204]
["Gul serie",null,"SenseGul3",226,208,146,null,33,90,226]
["Gul serie",null,"SenseGul4",211,184,91,null,33,145,211]
["Gul serie",null,"SenseGul5",189,154,55,null,31,181,189]
["Gul serie",null,"SenseGul6",177,137,20,null,31,227,177]
["Gul serie",null,"SenseGul7",149,115,17,null,31,226,149]
["Gul serie",null,"SenseGul8",126,95,6,null,31,243,126]
["Gul serie",null,"SenseGul9",91,67,0,null,31,255,91]